{"text_format":"1","workbook":"xlsx","n_sheets":15,"sheets":["Cover Page","Table Of Contents","Project Digital Assets","1 . Executive Statement","2. Project Information","3. Deliverables","4. Collaboration","5. Existing Conditions","6. Model Setup","7. Coordination","8. Document Review","9. Appendix A-Brdige","10. Appendix B-Facilities","11. Appendix C-Workspace Update","LOD Matrix (DO NOT PRINT)"],"not_rendered":{"charts":0,"images":4,"macros":1,"external_links":1,"defined_names":18,"comments":2,"pivot_tables":0},"unopened":[],"bounds":{"document_bytes":16777216,"sheet_cells":100000,"rows_first":2000,"rows_last":500,"rows_between":2000,"halvings":0,"cell_chars":16384,"cell_head_chars":4096},"cells_cut":0,"cells_raw":0,"read":"whole","date_system":"1900"}

{"sheet":"Cover Page","index":0,"n_rows":66,"n_cols":7,"rows_kept":66,"cut":false,"hidden":false,"merged":[[67,0,67,1],[67,2,67,3],[67,4,67,5],[67,6,67,8],[68,0,68,1],[68,2,68,3],[68,4,68,5],[68,6,68,8],[65,0,65,1],[65,2,65,3],[65,4,65,5],[65,6,65,8],[66,0,66,1],[66,2,66,3],[66,4,66,5],[66,6,66,8],[56,0,56,8],[57,0,57,8],[59,0,59,8],[64,0,64,1],[64,2,64,3],[64,4,64,5],[64,6,64,8],[58,0,58,8],[55,0,55,8],[40,0,40,8],[41,0,41,8],[44,0,44,8],[45,0,45,8],[46,0,46,8],[50,0,50,8],[51,0,51,8],[52,0,52,8],[53,0,53,8],[48,0,48,8],[49,0,49,8],[54,0,54,8],[47,0,47,8],[39,0,39,8],[12,0,12,8],[13,0,13,8],[17,0,17,8],[18,0,18,8],[19,0,19,8],[25,0,25,8],[26,0,26,8],[27,0,27,8],[36,0,36,8],[37,0,37,8],[38,0,38,8],[11,0,11,8],[0,0,0,8],[1,0,1,8],[2,0,2,8],[3,0,3,8],[4,0,4,8],[5,0,5,8],[6,0,6,8],[7,0,7,8],[8,0,8,8],[9,0,9,8],[10,0,10,8]]}
[]
[]
[]
["Project Execution Plan for (Project Name)"]
["Contract No. XXXX"]
["PxP Version No. XXXX"]
["2024-02-07"]
[]
[]
["Prepared for"]
[]
[]
[]
[]
[]
[]
[]
[]
[]
[]
[]
[]
[]
[]
[]
["Prepared by"]
[]
["Insert Company Name/Logo"]
[]
[]
[]
[]
[]
[]
[]
[]
[]
[]
[]
[]
[]
[]
[]
[]
["HOW THIS DOCUMENT WORKS"]
["The intent and purpose of the Project Execution Plan (PxP) is to maintain a living document which contains guidance for all team members to understand project set up according to PTC guidelines. To use this document, first \"OPEN\" this document and execute a \"SAVEAS\". This will be a copy of the original, unedited PxP. This copy will be what you update and eventually submit. All sections of your copy of this document must be completed by the Design Consultant using the appropriate and correct information for both PTC and consultants. \n\nFor all tabs in this document except the LOD matrix tab and the Project Digital Assets tab, the following instructions apply: Everything written in blue, must be updated in reference to the project.  The blue text specifies what needs to be updated and provides examples of what may be included in that section. Once a section is updated/complete, change the blue text to black.  Sections that do not apply can be noted as N/A.\n\nThe following instructions apply to the LOD matrix tab only: Three areas in this spreadsheet must be modified. First, select relevant system/component information elements for your project by selecting Yes or No in column B. Then check the legal document box, when applicable, in column N.  Finally, select appropriate disciplines in the PTC discipline table on the far right. \n\nDo not modify the Project Digital Assets tab. It will automatically populate based off of the LOD Matrix tab. Do not modify the Table of Contents, it will automatically update as well.\n\nYour revised version of this document must be submitted for all project submissions and in conjunction with the appropriate plan/model set.  Every submission requires an update to the Revision History table on the following page. Additionally, the table of contents must be updated to reflect any changes in the document.\n\nThe Design Consultant is to complete this form with information pertaining to the project, which must be discussed and coordinated with the PTC Project Leads. If any assistance is needed to fill out the information for this document, the Design Consultant may reach out to the PTC Project Leads for further guidance."]
[]
["Please follow the following steps for updating this document:"]
["1.    \"OPEN\" and execute a \"SAVE-AS\" of this document. This copy is the version you will modify."]
["2.     Name your version of the document to the following format “PxP_Contract Number”"]
["3.       Update all blue text with appropriate information specific to the project"]
["a.       Note for any unknowns, please remark as TBD (to be determined)."]
["b.       For anything not included with this project, please note as N/A (not applicable).  "]
["4.       Once updated, change all blue text to black."]
["5.     Update column B, N and the PTC Discipline table in the LOD Matrix tab."]
["6.       Save the \"PxP_Contract Number\" document"]
["7.       Submit an excel (.xlsm) and PDF version to PTC."]
["8.       Schedule ‘Digital Delivery Kickoff Call’ with PTC Project Manager and Design Services Unit to review"]
["        document."]
["9.      Update and resubmit for every project submission."]
[]
[]
[]
["Revision History"]
["Revision Date",null,"Version",null,"Revised By",null,"Remark"]
["2023-01-01",null,1,null,null,null,"Initial Submission"]

{"sheet":"Table Of Contents","index":1,"n_rows":17,"n_cols":9,"rows_kept":17,"cut":false,"hidden":false,"merged":[[0,0,3,8]]}
["TABLE OF CONTENTS"]
[]
[]
[]
["Cover Page",null,"…....................................................................................................",null,null,null,null,null,1]
["Table Of Contents",null,"…....................................................................................................",null,null,null,null,null,1]
["Project Digital Assets",null,"…....................................................................................................",null,null,null,null,null,2]
["1 . Executive Statement",null,"…....................................................................................................",null,null,null,null,null,3]
["2. Project Information",null,"…....................................................................................................",null,null,null,null,null,4]
["3. Deliverables",null,"…....................................................................................................",null,null,null,null,null,6]
["4. Collaboration",null,"…....................................................................................................",null,null,null,null,null,10]
["5. Existing Conditions",null,"…....................................................................................................",null,null,null,null,null,12]
["6. Model Setup",null,"…....................................................................................................",null,null,null,null,null,14]
["7. Coordination",null,"…....................................................................................................",null,null,null,null,null,16]
["8. Document Review",null,"…....................................................................................................",null,null,null,null,null,18]
["9. Appendix A-Revit",null,"…....................................................................................................",null,null,null,null,null,19]
["LOD Matrix (DO NOT PRINT)",null,"…....................................................................................................",null,null,null,null,null,22]

{"sheet":"Project Digital Assets","index":2,"n_rows":665,"n_cols":15,"rows_kept":665,"cut":false,"hidden":false,"merged":[[1,14,6,14],[1,13,6,13],[1,12,6,12],[1,0,3,0],[0,4,0,5],[0,6,0,11]]}
[null,null,null,null,"  PTC LOD Specification for This Project",null,"LOD STANDARD"]
["Breakdown Level",null,null,null,null,null,"LG&TSL","DFV","60%-OTS",0.75,"Pre-Final PS&E","Final PS&E","MODEL: 2D, 3D, BOTH?","SOURCE MODEL FILE","LEGAL DOCUMENT?"]
[null,null,null,null,null,null,"Date","Date","Date","Date","Date","Date"]
[null,null,"UNIFORMAT","OMNICLASS","PTC DISCIPLINE","SYSTEM/COMPONENT","LOD","LOD","LOD","LOD","LOD","LOD"]
[null,null,null,null,null,"INFORMATION"]
[null,null,null,null,null,"ELEMENTS"]
["*If no, then skip table 3.3 below and note N/A.",null,"A2","21-01 00 00","PTC DISCIPLINE","ELEMENT",null,"DFV","60%-OTS","75%","Pre-Final PS&E","Final PS&E"]
[{"$f":"IF(B8=\"Yes\",Table2[[#This Row],[Break Level]],0)","v":0},{"$f":"Table2[[#This Row],[Yes/No]]","v":"No"},null,{"$f":"IF($A$8=0,\"\",Table2[[#This Row],[ELEMENT]])","v":""},{"$f":"IF($A8=0,\"\",Table2[[#This Row],[PTC DISCIPLINE]])","v":""},{"$f":"IF($A8=0,\"\",Table2[[#This Row],[ELEMENT]])","v":""},{"$f":"IF($A8=0,\"\",Table2[[#This Row],[LG&TSL]])","v":""},{"$f":"IF($A8=0,\"\",Table2[[#This Row],[DFV]])","v":""},{"$f":"IF($A8=0,\"\",Table2[[#This Row],[60%-OTS]])","v":""},{"$f":"IF($A8=0,\"\",Table2[[#This Row],[75%]])","v":""},{"$f":"IF($A8=0,\"\",Table2[[#This Row],[Pre-Final PS&E]])","v":""},{"$f":"IF($A8=0,\"\",Table2[[#This Row],[Final PS&E]])","v":""},{"$f":"IF($A8=0,\"\",'LOD Matrix (DO NOT PRINT)'!M8)","v":""},{"$f":"IF($A8=0,\"\",'LOD Matrix (DO NOT PRINT)'!N8)","v":""},{"$f":"IF($A8=0,\"\",IF('LOD Matrix (DO NOT PRINT)'!P8=TRUE,\"Yes\",\"No\"))","v":""}]
[{"$f":"IF(B9=\"Yes\",Table2[[#This Row],[Break Level]],0)","v":0},{"$f":"Table2[[#This Row],[Yes/No]]","v":"No"},null,null,{"$f":"IF($A9=0,\"\",Table2[[#This Row],[PTC DISCIPLINE]])","v":""},{"$f":"IF($A9=0,\"\",Table2[[#This Row],[ELEMENT]])","v":""},{"$f":"IF($A9=0,\"\",Table2[[#This Row],[LG&TSL]])","v":""},{"$f":"IF($A9=0,\"\",Table2[[#This Row],[DFV]])","v":""},{"$f":"IF($A9=0,\"\",Table2[[#This Row],[60%-OTS]])","v":""},{"$f":"IF($A9=0,\"\",Table2[[#This Row],[75%]])","v":""},{"$f":"IF($A9=0,\"\",Table2[[#This Row],[Pre-Final PS&E]])","v":""},{"$f":"IF($A9=0,\"\",Table2[[#This Row],[Final PS&E]])","v":""},{"$f":"IF($A9=0,\"\",'LOD Matrix (DO NOT PRINT)'!M9)","v":""},{"$f":"IF($A9=0,\"\",'LOD Matrix (DO NOT PRINT)'!N9)","v":""},{"$f":"IF($A9=0,\"\",IF('LOD Matrix (DO NOT PRINT)'!P9=TRUE,\"Yes\",\"No\"))","v":""}]
[{"$f":"IF(B10=\"Yes\",Table2[[#This Row],[Break Level]],0)","v":0},{"$f":"Table2[[#This Row],[Yes/No]]","v":"No"},null,null,{"$f":"IF($A10=0,\"\",Table2[[#This Row],[PTC DISCIPLINE]])","v":""},{"$f":"IF($A10=0,\"\",Table2[[#This Row],[ELEMENT]])","v":""},{"$f":"IF($A10=0,\"\",Table2[[#This Row],[LG&TSL]])","v":""},{"$f":"IF($A10=0,\"\",Table2[[#This Row],[DFV]])","v":""},{"$f":"IF($A10=0,\"\",Table2[[#This Row],[60%-OTS]])","v":""},{"$f":"IF($A10=0,\"\",Table2[[#This Row],[75%]])","v":""},{"$f":"IF($A10=0,\"\",Table2[[#This Row],[Pre-Final PS&E]])","v":""},{"$f":"IF($A10=0,\"\",Table2[[#This Row],[Final PS&E]])","v":""},{"$f":"IF($A10=0,\"\",'LOD Matrix (DO NOT PRINT)'!M10)","v":""},{"$f":"IF($A10=0,\"\",'LOD Matrix (DO NOT PRINT)'!N10)","v":""},{"$f":"IF($A10=0,\"\",IF('LOD Matrix (DO NOT PRINT)'!P10=TRUE,\"Yes\",\"No\"))","v":""}]
[{"$f":"IF(B11=\"Yes\",Table2[[#This Row],[Break Level]],0)","v":0},{"$f":"Table2[[#This Row],[Yes/No]]","v":"No"},null,null,{"$f":"IF($A11=0,\"\",Table2[[#This Row],[PTC DISCIPLINE]])","v":""},{"$f":"IF($A11=0,\"\",Table2[[#This Row],[ELEMENT]])","v":""},{"$f":"IF($A11=0,\"\",Table2[[#This Row],[LG&TSL]])","v":""},{"$f":"IF($A11=0,\"\",Table2[[#This Row],[DFV]])","v":""},{"$f":"IF($A11=0,\"\",Table2[[#This Row],[60%-OTS]])","v":""},{"$f":"IF($A11=0,\"\",Table2[[#This Row],[75%]])","v":""},{"$f":"IF($A11=0,\"\",Table2[[#This Row],[Pre-Final PS&E]])","v":""},{"$f":"IF($A11=0,\"\",Table2[[#This Row],[Final PS&E]])","v":""},{"$f":"IF($A11=0,\"\",'LOD Matrix (DO NOT PRINT)'!M11)","v":""},{"$f":"IF($A11=0,\"\",'LOD Matrix (DO NOT PRINT)'!N11)","v":""},{"$f":"IF($A11=0,\"\",IF('LOD Matrix (DO NOT PRINT)'!P11=TRUE,\"Yes\",\"No\"))","v":""}]
[{"$f":"IF(B12=\"Yes\",Table2[[#This Row],[Break Level]],0)","v":0},{"$f":"Table2[[#This Row],[Yes/No]]","v":"No"},null,null,{"$f":"IF($A12=0,\"\",Table2[[#This Row],[PTC DISCIPLINE]])","v":""},{"$f":"IF($A12=0,\"\",Table2[[#This Row],[ELEMENT]])","v":""},{"$f":"IF($A12=0,\"\",Table2[[#This Row],[LG&TSL]])","v":""},{"$f":"IF($A12=0,\"\",Table2[[#This Row],[DFV]])","v":""},{"$f":"IF($A12=0,\"\",Table2[[#This Row],[60%-OTS]])","v":""},{"$f":"IF($A12=0,\"\",Table2[[#This Row],[75%]])","v":""},{"$f":"IF($A12=0,\"\",Table2[[#This Row],[Pre-Final PS&E]])","v":""},{"$f":"IF($A12=0,\"\",Table2[[#This Row],[Final PS&E]])","v":""},{"$f":"IF($A12=0,\"\",'LOD Matrix (DO NOT PRINT)'!M12)","v":""},{"$f":"IF($A12=0,\"\",'LOD Matrix (DO NOT PRINT)'!N12)","v":""},{"$f":"IF($A12=0,\"\",IF('LOD Matrix (DO NOT PRINT)'!P12=TRUE,\"Yes\",\"No\"))","v":""}]
[{"$f":"IF(B13=\"Yes\",Table2[[#This Row],[Break Level]],0)","v":0},{"$f":"Table2[[#This Row],[Yes/No]]","v":"No"},null,null,{"$f":"IF($A13=0,\"\",Table2[[#This Row],[PTC DISCIPLINE]])","v":""},{"$f":"IF($A13=0,\"\",Table2[[#This Row],[ELEMENT]])","v":""},{"$f":"IF($A13=0,\"\",Table2[[#This Row],[LG&TSL]])","v":""},{"$f":"IF($A13=0,\"\",Table2[[#This Row],[DFV]])","v":""},{"$f":"IF($A13=0,\"\",Table2[[#This Row],[60%-OTS]])","v":""},{"$f":"IF($A13=0,\"\",Table2[[#This Row],[75%]])","v":""},{"$f":"IF($A13=0,\"\",Table2[[#This Row],[Pre-Final PS&E]])","v":""},{"$f":"IF($A13=0,\"\",Table2[[#This Row],[Final PS&E]])","v":""},{"$f":"IF($A13=0,\"\",'LOD Matrix (DO NOT PRINT)'!M13)","v":""},{"$f":"IF($A13=0,\"\",'LOD Matrix (DO NOT PRINT)'!N13)","v":""},{"$f":"IF($A13=0,\"\",IF('LOD Matrix (DO NOT PRINT)'!P13=TRUE,\"Yes\",\"No\"))","v":""}]
[{"$f":"IF(B14=\"Yes\",Table2[[#This Row],[Break Level]],0)","v":0},{"$f":"Table2[[#This Row],[Yes/No]]","v":"No"},null,null,{"$f":"IF($A14=0,\"\",Table2[[#This Row],[PTC DISCIPLINE]])","v":""},{"$f":"IF($A14=0,\"\",Table2[[#This Row],[ELEMENT]])","v":""},{"$f":"IF($A14=0,\"\",Table2[[#This Row],[LG&TSL]])","v":""},{"$f":"IF($A14=0,\"\",Table2[[#This Row],[DFV]])","v":""},{"$f":"IF($A14=0,\"\",Table2[[#This Row],[60%-OTS]])","v":""},{"$f":"IF($A14=0,\"\",Table2[[#This Row],[75%]])","v":""},{"$f":"IF($A14=0,\"\",Table2[[#This Row],[Pre-Final PS&E]])","v":""},{"$f":"IF($A14=0,\"\",Table2[[#This Row],[Final PS&E]])","v":""},{"$f":"IF($A14=0,\"\",'LOD Matrix (DO NOT PRINT)'!M14)","v":""},{"$f":"IF($A14=0,\"\",'LOD Matrix (DO NOT PRINT)'!N14)","v":""},{"$f":"IF($A14=0,\"\",IF('LOD Matrix (DO NOT PRINT)'!P14=TRUE,\"Yes\",\"No\"))","v":""}]
[{"$f":"IF(B15=\"Yes\",Table2[[#This Row],[Break Level]],0)","v":0},{"$f":"Table2[[#This Row],[Yes/No]]","v":"No"},null,null,{"$f":"IF($A15=0,\"\",Table2[[#This Row],[PTC DISCIPLINE]])","v":""},{"$f":"IF($A15=0,\"\",Table2[[#This Row],[ELEMENT]])","v":""},{"$f":"IF($A15=0,\"\",Table2[[#This Row],[LG&TSL]])","v":""},{"$f":"IF($A15=0,\"\",Table2[[#This Row],[DFV]])","v":""},{"$f":"IF($A15=0,\"\",Table2[[#This Row],[60%-OTS]])","v":""},{"$f":"IF($A15=0,\"\",Table2[[#This Row],[75%]])","v":""},{"$f":"IF($A15=0,\"\",Table2[[#This Row],[Pre-Final PS&E]])","v":""},{"$f":"IF($A15=0,\"\",Table2[[#This Row],[Final PS&E]])","v":""},{"$f":"IF($A15=0,\"\",'LOD Matrix (DO NOT PRINT)'!M15)","v":""},{"$f":"IF($A15=0,\"\",'LOD Matrix (DO NOT PRINT)'!N15)","v":""},{"$f":"IF($A15=0,\"\",IF('LOD Matrix (DO NOT PRINT)'!P15=TRUE,\"Yes\",\"No\"))","v":""}]
[{"$f":"IF(B16=\"Yes\",Table2[[#This Row],[Break Level]],0)","v":0},{"$f":"Table2[[#This Row],[Yes/No]]","v":"No"},null,null,{"$f":"IF($A16=0,\"\",Table2[[#This Row],[PTC DISCIPLINE]])","v":""},{"$f":"IF($A16=0,\"\",Table2[[#This Row],[ELEMENT]])","v":""},{"$f":"IF($A16=0,\"\",Table2[[#This Row],[LG&TSL]])","v":""},{"$f":"IF($A16=0,\"\",Table2[[#This Row],[DFV]])","v":""},{"$f":"IF($A16=0,\"\",Table2[[#This Row],[60%-OTS]])","v":""},{"$f":"IF($A16=0,\"\",Table2[[#This Row],[75%]])","v":""},{"$f":"IF($A16=0,\"\",Table2[[#This Row],[Pre-Final PS&E]])","v":""},{"$f":"IF($A16=0,\"\",Table2[[#This Row],[Final PS&E]])","v":""},{"$f":"IF($A16=0,\"\",'LOD Matrix (DO NOT PRINT)'!M16)","v":""},{"$f":"IF($A16=0,\"\",'LOD Matrix (DO NOT PRINT)'!N16)","v":""},{"$f":"IF($A16=0,\"\",IF('LOD Matrix (DO NOT PRINT)'!P16=TRUE,\"Yes\",\"No\"))","v":""}]
[{"$f":"IF(B17=\"Yes\",Table2[[#This Row],[Break Level]],0)","v":0},{"$f":"Table2[[#This Row],[Yes/No]]","v":"No"},null,null,{"$f":"IF($A17=0,\"\",Table2[[#This Row],[PTC DISCIPLINE]])","v":""},{"$f":"IF($A17=0,\"\",Table2[[#This Row],[ELEMENT]])","v":""},{"$f":"IF($A17=0,\"\",Table2[[#This Row],[LG&TSL]])","v":""},{"$f":"IF($A17=0,\"\",Table2[[#This Row],[DFV]])","v":""},{"$f":"IF($A17=0,\"\",Table2[[#This Row],[60%-OTS]])","v":""},{"$f":"IF($A17=0,\"\",Table2[[#This Row],[75%]])","v":""},{"$f":"IF($A17=0,\"\",Table2[[#This Row],[Pre-Final PS&E]])","v":""},{"$f":"IF($A17=0,\"\",Table2[[#This Row],[Final PS&E]])","v":""},{"$f":"IF($A17=0,\"\",'LOD Matrix (DO NOT PRINT)'!M17)","v":""},{"$f":"IF($A17=0,\"\",'LOD Matrix (DO NOT PRINT)'!N17)","v":""},{"$f":"IF($A17=0,\"\",IF('LOD Matrix (DO NOT PRINT)'!P17=TRUE,\"Yes\",\"No\"))","v":""}]
[{"$f":"IF(B18=\"Yes\",Table2[[#This Row],[Break Level]],0)","v":0},{"$f":"Table2[[#This Row],[Yes/No]]","v":"No"},null,null,{"$f":"IF($A18=0,\"\",Table2[[#This Row],[PTC DISCIPLINE]])","v":""},{"$f":"IF($A18=0,\"\",Table2[[#This Row],[ELEMENT]])","v":""},{"$f":"IF($A18=0,\"\",Table2[[#This Row],[LG&TSL]])","v":""},{"$f":"IF($A18=0,\"\",Table2[[#This Row],[DFV]])","v":""},{"$f":"IF($A18=0,\"\",Table2[[#This Row],[60%-OTS]])","v":""},{"$f":"IF($A18=0,\"\",Table2[[#This Row],[75%]])","v":""},{"$f":"IF($A18=0,\"\",Table2[[#This Row],[Pre-Final PS&E]])","v":""},{"$f":"IF($A18=0,\"\",Table2[[#This Row],[Final PS&E]])","v":""},{"$f":"IF($A18=0,\"\",'LOD Matrix (DO NOT PRINT)'!M18)","v":""},{"$f":"IF($A18=0,\"\",'LOD Matrix (DO NOT PRINT)'!N18)","v":""},{"$f":"IF($A18=0,\"\",IF('LOD Matrix (DO NOT PRINT)'!P18=TRUE,\"Yes\",\"No\"))","v":""}]
[{"$f":"IF(B19=\"Yes\",Table2[[#This Row],[Break Level]],0)","v":0},{"$f":"Table2[[#This Row],[Yes/No]]","v":"No"},null,null,{"$f":"IF($A19=0,\"\",Table2[[#This Row],[PTC DISCIPLINE]])","v":""},{"$f":"IF($A19=0,\"\",Table2[[#This Row],[ELEMENT]])","v":""},{"$f":"IF($A19=0,\"\",Table2[[#This Row],[LG&TSL]])","v":""},{"$f":"IF($A19=0,\"\",Table2[[#This Row],[DFV]])","v":""},{"$f":"IF($A19=0,\"\",Table2[[#This Row],[60%-OTS]])","v":""},{"$f":"IF($A19=0,\"\",Table2[[#This Row],[75%]])","v":""},{"$f":"IF($A19=0,\"\",Table2[[#This Row],[Pre-Final PS&E]])","v":""},{"$f":"IF($A19=0,\"\",Table2[[#This Row],[Final PS&E]])","v":""},{"$f":"IF($A19=0,\"\",'LOD Matrix (DO NOT PRINT)'!M19)","v":""},{"$f":"IF($A19=0,\"\",'LOD Matrix (DO NOT PRINT)'!N19)","v":""},{"$f":"IF($A19=0,\"\",IF('LOD Matrix (DO NOT PRINT)'!P19=TRUE,\"Yes\",\"No\"))","v":""}]
[{"$f":"IF(B20=\"Yes\",Table2[[#This Row],[Break Level]],0)","v":0},{"$f":"Table2[[#This Row],[Yes/No]]","v":"No"},null,null,{"$f":"IF($A20=0,\"\",Table2[[#This Row],[PTC DISCIPLINE]])","v":""},{"$f":"IF($A20=0,\"\",Table2[[#This Row],[ELEMENT]])","v":""},{"$f":"IF($A20=0,\"\",Table2[[#This Row],[LG&TSL]])","v":""},{"$f":"IF($A20=0,\"\",Table2[[#This Row],[DFV]])","v":""},{"$f":"IF($A20=0,\"\",Table2[[#This Row],[60%-OTS]])","v":""},{"$f":"IF($A20=0,\"\",Table2[[#This Row],[75%]])","v":""},{"$f":"IF($A20=0,\"\",Table2[[#This Row],[Pre-Final PS&E]])","v":""},{"$f":"IF($A20=0,\"\",Table2[[#This Row],[Final PS&E]])","v":""},{"$f":"IF($A20=0,\"\",'LOD Matrix (DO NOT PRINT)'!M20)","v":""},{"$f":"IF($A20=0,\"\",'LOD Matrix (DO NOT PRINT)'!N20)","v":""},{"$f":"IF($A20=0,\"\",IF('LOD Matrix (DO NOT PRINT)'!P20=TRUE,\"Yes\",\"No\"))","v":""}]
[{"$f":"IF(B21=\"Yes\",Table2[[#This Row],[Break Level]],0)","v":0},{"$f":"Table2[[#This Row],[Yes/No]]","v":"No"},null,null,{"$f":"IF($A21=0,\"\",Table2[[#This Row],[PTC DISCIPLINE]])","v":""},{"$f":"IF($A21=0,\"\",Table2[[#This Row],[ELEMENT]])","v":""},{"$f":"IF($A21=0,\"\",Table2[[#This Row],[LG&TSL]])","v":""},{"$f":"IF($A21=0,\"\",Table2[[#This Row],[DFV]])","v":""},{"$f":"IF($A21=0,\"\",Table2[[#This Row],[60%-OTS]])","v":""},{"$f":"IF($A21=0,\"\",Table2[[#This Row],[75%]])","v":""},{"$f":"IF($A21=0,\"\",Table2[[#This Row],[Pre-Final PS&E]])","v":""},{"$f":"IF($A21=0,\"\",Table2[[#This Row],[Final PS&E]])","v":""},{"$f":"IF($A21=0,\"\",'LOD Matrix (DO NOT PRINT)'!M21)","v":""},{"$f":"IF($A21=0,\"\",'LOD Matrix (DO NOT PRINT)'!N21)","v":""},{"$f":"IF($A21=0,\"\",IF('LOD Matrix (DO NOT PRINT)'!P21=TRUE,\"Yes\",\"No\"))","v":""}]
[{"$f":"IF(B22=\"Yes\",Table2[[#This Row],[Break Level]],0)","v":0},{"$f":"Table2[[#This Row],[Yes/No]]","v":"No"},null,null,{"$f":"IF($A22=0,\"\",Table2[[#This Row],[PTC DISCIPLINE]])","v":""},{"$f":"IF($A22=0,\"\",Table2[[#This Row],[ELEMENT]])","v":""},{"$f":"IF($A22=0,\"\",Table2[[#This Row],[LG&TSL]])","v":""},{"$f":"IF($A22=0,\"\",Table2[[#This Row],[DFV]])","v":""},{"$f":"IF($A22=0,\"\",Table2[[#This Row],[60%-OTS]])","v":""},{"$f":"IF($A22=0,\"\",Table2[[#This Row],[75%]])","v":""},{"$f":"IF($A22=0,\"\",Table2[[#This Row],[Pre-Final PS&E]])","v":""},{"$f":"IF($A22=0,\"\",Table2[[#This Row],[Final PS&E]])","v":""},{"$f":"IF($A22=0,\"\",'LOD Matrix (DO NOT PRINT)'!M22)","v":""},{"$f":"IF($A22=0,\"\",'LOD Matrix (DO NOT PRINT)'!N22)","v":""},{"$f":"IF($A22=0,\"\",IF('LOD Matrix (DO NOT PRINT)'!P22=TRUE,\"Yes\",\"No\"))","v":""}]
[{"$f":"IF(B23=\"Yes\",Table2[[#This Row],[Break Level]],0)","v":0},{"$f":"Table2[[#This Row],[Yes/No]]","v":"No"},null,null,{"$f":"IF($A23=0,\"\",Table2[[#This Row],[PTC DISCIPLINE]])","v":""},{"$f":"IF($A23=0,\"\",Table2[[#This Row],[ELEMENT]])","v":""},{"$f":"IF($A23=0,\"\",Table2[[#This Row],[LG&TSL]])","v":""},{"$f":"IF($A23=0,\"\",Table2[[#This Row],[DFV]])","v":""},{"$f":"IF($A23=0,\"\",Table2[[#This Row],[60%-OTS]])","v":""},{"$f":"IF($A23=0,\"\",Table2[[#This Row],[75%]])","v":""},{"$f":"IF($A23=0,\"\",Table2[[#This Row],[Pre-Final PS&E]])","v":""},{"$f":"IF($A23=0,\"\",Table2[[#This Row],[Final PS&E]])","v":""},{"$f":"IF($A23=0,\"\",'LOD Matrix (DO NOT PRINT)'!M23)","v":""},{"$f":"IF($A23=0,\"\",'LOD Matrix (DO NOT PRINT)'!N23)","v":""},{"$f":"IF($A23=0,\"\",IF('LOD Matrix (DO NOT PRINT)'!P23=TRUE,\"Yes\",\"No\"))","v":""}]
[{"$f":"IF(B24=\"Yes\",Table2[[#This Row],[Break Level]],0)","v":0},{"$f":"Table2[[#This Row],[Yes/No]]","v":"No"},null,null,{"$f":"IF($A24=0,\"\",Table2[[#This Row],[PTC DISCIPLINE]])","v":""},{"$f":"IF($A24=0,\"\",Table2[[#This Row],[ELEMENT]])","v":""},{"$f":"IF($A24=0,\"\",Table2[[#This Row],[LG&TSL]])","v":""},{"$f":"IF($A24=0,\"\",Table2[[#This Row],[DFV]])","v":""},{"$f":"IF($A24=0,\"\",Table2[[#This Row],[60%-OTS]])","v":""},{"$f":"IF($A24=0,\"\",Table2[[#This Row],[75%]])","v":""},{"$f":"IF($A24=0,\"\",Table2[[#This Row],[Pre-Final PS&E]])","v":""},{"$f":"IF($A24=0,\"\",Table2[[#This Row],[Final PS&E]])","v":""},{"$f":"IF($A24=0,\"\",'LOD Matrix (DO NOT PRINT)'!M24)","v":""},{"$f":"IF($A24=0,\"\",'LOD Matrix (DO NOT PRINT)'!N24)","v":""},{"$f":"IF($A24=0,\"\",IF('LOD Matrix (DO NOT PRINT)'!P24=TRUE,\"Yes\",\"No\"))","v":""}]
[{"$f":"IF(B25=\"Yes\",Table2[[#This Row],[Break Level]],0)","v":0},{"$f":"Table2[[#This Row],[Yes/No]]","v":"No"},null,null,{"$f":"IF($A25=0,\"\",Table2[[#This Row],[PTC DISCIPLINE]])","v":""},{"$f":"IF($A25=0,\"\",Table2[[#This Row],[ELEMENT]])","v":""},{"$f":"IF($A25=0,\"\",Table2[[#This Row],[LG&TSL]])","v":""},{"$f":"IF($A25=0,\"\",Table2[[#This Row],[DFV]])","v":""},{"$f":"IF($A25=0,\"\",Table2[[#This Row],[60%-OTS]])","v":""},{"$f":"IF($A25=0,\"\",Table2[[#This Row],[75%]])","v":""},{"$f":"IF($A25=0,\"\",Table2[[#This Row],[Pre-Final PS&E]])","v":""},{"$f":"IF($A25=0,\"\",Table2[[#This Row],[Final PS&E]])","v":""},{"$f":"IF($A25=0,\"\",'LOD Matrix (DO NOT PRINT)'!M25)","v":""},{"$f":"IF($A25=0,\"\",'LOD Matrix (DO NOT PRINT)'!N25)","v":""},{"$f":"IF($A25=0,\"\",IF('LOD Matrix (DO NOT PRINT)'!P25=TRUE,\"Yes\",\"No\"))","v":""}]
[{"$f":"IF(B26=\"Yes\",Table2[[#This Row],[Break Level]],0)","v":0},{"$f":"Table2[[#This Row],[Yes/No]]","v":"No"},null,null,{"$f":"IF($A26=0,\"\",Table2[[#This Row],[PTC DISCIPLINE]])","v":""},{"$f":"IF($A26=0,\"\",Table2[[#This Row],[ELEMENT]])","v":""},{"$f":"IF($A26=0,\"\",Table2[[#This Row],[LG&TSL]])","v":""},{"$f":"IF($A26=0,\"\",Table2[[#This Row],[DFV]])","v":""},{"$f":"IF($A26=0,\"\",Table2[[#This Row],[60%-OTS]])","v":""},{"$f":"IF($A26=0,\"\",Table2[[#This Row],[75%]])","v":""},{"$f":"IF($A26=0,\"\",Table2[[#This Row],[Pre-Final PS&E]])","v":""},{"$f":"IF($A26=0,\"\",Table2[[#This Row],[Final PS&E]])","v":""},{"$f":"IF($A26=0,\"\",'LOD Matrix (DO NOT PRINT)'!M26)","v":""},{"$f":"IF($A26=0,\"\",'LOD Matrix (DO NOT PRINT)'!N26)","v":""},{"$f":"IF($A26=0,\"\",IF('LOD Matrix (DO NOT PRINT)'!P26=TRUE,\"Yes\",\"No\"))","v":""}]
[{"$f":"IF(B27=\"Yes\",Table2[[#This Row],[Break Level]],0)","v":0},{"$f":"Table2[[#This Row],[Yes/No]]","v":"No"},null,null,{"$f":"IF($A27=0,\"\",Table2[[#This Row],[PTC DISCIPLINE]])","v":""},{"$f":"IF($A27=0,\"\",Table2[[#This Row],[ELEMENT]])","v":""},{"$f":"IF($A27=0,\"\",Table2[[#This Row],[LG&TSL]])","v":""},{"$f":"IF($A27=0,\"\",Table2[[#This Row],[DFV]])","v":""},{"$f":"IF($A27=0,\"\",Table2[[#This Row],[60%-OTS]])","v":""},{"$f":"IF($A27=0,\"\",Table2[[#This Row],[75%]])","v":""},{"$f":"IF($A27=0,\"\",Table2[[#This Row],[Pre-Final PS&E]])","v":""},{"$f":"IF($A27=0,\"\",Table2[[#This Row],[Final PS&E]])","v":""},{"$f":"IF($A27=0,\"\",'LOD Matrix (DO NOT PRINT)'!M27)","v":""},{"$f":"IF($A27=0,\"\",'LOD Matrix (DO NOT PRINT)'!N27)","v":""},{"$f":"IF($A27=0,\"\",IF('LOD Matrix (DO NOT PRINT)'!P27=TRUE,\"Yes\",\"No\"))","v":""}]
[{"$f":"IF(B28=\"Yes\",Table2[[#This Row],[Break Level]],0)","v":0},{"$f":"Table2[[#This Row],[Yes/No]]","v":"No"},null,null,{"$f":"IF($A28=0,\"\",Table2[[#This Row],[PTC DISCIPLINE]])","v":""},{"$f":"IF($A28=0,\"\",Table2[[#This Row],[ELEMENT]])","v":""},{"$f":"IF($A28=0,\"\",Table2[[#This Row],[LG&TSL]])","v":""},{"$f":"IF($A28=0,\"\",Table2[[#This Row],[DFV]])","v":""},{"$f":"IF($A28=0,\"\",Table2[[#This Row],[60%-OTS]])","v":""},{"$f":"IF($A28=0,\"\",Table2[[#This Row],[75%]])","v":""},{"$f":"IF($A28=0,\"\",Table2[[#This Row],[Pre-Final PS&E]])","v":""},{"$f":"IF($A28=0,\"\",Table2[[#This Row],[Final PS&E]])","v":""},{"$f":"IF($A28=0,\"\",'LOD Matrix (DO NOT PRINT)'!M28)","v":""},{"$f":"IF($A28=0,\"\",'LOD Matrix (DO NOT PRINT)'!N28)","v":""},{"$f":"IF($A28=0,\"\",IF('LOD Matrix (DO NOT PRINT)'!P28=TRUE,\"Yes\",\"No\"))","v":""}]
[{"$f":"IF(B29=\"Yes\",Table2[[#This Row],[Break Level]],0)","v":0},{"$f":"Table2[[#This Row],[Yes/No]]","v":"No"},null,null,{"$f":"IF($A29=0,\"\",Table2[[#This Row],[PTC DISCIPLINE]])","v":""},{"$f":"IF($A29=0,\"\",Table2[[#This Row],[ELEMENT]])","v":""},{"$f":"IF($A29=0,\"\",Table2[[#This Row],[LG&TSL]])","v":""},{"$f":"IF($A29=0,\"\",Table2[[#This Row],[DFV]])","v":""},{"$f":"IF($A29=0,\"\",Table2[[#This Row],[60%-OTS]])","v":""},{"$f":"IF($A29=0,\"\",Table2[[#This Row],[75%]])","v":""},{"$f":"IF($A29=0,\"\",Table2[[#This Row],[Pre-Final PS&E]])","v":""},{"$f":"IF($A29=0,\"\",Table2[[#This Row],[Final PS&E]])","v":""},{"$f":"IF($A29=0,\"\",'LOD Matrix (DO NOT PRINT)'!M29)","v":""},{"$f":"IF($A29=0,\"\",'LOD Matrix (DO NOT PRINT)'!N29)","v":""},{"$f":"IF($A29=0,\"\",IF('LOD Matrix (DO NOT PRINT)'!P29=TRUE,\"Yes\",\"No\"))","v":""}]
[{"$f":"IF(B30=\"Yes\",Table2[[#This Row],[Break Level]],0)","v":0},{"$f":"Table2[[#This Row],[Yes/No]]","v":"No"},null,null,{"$f":"IF($A30=0,\"\",Table2[[#This Row],[PTC DISCIPLINE]])","v":""},{"$f":"IF($A30=0,\"\",Table2[[#This Row],[ELEMENT]])","v":""},{"$f":"IF($A30=0,\"\",Table2[[#This Row],[LG&TSL]])","v":""},{"$f":"IF($A30=0,\"\",Table2[[#This Row],[DFV]])","v":""},{"$f":"IF($A30=0,\"\",Table2[[#This Row],[60%-OTS]])","v":""},{"$f":"IF($A30=0,\"\",Table2[[#This Row],[75%]])","v":""},{"$f":"IF($A30=0,\"\",Table2[[#This Row],[Pre-Final PS&E]])","v":""},{"$f":"IF($A30=0,\"\",Table2[[#This Row],[Final PS&E]])","v":""},{"$f":"IF($A30=0,\"\",'LOD Matrix (DO NOT PRINT)'!M30)","v":""},{"$f":"IF($A30=0,\"\",'LOD Matrix (DO NOT PRINT)'!N30)","v":""},{"$f":"IF($A30=0,\"\",IF('LOD Matrix (DO NOT PRINT)'!P30=TRUE,\"Yes\",\"No\"))","v":""}]
[{"$f":"IF(B31=\"Yes\",Table2[[#This Row],[Break Level]],0)","v":0},{"$f":"Table2[[#This Row],[Yes/No]]","v":"No"},null,null,{"$f":"IF($A31=0,\"\",Table2[[#This Row],[PTC DISCIPLINE]])","v":""},{"$f":"IF($A31=0,\"\",Table2[[#This Row],[ELEMENT]])","v":""},{"$f":"IF($A31=0,\"\",Table2[[#This Row],[LG&TSL]])","v":""},{"$f":"IF($A31=0,\"\",Table2[[#This Row],[DFV]])","v":""},{"$f":"IF($A31=0,\"\",Table2[[#This Row],[60%-OTS]])","v":""},{"$f":"IF($A31=0,\"\",Table2[[#This Row],[75%]])","v":""},{"$f":"IF($A31=0,\"\",Table2[[#This Row],[Pre-Final PS&E]])","v":""},{"$f":"IF($A31=0,\"\",Table2[[#This Row],[Final PS&E]])","v":""},{"$f":"IF($A31=0,\"\",'LOD Matrix (DO NOT PRINT)'!M31)","v":""},{"$f":"IF($A31=0,\"\",'LOD Matrix (DO NOT PRINT)'!N31)","v":""},{"$f":"IF($A31=0,\"\",IF('LOD Matrix (DO NOT PRINT)'!P31=TRUE,\"Yes\",\"No\"))","v":""}]
[{"$f":"IF(B32=\"Yes\",Table2[[#This Row],[Break Level]],0)","v":0},{"$f":"Table2[[#This Row],[Yes/No]]","v":"No"},null,null,{"$f":"IF($A32=0,\"\",Table2[[#This Row],[PTC DISCIPLINE]])","v":""},{"$f":"IF($A32=0,\"\",Table2[[#This Row],[ELEMENT]])","v":""},{"$f":"IF($A32=0,\"\",Table2[[#This Row],[LG&TSL]])","v":""},{"$f":"IF($A32=0,\"\",Table2[[#This Row],[DFV]])","v":""},{"$f":"IF($A32=0,\"\",Table2[[#This Row],[60%-OTS]])","v":""},{"$f":"IF($A32=0,\"\",Table2[[#This Row],[75%]])","v":""},{"$f":"IF($A32=0,\"\",Table2[[#This Row],[Pre-Final PS&E]])","v":""},{"$f":"IF($A32=0,\"\",Table2[[#This Row],[Final PS&E]])","v":""},{"$f":"IF($A32=0,\"\",'LOD Matrix (DO NOT PRINT)'!M32)","v":""},{"$f":"IF($A32=0,\"\",'LOD Matrix (DO NOT PRINT)'!N32)","v":""},{"$f":"IF($A32=0,\"\",IF('LOD Matrix (DO NOT PRINT)'!P32=TRUE,\"Yes\",\"No\"))","v":""}]
[{"$f":"IF(B33=\"Yes\",Table2[[#This Row],[Break Level]],0)","v":0},{"$f":"Table2[[#This Row],[Yes/No]]","v":"No"},null,null,{"$f":"IF($A33=0,\"\",Table2[[#This Row],[PTC DISCIPLINE]])","v":""},{"$f":"IF($A33=0,\"\",Table2[[#This Row],[ELEMENT]])","v":""},{"$f":"IF($A33=0,\"\",Table2[[#This Row],[LG&TSL]])","v":""},{"$f":"IF($A33=0,\"\",Table2[[#This Row],[DFV]])","v":""},{"$f":"IF($A33=0,\"\",Table2[[#This Row],[60%-OTS]])","v":""},{"$f":"IF($A33=0,\"\",Table2[[#This Row],[75%]])","v":""},{"$f":"IF($A33=0,\"\",Table2[[#This Row],[Pre-Final PS&E]])","v":""},{"$f":"IF($A33=0,\"\",Table2[[#This Row],[Final PS&E]])","v":""},{"$f":"IF($A33=0,\"\",'LOD Matrix (DO NOT PRINT)'!M33)","v":""},{"$f":"IF($A33=0,\"\",'LOD Matrix (DO NOT PRINT)'!N33)","v":""},{"$f":"IF($A33=0,\"\",IF('LOD Matrix (DO NOT PRINT)'!P33=TRUE,\"Yes\",\"No\"))","v":""}]
[{"$f":"IF(B34=\"Yes\",Table2[[#This Row],[Break Level]],0)","v":0},{"$f":"Table2[[#This Row],[Yes/No]]","v":"No"},null,null,{"$f":"IF($A34=0,\"\",Table2[[#This Row],[PTC DISCIPLINE]])","v":""},{"$f":"IF($A34=0,\"\",Table2[[#This Row],[ELEMENT]])","v":""},{"$f":"IF($A34=0,\"\",Table2[[#This Row],[LG&TSL]])","v":""},{"$f":"IF($A34=0,\"\",Table2[[#This Row],[DFV]])","v":""},{"$f":"IF($A34=0,\"\",Table2[[#This Row],[60%-OTS]])","v":""},{"$f":"IF($A34=0,\"\",Table2[[#This Row],[75%]])","v":""},{"$f":"IF($A34=0,\"\",Table2[[#This Row],[Pre-Final PS&E]])","v":""},{"$f":"IF($A34=0,\"\",Table2[[#This Row],[Final PS&E]])","v":""},{"$f":"IF($A34=0,\"\",'LOD Matrix (DO NOT PRINT)'!M34)","v":""},{"$f":"IF($A34=0,\"\",'LOD Matrix (DO NOT PRINT)'!N34)","v":""},{"$f":"IF($A34=0,\"\",IF('LOD Matrix (DO NOT PRINT)'!P34=TRUE,\"Yes\",\"No\"))","v":""}]
[{"$f":"IF(B35=\"Yes\",Table2[[#This Row],[Break Level]],0)","v":0},{"$f":"Table2[[#This Row],[Yes/No]]","v":"No"},null,null,{"$f":"IF($A35=0,\"\",Table2[[#This Row],[PTC DISCIPLINE]])","v":""},{"$f":"IF($A35=0,\"\",Table2[[#This Row],[ELEMENT]])","v":""},{"$f":"IF($A35=0,\"\",Table2[[#This Row],[LG&TSL]])","v":""},{"$f":"IF($A35=0,\"\",Table2[[#This Row],[DFV]])","v":""},{"$f":"IF($A35=0,\"\",Table2[[#This Row],[60%-OTS]])","v":""},{"$f":"IF($A35=0,\"\",Table2[[#This Row],[75%]])","v":""},{"$f":"IF($A35=0,\"\",Table2[[#This Row],[Pre-Final PS&E]])","v":""},{"$f":"IF($A35=0,\"\",Table2[[#This Row],[Final PS&E]])","v":""},{"$f":"IF($A35=0,\"\",'LOD Matrix (DO NOT PRINT)'!M35)","v":""},{"$f":"IF($A35=0,\"\",'LOD Matrix (DO NOT PRINT)'!N35)","v":""},{"$f":"IF($A35=0,\"\",IF('LOD Matrix (DO NOT PRINT)'!P35=TRUE,\"Yes\",\"No\"))","v":""}]
[{"$f":"IF(B36=\"Yes\",Table2[[#This Row],[Break Level]],0)","v":0},{"$f":"Table2[[#This Row],[Yes/No]]","v":"No"},null,null,{"$f":"IF($A36=0,\"\",Table2[[#This Row],[PTC DISCIPLINE]])","v":""},{"$f":"IF($A36=0,\"\",Table2[[#This Row],[ELEMENT]])","v":""},{"$f":"IF($A36=0,\"\",Table2[[#This Row],[LG&TSL]])","v":""},{"$f":"IF($A36=0,\"\",Table2[[#This Row],[DFV]])","v":""},{"$f":"IF($A36=0,\"\",Table2[[#This Row],[60%-OTS]])","v":""},{"$f":"IF($A36=0,\"\",Table2[[#This Row],[75%]])","v":""},{"$f":"IF($A36=0,\"\",Table2[[#This Row],[Pre-Final PS&E]])","v":""},{"$f":"IF($A36=0,\"\",Table2[[#This Row],[Final PS&E]])","v":""},{"$f":"IF($A36=0,\"\",'LOD Matrix (DO NOT PRINT)'!M36)","v":""},{"$f":"IF($A36=0,\"\",'LOD Matrix (DO NOT PRINT)'!N36)","v":""},{"$f":"IF($A36=0,\"\",IF('LOD Matrix (DO NOT PRINT)'!P36=TRUE,\"Yes\",\"No\"))","v":""}]
[{"$f":"IF(B37=\"Yes\",Table2[[#This Row],[Break Level]],0)","v":0},{"$f":"Table2[[#This Row],[Yes/No]]","v":"No"},null,null,{"$f":"IF($A37=0,\"\",Table2[[#This Row],[PTC DISCIPLINE]])","v":""},{"$f":"IF($A37=0,\"\",Table2[[#This Row],[ELEMENT]])","v":""},{"$f":"IF($A37=0,\"\",Table2[[#This Row],[LG&TSL]])","v":""},{"$f":"IF($A37=0,\"\",Table2[[#This Row],[DFV]])","v":""},{"$f":"IF($A37=0,\"\",Table2[[#This Row],[60%-OTS]])","v":""},{"$f":"IF($A37=0,\"\",Table2[[#This Row],[75%]])","v":""},{"$f":"IF($A37=0,\"\",Table2[[#This Row],[Pre-Final PS&E]])","v":""},{"$f":"IF($A37=0,\"\",Table2[[#This Row],[Final PS&E]])","v":""},{"$f":"IF($A37=0,\"\",'LOD Matrix (DO NOT PRINT)'!M37)","v":""},{"$f":"IF($A37=0,\"\",'LOD Matrix (DO NOT PRINT)'!N37)","v":""},{"$f":"IF($A37=0,\"\",IF('LOD Matrix (DO NOT PRINT)'!P37=TRUE,\"Yes\",\"No\"))","v":""}]
[{"$f":"IF(B38=\"Yes\",Table2[[#This Row],[Break Level]],0)","v":0},{"$f":"Table2[[#This Row],[Yes/No]]","v":"No"},null,null,{"$f":"IF($A38=0,\"\",Table2[[#This Row],[PTC DISCIPLINE]])","v":""},{"$f":"IF($A38=0,\"\",Table2[[#This Row],[ELEMENT]])","v":""},{"$f":"IF($A38=0,\"\",Table2[[#This Row],[LG&TSL]])","v":""},{"$f":"IF($A38=0,\"\",Table2[[#This Row],[DFV]])","v":""},{"$f":"IF($A38=0,\"\",Table2[[#This Row],[60%-OTS]])","v":""},{"$f":"IF($A38=0,\"\",Table2[[#This Row],[75%]])","v":""},{"$f":"IF($A38=0,\"\",Table2[[#This Row],[Pre-Final PS&E]])","v":""},{"$f":"IF($A38=0,\"\",Table2[[#This Row],[Final PS&E]])","v":""},{"$f":"IF($A38=0,\"\",'LOD Matrix (DO NOT PRINT)'!M38)","v":""},{"$f":"IF($A38=0,\"\",'LOD Matrix (DO NOT PRINT)'!N38)","v":""},{"$f":"IF($A38=0,\"\",IF('LOD Matrix (DO NOT PRINT)'!P38=TRUE,\"Yes\",\"No\"))","v":""}]
[{"$f":"IF(B39=\"Yes\",Table2[[#This Row],[Break Level]],0)","v":0},{"$f":"Table2[[#This Row],[Yes/No]]","v":"No"},null,null,{"$f":"IF($A39=0,\"\",Table2[[#This Row],[PTC DISCIPLINE]])","v":""},{"$f":"IF($A39=0,\"\",Table2[[#This Row],[ELEMENT]])","v":""},{"$f":"IF($A39=0,\"\",Table2[[#This Row],[LG&TSL]])","v":""},{"$f":"IF($A39=0,\"\",Table2[[#This Row],[DFV]])","v":""},{"$f":"IF($A39=0,\"\",Table2[[#This Row],[60%-OTS]])","v":""},{"$f":"IF($A39=0,\"\",Table2[[#This Row],[75%]])","v":""},{"$f":"IF($A39=0,\"\",Table2[[#This Row],[Pre-Final PS&E]])","v":""},{"$f":"IF($A39=0,\"\",Table2[[#This Row],[Final PS&E]])","v":""},{"$f":"IF($A39=0,\"\",'LOD Matrix (DO NOT PRINT)'!M39)","v":""},{"$f":"IF($A39=0,\"\",'LOD Matrix (DO NOT PRINT)'!N39)","v":""},{"$f":"IF($A39=0,\"\",IF('LOD Matrix (DO NOT PRINT)'!P39=TRUE,\"Yes\",\"No\"))","v":""}]
[{"$f":"IF(B40=\"Yes\",Table2[[#This Row],[Break Level]],0)","v":0},{"$f":"Table2[[#This Row],[Yes/No]]","v":"No"},null,null,{"$f":"IF($A40=0,\"\",Table2[[#This Row],[PTC DISCIPLINE]])","v":""},{"$f":"IF($A40=0,\"\",Table2[[#This Row],[ELEMENT]])","v":""},{"$f":"IF($A40=0,\"\",Table2[[#This Row],[LG&TSL]])","v":""},{"$f":"IF($A40=0,\"\",Table2[[#This Row],[DFV]])","v":""},{"$f":"IF($A40=0,\"\",Table2[[#This Row],[60%-OTS]])","v":""},{"$f":"IF($A40=0,\"\",Table2[[#This Row],[75%]])","v":""},{"$f":"IF($A40=0,\"\",Table2[[#This Row],[Pre-Final PS&E]])","v":""},{"$f":"IF($A40=0,\"\",Table2[[#This Row],[Final PS&E]])","v":""},{"$f":"IF($A40=0,\"\",'LOD Matrix (DO NOT PRINT)'!M40)","v":""},{"$f":"IF($A40=0,\"\",'LOD Matrix (DO NOT PRINT)'!N40)","v":""},{"$f":"IF($A40=0,\"\",IF('LOD Matrix (DO NOT PRINT)'!P40=TRUE,\"Yes\",\"No\"))","v":""}]
[{"$f":"IF(B41=\"Yes\",Table2[[#This Row],[Break Level]],0)","v":0},{"$f":"Table2[[#This Row],[Yes/No]]","v":"No"},null,null,{"$f":"IF($A41=0,\"\",Table2[[#This Row],[PTC DISCIPLINE]])","v":""},{"$f":"IF($A41=0,\"\",Table2[[#This Row],[ELEMENT]])","v":""},{"$f":"IF($A41=0,\"\",Table2[[#This Row],[LG&TSL]])","v":""},{"$f":"IF($A41=0,\"\",Table2[[#This Row],[DFV]])","v":""},{"$f":"IF($A41=0,\"\",Table2[[#This Row],[60%-OTS]])","v":""},{"$f":"IF($A41=0,\"\",Table2[[#This Row],[75%]])","v":""},{"$f":"IF($A41=0,\"\",Table2[[#This Row],[Pre-Final PS&E]])","v":""},{"$f":"IF($A41=0,\"\",Table2[[#This Row],[Final PS&E]])","v":""},{"$f":"IF($A41=0,\"\",'LOD Matrix (DO NOT PRINT)'!M41)","v":""},{"$f":"IF($A41=0,\"\",'LOD Matrix (DO NOT PRINT)'!N41)","v":""},{"$f":"IF($A41=0,\"\",IF('LOD Matrix (DO NOT PRINT)'!P41=TRUE,\"Yes\",\"No\"))","v":""}]
[{"$f":"IF(B42=\"Yes\",Table2[[#This Row],[Break Level]],0)","v":0},{"$f":"Table2[[#This Row],[Yes/No]]","v":"No"},null,null,{"$f":"IF($A42=0,\"\",Table2[[#This Row],[PTC DISCIPLINE]])","v":""},{"$f":"IF($A42=0,\"\",Table2[[#This Row],[ELEMENT]])","v":""},{"$f":"IF($A42=0,\"\",Table2[[#This Row],[LG&TSL]])","v":""},{"$f":"IF($A42=0,\"\",Table2[[#This Row],[DFV]])","v":""},{"$f":"IF($A42=0,\"\",Table2[[#This Row],[60%-OTS]])","v":""},{"$f":"IF($A42=0,\"\",Table2[[#This Row],[75%]])","v":""},{"$f":"IF($A42=0,\"\",Table2[[#This Row],[Pre-Final PS&E]])","v":""},{"$f":"IF($A42=0,\"\",Table2[[#This Row],[Final PS&E]])","v":""},{"$f":"IF($A42=0,\"\",'LOD Matrix (DO NOT PRINT)'!M42)","v":""},{"$f":"IF($A42=0,\"\",'LOD Matrix (DO NOT PRINT)'!N42)","v":""},{"$f":"IF($A42=0,\"\",IF('LOD Matrix (DO NOT PRINT)'!P42=TRUE,\"Yes\",\"No\"))","v":""}]
[{"$f":"IF(B43=\"Yes\",Table2[[#This Row],[Break Level]],0)","v":0},{"$f":"Table2[[#This Row],[Yes/No]]","v":"No"},null,null,{"$f":"IF($A43=0,\"\",Table2[[#This Row],[PTC DISCIPLINE]])","v":""},{"$f":"IF($A43=0,\"\",Table2[[#This Row],[ELEMENT]])","v":""},{"$f":"IF($A43=0,\"\",Table2[[#This Row],[LG&TSL]])","v":""},{"$f":"IF($A43=0,\"\",Table2[[#This Row],[DFV]])","v":""},{"$f":"IF($A43=0,\"\",Table2[[#This Row],[60%-OTS]])","v":""},{"$f":"IF($A43=0,\"\",Table2[[#This Row],[75%]])","v":""},{"$f":"IF($A43=0,\"\",Table2[[#This Row],[Pre-Final PS&E]])","v":""},{"$f":"IF($A43=0,\"\",Table2[[#This Row],[Final PS&E]])","v":""},{"$f":"IF($A43=0,\"\",'LOD Matrix (DO NOT PRINT)'!M43)","v":""},{"$f":"IF($A43=0,\"\",'LOD Matrix (DO NOT PRINT)'!N43)","v":""},{"$f":"IF($A43=0,\"\",IF('LOD Matrix (DO NOT PRINT)'!P43=TRUE,\"Yes\",\"No\"))","v":""}]
[{"$f":"IF(B44=\"Yes\",Table2[[#This Row],[Break Level]],0)","v":0},{"$f":"Table2[[#This Row],[Yes/No]]","v":"No"},null,null,{"$f":"IF($A44=0,\"\",Table2[[#This Row],[PTC DISCIPLINE]])","v":""},{"$f":"IF($A44=0,\"\",Table2[[#This Row],[ELEMENT]])","v":""},{"$f":"IF($A44=0,\"\",Table2[[#This Row],[LG&TSL]])","v":""},{"$f":"IF($A44=0,\"\",Table2[[#This Row],[DFV]])","v":""},{"$f":"IF($A44=0,\"\",Table2[[#This Row],[60%-OTS]])","v":""},{"$f":"IF($A44=0,\"\",Table2[[#This Row],[75%]])","v":""},{"$f":"IF($A44=0,\"\",Table2[[#This Row],[Pre-Final PS&E]])","v":""},{"$f":"IF($A44=0,\"\",Table2[[#This Row],[Final PS&E]])","v":""},{"$f":"IF($A44=0,\"\",'LOD Matrix (DO NOT PRINT)'!M44)","v":""},{"$f":"IF($A44=0,\"\",'LOD Matrix (DO NOT PRINT)'!N44)","v":""},{"$f":"IF($A44=0,\"\",IF('LOD Matrix (DO NOT PRINT)'!P44=TRUE,\"Yes\",\"No\"))","v":""}]
[{"$f":"IF(B45=\"Yes\",Table2[[#This Row],[Break Level]],0)","v":0},{"$f":"Table2[[#This Row],[Yes/No]]","v":"No"},null,null,{"$f":"IF($A45=0,\"\",Table2[[#This Row],[PTC DISCIPLINE]])","v":""},{"$f":"IF($A45=0,\"\",Table2[[#This Row],[ELEMENT]])","v":""},{"$f":"IF($A45=0,\"\",Table2[[#This Row],[LG&TSL]])","v":""},{"$f":"IF($A45=0,\"\",Table2[[#This Row],[DFV]])","v":""},{"$f":"IF($A45=0,\"\",Table2[[#This Row],[60%-OTS]])","v":""},{"$f":"IF($A45=0,\"\",Table2[[#This Row],[75%]])","v":""},{"$f":"IF($A45=0,\"\",Table2[[#This Row],[Pre-Final PS&E]])","v":""},{"$f":"IF($A45=0,\"\",Table2[[#This Row],[Final PS&E]])","v":""},{"$f":"IF($A45=0,\"\",'LOD Matrix (DO NOT PRINT)'!M45)","v":""},{"$f":"IF($A45=0,\"\",'LOD Matrix (DO NOT PRINT)'!N45)","v":""},{"$f":"IF($A45=0,\"\",IF('LOD Matrix (DO NOT PRINT)'!P45=TRUE,\"Yes\",\"No\"))","v":""}]
[{"$f":"IF(B46=\"Yes\",Table2[[#This Row],[Break Level]],0)","v":0},{"$f":"Table2[[#This Row],[Yes/No]]","v":"No"},null,null,{"$f":"IF($A46=0,\"\",Table2[[#This Row],[PTC DISCIPLINE]])","v":""},{"$f":"IF($A46=0,\"\",Table2[[#This Row],[ELEMENT]])","v":""},{"$f":"IF($A46=0,\"\",Table2[[#This Row],[LG&TSL]])","v":""},{"$f":"IF($A46=0,\"\",Table2[[#This Row],[DFV]])","v":""},{"$f":"IF($A46=0,\"\",Table2[[#This Row],[60%-OTS]])","v":""},{"$f":"IF($A46=0,\"\",Table2[[#This Row],[75%]])","v":""},{"$f":"IF($A46=0,\"\",Table2[[#This Row],[Pre-Final PS&E]])","v":""},{"$f":"IF($A46=0,\"\",Table2[[#This Row],[Final PS&E]])","v":""},{"$f":"IF($A46=0,\"\",'LOD Matrix (DO NOT PRINT)'!M46)","v":""},{"$f":"IF($A46=0,\"\",'LOD Matrix (DO NOT PRINT)'!N46)","v":""},{"$f":"IF($A46=0,\"\",IF('LOD Matrix (DO NOT PRINT)'!P46=TRUE,\"Yes\",\"No\"))","v":""}]
[{"$f":"IF(B47=\"Yes\",Table2[[#This Row],[Break Level]],0)","v":0},{"$f":"Table2[[#This Row],[Yes/No]]","v":"No"},null,null,{"$f":"IF($A47=0,\"\",Table2[[#This Row],[PTC DISCIPLINE]])","v":""},{"$f":"IF($A47=0,\"\",Table2[[#This Row],[ELEMENT]])","v":""},{"$f":"IF($A47=0,\"\",Table2[[#This Row],[LG&TSL]])","v":""},{"$f":"IF($A47=0,\"\",Table2[[#This Row],[DFV]])","v":""},{"$f":"IF($A47=0,\"\",Table2[[#This Row],[60%-OTS]])","v":""},{"$f":"IF($A47=0,\"\",Table2[[#This Row],[75%]])","v":""},{"$f":"IF($A47=0,\"\",Table2[[#This Row],[Pre-Final PS&E]])","v":""},{"$f":"IF($A47=0,\"\",Table2[[#This Row],[Final PS&E]])","v":""},{"$f":"IF($A47=0,\"\",'LOD Matrix (DO NOT PRINT)'!M47)","v":""},{"$f":"IF($A47=0,\"\",'LOD Matrix (DO NOT PRINT)'!N47)","v":""},{"$f":"IF($A47=0,\"\",IF('LOD Matrix (DO NOT PRINT)'!P47=TRUE,\"Yes\",\"No\"))","v":""}]
[{"$f":"IF(B48=\"Yes\",Table2[[#This Row],[Break Level]],0)","v":0},{"$f":"Table2[[#This Row],[Yes/No]]","v":"No"},null,null,{"$f":"IF($A48=0,\"\",Table2[[#This Row],[PTC DISCIPLINE]])","v":""},{"$f":"IF($A48=0,\"\",Table2[[#This Row],[ELEMENT]])","v":""},{"$f":"IF($A48=0,\"\",Table2[[#This Row],[LG&TSL]])","v":""},{"$f":"IF($A48=0,\"\",Table2[[#This Row],[DFV]])","v":""},{"$f":"IF($A48=0,\"\",Table2[[#This Row],[60%-OTS]])","v":""},{"$f":"IF($A48=0,\"\",Table2[[#This Row],[75%]])","v":""},{"$f":"IF($A48=0,\"\",Table2[[#This Row],[Pre-Final PS&E]])","v":""},{"$f":"IF($A48=0,\"\",Table2[[#This Row],[Final PS&E]])","v":""},{"$f":"IF($A48=0,\"\",'LOD Matrix (DO NOT PRINT)'!M48)","v":""},{"$f":"IF($A48=0,\"\",'LOD Matrix (DO NOT PRINT)'!N48)","v":""},{"$f":"IF($A48=0,\"\",IF('LOD Matrix (DO NOT PRINT)'!P48=TRUE,\"Yes\",\"No\"))","v":""}]
[{"$f":"IF(B49=\"Yes\",Table2[[#This Row],[Break Level]],0)","v":0},{"$f":"Table2[[#This Row],[Yes/No]]","v":"No"},null,null,{"$f":"IF($A49=0,\"\",Table2[[#This Row],[PTC DISCIPLINE]])","v":""},{"$f":"IF($A49=0,\"\",Table2[[#This Row],[ELEMENT]])","v":""},{"$f":"IF($A49=0,\"\",Table2[[#This Row],[LG&TSL]])","v":""},{"$f":"IF($A49=0,\"\",Table2[[#This Row],[DFV]])","v":""},{"$f":"IF($A49=0,\"\",Table2[[#This Row],[60%-OTS]])","v":""},{"$f":"IF($A49=0,\"\",Table2[[#This Row],[75%]])","v":""},{"$f":"IF($A49=0,\"\",Table2[[#This Row],[Pre-Final PS&E]])","v":""},{"$f":"IF($A49=0,\"\",Table2[[#This Row],[Final PS&E]])","v":""},{"$f":"IF($A49=0,\"\",'LOD Matrix (DO NOT PRINT)'!M49)","v":""},{"$f":"IF($A49=0,\"\",'LOD Matrix (DO NOT PRINT)'!N49)","v":""},{"$f":"IF($A49=0,\"\",IF('LOD Matrix (DO NOT PRINT)'!P49=TRUE,\"Yes\",\"No\"))","v":""}]
[{"$f":"IF(B50=\"Yes\",Table2[[#This Row],[Break Level]],0)","v":0},{"$f":"Table2[[#This Row],[Yes/No]]","v":"No"},null,null,{"$f":"IF($A50=0,\"\",Table2[[#This Row],[PTC DISCIPLINE]])","v":""},{"$f":"IF($A50=0,\"\",Table2[[#This Row],[ELEMENT]])","v":""},{"$f":"IF($A50=0,\"\",Table2[[#This Row],[LG&TSL]])","v":""},{"$f":"IF($A50=0,\"\",Table2[[#This Row],[DFV]])","v":""},{"$f":"IF($A50=0,\"\",Table2[[#This Row],[60%-OTS]])","v":""},{"$f":"IF($A50=0,\"\",Table2[[#This Row],[75%]])","v":""},{"$f":"IF($A50=0,\"\",Table2[[#This Row],[Pre-Final PS&E]])","v":""},{"$f":"IF($A50=0,\"\",Table2[[#This Row],[Final PS&E]])","v":""},{"$f":"IF($A50=0,\"\",'LOD Matrix (DO NOT PRINT)'!M50)","v":""},{"$f":"IF($A50=0,\"\",'LOD Matrix (DO NOT PRINT)'!N50)","v":""},{"$f":"IF($A50=0,\"\",IF('LOD Matrix (DO NOT PRINT)'!P50=TRUE,\"Yes\",\"No\"))","v":""}]
[{"$f":"IF(B51=\"Yes\",Table2[[#This Row],[Break Level]],0)","v":0},{"$f":"Table2[[#This Row],[Yes/No]]","v":"No"},null,null,{"$f":"IF($A51=0,\"\",Table2[[#This Row],[PTC DISCIPLINE]])","v":""},{"$f":"IF($A51=0,\"\",Table2[[#This Row],[ELEMENT]])","v":""},{"$f":"IF($A51=0,\"\",Table2[[#This Row],[LG&TSL]])","v":""},{"$f":"IF($A51=0,\"\",Table2[[#This Row],[DFV]])","v":""},{"$f":"IF($A51=0,\"\",Table2[[#This Row],[60%-OTS]])","v":""},{"$f":"IF($A51=0,\"\",Table2[[#This Row],[75%]])","v":""},{"$f":"IF($A51=0,\"\",Table2[[#This Row],[Pre-Final PS&E]])","v":""},{"$f":"IF($A51=0,\"\",Table2[[#This Row],[Final PS&E]])","v":""},{"$f":"IF($A51=0,\"\",'LOD Matrix (DO NOT PRINT)'!M51)","v":""},{"$f":"IF($A51=0,\"\",'LOD Matrix (DO NOT PRINT)'!N51)","v":""},{"$f":"IF($A51=0,\"\",IF('LOD Matrix (DO NOT PRINT)'!P51=TRUE,\"Yes\",\"No\"))","v":""}]
[{"$f":"IF(B52=\"Yes\",Table2[[#This Row],[Break Level]],0)","v":0},{"$f":"Table2[[#This Row],[Yes/No]]","v":"No"},null,null,{"$f":"IF($A52=0,\"\",Table2[[#This Row],[PTC DISCIPLINE]])","v":""},{"$f":"IF($A52=0,\"\",Table2[[#This Row],[ELEMENT]])","v":""},{"$f":"IF($A52=0,\"\",Table2[[#This Row],[LG&TSL]])","v":""},{"$f":"IF($A52=0,\"\",Table2[[#This Row],[DFV]])","v":""},{"$f":"IF($A52=0,\"\",Table2[[#This Row],[60%-OTS]])","v":""},{"$f":"IF($A52=0,\"\",Table2[[#This Row],[75%]])","v":""},{"$f":"IF($A52=0,\"\",Table2[[#This Row],[Pre-Final PS&E]])","v":""},{"$f":"IF($A52=0,\"\",Table2[[#This Row],[Final PS&E]])","v":""},{"$f":"IF($A52=0,\"\",'LOD Matrix (DO NOT PRINT)'!M52)","v":""},{"$f":"IF($A52=0,\"\",'LOD Matrix (DO NOT PRINT)'!N52)","v":""},{"$f":"IF($A52=0,\"\",IF('LOD Matrix (DO NOT PRINT)'!P52=TRUE,\"Yes\",\"No\"))","v":""}]
[{"$f":"IF(B53=\"Yes\",Table2[[#This Row],[Break Level]],0)","v":0},{"$f":"Table2[[#This Row],[Yes/No]]","v":"No"},null,null,{"$f":"IF($A53=0,\"\",Table2[[#This Row],[PTC DISCIPLINE]])","v":""},{"$f":"IF($A53=0,\"\",Table2[[#This Row],[ELEMENT]])","v":""},{"$f":"IF($A53=0,\"\",Table2[[#This Row],[LG&TSL]])","v":""},{"$f":"IF($A53=0,\"\",Table2[[#This Row],[DFV]])","v":""},{"$f":"IF($A53=0,\"\",Table2[[#This Row],[60%-OTS]])","v":""},{"$f":"IF($A53=0,\"\",Table2[[#This Row],[75%]])","v":""},{"$f":"IF($A53=0,\"\",Table2[[#This Row],[Pre-Final PS&E]])","v":""},{"$f":"IF($A53=0,\"\",Table2[[#This Row],[Final PS&E]])","v":""},{"$f":"IF($A53=0,\"\",'LOD Matrix (DO NOT PRINT)'!M53)","v":""},{"$f":"IF($A53=0,\"\",'LOD Matrix (DO NOT PRINT)'!N53)","v":""},{"$f":"IF($A53=0,\"\",IF('LOD Matrix (DO NOT PRINT)'!P53=TRUE,\"Yes\",\"No\"))","v":""}]
[{"$f":"IF(B54=\"Yes\",Table2[[#This Row],[Break Level]],0)","v":0},{"$f":"Table2[[#This Row],[Yes/No]]","v":"No"},null,null,{"$f":"IF($A54=0,\"\",Table2[[#This Row],[PTC DISCIPLINE]])","v":""},{"$f":"IF($A54=0,\"\",Table2[[#This Row],[ELEMENT]])","v":""},{"$f":"IF($A54=0,\"\",Table2[[#This Row],[LG&TSL]])","v":""},{"$f":"IF($A54=0,\"\",Table2[[#This Row],[DFV]])","v":""},{"$f":"IF($A54=0,\"\",Table2[[#This Row],[60%-OTS]])","v":""},{"$f":"IF($A54=0,\"\",Table2[[#This Row],[75%]])","v":""},{"$f":"IF($A54=0,\"\",Table2[[#This Row],[Pre-Final PS&E]])","v":""},{"$f":"IF($A54=0,\"\",Table2[[#This Row],[Final PS&E]])","v":""},{"$f":"IF($A54=0,\"\",'LOD Matrix (DO NOT PRINT)'!M54)","v":""},{"$f":"IF($A54=0,\"\",'LOD Matrix (DO NOT PRINT)'!N54)","v":""},{"$f":"IF($A54=0,\"\",IF('LOD Matrix (DO NOT PRINT)'!P54=TRUE,\"Yes\",\"No\"))","v":""}]
[{"$f":"IF(B55=\"Yes\",Table2[[#This Row],[Break Level]],0)","v":0},{"$f":"Table2[[#This Row],[Yes/No]]","v":"No"},null,null,{"$f":"IF($A55=0,\"\",Table2[[#This Row],[PTC DISCIPLINE]])","v":""},{"$f":"IF($A55=0,\"\",Table2[[#This Row],[ELEMENT]])","v":""},{"$f":"IF($A55=0,\"\",Table2[[#This Row],[LG&TSL]])","v":""},{"$f":"IF($A55=0,\"\",Table2[[#This Row],[DFV]])","v":""},{"$f":"IF($A55=0,\"\",Table2[[#This Row],[60%-OTS]])","v":""},{"$f":"IF($A55=0,\"\",Table2[[#This Row],[75%]])","v":""},{"$f":"IF($A55=0,\"\",Table2[[#This Row],[Pre-Final PS&E]])","v":""},{"$f":"IF($A55=0,\"\",Table2[[#This Row],[Final PS&E]])","v":""},{"$f":"IF($A55=0,\"\",'LOD Matrix (DO NOT PRINT)'!M55)","v":""},{"$f":"IF($A55=0,\"\",'LOD Matrix (DO NOT PRINT)'!N55)","v":""},{"$f":"IF($A55=0,\"\",IF('LOD Matrix (DO NOT PRINT)'!P55=TRUE,\"Yes\",\"No\"))","v":""}]
[{"$f":"IF(B56=\"Yes\",Table2[[#This Row],[Break Level]],0)","v":0},{"$f":"Table2[[#This Row],[Yes/No]]","v":"No"},null,null,{"$f":"IF($A56=0,\"\",Table2[[#This Row],[PTC DISCIPLINE]])","v":""},{"$f":"IF($A56=0,\"\",Table2[[#This Row],[ELEMENT]])","v":""},{"$f":"IF($A56=0,\"\",Table2[[#This Row],[LG&TSL]])","v":""},{"$f":"IF($A56=0,\"\",Table2[[#This Row],[DFV]])","v":""},{"$f":"IF($A56=0,\"\",Table2[[#This Row],[60%-OTS]])","v":""},{"$f":"IF($A56=0,\"\",Table2[[#This Row],[75%]])","v":""},{"$f":"IF($A56=0,\"\",Table2[[#This Row],[Pre-Final PS&E]])","v":""},{"$f":"IF($A56=0,\"\",Table2[[#This Row],[Final PS&E]])","v":""},{"$f":"IF($A56=0,\"\",'LOD Matrix (DO NOT PRINT)'!M56)","v":""},{"$f":"IF($A56=0,\"\",'LOD Matrix (DO NOT PRINT)'!N56)","v":""},{"$f":"IF($A56=0,\"\",IF('LOD Matrix (DO NOT PRINT)'!P56=TRUE,\"Yes\",\"No\"))","v":""}]
[{"$f":"IF(B57=\"Yes\",Table2[[#This Row],[Break Level]],0)","v":0},{"$f":"Table2[[#This Row],[Yes/No]]","v":"No"},null,null,{"$f":"IF($A57=0,\"\",Table2[[#This Row],[PTC DISCIPLINE]])","v":""},{"$f":"IF($A57=0,\"\",Table2[[#This Row],[ELEMENT]])","v":""},{"$f":"IF($A57=0,\"\",Table2[[#This Row],[LG&TSL]])","v":""},{"$f":"IF($A57=0,\"\",Table2[[#This Row],[DFV]])","v":""},{"$f":"IF($A57=0,\"\",Table2[[#This Row],[60%-OTS]])","v":""},{"$f":"IF($A57=0,\"\",Table2[[#This Row],[75%]])","v":""},{"$f":"IF($A57=0,\"\",Table2[[#This Row],[Pre-Final PS&E]])","v":""},{"$f":"IF($A57=0,\"\",Table2[[#This Row],[Final PS&E]])","v":""},{"$f":"IF($A57=0,\"\",'LOD Matrix (DO NOT PRINT)'!M57)","v":""},{"$f":"IF($A57=0,\"\",'LOD Matrix (DO NOT PRINT)'!N57)","v":""},{"$f":"IF($A57=0,\"\",IF('LOD Matrix (DO NOT PRINT)'!P57=TRUE,\"Yes\",\"No\"))","v":""}]
[{"$f":"IF(B58=\"Yes\",Table2[[#This Row],[Break Level]],0)","v":0},{"$f":"Table2[[#This Row],[Yes/No]]","v":"No"},null,null,{"$f":"IF($A58=0,\"\",Table2[[#This Row],[PTC DISCIPLINE]])","v":""},{"$f":"IF($A58=0,\"\",Table2[[#This Row],[ELEMENT]])","v":""},{"$f":"IF($A58=0,\"\",Table2[[#This Row],[LG&TSL]])","v":""},{"$f":"IF($A58=0,\"\",Table2[[#This Row],[DFV]])","v":""},{"$f":"IF($A58=0,\"\",Table2[[#This Row],[60%-OTS]])","v":""},{"$f":"IF($A58=0,\"\",Table2[[#This Row],[75%]])","v":""},{"$f":"IF($A58=0,\"\",Table2[[#This Row],[Pre-Final PS&E]])","v":""},{"$f":"IF($A58=0,\"\",Table2[[#This Row],[Final PS&E]])","v":""},{"$f":"IF($A58=0,\"\",'LOD Matrix (DO NOT PRINT)'!M58)","v":""},{"$f":"IF($A58=0,\"\",'LOD Matrix (DO NOT PRINT)'!N58)","v":""},{"$f":"IF($A58=0,\"\",IF('LOD Matrix (DO NOT PRINT)'!P58=TRUE,\"Yes\",\"No\"))","v":""}]
[{"$f":"IF(B59=\"Yes\",Table2[[#This Row],[Break Level]],0)","v":0},{"$f":"Table2[[#This Row],[Yes/No]]","v":"No"},null,null,{"$f":"IF($A59=0,\"\",Table2[[#This Row],[PTC DISCIPLINE]])","v":""},{"$f":"IF($A59=0,\"\",Table2[[#This Row],[ELEMENT]])","v":""},{"$f":"IF($A59=0,\"\",Table2[[#This Row],[LG&TSL]])","v":""},{"$f":"IF($A59=0,\"\",Table2[[#This Row],[DFV]])","v":""},{"$f":"IF($A59=0,\"\",Table2[[#This Row],[60%-OTS]])","v":""},{"$f":"IF($A59=0,\"\",Table2[[#This Row],[75%]])","v":""},{"$f":"IF($A59=0,\"\",Table2[[#This Row],[Pre-Final PS&E]])","v":""},{"$f":"IF($A59=0,\"\",Table2[[#This Row],[Final PS&E]])","v":""},{"$f":"IF($A59=0,\"\",'LOD Matrix (DO NOT PRINT)'!M59)","v":""},{"$f":"IF($A59=0,\"\",'LOD Matrix (DO NOT PRINT)'!N59)","v":""},{"$f":"IF($A59=0,\"\",IF('LOD Matrix (DO NOT PRINT)'!P59=TRUE,\"Yes\",\"No\"))","v":""}]
[{"$f":"IF(B60=\"Yes\",Table2[[#This Row],[Break Level]],0)","v":0},{"$f":"Table2[[#This Row],[Yes/No]]","v":"No"},null,null,{"$f":"IF($A60=0,\"\",Table2[[#This Row],[PTC DISCIPLINE]])","v":""},{"$f":"IF($A60=0,\"\",Table2[[#This Row],[ELEMENT]])","v":""},{"$f":"IF($A60=0,\"\",Table2[[#This Row],[LG&TSL]])","v":""},{"$f":"IF($A60=0,\"\",Table2[[#This Row],[DFV]])","v":""},{"$f":"IF($A60=0,\"\",Table2[[#This Row],[60%-OTS]])","v":""},{"$f":"IF($A60=0,\"\",Table2[[#This Row],[75%]])","v":""},{"$f":"IF($A60=0,\"\",Table2[[#This Row],[Pre-Final PS&E]])","v":""},{"$f":"IF($A60=0,\"\",Table2[[#This Row],[Final PS&E]])","v":""},{"$f":"IF($A60=0,\"\",'LOD Matrix (DO NOT PRINT)'!M60)","v":""},{"$f":"IF($A60=0,\"\",'LOD Matrix (DO NOT PRINT)'!N60)","v":""},{"$f":"IF($A60=0,\"\",IF('LOD Matrix (DO NOT PRINT)'!P60=TRUE,\"Yes\",\"No\"))","v":""}]
[{"$f":"IF(B61=\"Yes\",Table2[[#This Row],[Break Level]],0)","v":0},{"$f":"Table2[[#This Row],[Yes/No]]","v":"No"},null,null,{"$f":"IF($A61=0,\"\",Table2[[#This Row],[PTC DISCIPLINE]])","v":""},{"$f":"IF($A61=0,\"\",Table2[[#This Row],[ELEMENT]])","v":""},{"$f":"IF($A61=0,\"\",Table2[[#This Row],[LG&TSL]])","v":""},{"$f":"IF($A61=0,\"\",Table2[[#This Row],[DFV]])","v":""},{"$f":"IF($A61=0,\"\",Table2[[#This Row],[60%-OTS]])","v":""},{"$f":"IF($A61=0,\"\",Table2[[#This Row],[75%]])","v":""},{"$f":"IF($A61=0,\"\",Table2[[#This Row],[Pre-Final PS&E]])","v":""},{"$f":"IF($A61=0,\"\",Table2[[#This Row],[Final PS&E]])","v":""},{"$f":"IF($A61=0,\"\",'LOD Matrix (DO NOT PRINT)'!M61)","v":""},{"$f":"IF($A61=0,\"\",'LOD Matrix (DO NOT PRINT)'!N61)","v":""},{"$f":"IF($A61=0,\"\",IF('LOD Matrix (DO NOT PRINT)'!P61=TRUE,\"Yes\",\"No\"))","v":""}]
[{"$f":"IF(B62=\"Yes\",Table2[[#This Row],[Break Level]],0)","v":0},{"$f":"Table2[[#This Row],[Yes/No]]","v":"No"},null,null,{"$f":"IF($A62=0,\"\",Table2[[#This Row],[PTC DISCIPLINE]])","v":""},{"$f":"IF($A62=0,\"\",Table2[[#This Row],[ELEMENT]])","v":""},{"$f":"IF($A62=0,\"\",Table2[[#This Row],[LG&TSL]])","v":""},{"$f":"IF($A62=0,\"\",Table2[[#This Row],[DFV]])","v":""},{"$f":"IF($A62=0,\"\",Table2[[#This Row],[60%-OTS]])","v":""},{"$f":"IF($A62=0,\"\",Table2[[#This Row],[75%]])","v":""},{"$f":"IF($A62=0,\"\",Table2[[#This Row],[Pre-Final PS&E]])","v":""},{"$f":"IF($A62=0,\"\",Table2[[#This Row],[Final PS&E]])","v":""},{"$f":"IF($A62=0,\"\",'LOD Matrix (DO NOT PRINT)'!M62)","v":""},{"$f":"IF($A62=0,\"\",'LOD Matrix (DO NOT PRINT)'!N62)","v":""},{"$f":"IF($A62=0,\"\",IF('LOD Matrix (DO NOT PRINT)'!P62=TRUE,\"Yes\",\"No\"))","v":""}]
[{"$f":"IF(B63=\"Yes\",Table2[[#This Row],[Break Level]],0)","v":0},{"$f":"Table2[[#This Row],[Yes/No]]","v":"No"},null,null,{"$f":"IF($A63=0,\"\",Table2[[#This Row],[PTC DISCIPLINE]])","v":""},{"$f":"IF($A63=0,\"\",Table2[[#This Row],[ELEMENT]])","v":""},{"$f":"IF($A63=0,\"\",Table2[[#This Row],[LG&TSL]])","v":""},{"$f":"IF($A63=0,\"\",Table2[[#This Row],[DFV]])","v":""},{"$f":"IF($A63=0,\"\",Table2[[#This Row],[60%-OTS]])","v":""},{"$f":"IF($A63=0,\"\",Table2[[#This Row],[75%]])","v":""},{"$f":"IF($A63=0,\"\",Table2[[#This Row],[Pre-Final PS&E]])","v":""},{"$f":"IF($A63=0,\"\",Table2[[#This Row],[Final PS&E]])","v":""},{"$f":"IF($A63=0,\"\",'LOD Matrix (DO NOT PRINT)'!M63)","v":""},{"$f":"IF($A63=0,\"\",'LOD Matrix (DO NOT PRINT)'!N63)","v":""},{"$f":"IF($A63=0,\"\",IF('LOD Matrix (DO NOT PRINT)'!P63=TRUE,\"Yes\",\"No\"))","v":""}]
[{"$f":"IF(B64=\"Yes\",Table2[[#This Row],[Break Level]],0)","v":0},{"$f":"Table2[[#This Row],[Yes/No]]","v":"No"},null,null,{"$f":"IF($A64=0,\"\",Table2[[#This Row],[PTC DISCIPLINE]])","v":""},{"$f":"IF($A64=0,\"\",Table2[[#This Row],[ELEMENT]])","v":""},{"$f":"IF($A64=0,\"\",Table2[[#This Row],[LG&TSL]])","v":""},{"$f":"IF($A64=0,\"\",Table2[[#This Row],[DFV]])","v":""},{"$f":"IF($A64=0,\"\",Table2[[#This Row],[60%-OTS]])","v":""},{"$f":"IF($A64=0,\"\",Table2[[#This Row],[75%]])","v":""},{"$f":"IF($A64=0,\"\",Table2[[#This Row],[Pre-Final PS&E]])","v":""},{"$f":"IF($A64=0,\"\",Table2[[#This Row],[Final PS&E]])","v":""},{"$f":"IF($A64=0,\"\",'LOD Matrix (DO NOT PRINT)'!M64)","v":""},{"$f":"IF($A64=0,\"\",'LOD Matrix (DO NOT PRINT)'!N64)","v":""},{"$f":"IF($A64=0,\"\",IF('LOD Matrix (DO NOT PRINT)'!P64=TRUE,\"Yes\",\"No\"))","v":""}]
[{"$f":"IF(B65=\"Yes\",Table2[[#This Row],[Break Level]],0)","v":0},{"$f":"Table2[[#This Row],[Yes/No]]","v":"No"},null,null,{"$f":"IF($A65=0,\"\",Table2[[#This Row],[PTC DISCIPLINE]])","v":""},{"$f":"IF($A65=0,\"\",Table2[[#This Row],[ELEMENT]])","v":""},{"$f":"IF($A65=0,\"\",Table2[[#This Row],[LG&TSL]])","v":""},{"$f":"IF($A65=0,\"\",Table2[[#This Row],[DFV]])","v":""},{"$f":"IF($A65=0,\"\",Table2[[#This Row],[60%-OTS]])","v":""},{"$f":"IF($A65=0,\"\",Table2[[#This Row],[75%]])","v":""},{"$f":"IF($A65=0,\"\",Table2[[#This Row],[Pre-Final PS&E]])","v":""},{"$f":"IF($A65=0,\"\",Table2[[#This Row],[Final PS&E]])","v":""},{"$f":"IF($A65=0,\"\",'LOD Matrix (DO NOT PRINT)'!M65)","v":""},{"$f":"IF($A65=0,\"\",'LOD Matrix (DO NOT PRINT)'!N65)","v":""},{"$f":"IF($A65=0,\"\",IF('LOD Matrix (DO NOT PRINT)'!P65=TRUE,\"Yes\",\"No\"))","v":""}]
[{"$f":"IF(B66=\"Yes\",Table2[[#This Row],[Break Level]],0)","v":0},{"$f":"Table2[[#This Row],[Yes/No]]","v":"No"},null,null,{"$f":"IF($A66=0,\"\",Table2[[#This Row],[PTC DISCIPLINE]])","v":""},{"$f":"IF($A66=0,\"\",Table2[[#This Row],[ELEMENT]])","v":""},{"$f":"IF($A66=0,\"\",Table2[[#This Row],[LG&TSL]])","v":""},{"$f":"IF($A66=0,\"\",Table2[[#This Row],[DFV]])","v":""},{"$f":"IF($A66=0,\"\",Table2[[#This Row],[60%-OTS]])","v":""},{"$f":"IF($A66=0,\"\",Table2[[#This Row],[75%]])","v":""},{"$f":"IF($A66=0,\"\",Table2[[#This Row],[Pre-Final PS&E]])","v":""},{"$f":"IF($A66=0,\"\",Table2[[#This Row],[Final PS&E]])","v":""},{"$f":"IF($A66=0,\"\",'LOD Matrix (DO NOT PRINT)'!M66)","v":""},{"$f":"IF($A66=0,\"\",'LOD Matrix (DO NOT PRINT)'!N66)","v":""},{"$f":"IF($A66=0,\"\",IF('LOD Matrix (DO NOT PRINT)'!P66=TRUE,\"Yes\",\"No\"))","v":""}]
[{"$f":"IF(B67=\"Yes\",Table2[[#This Row],[Break Level]],0)","v":0},{"$f":"Table2[[#This Row],[Yes/No]]","v":"No"},null,null,{"$f":"IF($A67=0,\"\",Table2[[#This Row],[PTC DISCIPLINE]])","v":""},{"$f":"IF($A67=0,\"\",Table2[[#This Row],[ELEMENT]])","v":""},{"$f":"IF($A67=0,\"\",Table2[[#This Row],[LG&TSL]])","v":""},{"$f":"IF($A67=0,\"\",Table2[[#This Row],[DFV]])","v":""},{"$f":"IF($A67=0,\"\",Table2[[#This Row],[60%-OTS]])","v":""},{"$f":"IF($A67=0,\"\",Table2[[#This Row],[75%]])","v":""},{"$f":"IF($A67=0,\"\",Table2[[#This Row],[Pre-Final PS&E]])","v":""},{"$f":"IF($A67=0,\"\",Table2[[#This Row],[Final PS&E]])","v":""},{"$f":"IF($A67=0,\"\",'LOD Matrix (DO NOT PRINT)'!M67)","v":""},{"$f":"IF($A67=0,\"\",'LOD Matrix (DO NOT PRINT)'!N67)","v":""},{"$f":"IF($A67=0,\"\",IF('LOD Matrix (DO NOT PRINT)'!P67=TRUE,\"Yes\",\"No\"))","v":""}]
[{"$f":"IF(B68=\"Yes\",Table2[[#This Row],[Break Level]],0)","v":0},{"$f":"Table2[[#This Row],[Yes/No]]","v":"No"},null,null,{"$f":"IF($A68=0,\"\",Table2[[#This Row],[PTC DISCIPLINE]])","v":""},{"$f":"IF($A68=0,\"\",Table2[[#This Row],[ELEMENT]])","v":""},{"$f":"IF($A68=0,\"\",Table2[[#This Row],[LG&TSL]])","v":""},{"$f":"IF($A68=0,\"\",Table2[[#This Row],[DFV]])","v":""},{"$f":"IF($A68=0,\"\",Table2[[#This Row],[60%-OTS]])","v":""},{"$f":"IF($A68=0,\"\",Table2[[#This Row],[75%]])","v":""},{"$f":"IF($A68=0,\"\",Table2[[#This Row],[Pre-Final PS&E]])","v":""},{"$f":"IF($A68=0,\"\",Table2[[#This Row],[Final PS&E]])","v":""},{"$f":"IF($A68=0,\"\",'LOD Matrix (DO NOT PRINT)'!M68)","v":""},{"$f":"IF($A68=0,\"\",'LOD Matrix (DO NOT PRINT)'!N68)","v":""},{"$f":"IF($A68=0,\"\",IF('LOD Matrix (DO NOT PRINT)'!P68=TRUE,\"Yes\",\"No\"))","v":""}]
[{"$f":"IF(B69=\"Yes\",Table2[[#This Row],[Break Level]],0)","v":0},{"$f":"Table2[[#This Row],[Yes/No]]","v":"No"},null,null,{"$f":"IF($A69=0,\"\",Table2[[#This Row],[PTC DISCIPLINE]])","v":""},{"$f":"IF($A69=0,\"\",Table2[[#This Row],[ELEMENT]])","v":""},{"$f":"IF($A69=0,\"\",Table2[[#This Row],[LG&TSL]])","v":""},{"$f":"IF($A69=0,\"\",Table2[[#This Row],[DFV]])","v":""},{"$f":"IF($A69=0,\"\",Table2[[#This Row],[60%-OTS]])","v":""},{"$f":"IF($A69=0,\"\",Table2[[#This Row],[75%]])","v":""},{"$f":"IF($A69=0,\"\",Table2[[#This Row],[Pre-Final PS&E]])","v":""},{"$f":"IF($A69=0,\"\",Table2[[#This Row],[Final PS&E]])","v":""},{"$f":"IF($A69=0,\"\",'LOD Matrix (DO NOT PRINT)'!M69)","v":""},{"$f":"IF($A69=0,\"\",'LOD Matrix (DO NOT PRINT)'!N69)","v":""},{"$f":"IF($A69=0,\"\",IF('LOD Matrix (DO NOT PRINT)'!P69=TRUE,\"Yes\",\"No\"))","v":""}]
[{"$f":"IF(B70=\"Yes\",Table2[[#This Row],[Break Level]],0)","v":0},{"$f":"Table2[[#This Row],[Yes/No]]","v":"No"},null,null,{"$f":"IF($A70=0,\"\",Table2[[#This Row],[PTC DISCIPLINE]])","v":""},{"$f":"IF($A70=0,\"\",Table2[[#This Row],[ELEMENT]])","v":""},{"$f":"IF($A70=0,\"\",Table2[[#This Row],[LG&TSL]])","v":""},{"$f":"IF($A70=0,\"\",Table2[[#This Row],[DFV]])","v":""},{"$f":"IF($A70=0,\"\",Table2[[#This Row],[60%-OTS]])","v":""},{"$f":"IF($A70=0,\"\",Table2[[#This Row],[75%]])","v":""},{"$f":"IF($A70=0,\"\",Table2[[#This Row],[Pre-Final PS&E]])","v":""},{"$f":"IF($A70=0,\"\",Table2[[#This Row],[Final PS&E]])","v":""},{"$f":"IF($A70=0,\"\",'LOD Matrix (DO NOT PRINT)'!M70)","v":""},{"$f":"IF($A70=0,\"\",'LOD Matrix (DO NOT PRINT)'!N70)","v":""},{"$f":"IF($A70=0,\"\",IF('LOD Matrix (DO NOT PRINT)'!P70=TRUE,\"Yes\",\"No\"))","v":""}]
[{"$f":"IF(B71=\"Yes\",Table2[[#This Row],[Break Level]],0)","v":0},{"$f":"Table2[[#This Row],[Yes/No]]","v":"No"},null,null,{"$f":"IF($A71=0,\"\",Table2[[#This Row],[PTC DISCIPLINE]])","v":""},{"$f":"IF($A71=0,\"\",Table2[[#This Row],[ELEMENT]])","v":""},{"$f":"IF($A71=0,\"\",Table2[[#This Row],[LG&TSL]])","v":""},{"$f":"IF($A71=0,\"\",Table2[[#This Row],[DFV]])","v":""},{"$f":"IF($A71=0,\"\",Table2[[#This Row],[60%-OTS]])","v":""},{"$f":"IF($A71=0,\"\",Table2[[#This Row],[75%]])","v":""},{"$f":"IF($A71=0,\"\",Table2[[#This Row],[Pre-Final PS&E]])","v":""},{"$f":"IF($A71=0,\"\",Table2[[#This Row],[Final PS&E]])","v":""},{"$f":"IF($A71=0,\"\",'LOD Matrix (DO NOT PRINT)'!M71)","v":""},{"$f":"IF($A71=0,\"\",'LOD Matrix (DO NOT PRINT)'!N71)","v":""},{"$f":"IF($A71=0,\"\",IF('LOD Matrix (DO NOT PRINT)'!P71=TRUE,\"Yes\",\"No\"))","v":""}]
[{"$f":"IF(B72=\"Yes\",Table2[[#This Row],[Break Level]],0)","v":0},{"$f":"Table2[[#This Row],[Yes/No]]","v":"No"},null,null,{"$f":"IF($A72=0,\"\",Table2[[#This Row],[PTC DISCIPLINE]])","v":""},{"$f":"IF($A72=0,\"\",Table2[[#This Row],[ELEMENT]])","v":""},{"$f":"IF($A72=0,\"\",Table2[[#This Row],[LG&TSL]])","v":""},{"$f":"IF($A72=0,\"\",Table2[[#This Row],[DFV]])","v":""},{"$f":"IF($A72=0,\"\",Table2[[#This Row],[60%-OTS]])","v":""},{"$f":"IF($A72=0,\"\",Table2[[#This Row],[75%]])","v":""},{"$f":"IF($A72=0,\"\",Table2[[#This Row],[Pre-Final PS&E]])","v":""},{"$f":"IF($A72=0,\"\",Table2[[#This Row],[Final PS&E]])","v":""},{"$f":"IF($A72=0,\"\",'LOD Matrix (DO NOT PRINT)'!M72)","v":""},{"$f":"IF($A72=0,\"\",'LOD Matrix (DO NOT PRINT)'!N72)","v":""},{"$f":"IF($A72=0,\"\",IF('LOD Matrix (DO NOT PRINT)'!P72=TRUE,\"Yes\",\"No\"))","v":""}]
[{"$f":"IF(B73=\"Yes\",Table2[[#This Row],[Break Level]],0)","v":0},{"$f":"Table2[[#This Row],[Yes/No]]","v":"No"},null,null,{"$f":"IF($A73=0,\"\",Table2[[#This Row],[PTC DISCIPLINE]])","v":""},{"$f":"IF($A73=0,\"\",Table2[[#This Row],[ELEMENT]])","v":""},{"$f":"IF($A73=0,\"\",Table2[[#This Row],[LG&TSL]])","v":""},{"$f":"IF($A73=0,\"\",Table2[[#This Row],[DFV]])","v":""},{"$f":"IF($A73=0,\"\",Table2[[#This Row],[60%-OTS]])","v":""},{"$f":"IF($A73=0,\"\",Table2[[#This Row],[75%]])","v":""},{"$f":"IF($A73=0,\"\",Table2[[#This Row],[Pre-Final PS&E]])","v":""},{"$f":"IF($A73=0,\"\",Table2[[#This Row],[Final PS&E]])","v":""},{"$f":"IF($A73=0,\"\",'LOD Matrix (DO NOT PRINT)'!M73)","v":""},{"$f":"IF($A73=0,\"\",'LOD Matrix (DO NOT PRINT)'!N73)","v":""},{"$f":"IF($A73=0,\"\",IF('LOD Matrix (DO NOT PRINT)'!P73=TRUE,\"Yes\",\"No\"))","v":""}]
[{"$f":"IF(B74=\"Yes\",Table2[[#This Row],[Break Level]],0)","v":0},{"$f":"Table2[[#This Row],[Yes/No]]","v":"No"},null,null,{"$f":"IF($A74=0,\"\",Table2[[#This Row],[PTC DISCIPLINE]])","v":""},{"$f":"IF($A74=0,\"\",Table2[[#This Row],[ELEMENT]])","v":""},{"$f":"IF($A74=0,\"\",Table2[[#This Row],[LG&TSL]])","v":""},{"$f":"IF($A74=0,\"\",Table2[[#This Row],[DFV]])","v":""},{"$f":"IF($A74=0,\"\",Table2[[#This Row],[60%-OTS]])","v":""},{"$f":"IF($A74=0,\"\",Table2[[#This Row],[75%]])","v":""},{"$f":"IF($A74=0,\"\",Table2[[#This Row],[Pre-Final PS&E]])","v":""},{"$f":"IF($A74=0,\"\",Table2[[#This Row],[Final PS&E]])","v":""},{"$f":"IF($A74=0,\"\",'LOD Matrix (DO NOT PRINT)'!M74)","v":""},{"$f":"IF($A74=0,\"\",'LOD Matrix (DO NOT PRINT)'!N74)","v":""},{"$f":"IF($A74=0,\"\",IF('LOD Matrix (DO NOT PRINT)'!P74=TRUE,\"Yes\",\"No\"))","v":""}]
[{"$f":"IF(B75=\"Yes\",Table2[[#This Row],[Break Level]],0)","v":0},{"$f":"Table2[[#This Row],[Yes/No]]","v":"No"},null,null,{"$f":"IF($A75=0,\"\",Table2[[#This Row],[PTC DISCIPLINE]])","v":""},{"$f":"IF($A75=0,\"\",Table2[[#This Row],[ELEMENT]])","v":""},{"$f":"IF($A75=0,\"\",Table2[[#This Row],[LG&TSL]])","v":""},{"$f":"IF($A75=0,\"\",Table2[[#This Row],[DFV]])","v":""},{"$f":"IF($A75=0,\"\",Table2[[#This Row],[60%-OTS]])","v":""},{"$f":"IF($A75=0,\"\",Table2[[#This Row],[75%]])","v":""},{"$f":"IF($A75=0,\"\",Table2[[#This Row],[Pre-Final PS&E]])","v":""},{"$f":"IF($A75=0,\"\",Table2[[#This Row],[Final PS&E]])","v":""},{"$f":"IF($A75=0,\"\",'LOD Matrix (DO NOT PRINT)'!M75)","v":""},{"$f":"IF($A75=0,\"\",'LOD Matrix (DO NOT PRINT)'!N75)","v":""},{"$f":"IF($A75=0,\"\",IF('LOD Matrix (DO NOT PRINT)'!P75=TRUE,\"Yes\",\"No\"))","v":""}]
[{"$f":"IF(B76=\"Yes\",Table2[[#This Row],[Break Level]],0)","v":0},{"$f":"Table2[[#This Row],[Yes/No]]","v":"No"},null,null,{"$f":"IF($A76=0,\"\",Table2[[#This Row],[PTC DISCIPLINE]])","v":""},{"$f":"IF($A76=0,\"\",Table2[[#This Row],[ELEMENT]])","v":""},{"$f":"IF($A76=0,\"\",Table2[[#This Row],[LG&TSL]])","v":""},{"$f":"IF($A76=0,\"\",Table2[[#This Row],[DFV]])","v":""},{"$f":"IF($A76=0,\"\",Table2[[#This Row],[60%-OTS]])","v":""},{"$f":"IF($A76=0,\"\",Table2[[#This Row],[75%]])","v":""},{"$f":"IF($A76=0,\"\",Table2[[#This Row],[Pre-Final PS&E]])","v":""},{"$f":"IF($A76=0,\"\",Table2[[#This Row],[Final PS&E]])","v":""},{"$f":"IF($A76=0,\"\",'LOD Matrix (DO NOT PRINT)'!M76)","v":""},{"$f":"IF($A76=0,\"\",'LOD Matrix (DO NOT PRINT)'!N76)","v":""},{"$f":"IF($A76=0,\"\",IF('LOD Matrix (DO NOT PRINT)'!P76=TRUE,\"Yes\",\"No\"))","v":""}]
[{"$f":"IF(B77=\"Yes\",Table2[[#This Row],[Break Level]],0)","v":0},{"$f":"Table2[[#This Row],[Yes/No]]","v":"No"},null,null,{"$f":"IF($A77=0,\"\",Table2[[#This Row],[PTC DISCIPLINE]])","v":""},{"$f":"IF($A77=0,\"\",Table2[[#This Row],[ELEMENT]])","v":""},{"$f":"IF($A77=0,\"\",Table2[[#This Row],[LG&TSL]])","v":""},{"$f":"IF($A77=0,\"\",Table2[[#This Row],[DFV]])","v":""},{"$f":"IF($A77=0,\"\",Table2[[#This Row],[60%-OTS]])","v":""},{"$f":"IF($A77=0,\"\",Table2[[#This Row],[75%]])","v":""},{"$f":"IF($A77=0,\"\",Table2[[#This Row],[Pre-Final PS&E]])","v":""},{"$f":"IF($A77=0,\"\",Table2[[#This Row],[Final PS&E]])","v":""},{"$f":"IF($A77=0,\"\",'LOD Matrix (DO NOT PRINT)'!M77)","v":""},{"$f":"IF($A77=0,\"\",'LOD Matrix (DO NOT PRINT)'!N77)","v":""},{"$f":"IF($A77=0,\"\",IF('LOD Matrix (DO NOT PRINT)'!P77=TRUE,\"Yes\",\"No\"))","v":""}]
[{"$f":"IF(B78=\"Yes\",Table2[[#This Row],[Break Level]],0)","v":0},{"$f":"Table2[[#This Row],[Yes/No]]","v":"No"},null,null,{"$f":"IF($A78=0,\"\",Table2[[#This Row],[PTC DISCIPLINE]])","v":""},{"$f":"IF($A78=0,\"\",Table2[[#This Row],[ELEMENT]])","v":""},{"$f":"IF($A78=0,\"\",Table2[[#This Row],[LG&TSL]])","v":""},{"$f":"IF($A78=0,\"\",Table2[[#This Row],[DFV]])","v":""},{"$f":"IF($A78=0,\"\",Table2[[#This Row],[60%-OTS]])","v":""},{"$f":"IF($A78=0,\"\",Table2[[#This Row],[75%]])","v":""},{"$f":"IF($A78=0,\"\",Table2[[#This Row],[Pre-Final PS&E]])","v":""},{"$f":"IF($A78=0,\"\",Table2[[#This Row],[Final PS&E]])","v":""},{"$f":"IF($A78=0,\"\",'LOD Matrix (DO NOT PRINT)'!M78)","v":""},{"$f":"IF($A78=0,\"\",'LOD Matrix (DO NOT PRINT)'!N78)","v":""},{"$f":"IF($A78=0,\"\",IF('LOD Matrix (DO NOT PRINT)'!P78=TRUE,\"Yes\",\"No\"))","v":""}]
[{"$f":"IF(B79=\"Yes\",Table2[[#This Row],[Break Level]],0)","v":0},{"$f":"Table2[[#This Row],[Yes/No]]","v":"No"},null,null,{"$f":"IF($A79=0,\"\",Table2[[#This Row],[PTC DISCIPLINE]])","v":""},{"$f":"IF($A79=0,\"\",Table2[[#This Row],[ELEMENT]])","v":""},{"$f":"IF($A79=0,\"\",Table2[[#This Row],[LG&TSL]])","v":""},{"$f":"IF($A79=0,\"\",Table2[[#This Row],[DFV]])","v":""},{"$f":"IF($A79=0,\"\",Table2[[#This Row],[60%-OTS]])","v":""},{"$f":"IF($A79=0,\"\",Table2[[#This Row],[75%]])","v":""},{"$f":"IF($A79=0,\"\",Table2[[#This Row],[Pre-Final PS&E]])","v":""},{"$f":"IF($A79=0,\"\",Table2[[#This Row],[Final PS&E]])","v":""},{"$f":"IF($A79=0,\"\",'LOD Matrix (DO NOT PRINT)'!M79)","v":""},{"$f":"IF($A79=0,\"\",'LOD Matrix (DO NOT PRINT)'!N79)","v":""},{"$f":"IF($A79=0,\"\",IF('LOD Matrix (DO NOT PRINT)'!P79=TRUE,\"Yes\",\"No\"))","v":""}]
[{"$f":"IF(B80=\"Yes\",Table2[[#This Row],[Break Level]],0)","v":0},{"$f":"Table2[[#This Row],[Yes/No]]","v":"No"},null,null,{"$f":"IF($A80=0,\"\",Table2[[#This Row],[PTC DISCIPLINE]])","v":""},{"$f":"IF($A80=0,\"\",Table2[[#This Row],[ELEMENT]])","v":""},{"$f":"IF($A80=0,\"\",Table2[[#This Row],[LG&TSL]])","v":""},{"$f":"IF($A80=0,\"\",Table2[[#This Row],[DFV]])","v":""},{"$f":"IF($A80=0,\"\",Table2[[#This Row],[60%-OTS]])","v":""},{"$f":"IF($A80=0,\"\",Table2[[#This Row],[75%]])","v":""},{"$f":"IF($A80=0,\"\",Table2[[#This Row],[Pre-Final PS&E]])","v":""},{"$f":"IF($A80=0,\"\",Table2[[#This Row],[Final PS&E]])","v":""},{"$f":"IF($A80=0,\"\",'LOD Matrix (DO NOT PRINT)'!M80)","v":""},{"$f":"IF($A80=0,\"\",'LOD Matrix (DO NOT PRINT)'!N80)","v":""},{"$f":"IF($A80=0,\"\",IF('LOD Matrix (DO NOT PRINT)'!P80=TRUE,\"Yes\",\"No\"))","v":""}]
[{"$f":"IF(B81=\"Yes\",Table2[[#This Row],[Break Level]],0)","v":0},{"$f":"Table2[[#This Row],[Yes/No]]","v":"No"},null,null,{"$f":"IF($A81=0,\"\",Table2[[#This Row],[PTC DISCIPLINE]])","v":""},{"$f":"IF($A81=0,\"\",Table2[[#This Row],[ELEMENT]])","v":""},{"$f":"IF($A81=0,\"\",Table2[[#This Row],[LG&TSL]])","v":""},{"$f":"IF($A81=0,\"\",Table2[[#This Row],[DFV]])","v":""},{"$f":"IF($A81=0,\"\",Table2[[#This Row],[60%-OTS]])","v":""},{"$f":"IF($A81=0,\"\",Table2[[#This Row],[75%]])","v":""},{"$f":"IF($A81=0,\"\",Table2[[#This Row],[Pre-Final PS&E]])","v":""},{"$f":"IF($A81=0,\"\",Table2[[#This Row],[Final PS&E]])","v":""},{"$f":"IF($A81=0,\"\",'LOD Matrix (DO NOT PRINT)'!M81)","v":""},{"$f":"IF($A81=0,\"\",'LOD Matrix (DO NOT PRINT)'!N81)","v":""},{"$f":"IF($A81=0,\"\",IF('LOD Matrix (DO NOT PRINT)'!P81=TRUE,\"Yes\",\"No\"))","v":""}]
[{"$f":"IF(B82=\"Yes\",Table2[[#This Row],[Break Level]],0)","v":0},{"$f":"Table2[[#This Row],[Yes/No]]","v":"No"},null,null,{"$f":"IF($A82=0,\"\",Table2[[#This Row],[PTC DISCIPLINE]])","v":""},{"$f":"IF($A82=0,\"\",Table2[[#This Row],[ELEMENT]])","v":""},{"$f":"IF($A82=0,\"\",Table2[[#This Row],[LG&TSL]])","v":""},{"$f":"IF($A82=0,\"\",Table2[[#This Row],[DFV]])","v":""},{"$f":"IF($A82=0,\"\",Table2[[#This Row],[60%-OTS]])","v":""},{"$f":"IF($A82=0,\"\",Table2[[#This Row],[75%]])","v":""},{"$f":"IF($A82=0,\"\",Table2[[#This Row],[Pre-Final PS&E]])","v":""},{"$f":"IF($A82=0,\"\",Table2[[#This Row],[Final PS&E]])","v":""},{"$f":"IF($A82=0,\"\",'LOD Matrix (DO NOT PRINT)'!M82)","v":""},{"$f":"IF($A82=0,\"\",'LOD Matrix (DO NOT PRINT)'!N82)","v":""},{"$f":"IF($A82=0,\"\",IF('LOD Matrix (DO NOT PRINT)'!P82=TRUE,\"Yes\",\"No\"))","v":""}]
[{"$f":"IF(B83=\"Yes\",Table2[[#This Row],[Break Level]],0)","v":0},{"$f":"Table2[[#This Row],[Yes/No]]","v":"No"},null,null,{"$f":"IF($A83=0,\"\",Table2[[#This Row],[PTC DISCIPLINE]])","v":""},{"$f":"IF($A83=0,\"\",Table2[[#This Row],[ELEMENT]])","v":""},{"$f":"IF($A83=0,\"\",Table2[[#This Row],[LG&TSL]])","v":""},{"$f":"IF($A83=0,\"\",Table2[[#This Row],[DFV]])","v":""},{"$f":"IF($A83=0,\"\",Table2[[#This Row],[60%-OTS]])","v":""},{"$f":"IF($A83=0,\"\",Table2[[#This Row],[75%]])","v":""},{"$f":"IF($A83=0,\"\",Table2[[#This Row],[Pre-Final PS&E]])","v":""},{"$f":"IF($A83=0,\"\",Table2[[#This Row],[Final PS&E]])","v":""},{"$f":"IF($A83=0,\"\",'LOD Matrix (DO NOT PRINT)'!M83)","v":""},{"$f":"IF($A83=0,\"\",'LOD Matrix (DO NOT PRINT)'!N83)","v":""},{"$f":"IF($A83=0,\"\",IF('LOD Matrix (DO NOT PRINT)'!P83=TRUE,\"Yes\",\"No\"))","v":""}]
[{"$f":"IF(B84=\"Yes\",Table2[[#This Row],[Break Level]],0)","v":0},{"$f":"Table2[[#This Row],[Yes/No]]","v":"No"},null,null,{"$f":"IF($A84=0,\"\",Table2[[#This Row],[PTC DISCIPLINE]])","v":""},{"$f":"IF($A84=0,\"\",Table2[[#This Row],[ELEMENT]])","v":""},{"$f":"IF($A84=0,\"\",Table2[[#This Row],[LG&TSL]])","v":""},{"$f":"IF($A84=0,\"\",Table2[[#This Row],[DFV]])","v":""},{"$f":"IF($A84=0,\"\",Table2[[#This Row],[60%-OTS]])","v":""},{"$f":"IF($A84=0,\"\",Table2[[#This Row],[75%]])","v":""},{"$f":"IF($A84=0,\"\",Table2[[#This Row],[Pre-Final PS&E]])","v":""},{"$f":"IF($A84=0,\"\",Table2[[#This Row],[Final PS&E]])","v":""},{"$f":"IF($A84=0,\"\",'LOD Matrix (DO NOT PRINT)'!M84)","v":""},{"$f":"IF($A84=0,\"\",'LOD Matrix (DO NOT PRINT)'!N84)","v":""},{"$f":"IF($A84=0,\"\",IF('LOD Matrix (DO NOT PRINT)'!P84=TRUE,\"Yes\",\"No\"))","v":""}]
[{"$f":"IF(B85=\"Yes\",Table2[[#This Row],[Break Level]],0)","v":0},{"$f":"Table2[[#This Row],[Yes/No]]","v":"No"},null,null,{"$f":"IF($A85=0,\"\",Table2[[#This Row],[PTC DISCIPLINE]])","v":""},{"$f":"IF($A85=0,\"\",Table2[[#This Row],[ELEMENT]])","v":""},{"$f":"IF($A85=0,\"\",Table2[[#This Row],[LG&TSL]])","v":""},{"$f":"IF($A85=0,\"\",Table2[[#This Row],[DFV]])","v":""},{"$f":"IF($A85=0,\"\",Table2[[#This Row],[60%-OTS]])","v":""},{"$f":"IF($A85=0,\"\",Table2[[#This Row],[75%]])","v":""},{"$f":"IF($A85=0,\"\",Table2[[#This Row],[Pre-Final PS&E]])","v":""},{"$f":"IF($A85=0,\"\",Table2[[#This Row],[Final PS&E]])","v":""},{"$f":"IF($A85=0,\"\",'LOD Matrix (DO NOT PRINT)'!M85)","v":""},{"$f":"IF($A85=0,\"\",'LOD Matrix (DO NOT PRINT)'!N85)","v":""},{"$f":"IF($A85=0,\"\",IF('LOD Matrix (DO NOT PRINT)'!P85=TRUE,\"Yes\",\"No\"))","v":""}]
[{"$f":"IF(B86=\"Yes\",Table2[[#This Row],[Break Level]],0)","v":0},{"$f":"Table2[[#This Row],[Yes/No]]","v":"No"},null,null,{"$f":"IF($A86=0,\"\",Table2[[#This Row],[PTC DISCIPLINE]])","v":""},{"$f":"IF($A86=0,\"\",Table2[[#This Row],[ELEMENT]])","v":""},{"$f":"IF($A86=0,\"\",Table2[[#This Row],[LG&TSL]])","v":""},{"$f":"IF($A86=0,\"\",Table2[[#This Row],[DFV]])","v":""},{"$f":"IF($A86=0,\"\",Table2[[#This Row],[60%-OTS]])","v":""},{"$f":"IF($A86=0,\"\",Table2[[#This Row],[75%]])","v":""},{"$f":"IF($A86=0,\"\",Table2[[#This Row],[Pre-Final PS&E]])","v":""},{"$f":"IF($A86=0,\"\",Table2[[#This Row],[Final PS&E]])","v":""},{"$f":"IF($A86=0,\"\",'LOD Matrix (DO NOT PRINT)'!M86)","v":""},{"$f":"IF($A86=0,\"\",'LOD Matrix (DO NOT PRINT)'!N86)","v":""},{"$f":"IF($A86=0,\"\",IF('LOD Matrix (DO NOT PRINT)'!P86=TRUE,\"Yes\",\"No\"))","v":""}]
[{"$f":"IF(B87=\"Yes\",Table2[[#This Row],[Break Level]],0)","v":0},{"$f":"Table2[[#This Row],[Yes/No]]","v":"No"},null,null,{"$f":"IF($A87=0,\"\",Table2[[#This Row],[PTC DISCIPLINE]])","v":""},{"$f":"IF($A87=0,\"\",Table2[[#This Row],[ELEMENT]])","v":""},{"$f":"IF($A87=0,\"\",Table2[[#This Row],[LG&TSL]])","v":""},{"$f":"IF($A87=0,\"\",Table2[[#This Row],[DFV]])","v":""},{"$f":"IF($A87=0,\"\",Table2[[#This Row],[60%-OTS]])","v":""},{"$f":"IF($A87=0,\"\",Table2[[#This Row],[75%]])","v":""},{"$f":"IF($A87=0,\"\",Table2[[#This Row],[Pre-Final PS&E]])","v":""},{"$f":"IF($A87=0,\"\",Table2[[#This Row],[Final PS&E]])","v":""},{"$f":"IF($A87=0,\"\",'LOD Matrix (DO NOT PRINT)'!M87)","v":""},{"$f":"IF($A87=0,\"\",'LOD Matrix (DO NOT PRINT)'!N87)","v":""},{"$f":"IF($A87=0,\"\",IF('LOD Matrix (DO NOT PRINT)'!P87=TRUE,\"Yes\",\"No\"))","v":""}]
[{"$f":"IF(B88=\"Yes\",Table2[[#This Row],[Break Level]],0)","v":0},{"$f":"Table2[[#This Row],[Yes/No]]","v":"No"},null,null,{"$f":"IF($A88=0,\"\",Table2[[#This Row],[PTC DISCIPLINE]])","v":""},{"$f":"IF($A88=0,\"\",Table2[[#This Row],[ELEMENT]])","v":""},{"$f":"IF($A88=0,\"\",Table2[[#This Row],[LG&TSL]])","v":""},{"$f":"IF($A88=0,\"\",Table2[[#This Row],[DFV]])","v":""},{"$f":"IF($A88=0,\"\",Table2[[#This Row],[60%-OTS]])","v":""},{"$f":"IF($A88=0,\"\",Table2[[#This Row],[75%]])","v":""},{"$f":"IF($A88=0,\"\",Table2[[#This Row],[Pre-Final PS&E]])","v":""},{"$f":"IF($A88=0,\"\",Table2[[#This Row],[Final PS&E]])","v":""},{"$f":"IF($A88=0,\"\",'LOD Matrix (DO NOT PRINT)'!M88)","v":""},{"$f":"IF($A88=0,\"\",'LOD Matrix (DO NOT PRINT)'!N88)","v":""},{"$f":"IF($A88=0,\"\",IF('LOD Matrix (DO NOT PRINT)'!P88=TRUE,\"Yes\",\"No\"))","v":""}]
[{"$f":"IF(B89=\"Yes\",Table2[[#This Row],[Break Level]],0)","v":0},{"$f":"Table2[[#This Row],[Yes/No]]","v":"No"},null,null,{"$f":"IF($A89=0,\"\",Table2[[#This Row],[PTC DISCIPLINE]])","v":""},{"$f":"IF($A89=0,\"\",Table2[[#This Row],[ELEMENT]])","v":""},{"$f":"IF($A89=0,\"\",Table2[[#This Row],[LG&TSL]])","v":""},{"$f":"IF($A89=0,\"\",Table2[[#This Row],[DFV]])","v":""},{"$f":"IF($A89=0,\"\",Table2[[#This Row],[60%-OTS]])","v":""},{"$f":"IF($A89=0,\"\",Table2[[#This Row],[75%]])","v":""},{"$f":"IF($A89=0,\"\",Table2[[#This Row],[Pre-Final PS&E]])","v":""},{"$f":"IF($A89=0,\"\",Table2[[#This Row],[Final PS&E]])","v":""},{"$f":"IF($A89=0,\"\",'LOD Matrix (DO NOT PRINT)'!M89)","v":""},{"$f":"IF($A89=0,\"\",'LOD Matrix (DO NOT PRINT)'!N89)","v":""},{"$f":"IF($A89=0,\"\",IF('LOD Matrix (DO NOT PRINT)'!P89=TRUE,\"Yes\",\"No\"))","v":""}]
[{"$f":"IF(B90=\"Yes\",Table2[[#This Row],[Break Level]],0)","v":0},{"$f":"Table2[[#This Row],[Yes/No]]","v":"No"},null,null,{"$f":"IF($A90=0,\"\",Table2[[#This Row],[PTC DISCIPLINE]])","v":""},{"$f":"IF($A90=0,\"\",Table2[[#This Row],[ELEMENT]])","v":""},{"$f":"IF($A90=0,\"\",Table2[[#This Row],[LG&TSL]])","v":""},{"$f":"IF($A90=0,\"\",Table2[[#This Row],[DFV]])","v":""},{"$f":"IF($A90=0,\"\",Table2[[#This Row],[60%-OTS]])","v":""},{"$f":"IF($A90=0,\"\",Table2[[#This Row],[75%]])","v":""},{"$f":"IF($A90=0,\"\",Table2[[#This Row],[Pre-Final PS&E]])","v":""},{"$f":"IF($A90=0,\"\",Table2[[#This Row],[Final PS&E]])","v":""},{"$f":"IF($A90=0,\"\",'LOD Matrix (DO NOT PRINT)'!M90)","v":""},{"$f":"IF($A90=0,\"\",'LOD Matrix (DO NOT PRINT)'!N90)","v":""},{"$f":"IF($A90=0,\"\",IF('LOD Matrix (DO NOT PRINT)'!P90=TRUE,\"Yes\",\"No\"))","v":""}]
[{"$f":"IF(B91=\"Yes\",Table2[[#This Row],[Break Level]],0)","v":0},{"$f":"Table2[[#This Row],[Yes/No]]","v":"No"},null,null,{"$f":"IF($A91=0,\"\",Table2[[#This Row],[PTC DISCIPLINE]])","v":""},{"$f":"IF($A91=0,\"\",Table2[[#This Row],[ELEMENT]])","v":""},{"$f":"IF($A91=0,\"\",Table2[[#This Row],[LG&TSL]])","v":""},{"$f":"IF($A91=0,\"\",Table2[[#This Row],[DFV]])","v":""},{"$f":"IF($A91=0,\"\",Table2[[#This Row],[60%-OTS]])","v":""},{"$f":"IF($A91=0,\"\",Table2[[#This Row],[75%]])","v":""},{"$f":"IF($A91=0,\"\",Table2[[#This Row],[Pre-Final PS&E]])","v":""},{"$f":"IF($A91=0,\"\",Table2[[#This Row],[Final PS&E]])","v":""},{"$f":"IF($A91=0,\"\",'LOD Matrix (DO NOT PRINT)'!M91)","v":""},{"$f":"IF($A91=0,\"\",'LOD Matrix (DO NOT PRINT)'!N91)","v":""},{"$f":"IF($A91=0,\"\",IF('LOD Matrix (DO NOT PRINT)'!P91=TRUE,\"Yes\",\"No\"))","v":""}]
[{"$f":"IF(B92=\"Yes\",Table2[[#This Row],[Break Level]],0)","v":0},{"$f":"Table2[[#This Row],[Yes/No]]","v":"No"},null,null,{"$f":"IF($A92=0,\"\",Table2[[#This Row],[PTC DISCIPLINE]])","v":""},{"$f":"IF($A92=0,\"\",Table2[[#This Row],[ELEMENT]])","v":""},{"$f":"IF($A92=0,\"\",Table2[[#This Row],[LG&TSL]])","v":""},{"$f":"IF($A92=0,\"\",Table2[[#This Row],[DFV]])","v":""},{"$f":"IF($A92=0,\"\",Table2[[#This Row],[60%-OTS]])","v":""},{"$f":"IF($A92=0,\"\",Table2[[#This Row],[75%]])","v":""},{"$f":"IF($A92=0,\"\",Table2[[#This Row],[Pre-Final PS&E]])","v":""},{"$f":"IF($A92=0,\"\",Table2[[#This Row],[Final PS&E]])","v":""},{"$f":"IF($A92=0,\"\",'LOD Matrix (DO NOT PRINT)'!M92)","v":""},{"$f":"IF($A92=0,\"\",'LOD Matrix (DO NOT PRINT)'!N92)","v":""},{"$f":"IF($A92=0,\"\",IF('LOD Matrix (DO NOT PRINT)'!P92=TRUE,\"Yes\",\"No\"))","v":""}]
[{"$f":"IF(B93=\"Yes\",Table2[[#This Row],[Break Level]],0)","v":0},{"$f":"Table2[[#This Row],[Yes/No]]","v":"No"},null,null,{"$f":"IF($A93=0,\"\",Table2[[#This Row],[PTC DISCIPLINE]])","v":""},{"$f":"IF($A93=0,\"\",Table2[[#This Row],[ELEMENT]])","v":""},{"$f":"IF($A93=0,\"\",Table2[[#This Row],[LG&TSL]])","v":""},{"$f":"IF($A93=0,\"\",Table2[[#This Row],[DFV]])","v":""},{"$f":"IF($A93=0,\"\",Table2[[#This Row],[60%-OTS]])","v":""},{"$f":"IF($A93=0,\"\",Table2[[#This Row],[75%]])","v":""},{"$f":"IF($A93=0,\"\",Table2[[#This Row],[Pre-Final PS&E]])","v":""},{"$f":"IF($A93=0,\"\",Table2[[#This Row],[Final PS&E]])","v":""},{"$f":"IF($A93=0,\"\",'LOD Matrix (DO NOT PRINT)'!M93)","v":""},{"$f":"IF($A93=0,\"\",'LOD Matrix (DO NOT PRINT)'!N93)","v":""},{"$f":"IF($A93=0,\"\",IF('LOD Matrix (DO NOT PRINT)'!P93=TRUE,\"Yes\",\"No\"))","v":""}]
[{"$f":"IF(B94=\"Yes\",Table2[[#This Row],[Break Level]],0)","v":0},{"$f":"Table2[[#This Row],[Yes/No]]","v":"No"},null,null,{"$f":"IF($A94=0,\"\",Table2[[#This Row],[PTC DISCIPLINE]])","v":""},{"$f":"IF($A94=0,\"\",Table2[[#This Row],[ELEMENT]])","v":""},{"$f":"IF($A94=0,\"\",Table2[[#This Row],[LG&TSL]])","v":""},{"$f":"IF($A94=0,\"\",Table2[[#This Row],[DFV]])","v":""},{"$f":"IF($A94=0,\"\",Table2[[#This Row],[60%-OTS]])","v":""},{"$f":"IF($A94=0,\"\",Table2[[#This Row],[75%]])","v":""},{"$f":"IF($A94=0,\"\",Table2[[#This Row],[Pre-Final PS&E]])","v":""},{"$f":"IF($A94=0,\"\",Table2[[#This Row],[Final PS&E]])","v":""},{"$f":"IF($A94=0,\"\",'LOD Matrix (DO NOT PRINT)'!M94)","v":""},{"$f":"IF($A94=0,\"\",'LOD Matrix (DO NOT PRINT)'!N94)","v":""},{"$f":"IF($A94=0,\"\",IF('LOD Matrix (DO NOT PRINT)'!P94=TRUE,\"Yes\",\"No\"))","v":""}]
[{"$f":"IF(B95=\"Yes\",Table2[[#This Row],[Break Level]],0)","v":0},{"$f":"Table2[[#This Row],[Yes/No]]","v":"No"},null,null,{"$f":"IF($A95=0,\"\",Table2[[#This Row],[PTC DISCIPLINE]])","v":""},{"$f":"IF($A95=0,\"\",Table2[[#This Row],[ELEMENT]])","v":""},{"$f":"IF($A95=0,\"\",Table2[[#This Row],[LG&TSL]])","v":""},{"$f":"IF($A95=0,\"\",Table2[[#This Row],[DFV]])","v":""},{"$f":"IF($A95=0,\"\",Table2[[#This Row],[60%-OTS]])","v":""},{"$f":"IF($A95=0,\"\",Table2[[#This Row],[75%]])","v":""},{"$f":"IF($A95=0,\"\",Table2[[#This Row],[Pre-Final PS&E]])","v":""},{"$f":"IF($A95=0,\"\",Table2[[#This Row],[Final PS&E]])","v":""},{"$f":"IF($A95=0,\"\",'LOD Matrix (DO NOT PRINT)'!M95)","v":""},{"$f":"IF($A95=0,\"\",'LOD Matrix (DO NOT PRINT)'!N95)","v":""},{"$f":"IF($A95=0,\"\",IF('LOD Matrix (DO NOT PRINT)'!P95=TRUE,\"Yes\",\"No\"))","v":""}]
[{"$f":"IF(B96=\"Yes\",Table2[[#This Row],[Break Level]],0)","v":0},{"$f":"Table2[[#This Row],[Yes/No]]","v":"No"},null,null,{"$f":"IF($A96=0,\"\",Table2[[#This Row],[PTC DISCIPLINE]])","v":""},{"$f":"IF($A96=0,\"\",Table2[[#This Row],[ELEMENT]])","v":""},{"$f":"IF($A96=0,\"\",Table2[[#This Row],[LG&TSL]])","v":""},{"$f":"IF($A96=0,\"\",Table2[[#This Row],[DFV]])","v":""},{"$f":"IF($A96=0,\"\",Table2[[#This Row],[60%-OTS]])","v":""},{"$f":"IF($A96=0,\"\",Table2[[#This Row],[75%]])","v":""},{"$f":"IF($A96=0,\"\",Table2[[#This Row],[Pre-Final PS&E]])","v":""},{"$f":"IF($A96=0,\"\",Table2[[#This Row],[Final PS&E]])","v":""},{"$f":"IF($A96=0,\"\",'LOD Matrix (DO NOT PRINT)'!M96)","v":""},{"$f":"IF($A96=0,\"\",'LOD Matrix (DO NOT PRINT)'!N96)","v":""},{"$f":"IF($A96=0,\"\",IF('LOD Matrix (DO NOT PRINT)'!P96=TRUE,\"Yes\",\"No\"))","v":""}]
[{"$f":"IF(B97=\"Yes\",Table2[[#This Row],[Break Level]],0)","v":0},{"$f":"Table2[[#This Row],[Yes/No]]","v":"No"},null,null,{"$f":"IF($A97=0,\"\",Table2[[#This Row],[PTC DISCIPLINE]])","v":""},{"$f":"IF($A97=0,\"\",Table2[[#This Row],[ELEMENT]])","v":""},{"$f":"IF($A97=0,\"\",Table2[[#This Row],[LG&TSL]])","v":""},{"$f":"IF($A97=0,\"\",Table2[[#This Row],[DFV]])","v":""},{"$f":"IF($A97=0,\"\",Table2[[#This Row],[60%-OTS]])","v":""},{"$f":"IF($A97=0,\"\",Table2[[#This Row],[75%]])","v":""},{"$f":"IF($A97=0,\"\",Table2[[#This Row],[Pre-Final PS&E]])","v":""},{"$f":"IF($A97=0,\"\",Table2[[#This Row],[Final PS&E]])","v":""},{"$f":"IF($A97=0,\"\",'LOD Matrix (DO NOT PRINT)'!M97)","v":""},{"$f":"IF($A97=0,\"\",'LOD Matrix (DO NOT PRINT)'!N97)","v":""},{"$f":"IF($A97=0,\"\",IF('LOD Matrix (DO NOT PRINT)'!P97=TRUE,\"Yes\",\"No\"))","v":""}]
[{"$f":"IF(B98=\"Yes\",Table2[[#This Row],[Break Level]],0)","v":0},{"$f":"Table2[[#This Row],[Yes/No]]","v":"No"},null,null,{"$f":"IF($A98=0,\"\",Table2[[#This Row],[PTC DISCIPLINE]])","v":""},{"$f":"IF($A98=0,\"\",Table2[[#This Row],[ELEMENT]])","v":""},{"$f":"IF($A98=0,\"\",Table2[[#This Row],[LG&TSL]])","v":""},{"$f":"IF($A98=0,\"\",Table2[[#This Row],[DFV]])","v":""},{"$f":"IF($A98=0,\"\",Table2[[#This Row],[60%-OTS]])","v":""},{"$f":"IF($A98=0,\"\",Table2[[#This Row],[75%]])","v":""},{"$f":"IF($A98=0,\"\",Table2[[#This Row],[Pre-Final PS&E]])","v":""},{"$f":"IF($A98=0,\"\",Table2[[#This Row],[Final PS&E]])","v":""},{"$f":"IF($A98=0,\"\",'LOD Matrix (DO NOT PRINT)'!M98)","v":""},{"$f":"IF($A98=0,\"\",'LOD Matrix (DO NOT PRINT)'!N98)","v":""},{"$f":"IF($A98=0,\"\",IF('LOD Matrix (DO NOT PRINT)'!P98=TRUE,\"Yes\",\"No\"))","v":""}]
[{"$f":"IF(B99=\"Yes\",Table2[[#This Row],[Break Level]],0)","v":0},{"$f":"Table2[[#This Row],[Yes/No]]","v":"No"},null,null,{"$f":"IF($A99=0,\"\",Table2[[#This Row],[PTC DISCIPLINE]])","v":""},{"$f":"IF($A99=0,\"\",Table2[[#This Row],[ELEMENT]])","v":""},{"$f":"IF($A99=0,\"\",Table2[[#This Row],[LG&TSL]])","v":""},{"$f":"IF($A99=0,\"\",Table2[[#This Row],[DFV]])","v":""},{"$f":"IF($A99=0,\"\",Table2[[#This Row],[60%-OTS]])","v":""},{"$f":"IF($A99=0,\"\",Table2[[#This Row],[75%]])","v":""},{"$f":"IF($A99=0,\"\",Table2[[#This Row],[Pre-Final PS&E]])","v":""},{"$f":"IF($A99=0,\"\",Table2[[#This Row],[Final PS&E]])","v":""},{"$f":"IF($A99=0,\"\",'LOD Matrix (DO NOT PRINT)'!M99)","v":""},{"$f":"IF($A99=0,\"\",'LOD Matrix (DO NOT PRINT)'!N99)","v":""},{"$f":"IF($A99=0,\"\",IF('LOD Matrix (DO NOT PRINT)'!P99=TRUE,\"Yes\",\"No\"))","v":""}]
[{"$f":"IF(B100=\"Yes\",Table2[[#This Row],[Break Level]],0)","v":0},{"$f":"Table2[[#This Row],[Yes/No]]","v":"No"},null,null,{"$f":"IF($A100=0,\"\",Table2[[#This Row],[PTC DISCIPLINE]])","v":""},{"$f":"IF($A100=0,\"\",Table2[[#This Row],[ELEMENT]])","v":""},{"$f":"IF($A100=0,\"\",Table2[[#This Row],[LG&TSL]])","v":""},{"$f":"IF($A100=0,\"\",Table2[[#This Row],[DFV]])","v":""},{"$f":"IF($A100=0,\"\",Table2[[#This Row],[60%-OTS]])","v":""},{"$f":"IF($A100=0,\"\",Table2[[#This Row],[75%]])","v":""},{"$f":"IF($A100=0,\"\",Table2[[#This Row],[Pre-Final PS&E]])","v":""},{"$f":"IF($A100=0,\"\",Table2[[#This Row],[Final PS&E]])","v":""},{"$f":"IF($A100=0,\"\",'LOD Matrix (DO NOT PRINT)'!M100)","v":""},{"$f":"IF($A100=0,\"\",'LOD Matrix (DO NOT PRINT)'!N100)","v":""},{"$f":"IF($A100=0,\"\",IF('LOD Matrix (DO NOT PRINT)'!P100=TRUE,\"Yes\",\"No\"))","v":""}]
[{"$f":"IF(B101=\"Yes\",Table2[[#This Row],[Break Level]],0)","v":0},{"$f":"Table2[[#This Row],[Yes/No]]","v":"No"},null,null,{"$f":"IF($A101=0,\"\",Table2[[#This Row],[PTC DISCIPLINE]])","v":""},{"$f":"IF($A101=0,\"\",Table2[[#This Row],[ELEMENT]])","v":""},{"$f":"IF($A101=0,\"\",Table2[[#This Row],[LG&TSL]])","v":""},{"$f":"IF($A101=0,\"\",Table2[[#This Row],[DFV]])","v":""},{"$f":"IF($A101=0,\"\",Table2[[#This Row],[60%-OTS]])","v":""},{"$f":"IF($A101=0,\"\",Table2[[#This Row],[75%]])","v":""},{"$f":"IF($A101=0,\"\",Table2[[#This Row],[Pre-Final PS&E]])","v":""},{"$f":"IF($A101=0,\"\",Table2[[#This Row],[Final PS&E]])","v":""},{"$f":"IF($A101=0,\"\",'LOD Matrix (DO NOT PRINT)'!M101)","v":""},{"$f":"IF($A101=0,\"\",'LOD Matrix (DO NOT PRINT)'!N101)","v":""},{"$f":"IF($A101=0,\"\",IF('LOD Matrix (DO NOT PRINT)'!P101=TRUE,\"Yes\",\"No\"))","v":""}]
[{"$f":"IF(B102=\"Yes\",Table2[[#This Row],[Break Level]],0)","v":0},{"$f":"Table2[[#This Row],[Yes/No]]","v":"No"},null,null,{"$f":"IF($A102=0,\"\",Table2[[#This Row],[PTC DISCIPLINE]])","v":""},{"$f":"IF($A102=0,\"\",Table2[[#This Row],[ELEMENT]])","v":""},{"$f":"IF($A102=0,\"\",Table2[[#This Row],[LG&TSL]])","v":""},{"$f":"IF($A102=0,\"\",Table2[[#This Row],[DFV]])","v":""},{"$f":"IF($A102=0,\"\",Table2[[#This Row],[60%-OTS]])","v":""},{"$f":"IF($A102=0,\"\",Table2[[#This Row],[75%]])","v":""},{"$f":"IF($A102=0,\"\",Table2[[#This Row],[Pre-Final PS&E]])","v":""},{"$f":"IF($A102=0,\"\",Table2[[#This Row],[Final PS&E]])","v":""},{"$f":"IF($A102=0,\"\",'LOD Matrix (DO NOT PRINT)'!M102)","v":""},{"$f":"IF($A102=0,\"\",'LOD Matrix (DO NOT PRINT)'!N102)","v":""},{"$f":"IF($A102=0,\"\",IF('LOD Matrix (DO NOT PRINT)'!P102=TRUE,\"Yes\",\"No\"))","v":""}]
[{"$f":"IF(B103=\"Yes\",Table2[[#This Row],[Break Level]],0)","v":0},{"$f":"Table2[[#This Row],[Yes/No]]","v":"No"},null,null,{"$f":"IF($A103=0,\"\",Table2[[#This Row],[PTC DISCIPLINE]])","v":""},{"$f":"IF($A103=0,\"\",Table2[[#This Row],[ELEMENT]])","v":""},{"$f":"IF($A103=0,\"\",Table2[[#This Row],[LG&TSL]])","v":""},{"$f":"IF($A103=0,\"\",Table2[[#This Row],[DFV]])","v":""},{"$f":"IF($A103=0,\"\",Table2[[#This Row],[60%-OTS]])","v":""},{"$f":"IF($A103=0,\"\",Table2[[#This Row],[75%]])","v":""},{"$f":"IF($A103=0,\"\",Table2[[#This Row],[Pre-Final PS&E]])","v":""},{"$f":"IF($A103=0,\"\",Table2[[#This Row],[Final PS&E]])","v":""},{"$f":"IF($A103=0,\"\",'LOD Matrix (DO NOT PRINT)'!M103)","v":""},{"$f":"IF($A103=0,\"\",'LOD Matrix (DO NOT PRINT)'!N103)","v":""},{"$f":"IF($A103=0,\"\",IF('LOD Matrix (DO NOT PRINT)'!P103=TRUE,\"Yes\",\"No\"))","v":""}]
[{"$f":"IF(B104=\"Yes\",Table2[[#This Row],[Break Level]],0)","v":0},{"$f":"Table2[[#This Row],[Yes/No]]","v":"No"},null,null,{"$f":"IF($A104=0,\"\",Table2[[#This Row],[PTC DISCIPLINE]])","v":""},{"$f":"IF($A104=0,\"\",Table2[[#This Row],[ELEMENT]])","v":""},{"$f":"IF($A104=0,\"\",Table2[[#This Row],[LG&TSL]])","v":""},{"$f":"IF($A104=0,\"\",Table2[[#This Row],[DFV]])","v":""},{"$f":"IF($A104=0,\"\",Table2[[#This Row],[60%-OTS]])","v":""},{"$f":"IF($A104=0,\"\",Table2[[#This Row],[75%]])","v":""},{"$f":"IF($A104=0,\"\",Table2[[#This Row],[Pre-Final PS&E]])","v":""},{"$f":"IF($A104=0,\"\",Table2[[#This Row],[Final PS&E]])","v":""},{"$f":"IF($A104=0,\"\",'LOD Matrix (DO NOT PRINT)'!M104)","v":""},{"$f":"IF($A104=0,\"\",'LOD Matrix (DO NOT PRINT)'!N104)","v":""},{"$f":"IF($A104=0,\"\",IF('LOD Matrix (DO NOT PRINT)'!P104=TRUE,\"Yes\",\"No\"))","v":""}]
[{"$f":"IF(B105=\"Yes\",Table2[[#This Row],[Break Level]],0)","v":0},{"$f":"Table2[[#This Row],[Yes/No]]","v":"No"},null,null,{"$f":"IF($A105=0,\"\",Table2[[#This Row],[PTC DISCIPLINE]])","v":""},{"$f":"IF($A105=0,\"\",Table2[[#This Row],[ELEMENT]])","v":""},{"$f":"IF($A105=0,\"\",Table2[[#This Row],[LG&TSL]])","v":""},{"$f":"IF($A105=0,\"\",Table2[[#This Row],[DFV]])","v":""},{"$f":"IF($A105=0,\"\",Table2[[#This Row],[60%-OTS]])","v":""},{"$f":"IF($A105=0,\"\",Table2[[#This Row],[75%]])","v":""},{"$f":"IF($A105=0,\"\",Table2[[#This Row],[Pre-Final PS&E]])","v":""},{"$f":"IF($A105=0,\"\",Table2[[#This Row],[Final PS&E]])","v":""},{"$f":"IF($A105=0,\"\",'LOD Matrix (DO NOT PRINT)'!M105)","v":""},{"$f":"IF($A105=0,\"\",'LOD Matrix (DO NOT PRINT)'!N105)","v":""},{"$f":"IF($A105=0,\"\",IF('LOD Matrix (DO NOT PRINT)'!P105=TRUE,\"Yes\",\"No\"))","v":""}]
[{"$f":"IF(B106=\"Yes\",Table2[[#This Row],[Break Level]],0)","v":0},{"$f":"Table2[[#This Row],[Yes/No]]","v":"No"},null,null,{"$f":"IF($A106=0,\"\",Table2[[#This Row],[PTC DISCIPLINE]])","v":""},{"$f":"IF($A106=0,\"\",Table2[[#This Row],[ELEMENT]])","v":""},{"$f":"IF($A106=0,\"\",Table2[[#This Row],[LG&TSL]])","v":""},{"$f":"IF($A106=0,\"\",Table2[[#This Row],[DFV]])","v":""},{"$f":"IF($A106=0,\"\",Table2[[#This Row],[60%-OTS]])","v":""},{"$f":"IF($A106=0,\"\",Table2[[#This Row],[75%]])","v":""},{"$f":"IF($A106=0,\"\",Table2[[#This Row],[Pre-Final PS&E]])","v":""},{"$f":"IF($A106=0,\"\",Table2[[#This Row],[Final PS&E]])","v":""},{"$f":"IF($A106=0,\"\",'LOD Matrix (DO NOT PRINT)'!M106)","v":""},{"$f":"IF($A106=0,\"\",'LOD Matrix (DO NOT PRINT)'!N106)","v":""},{"$f":"IF($A106=0,\"\",IF('LOD Matrix (DO NOT PRINT)'!P106=TRUE,\"Yes\",\"No\"))","v":""}]
[{"$f":"IF(B107=\"Yes\",Table2[[#This Row],[Break Level]],0)","v":0},{"$f":"Table2[[#This Row],[Yes/No]]","v":"No"},null,null,{"$f":"IF($A107=0,\"\",Table2[[#This Row],[PTC DISCIPLINE]])","v":""},{"$f":"IF($A107=0,\"\",Table2[[#This Row],[ELEMENT]])","v":""},{"$f":"IF($A107=0,\"\",Table2[[#This Row],[LG&TSL]])","v":""},{"$f":"IF($A107=0,\"\",Table2[[#This Row],[DFV]])","v":""},{"$f":"IF($A107=0,\"\",Table2[[#This Row],[60%-OTS]])","v":""},{"$f":"IF($A107=0,\"\",Table2[[#This Row],[75%]])","v":""},{"$f":"IF($A107=0,\"\",Table2[[#This Row],[Pre-Final PS&E]])","v":""},{"$f":"IF($A107=0,\"\",Table2[[#This Row],[Final PS&E]])","v":""},{"$f":"IF($A107=0,\"\",'LOD Matrix (DO NOT PRINT)'!M107)","v":""},{"$f":"IF($A107=0,\"\",'LOD Matrix (DO NOT PRINT)'!N107)","v":""},{"$f":"IF($A107=0,\"\",IF('LOD Matrix (DO NOT PRINT)'!P107=TRUE,\"Yes\",\"No\"))","v":""}]
[{"$f":"IF(B108=\"Yes\",Table2[[#This Row],[Break Level]],0)","v":0},{"$f":"Table2[[#This Row],[Yes/No]]","v":"No"},null,null,{"$f":"IF($A108=0,\"\",Table2[[#This Row],[PTC DISCIPLINE]])","v":""},{"$f":"IF($A108=0,\"\",Table2[[#This Row],[ELEMENT]])","v":""},{"$f":"IF($A108=0,\"\",Table2[[#This Row],[LG&TSL]])","v":""},{"$f":"IF($A108=0,\"\",Table2[[#This Row],[DFV]])","v":""},{"$f":"IF($A108=0,\"\",Table2[[#This Row],[60%-OTS]])","v":""},{"$f":"IF($A108=0,\"\",Table2[[#This Row],[75%]])","v":""},{"$f":"IF($A108=0,\"\",Table2[[#This Row],[Pre-Final PS&E]])","v":""},{"$f":"IF($A108=0,\"\",Table2[[#This Row],[Final PS&E]])","v":""},{"$f":"IF($A108=0,\"\",'LOD Matrix (DO NOT PRINT)'!M108)","v":""},{"$f":"IF($A108=0,\"\",'LOD Matrix (DO NOT PRINT)'!N108)","v":""},{"$f":"IF($A108=0,\"\",IF('LOD Matrix (DO NOT PRINT)'!P108=TRUE,\"Yes\",\"No\"))","v":""}]
[{"$f":"IF(B109=\"Yes\",Table2[[#This Row],[Break Level]],0)","v":0},{"$f":"Table2[[#This Row],[Yes/No]]","v":"No"},null,null,{"$f":"IF($A109=0,\"\",Table2[[#This Row],[PTC DISCIPLINE]])","v":""},{"$f":"IF($A109=0,\"\",Table2[[#This Row],[ELEMENT]])","v":""},{"$f":"IF($A109=0,\"\",Table2[[#This Row],[LG&TSL]])","v":""},{"$f":"IF($A109=0,\"\",Table2[[#This Row],[DFV]])","v":""},{"$f":"IF($A109=0,\"\",Table2[[#This Row],[60%-OTS]])","v":""},{"$f":"IF($A109=0,\"\",Table2[[#This Row],[75%]])","v":""},{"$f":"IF($A109=0,\"\",Table2[[#This Row],[Pre-Final PS&E]])","v":""},{"$f":"IF($A109=0,\"\",Table2[[#This Row],[Final PS&E]])","v":""},{"$f":"IF($A109=0,\"\",'LOD Matrix (DO NOT PRINT)'!M109)","v":""},{"$f":"IF($A109=0,\"\",'LOD Matrix (DO NOT PRINT)'!N109)","v":""},{"$f":"IF($A109=0,\"\",IF('LOD Matrix (DO NOT PRINT)'!P109=TRUE,\"Yes\",\"No\"))","v":""}]
[{"$f":"IF(B110=\"Yes\",Table2[[#This Row],[Break Level]],0)","v":0},{"$f":"Table2[[#This Row],[Yes/No]]","v":"No"},null,null,{"$f":"IF($A110=0,\"\",Table2[[#This Row],[PTC DISCIPLINE]])","v":""},{"$f":"IF($A110=0,\"\",Table2[[#This Row],[ELEMENT]])","v":""},{"$f":"IF($A110=0,\"\",Table2[[#This Row],[LG&TSL]])","v":""},{"$f":"IF($A110=0,\"\",Table2[[#This Row],[DFV]])","v":""},{"$f":"IF($A110=0,\"\",Table2[[#This Row],[60%-OTS]])","v":""},{"$f":"IF($A110=0,\"\",Table2[[#This Row],[75%]])","v":""},{"$f":"IF($A110=0,\"\",Table2[[#This Row],[Pre-Final PS&E]])","v":""},{"$f":"IF($A110=0,\"\",Table2[[#This Row],[Final PS&E]])","v":""},{"$f":"IF($A110=0,\"\",'LOD Matrix (DO NOT PRINT)'!M110)","v":""},{"$f":"IF($A110=0,\"\",'LOD Matrix (DO NOT PRINT)'!N110)","v":""},{"$f":"IF($A110=0,\"\",IF('LOD Matrix (DO NOT PRINT)'!P110=TRUE,\"Yes\",\"No\"))","v":""}]
[{"$f":"IF(B111=\"Yes\",Table2[[#This Row],[Break Level]],0)","v":0},{"$f":"Table2[[#This Row],[Yes/No]]","v":"No"},null,null,{"$f":"IF($A111=0,\"\",Table2[[#This Row],[PTC DISCIPLINE]])","v":""},{"$f":"IF($A111=0,\"\",Table2[[#This Row],[ELEMENT]])","v":""},{"$f":"IF($A111=0,\"\",Table2[[#This Row],[LG&TSL]])","v":""},{"$f":"IF($A111=0,\"\",Table2[[#This Row],[DFV]])","v":""},{"$f":"IF($A111=0,\"\",Table2[[#This Row],[60%-OTS]])","v":""},{"$f":"IF($A111=0,\"\",Table2[[#This Row],[75%]])","v":""},{"$f":"IF($A111=0,\"\",Table2[[#This Row],[Pre-Final PS&E]])","v":""},{"$f":"IF($A111=0,\"\",Table2[[#This Row],[Final PS&E]])","v":""},{"$f":"IF($A111=0,\"\",'LOD Matrix (DO NOT PRINT)'!M111)","v":""},{"$f":"IF($A111=0,\"\",'LOD Matrix (DO NOT PRINT)'!N111)","v":""},{"$f":"IF($A111=0,\"\",IF('LOD Matrix (DO NOT PRINT)'!P111=TRUE,\"Yes\",\"No\"))","v":""}]
[{"$f":"IF(B112=\"Yes\",Table2[[#This Row],[Break Level]],0)","v":0},{"$f":"Table2[[#This Row],[Yes/No]]","v":"No"},null,null,{"$f":"IF($A112=0,\"\",Table2[[#This Row],[PTC DISCIPLINE]])","v":""},{"$f":"IF($A112=0,\"\",Table2[[#This Row],[ELEMENT]])","v":""},{"$f":"IF($A112=0,\"\",Table2[[#This Row],[LG&TSL]])","v":""},{"$f":"IF($A112=0,\"\",Table2[[#This Row],[DFV]])","v":""},{"$f":"IF($A112=0,\"\",Table2[[#This Row],[60%-OTS]])","v":""},{"$f":"IF($A112=0,\"\",Table2[[#This Row],[75%]])","v":""},{"$f":"IF($A112=0,\"\",Table2[[#This Row],[Pre-Final PS&E]])","v":""},{"$f":"IF($A112=0,\"\",Table2[[#This Row],[Final PS&E]])","v":""},{"$f":"IF($A112=0,\"\",'LOD Matrix (DO NOT PRINT)'!M112)","v":""},{"$f":"IF($A112=0,\"\",'LOD Matrix (DO NOT PRINT)'!N112)","v":""},{"$f":"IF($A112=0,\"\",IF('LOD Matrix (DO NOT PRINT)'!P112=TRUE,\"Yes\",\"No\"))","v":""}]
[{"$f":"IF(B113=\"Yes\",Table2[[#This Row],[Break Level]],0)","v":0},{"$f":"Table2[[#This Row],[Yes/No]]","v":"No"},null,null,{"$f":"IF($A113=0,\"\",Table2[[#This Row],[PTC DISCIPLINE]])","v":""},{"$f":"IF($A113=0,\"\",Table2[[#This Row],[ELEMENT]])","v":""},{"$f":"IF($A113=0,\"\",Table2[[#This Row],[LG&TSL]])","v":""},{"$f":"IF($A113=0,\"\",Table2[[#This Row],[DFV]])","v":""},{"$f":"IF($A113=0,\"\",Table2[[#This Row],[60%-OTS]])","v":""},{"$f":"IF($A113=0,\"\",Table2[[#This Row],[75%]])","v":""},{"$f":"IF($A113=0,\"\",Table2[[#This Row],[Pre-Final PS&E]])","v":""},{"$f":"IF($A113=0,\"\",Table2[[#This Row],[Final PS&E]])","v":""},{"$f":"IF($A113=0,\"\",'LOD Matrix (DO NOT PRINT)'!M113)","v":""},{"$f":"IF($A113=0,\"\",'LOD Matrix (DO NOT PRINT)'!N113)","v":""},{"$f":"IF($A113=0,\"\",IF('LOD Matrix (DO NOT PRINT)'!P113=TRUE,\"Yes\",\"No\"))","v":""}]
[{"$f":"IF(B114=\"Yes\",Table2[[#This Row],[Break Level]],0)","v":0},{"$f":"Table2[[#This Row],[Yes/No]]","v":"No"},null,null,{"$f":"IF($A114=0,\"\",Table2[[#This Row],[PTC DISCIPLINE]])","v":""},{"$f":"IF($A114=0,\"\",Table2[[#This Row],[ELEMENT]])","v":""},{"$f":"IF($A114=0,\"\",Table2[[#This Row],[LG&TSL]])","v":""},{"$f":"IF($A114=0,\"\",Table2[[#This Row],[DFV]])","v":""},{"$f":"IF($A114=0,\"\",Table2[[#This Row],[60%-OTS]])","v":""},{"$f":"IF($A114=0,\"\",Table2[[#This Row],[75%]])","v":""},{"$f":"IF($A114=0,\"\",Table2[[#This Row],[Pre-Final PS&E]])","v":""},{"$f":"IF($A114=0,\"\",Table2[[#This Row],[Final PS&E]])","v":""},{"$f":"IF($A114=0,\"\",'LOD Matrix (DO NOT PRINT)'!M114)","v":""},{"$f":"IF($A114=0,\"\",'LOD Matrix (DO NOT PRINT)'!N114)","v":""},{"$f":"IF($A114=0,\"\",IF('LOD Matrix (DO NOT PRINT)'!P114=TRUE,\"Yes\",\"No\"))","v":""}]
[{"$f":"IF(B115=\"Yes\",Table2[[#This Row],[Break Level]],0)","v":0},{"$f":"Table2[[#This Row],[Yes/No]]","v":"No"},null,null,{"$f":"IF($A115=0,\"\",Table2[[#This Row],[PTC DISCIPLINE]])","v":""},{"$f":"IF($A115=0,\"\",Table2[[#This Row],[ELEMENT]])","v":""},{"$f":"IF($A115=0,\"\",Table2[[#This Row],[LG&TSL]])","v":""},{"$f":"IF($A115=0,\"\",Table2[[#This Row],[DFV]])","v":""},{"$f":"IF($A115=0,\"\",Table2[[#This Row],[60%-OTS]])","v":""},{"$f":"IF($A115=0,\"\",Table2[[#This Row],[75%]])","v":""},{"$f":"IF($A115=0,\"\",Table2[[#This Row],[Pre-Final PS&E]])","v":""},{"$f":"IF($A115=0,\"\",Table2[[#This Row],[Final PS&E]])","v":""},{"$f":"IF($A115=0,\"\",'LOD Matrix (DO NOT PRINT)'!M115)","v":""},{"$f":"IF($A115=0,\"\",'LOD Matrix (DO NOT PRINT)'!N115)","v":""},{"$f":"IF($A115=0,\"\",IF('LOD Matrix (DO NOT PRINT)'!P115=TRUE,\"Yes\",\"No\"))","v":""}]
[{"$f":"IF(B116=\"Yes\",Table2[[#This Row],[Break Level]],0)","v":0},{"$f":"Table2[[#This Row],[Yes/No]]","v":"No"},null,null,{"$f":"IF($A116=0,\"\",Table2[[#This Row],[PTC DISCIPLINE]])","v":""},{"$f":"IF($A116=0,\"\",Table2[[#This Row],[ELEMENT]])","v":""},{"$f":"IF($A116=0,\"\",Table2[[#This Row],[LG&TSL]])","v":""},{"$f":"IF($A116=0,\"\",Table2[[#This Row],[DFV]])","v":""},{"$f":"IF($A116=0,\"\",Table2[[#This Row],[60%-OTS]])","v":""},{"$f":"IF($A116=0,\"\",Table2[[#This Row],[75%]])","v":""},{"$f":"IF($A116=0,\"\",Table2[[#This Row],[Pre-Final PS&E]])","v":""},{"$f":"IF($A116=0,\"\",Table2[[#This Row],[Final PS&E]])","v":""},{"$f":"IF($A116=0,\"\",'LOD Matrix (DO NOT PRINT)'!M116)","v":""},{"$f":"IF($A116=0,\"\",'LOD Matrix (DO NOT PRINT)'!N116)","v":""},{"$f":"IF($A116=0,\"\",IF('LOD Matrix (DO NOT PRINT)'!P116=TRUE,\"Yes\",\"No\"))","v":""}]
[{"$f":"IF(B117=\"Yes\",Table2[[#This Row],[Break Level]],0)","v":0},{"$f":"Table2[[#This Row],[Yes/No]]","v":"No"},null,null,{"$f":"IF($A117=0,\"\",Table2[[#This Row],[PTC DISCIPLINE]])","v":""},{"$f":"IF($A117=0,\"\",Table2[[#This Row],[ELEMENT]])","v":""},{"$f":"IF($A117=0,\"\",Table2[[#This Row],[LG&TSL]])","v":""},{"$f":"IF($A117=0,\"\",Table2[[#This Row],[DFV]])","v":""},{"$f":"IF($A117=0,\"\",Table2[[#This Row],[60%-OTS]])","v":""},{"$f":"IF($A117=0,\"\",Table2[[#This Row],[75%]])","v":""},{"$f":"IF($A117=0,\"\",Table2[[#This Row],[Pre-Final PS&E]])","v":""},{"$f":"IF($A117=0,\"\",Table2[[#This Row],[Final PS&E]])","v":""},{"$f":"IF($A117=0,\"\",'LOD Matrix (DO NOT PRINT)'!M117)","v":""},{"$f":"IF($A117=0,\"\",'LOD Matrix (DO NOT PRINT)'!N117)","v":""},{"$f":"IF($A117=0,\"\",IF('LOD Matrix (DO NOT PRINT)'!P117=TRUE,\"Yes\",\"No\"))","v":""}]
[{"$f":"IF(B118=\"Yes\",Table2[[#This Row],[Break Level]],0)","v":0},{"$f":"Table2[[#This Row],[Yes/No]]","v":"No"},null,null,{"$f":"IF($A118=0,\"\",Table2[[#This Row],[PTC DISCIPLINE]])","v":""},{"$f":"IF($A118=0,\"\",Table2[[#This Row],[ELEMENT]])","v":""},{"$f":"IF($A118=0,\"\",Table2[[#This Row],[LG&TSL]])","v":""},{"$f":"IF($A118=0,\"\",Table2[[#This Row],[DFV]])","v":""},{"$f":"IF($A118=0,\"\",Table2[[#This Row],[60%-OTS]])","v":""},{"$f":"IF($A118=0,\"\",Table2[[#This Row],[75%]])","v":""},{"$f":"IF($A118=0,\"\",Table2[[#This Row],[Pre-Final PS&E]])","v":""},{"$f":"IF($A118=0,\"\",Table2[[#This Row],[Final PS&E]])","v":""},{"$f":"IF($A118=0,\"\",'LOD Matrix (DO NOT PRINT)'!M118)","v":""},{"$f":"IF($A118=0,\"\",'LOD Matrix (DO NOT PRINT)'!N118)","v":""},{"$f":"IF($A118=0,\"\",IF('LOD Matrix (DO NOT PRINT)'!P118=TRUE,\"Yes\",\"No\"))","v":""}]
[{"$f":"IF(B119=\"Yes\",Table2[[#This Row],[Break Level]],0)","v":0},{"$f":"Table2[[#This Row],[Yes/No]]","v":"No"},null,null,{"$f":"IF($A119=0,\"\",Table2[[#This Row],[PTC DISCIPLINE]])","v":""},{"$f":"IF($A119=0,\"\",Table2[[#This Row],[ELEMENT]])","v":""},{"$f":"IF($A119=0,\"\",Table2[[#This Row],[LG&TSL]])","v":""},{"$f":"IF($A119=0,\"\",Table2[[#This Row],[DFV]])","v":""},{"$f":"IF($A119=0,\"\",Table2[[#This Row],[60%-OTS]])","v":""},{"$f":"IF($A119=0,\"\",Table2[[#This Row],[75%]])","v":""},{"$f":"IF($A119=0,\"\",Table2[[#This Row],[Pre-Final PS&E]])","v":""},{"$f":"IF($A119=0,\"\",Table2[[#This Row],[Final PS&E]])","v":""},{"$f":"IF($A119=0,\"\",'LOD Matrix (DO NOT PRINT)'!M119)","v":""},{"$f":"IF($A119=0,\"\",'LOD Matrix (DO NOT PRINT)'!N119)","v":""},{"$f":"IF($A119=0,\"\",IF('LOD Matrix (DO NOT PRINT)'!P119=TRUE,\"Yes\",\"No\"))","v":""}]
[{"$f":"IF(B120=\"Yes\",Table2[[#This Row],[Break Level]],0)","v":0},{"$f":"Table2[[#This Row],[Yes/No]]","v":"No"},null,null,{"$f":"IF($A120=0,\"\",Table2[[#This Row],[PTC DISCIPLINE]])","v":""},{"$f":"IF($A120=0,\"\",Table2[[#This Row],[ELEMENT]])","v":""},{"$f":"IF($A120=0,\"\",Table2[[#This Row],[LG&TSL]])","v":""},{"$f":"IF($A120=0,\"\",Table2[[#This Row],[DFV]])","v":""},{"$f":"IF($A120=0,\"\",Table2[[#This Row],[60%-OTS]])","v":""},{"$f":"IF($A120=0,\"\",Table2[[#This Row],[75%]])","v":""},{"$f":"IF($A120=0,\"\",Table2[[#This Row],[Pre-Final PS&E]])","v":""},{"$f":"IF($A120=0,\"\",Table2[[#This Row],[Final PS&E]])","v":""},{"$f":"IF($A120=0,\"\",'LOD Matrix (DO NOT PRINT)'!M120)","v":""},{"$f":"IF($A120=0,\"\",'LOD Matrix (DO NOT PRINT)'!N120)","v":""},{"$f":"IF($A120=0,\"\",IF('LOD Matrix (DO NOT PRINT)'!P120=TRUE,\"Yes\",\"No\"))","v":""}]
[{"$f":"IF(B121=\"Yes\",Table2[[#This Row],[Break Level]],0)","v":0},{"$f":"Table2[[#This Row],[Yes/No]]","v":"No"},null,null,{"$f":"IF($A121=0,\"\",Table2[[#This Row],[PTC DISCIPLINE]])","v":""},{"$f":"IF($A121=0,\"\",Table2[[#This Row],[ELEMENT]])","v":""},{"$f":"IF($A121=0,\"\",Table2[[#This Row],[LG&TSL]])","v":""},{"$f":"IF($A121=0,\"\",Table2[[#This Row],[DFV]])","v":""},{"$f":"IF($A121=0,\"\",Table2[[#This Row],[60%-OTS]])","v":""},{"$f":"IF($A121=0,\"\",Table2[[#This Row],[75%]])","v":""},{"$f":"IF($A121=0,\"\",Table2[[#This Row],[Pre-Final PS&E]])","v":""},{"$f":"IF($A121=0,\"\",Table2[[#This Row],[Final PS&E]])","v":""},{"$f":"IF($A121=0,\"\",'LOD Matrix (DO NOT PRINT)'!M121)","v":""},{"$f":"IF($A121=0,\"\",'LOD Matrix (DO NOT PRINT)'!N121)","v":""},{"$f":"IF($A121=0,\"\",IF('LOD Matrix (DO NOT PRINT)'!P121=TRUE,\"Yes\",\"No\"))","v":""}]
[{"$f":"IF(B122=\"Yes\",Table2[[#This Row],[Break Level]],0)","v":0},{"$f":"Table2[[#This Row],[Yes/No]]","v":"No"},null,null,{"$f":"IF($A122=0,\"\",Table2[[#This Row],[PTC DISCIPLINE]])","v":""},{"$f":"IF($A122=0,\"\",Table2[[#This Row],[ELEMENT]])","v":""},{"$f":"IF($A122=0,\"\",Table2[[#This Row],[LG&TSL]])","v":""},{"$f":"IF($A122=0,\"\",Table2[[#This Row],[DFV]])","v":""},{"$f":"IF($A122=0,\"\",Table2[[#This Row],[60%-OTS]])","v":""},{"$f":"IF($A122=0,\"\",Table2[[#This Row],[75%]])","v":""},{"$f":"IF($A122=0,\"\",Table2[[#This Row],[Pre-Final PS&E]])","v":""},{"$f":"IF($A122=0,\"\",Table2[[#This Row],[Final PS&E]])","v":""},{"$f":"IF($A122=0,\"\",'LOD Matrix (DO NOT PRINT)'!M122)","v":""},{"$f":"IF($A122=0,\"\",'LOD Matrix (DO NOT PRINT)'!N122)","v":""},{"$f":"IF($A122=0,\"\",IF('LOD Matrix (DO NOT PRINT)'!P122=TRUE,\"Yes\",\"No\"))","v":""}]
[{"$f":"IF(B123=\"Yes\",Table2[[#This Row],[Break Level]],0)","v":0},{"$f":"Table2[[#This Row],[Yes/No]]","v":"No"},null,null,{"$f":"IF($A123=0,\"\",Table2[[#This Row],[PTC DISCIPLINE]])","v":""},{"$f":"IF($A123=0,\"\",Table2[[#This Row],[ELEMENT]])","v":""},{"$f":"IF($A123=0,\"\",Table2[[#This Row],[LG&TSL]])","v":""},{"$f":"IF($A123=0,\"\",Table2[[#This Row],[DFV]])","v":""},{"$f":"IF($A123=0,\"\",Table2[[#This Row],[60%-OTS]])","v":""},{"$f":"IF($A123=0,\"\",Table2[[#This Row],[75%]])","v":""},{"$f":"IF($A123=0,\"\",Table2[[#This Row],[Pre-Final PS&E]])","v":""},{"$f":"IF($A123=0,\"\",Table2[[#This Row],[Final PS&E]])","v":""},{"$f":"IF($A123=0,\"\",'LOD Matrix (DO NOT PRINT)'!M123)","v":""},{"$f":"IF($A123=0,\"\",'LOD Matrix (DO NOT PRINT)'!N123)","v":""},{"$f":"IF($A123=0,\"\",IF('LOD Matrix (DO NOT PRINT)'!P123=TRUE,\"Yes\",\"No\"))","v":""}]
[{"$f":"IF(B124=\"Yes\",Table2[[#This Row],[Break Level]],0)","v":0},{"$f":"Table2[[#This Row],[Yes/No]]","v":"No"},null,null,{"$f":"IF($A124=0,\"\",Table2[[#This Row],[PTC DISCIPLINE]])","v":""},{"$f":"IF($A124=0,\"\",Table2[[#This Row],[ELEMENT]])","v":""},{"$f":"IF($A124=0,\"\",Table2[[#This Row],[LG&TSL]])","v":""},{"$f":"IF($A124=0,\"\",Table2[[#This Row],[DFV]])","v":""},{"$f":"IF($A124=0,\"\",Table2[[#This Row],[60%-OTS]])","v":""},{"$f":"IF($A124=0,\"\",Table2[[#This Row],[75%]])","v":""},{"$f":"IF($A124=0,\"\",Table2[[#This Row],[Pre-Final PS&E]])","v":""},{"$f":"IF($A124=0,\"\",Table2[[#This Row],[Final PS&E]])","v":""},{"$f":"IF($A124=0,\"\",'LOD Matrix (DO NOT PRINT)'!M124)","v":""},{"$f":"IF($A124=0,\"\",'LOD Matrix (DO NOT PRINT)'!N124)","v":""},{"$f":"IF($A124=0,\"\",IF('LOD Matrix (DO NOT PRINT)'!P124=TRUE,\"Yes\",\"No\"))","v":""}]
[{"$f":"IF(B125=\"Yes\",Table2[[#This Row],[Break Level]],0)","v":0},{"$f":"Table2[[#This Row],[Yes/No]]","v":"No"},null,null,{"$f":"IF($A125=0,\"\",Table2[[#This Row],[PTC DISCIPLINE]])","v":""},{"$f":"IF($A125=0,\"\",Table2[[#This Row],[ELEMENT]])","v":""},{"$f":"IF($A125=0,\"\",Table2[[#This Row],[LG&TSL]])","v":""},{"$f":"IF($A125=0,\"\",Table2[[#This Row],[DFV]])","v":""},{"$f":"IF($A125=0,\"\",Table2[[#This Row],[60%-OTS]])","v":""},{"$f":"IF($A125=0,\"\",Table2[[#This Row],[75%]])","v":""},{"$f":"IF($A125=0,\"\",Table2[[#This Row],[Pre-Final PS&E]])","v":""},{"$f":"IF($A125=0,\"\",Table2[[#This Row],[Final PS&E]])","v":""},{"$f":"IF($A125=0,\"\",'LOD Matrix (DO NOT PRINT)'!M125)","v":""},{"$f":"IF($A125=0,\"\",'LOD Matrix (DO NOT PRINT)'!N125)","v":""},{"$f":"IF($A125=0,\"\",IF('LOD Matrix (DO NOT PRINT)'!P125=TRUE,\"Yes\",\"No\"))","v":""}]
[{"$f":"IF(B126=\"Yes\",Table2[[#This Row],[Break Level]],0)","v":0},{"$f":"Table2[[#This Row],[Yes/No]]","v":"No"},null,null,{"$f":"IF($A126=0,\"\",Table2[[#This Row],[PTC DISCIPLINE]])","v":""},{"$f":"IF($A126=0,\"\",Table2[[#This Row],[ELEMENT]])","v":""},{"$f":"IF($A126=0,\"\",Table2[[#This Row],[LG&TSL]])","v":""},{"$f":"IF($A126=0,\"\",Table2[[#This Row],[DFV]])","v":""},{"$f":"IF($A126=0,\"\",Table2[[#This Row],[60%-OTS]])","v":""},{"$f":"IF($A126=0,\"\",Table2[[#This Row],[75%]])","v":""},{"$f":"IF($A126=0,\"\",Table2[[#This Row],[Pre-Final PS&E]])","v":""},{"$f":"IF($A126=0,\"\",Table2[[#This Row],[Final PS&E]])","v":""},{"$f":"IF($A126=0,\"\",'LOD Matrix (DO NOT PRINT)'!M126)","v":""},{"$f":"IF($A126=0,\"\",'LOD Matrix (DO NOT PRINT)'!N126)","v":""},{"$f":"IF($A126=0,\"\",IF('LOD Matrix (DO NOT PRINT)'!P126=TRUE,\"Yes\",\"No\"))","v":""}]
[{"$f":"IF(B127=\"Yes\",Table2[[#This Row],[Break Level]],0)","v":0},{"$f":"Table2[[#This Row],[Yes/No]]","v":"No"},null,null,{"$f":"IF($A127=0,\"\",Table2[[#This Row],[PTC DISCIPLINE]])","v":""},{"$f":"IF($A127=0,\"\",Table2[[#This Row],[ELEMENT]])","v":""},{"$f":"IF($A127=0,\"\",Table2[[#This Row],[LG&TSL]])","v":""},{"$f":"IF($A127=0,\"\",Table2[[#This Row],[DFV]])","v":""},{"$f":"IF($A127=0,\"\",Table2[[#This Row],[60%-OTS]])","v":""},{"$f":"IF($A127=0,\"\",Table2[[#This Row],[75%]])","v":""},{"$f":"IF($A127=0,\"\",Table2[[#This Row],[Pre-Final PS&E]])","v":""},{"$f":"IF($A127=0,\"\",Table2[[#This Row],[Final PS&E]])","v":""},{"$f":"IF($A127=0,\"\",'LOD Matrix (DO NOT PRINT)'!M127)","v":""},{"$f":"IF($A127=0,\"\",'LOD Matrix (DO NOT PRINT)'!N127)","v":""},{"$f":"IF($A127=0,\"\",IF('LOD Matrix (DO NOT PRINT)'!P127=TRUE,\"Yes\",\"No\"))","v":""}]
[{"$f":"IF(B128=\"Yes\",Table2[[#This Row],[Break Level]],0)","v":0},{"$f":"Table2[[#This Row],[Yes/No]]","v":"No"},null,null,{"$f":"IF($A128=0,\"\",Table2[[#This Row],[PTC DISCIPLINE]])","v":""},{"$f":"IF($A128=0,\"\",Table2[[#This Row],[ELEMENT]])","v":""},{"$f":"IF($A128=0,\"\",Table2[[#This Row],[LG&TSL]])","v":""},{"$f":"IF($A128=0,\"\",Table2[[#This Row],[DFV]])","v":""},{"$f":"IF($A128=0,\"\",Table2[[#This Row],[60%-OTS]])","v":""},{"$f":"IF($A128=0,\"\",Table2[[#This Row],[75%]])","v":""},{"$f":"IF($A128=0,\"\",Table2[[#This Row],[Pre-Final PS&E]])","v":""},{"$f":"IF($A128=0,\"\",Table2[[#This Row],[Final PS&E]])","v":""},{"$f":"IF($A128=0,\"\",'LOD Matrix (DO NOT PRINT)'!M128)","v":""},{"$f":"IF($A128=0,\"\",'LOD Matrix (DO NOT PRINT)'!N128)","v":""},{"$f":"IF($A128=0,\"\",IF('LOD Matrix (DO NOT PRINT)'!P128=TRUE,\"Yes\",\"No\"))","v":""}]
[{"$f":"IF(B129=\"Yes\",Table2[[#This Row],[Break Level]],0)","v":0},{"$f":"Table2[[#This Row],[Yes/No]]","v":"No"},null,null,{"$f":"IF($A129=0,\"\",Table2[[#This Row],[PTC DISCIPLINE]])","v":""},{"$f":"IF($A129=0,\"\",Table2[[#This Row],[ELEMENT]])","v":""},{"$f":"IF($A129=0,\"\",Table2[[#This Row],[LG&TSL]])","v":""},{"$f":"IF($A129=0,\"\",Table2[[#This Row],[DFV]])","v":""},{"$f":"IF($A129=0,\"\",Table2[[#This Row],[60%-OTS]])","v":""},{"$f":"IF($A129=0,\"\",Table2[[#This Row],[75%]])","v":""},{"$f":"IF($A129=0,\"\",Table2[[#This Row],[Pre-Final PS&E]])","v":""},{"$f":"IF($A129=0,\"\",Table2[[#This Row],[Final PS&E]])","v":""},{"$f":"IF($A129=0,\"\",'LOD Matrix (DO NOT PRINT)'!M129)","v":""},{"$f":"IF($A129=0,\"\",'LOD Matrix (DO NOT PRINT)'!N129)","v":""},{"$f":"IF($A129=0,\"\",IF('LOD Matrix (DO NOT PRINT)'!P129=TRUE,\"Yes\",\"No\"))","v":""}]
[{"$f":"IF(B130=\"Yes\",Table2[[#This Row],[Break Level]],0)","v":0},{"$f":"Table2[[#This Row],[Yes/No]]","v":"No"},null,null,{"$f":"IF($A130=0,\"\",Table2[[#This Row],[PTC DISCIPLINE]])","v":""},{"$f":"IF($A130=0,\"\",Table2[[#This Row],[ELEMENT]])","v":""},{"$f":"IF($A130=0,\"\",Table2[[#This Row],[LG&TSL]])","v":""},{"$f":"IF($A130=0,\"\",Table2[[#This Row],[DFV]])","v":""},{"$f":"IF($A130=0,\"\",Table2[[#This Row],[60%-OTS]])","v":""},{"$f":"IF($A130=0,\"\",Table2[[#This Row],[75%]])","v":""},{"$f":"IF($A130=0,\"\",Table2[[#This Row],[Pre-Final PS&E]])","v":""},{"$f":"IF($A130=0,\"\",Table2[[#This Row],[Final PS&E]])","v":""},{"$f":"IF($A130=0,\"\",'LOD Matrix (DO NOT PRINT)'!M130)","v":""},{"$f":"IF($A130=0,\"\",'LOD Matrix (DO NOT PRINT)'!N130)","v":""},{"$f":"IF($A130=0,\"\",IF('LOD Matrix (DO NOT PRINT)'!P130=TRUE,\"Yes\",\"No\"))","v":""}]
[{"$f":"IF(B131=\"Yes\",Table2[[#This Row],[Break Level]],0)","v":0},{"$f":"Table2[[#This Row],[Yes/No]]","v":"No"},null,null,{"$f":"IF($A131=0,\"\",Table2[[#This Row],[PTC DISCIPLINE]])","v":""},{"$f":"IF($A131=0,\"\",Table2[[#This Row],[ELEMENT]])","v":""},{"$f":"IF($A131=0,\"\",Table2[[#This Row],[LG&TSL]])","v":""},{"$f":"IF($A131=0,\"\",Table2[[#This Row],[DFV]])","v":""},{"$f":"IF($A131=0,\"\",Table2[[#This Row],[60%-OTS]])","v":""},{"$f":"IF($A131=0,\"\",Table2[[#This Row],[75%]])","v":""},{"$f":"IF($A131=0,\"\",Table2[[#This Row],[Pre-Final PS&E]])","v":""},{"$f":"IF($A131=0,\"\",Table2[[#This Row],[Final PS&E]])","v":""},{"$f":"IF($A131=0,\"\",'LOD Matrix (DO NOT PRINT)'!M131)","v":""},{"$f":"IF($A131=0,\"\",'LOD Matrix (DO NOT PRINT)'!N131)","v":""},{"$f":"IF($A131=0,\"\",IF('LOD Matrix (DO NOT PRINT)'!P131=TRUE,\"Yes\",\"No\"))","v":""}]
[{"$f":"IF(B132=\"Yes\",Table2[[#This Row],[Break Level]],0)","v":0},{"$f":"Table2[[#This Row],[Yes/No]]","v":"No"},null,null,{"$f":"IF($A132=0,\"\",Table2[[#This Row],[PTC DISCIPLINE]])","v":""},{"$f":"IF($A132=0,\"\",Table2[[#This Row],[ELEMENT]])","v":""},{"$f":"IF($A132=0,\"\",Table2[[#This Row],[LG&TSL]])","v":""},{"$f":"IF($A132=0,\"\",Table2[[#This Row],[DFV]])","v":""},{"$f":"IF($A132=0,\"\",Table2[[#This Row],[60%-OTS]])","v":""},{"$f":"IF($A132=0,\"\",Table2[[#This Row],[75%]])","v":""},{"$f":"IF($A132=0,\"\",Table2[[#This Row],[Pre-Final PS&E]])","v":""},{"$f":"IF($A132=0,\"\",Table2[[#This Row],[Final PS&E]])","v":""},{"$f":"IF($A132=0,\"\",'LOD Matrix (DO NOT PRINT)'!M132)","v":""},{"$f":"IF($A132=0,\"\",'LOD Matrix (DO NOT PRINT)'!N132)","v":""},{"$f":"IF($A132=0,\"\",IF('LOD Matrix (DO NOT PRINT)'!P132=TRUE,\"Yes\",\"No\"))","v":""}]
[{"$f":"IF(B133=\"Yes\",Table2[[#This Row],[Break Level]],0)","v":0},{"$f":"Table2[[#This Row],[Yes/No]]","v":"No"},null,null,{"$f":"IF($A133=0,\"\",Table2[[#This Row],[PTC DISCIPLINE]])","v":""},{"$f":"IF($A133=0,\"\",Table2[[#This Row],[ELEMENT]])","v":""},{"$f":"IF($A133=0,\"\",Table2[[#This Row],[LG&TSL]])","v":""},{"$f":"IF($A133=0,\"\",Table2[[#This Row],[DFV]])","v":""},{"$f":"IF($A133=0,\"\",Table2[[#This Row],[60%-OTS]])","v":""},{"$f":"IF($A133=0,\"\",Table2[[#This Row],[75%]])","v":""},{"$f":"IF($A133=0,\"\",Table2[[#This Row],[Pre-Final PS&E]])","v":""},{"$f":"IF($A133=0,\"\",Table2[[#This Row],[Final PS&E]])","v":""},{"$f":"IF($A133=0,\"\",'LOD Matrix (DO NOT PRINT)'!M133)","v":""},{"$f":"IF($A133=0,\"\",'LOD Matrix (DO NOT PRINT)'!N133)","v":""},{"$f":"IF($A133=0,\"\",IF('LOD Matrix (DO NOT PRINT)'!P133=TRUE,\"Yes\",\"No\"))","v":""}]
[{"$f":"IF(B134=\"Yes\",Table2[[#This Row],[Break Level]],0)","v":0},{"$f":"Table2[[#This Row],[Yes/No]]","v":"No"},null,null,{"$f":"IF($A134=0,\"\",Table2[[#This Row],[PTC DISCIPLINE]])","v":""},{"$f":"IF($A134=0,\"\",Table2[[#This Row],[ELEMENT]])","v":""},{"$f":"IF($A134=0,\"\",Table2[[#This Row],[LG&TSL]])","v":""},{"$f":"IF($A134=0,\"\",Table2[[#This Row],[DFV]])","v":""},{"$f":"IF($A134=0,\"\",Table2[[#This Row],[60%-OTS]])","v":""},{"$f":"IF($A134=0,\"\",Table2[[#This Row],[75%]])","v":""},{"$f":"IF($A134=0,\"\",Table2[[#This Row],[Pre-Final PS&E]])","v":""},{"$f":"IF($A134=0,\"\",Table2[[#This Row],[Final PS&E]])","v":""},{"$f":"IF($A134=0,\"\",'LOD Matrix (DO NOT PRINT)'!M134)","v":""},{"$f":"IF($A134=0,\"\",'LOD Matrix (DO NOT PRINT)'!N134)","v":""},{"$f":"IF($A134=0,\"\",IF('LOD Matrix (DO NOT PRINT)'!P134=TRUE,\"Yes\",\"No\"))","v":""}]
[{"$f":"IF(B135=\"Yes\",Table2[[#This Row],[Break Level]],0)","v":0},{"$f":"Table2[[#This Row],[Yes/No]]","v":"No"},null,null,{"$f":"IF($A135=0,\"\",Table2[[#This Row],[PTC DISCIPLINE]])","v":""},{"$f":"IF($A135=0,\"\",Table2[[#This Row],[ELEMENT]])","v":""},{"$f":"IF($A135=0,\"\",Table2[[#This Row],[LG&TSL]])","v":""},{"$f":"IF($A135=0,\"\",Table2[[#This Row],[DFV]])","v":""},{"$f":"IF($A135=0,\"\",Table2[[#This Row],[60%-OTS]])","v":""},{"$f":"IF($A135=0,\"\",Table2[[#This Row],[75%]])","v":""},{"$f":"IF($A135=0,\"\",Table2[[#This Row],[Pre-Final PS&E]])","v":""},{"$f":"IF($A135=0,\"\",Table2[[#This Row],[Final PS&E]])","v":""},{"$f":"IF($A135=0,\"\",'LOD Matrix (DO NOT PRINT)'!M135)","v":""},{"$f":"IF($A135=0,\"\",'LOD Matrix (DO NOT PRINT)'!N135)","v":""},{"$f":"IF($A135=0,\"\",IF('LOD Matrix (DO NOT PRINT)'!P135=TRUE,\"Yes\",\"No\"))","v":""}]
[{"$f":"IF(B136=\"Yes\",Table2[[#This Row],[Break Level]],0)","v":0},{"$f":"Table2[[#This Row],[Yes/No]]","v":"No"},null,null,{"$f":"IF($A136=0,\"\",Table2[[#This Row],[PTC DISCIPLINE]])","v":""},{"$f":"IF($A136=0,\"\",Table2[[#This Row],[ELEMENT]])","v":""},{"$f":"IF($A136=0,\"\",Table2[[#This Row],[LG&TSL]])","v":""},{"$f":"IF($A136=0,\"\",Table2[[#This Row],[DFV]])","v":""},{"$f":"IF($A136=0,\"\",Table2[[#This Row],[60%-OTS]])","v":""},{"$f":"IF($A136=0,\"\",Table2[[#This Row],[75%]])","v":""},{"$f":"IF($A136=0,\"\",Table2[[#This Row],[Pre-Final PS&E]])","v":""},{"$f":"IF($A136=0,\"\",Table2[[#This Row],[Final PS&E]])","v":""},{"$f":"IF($A136=0,\"\",'LOD Matrix (DO NOT PRINT)'!M136)","v":""},{"$f":"IF($A136=0,\"\",'LOD Matrix (DO NOT PRINT)'!N136)","v":""},{"$f":"IF($A136=0,\"\",IF('LOD Matrix (DO NOT PRINT)'!P136=TRUE,\"Yes\",\"No\"))","v":""}]
[{"$f":"IF(B137=\"Yes\",Table2[[#This Row],[Break Level]],0)","v":0},{"$f":"Table2[[#This Row],[Yes/No]]","v":"No"},null,null,{"$f":"IF($A137=0,\"\",Table2[[#This Row],[PTC DISCIPLINE]])","v":""},{"$f":"IF($A137=0,\"\",Table2[[#This Row],[ELEMENT]])","v":""},{"$f":"IF($A137=0,\"\",Table2[[#This Row],[LG&TSL]])","v":""},{"$f":"IF($A137=0,\"\",Table2[[#This Row],[DFV]])","v":""},{"$f":"IF($A137=0,\"\",Table2[[#This Row],[60%-OTS]])","v":""},{"$f":"IF($A137=0,\"\",Table2[[#This Row],[75%]])","v":""},{"$f":"IF($A137=0,\"\",Table2[[#This Row],[Pre-Final PS&E]])","v":""},{"$f":"IF($A137=0,\"\",Table2[[#This Row],[Final PS&E]])","v":""},{"$f":"IF($A137=0,\"\",'LOD Matrix (DO NOT PRINT)'!M137)","v":""},{"$f":"IF($A137=0,\"\",'LOD Matrix (DO NOT PRINT)'!N137)","v":""},{"$f":"IF($A137=0,\"\",IF('LOD Matrix (DO NOT PRINT)'!P137=TRUE,\"Yes\",\"No\"))","v":""}]
[{"$f":"IF(B138=\"Yes\",Table2[[#This Row],[Break Level]],0)","v":0},{"$f":"Table2[[#This Row],[Yes/No]]","v":"No"},null,null,{"$f":"IF($A138=0,\"\",Table2[[#This Row],[PTC DISCIPLINE]])","v":""},{"$f":"IF($A138=0,\"\",Table2[[#This Row],[ELEMENT]])","v":""},{"$f":"IF($A138=0,\"\",Table2[[#This Row],[LG&TSL]])","v":""},{"$f":"IF($A138=0,\"\",Table2[[#This Row],[DFV]])","v":""},{"$f":"IF($A138=0,\"\",Table2[[#This Row],[60%-OTS]])","v":""},{"$f":"IF($A138=0,\"\",Table2[[#This Row],[75%]])","v":""},{"$f":"IF($A138=0,\"\",Table2[[#This Row],[Pre-Final PS&E]])","v":""},{"$f":"IF($A138=0,\"\",Table2[[#This Row],[Final PS&E]])","v":""},{"$f":"IF($A138=0,\"\",'LOD Matrix (DO NOT PRINT)'!M138)","v":""},{"$f":"IF($A138=0,\"\",'LOD Matrix (DO NOT PRINT)'!N138)","v":""},{"$f":"IF($A138=0,\"\",IF('LOD Matrix (DO NOT PRINT)'!P138=TRUE,\"Yes\",\"No\"))","v":""}]
[{"$f":"IF(B139=\"Yes\",Table2[[#This Row],[Break Level]],0)","v":0},{"$f":"Table2[[#This Row],[Yes/No]]","v":"No"},null,null,{"$f":"IF($A139=0,\"\",Table2[[#This Row],[PTC DISCIPLINE]])","v":""},{"$f":"IF($A139=0,\"\",Table2[[#This Row],[ELEMENT]])","v":""},{"$f":"IF($A139=0,\"\",Table2[[#This Row],[LG&TSL]])","v":""},{"$f":"IF($A139=0,\"\",Table2[[#This Row],[DFV]])","v":""},{"$f":"IF($A139=0,\"\",Table2[[#This Row],[60%-OTS]])","v":""},{"$f":"IF($A139=0,\"\",Table2[[#This Row],[75%]])","v":""},{"$f":"IF($A139=0,\"\",Table2[[#This Row],[Pre-Final PS&E]])","v":""},{"$f":"IF($A139=0,\"\",Table2[[#This Row],[Final PS&E]])","v":""},{"$f":"IF($A139=0,\"\",'LOD Matrix (DO NOT PRINT)'!M139)","v":""},{"$f":"IF($A139=0,\"\",'LOD Matrix (DO NOT PRINT)'!N139)","v":""},{"$f":"IF($A139=0,\"\",IF('LOD Matrix (DO NOT PRINT)'!P139=TRUE,\"Yes\",\"No\"))","v":""}]
[{"$f":"IF(B140=\"Yes\",Table2[[#This Row],[Break Level]],0)","v":0},{"$f":"Table2[[#This Row],[Yes/No]]","v":"No"},null,null,{"$f":"IF($A140=0,\"\",Table2[[#This Row],[PTC DISCIPLINE]])","v":""},{"$f":"IF($A140=0,\"\",Table2[[#This Row],[ELEMENT]])","v":""},{"$f":"IF($A140=0,\"\",Table2[[#This Row],[LG&TSL]])","v":""},{"$f":"IF($A140=0,\"\",Table2[[#This Row],[DFV]])","v":""},{"$f":"IF($A140=0,\"\",Table2[[#This Row],[60%-OTS]])","v":""},{"$f":"IF($A140=0,\"\",Table2[[#This Row],[75%]])","v":""},{"$f":"IF($A140=0,\"\",Table2[[#This Row],[Pre-Final PS&E]])","v":""},{"$f":"IF($A140=0,\"\",Table2[[#This Row],[Final PS&E]])","v":""},{"$f":"IF($A140=0,\"\",'LOD Matrix (DO NOT PRINT)'!M140)","v":""},{"$f":"IF($A140=0,\"\",'LOD Matrix (DO NOT PRINT)'!N140)","v":""},{"$f":"IF($A140=0,\"\",IF('LOD Matrix (DO NOT PRINT)'!P140=TRUE,\"Yes\",\"No\"))","v":""}]
[{"$f":"IF(B141=\"Yes\",Table2[[#This Row],[Break Level]],0)","v":0},{"$f":"Table2[[#This Row],[Yes/No]]","v":"No"},null,null,{"$f":"IF($A141=0,\"\",Table2[[#This Row],[PTC DISCIPLINE]])","v":""},{"$f":"IF($A141=0,\"\",Table2[[#This Row],[ELEMENT]])","v":""},{"$f":"IF($A141=0,\"\",Table2[[#This Row],[LG&TSL]])","v":""},{"$f":"IF($A141=0,\"\",Table2[[#This Row],[DFV]])","v":""},{"$f":"IF($A141=0,\"\",Table2[[#This Row],[60%-OTS]])","v":""},{"$f":"IF($A141=0,\"\",Table2[[#This Row],[75%]])","v":""},{"$f":"IF($A141=0,\"\",Table2[[#This Row],[Pre-Final PS&E]])","v":""},{"$f":"IF($A141=0,\"\",Table2[[#This Row],[Final PS&E]])","v":""},{"$f":"IF($A141=0,\"\",'LOD Matrix (DO NOT PRINT)'!M141)","v":""},{"$f":"IF($A141=0,\"\",'LOD Matrix (DO NOT PRINT)'!N141)","v":""},{"$f":"IF($A141=0,\"\",IF('LOD Matrix (DO NOT PRINT)'!P141=TRUE,\"Yes\",\"No\"))","v":""}]
[{"$f":"IF(B142=\"Yes\",Table2[[#This Row],[Break Level]],0)","v":0},{"$f":"Table2[[#This Row],[Yes/No]]","v":"No"},null,null,{"$f":"IF($A142=0,\"\",Table2[[#This Row],[PTC DISCIPLINE]])","v":""},{"$f":"IF($A142=0,\"\",Table2[[#This Row],[ELEMENT]])","v":""},{"$f":"IF($A142=0,\"\",Table2[[#This Row],[LG&TSL]])","v":""},{"$f":"IF($A142=0,\"\",Table2[[#This Row],[DFV]])","v":""},{"$f":"IF($A142=0,\"\",Table2[[#This Row],[60%-OTS]])","v":""},{"$f":"IF($A142=0,\"\",Table2[[#This Row],[75%]])","v":""},{"$f":"IF($A142=0,\"\",Table2[[#This Row],[Pre-Final PS&E]])","v":""},{"$f":"IF($A142=0,\"\",Table2[[#This Row],[Final PS&E]])","v":""},{"$f":"IF($A142=0,\"\",'LOD Matrix (DO NOT PRINT)'!M142)","v":""},{"$f":"IF($A142=0,\"\",'LOD Matrix (DO NOT PRINT)'!N142)","v":""},{"$f":"IF($A142=0,\"\",IF('LOD Matrix (DO NOT PRINT)'!P142=TRUE,\"Yes\",\"No\"))","v":""}]
[{"$f":"IF(B143=\"Yes\",Table2[[#This Row],[Break Level]],0)","v":0},{"$f":"Table2[[#This Row],[Yes/No]]","v":"No"},null,null,{"$f":"IF($A143=0,\"\",Table2[[#This Row],[PTC DISCIPLINE]])","v":""},{"$f":"IF($A143=0,\"\",Table2[[#This Row],[ELEMENT]])","v":""},{"$f":"IF($A143=0,\"\",Table2[[#This Row],[LG&TSL]])","v":""},{"$f":"IF($A143=0,\"\",Table2[[#This Row],[DFV]])","v":""},{"$f":"IF($A143=0,\"\",Table2[[#This Row],[60%-OTS]])","v":""},{"$f":"IF($A143=0,\"\",Table2[[#This Row],[75%]])","v":""},{"$f":"IF($A143=0,\"\",Table2[[#This Row],[Pre-Final PS&E]])","v":""},{"$f":"IF($A143=0,\"\",Table2[[#This Row],[Final PS&E]])","v":""},{"$f":"IF($A143=0,\"\",'LOD Matrix (DO NOT PRINT)'!M143)","v":""},{"$f":"IF($A143=0,\"\",'LOD Matrix (DO NOT PRINT)'!N143)","v":""},{"$f":"IF($A143=0,\"\",IF('LOD Matrix (DO NOT PRINT)'!P143=TRUE,\"Yes\",\"No\"))","v":""}]
[{"$f":"IF(B144=\"Yes\",Table2[[#This Row],[Break Level]],0)","v":0},{"$f":"Table2[[#This Row],[Yes/No]]","v":"No"},null,null,{"$f":"IF($A144=0,\"\",Table2[[#This Row],[PTC DISCIPLINE]])","v":""},{"$f":"IF($A144=0,\"\",Table2[[#This Row],[ELEMENT]])","v":""},{"$f":"IF($A144=0,\"\",Table2[[#This Row],[LG&TSL]])","v":""},{"$f":"IF($A144=0,\"\",Table2[[#This Row],[DFV]])","v":""},{"$f":"IF($A144=0,\"\",Table2[[#This Row],[60%-OTS]])","v":""},{"$f":"IF($A144=0,\"\",Table2[[#This Row],[75%]])","v":""},{"$f":"IF($A144=0,\"\",Table2[[#This Row],[Pre-Final PS&E]])","v":""},{"$f":"IF($A144=0,\"\",Table2[[#This Row],[Final PS&E]])","v":""},{"$f":"IF($A144=0,\"\",'LOD Matrix (DO NOT PRINT)'!M144)","v":""},{"$f":"IF($A144=0,\"\",'LOD Matrix (DO NOT PRINT)'!N144)","v":""},{"$f":"IF($A144=0,\"\",IF('LOD Matrix (DO NOT PRINT)'!P144=TRUE,\"Yes\",\"No\"))","v":""}]
[{"$f":"IF(B145=\"Yes\",Table2[[#This Row],[Break Level]],0)","v":0},{"$f":"Table2[[#This Row],[Yes/No]]","v":"No"},null,null,{"$f":"IF($A145=0,\"\",Table2[[#This Row],[PTC DISCIPLINE]])","v":""},{"$f":"IF($A145=0,\"\",Table2[[#This Row],[ELEMENT]])","v":""},{"$f":"IF($A145=0,\"\",Table2[[#This Row],[LG&TSL]])","v":""},{"$f":"IF($A145=0,\"\",Table2[[#This Row],[DFV]])","v":""},{"$f":"IF($A145=0,\"\",Table2[[#This Row],[60%-OTS]])","v":""},{"$f":"IF($A145=0,\"\",Table2[[#This Row],[75%]])","v":""},{"$f":"IF($A145=0,\"\",Table2[[#This Row],[Pre-Final PS&E]])","v":""},{"$f":"IF($A145=0,\"\",Table2[[#This Row],[Final PS&E]])","v":""},{"$f":"IF($A145=0,\"\",'LOD Matrix (DO NOT PRINT)'!M145)","v":""},{"$f":"IF($A145=0,\"\",'LOD Matrix (DO NOT PRINT)'!N145)","v":""},{"$f":"IF($A145=0,\"\",IF('LOD Matrix (DO NOT PRINT)'!P145=TRUE,\"Yes\",\"No\"))","v":""}]
[{"$f":"IF(B146=\"Yes\",Table2[[#This Row],[Break Level]],0)","v":0},{"$f":"Table2[[#This Row],[Yes/No]]","v":"No"},null,null,{"$f":"IF($A146=0,\"\",Table2[[#This Row],[PTC DISCIPLINE]])","v":""},{"$f":"IF($A146=0,\"\",Table2[[#This Row],[ELEMENT]])","v":""},{"$f":"IF($A146=0,\"\",Table2[[#This Row],[LG&TSL]])","v":""},{"$f":"IF($A146=0,\"\",Table2[[#This Row],[DFV]])","v":""},{"$f":"IF($A146=0,\"\",Table2[[#This Row],[60%-OTS]])","v":""},{"$f":"IF($A146=0,\"\",Table2[[#This Row],[75%]])","v":""},{"$f":"IF($A146=0,\"\",Table2[[#This Row],[Pre-Final PS&E]])","v":""},{"$f":"IF($A146=0,\"\",Table2[[#This Row],[Final PS&E]])","v":""},{"$f":"IF($A146=0,\"\",'LOD Matrix (DO NOT PRINT)'!M146)","v":""},{"$f":"IF($A146=0,\"\",'LOD Matrix (DO NOT PRINT)'!N146)","v":""},{"$f":"IF($A146=0,\"\",IF('LOD Matrix (DO NOT PRINT)'!P146=TRUE,\"Yes\",\"No\"))","v":""}]
[{"$f":"IF(B147=\"Yes\",Table2[[#This Row],[Break Level]],0)","v":0},{"$f":"Table2[[#This Row],[Yes/No]]","v":"No"},null,null,{"$f":"IF($A147=0,\"\",Table2[[#This Row],[PTC DISCIPLINE]])","v":""},{"$f":"IF($A147=0,\"\",Table2[[#This Row],[ELEMENT]])","v":""},{"$f":"IF($A147=0,\"\",Table2[[#This Row],[LG&TSL]])","v":""},{"$f":"IF($A147=0,\"\",Table2[[#This Row],[DFV]])","v":""},{"$f":"IF($A147=0,\"\",Table2[[#This Row],[60%-OTS]])","v":""},{"$f":"IF($A147=0,\"\",Table2[[#This Row],[75%]])","v":""},{"$f":"IF($A147=0,\"\",Table2[[#This Row],[Pre-Final PS&E]])","v":""},{"$f":"IF($A147=0,\"\",Table2[[#This Row],[Final PS&E]])","v":""},{"$f":"IF($A147=0,\"\",'LOD Matrix (DO NOT PRINT)'!M147)","v":""},{"$f":"IF($A147=0,\"\",'LOD Matrix (DO NOT PRINT)'!N147)","v":""},{"$f":"IF($A147=0,\"\",IF('LOD Matrix (DO NOT PRINT)'!P147=TRUE,\"Yes\",\"No\"))","v":""}]
[{"$f":"IF(B148=\"Yes\",Table2[[#This Row],[Break Level]],0)","v":0},{"$f":"Table2[[#This Row],[Yes/No]]","v":"No"},null,null,{"$f":"IF($A148=0,\"\",Table2[[#This Row],[PTC DISCIPLINE]])","v":""},{"$f":"IF($A148=0,\"\",Table2[[#This Row],[ELEMENT]])","v":""},{"$f":"IF($A148=0,\"\",Table2[[#This Row],[LG&TSL]])","v":""},{"$f":"IF($A148=0,\"\",Table2[[#This Row],[DFV]])","v":""},{"$f":"IF($A148=0,\"\",Table2[[#This Row],[60%-OTS]])","v":""},{"$f":"IF($A148=0,\"\",Table2[[#This Row],[75%]])","v":""},{"$f":"IF($A148=0,\"\",Table2[[#This Row],[Pre-Final PS&E]])","v":""},{"$f":"IF($A148=0,\"\",Table2[[#This Row],[Final PS&E]])","v":""},{"$f":"IF($A148=0,\"\",'LOD Matrix (DO NOT PRINT)'!M148)","v":""},{"$f":"IF($A148=0,\"\",'LOD Matrix (DO NOT PRINT)'!N148)","v":""},{"$f":"IF($A148=0,\"\",IF('LOD Matrix (DO NOT PRINT)'!P148=TRUE,\"Yes\",\"No\"))","v":""}]
[{"$f":"IF(B149=\"Yes\",Table2[[#This Row],[Break Level]],0)","v":0},{"$f":"Table2[[#This Row],[Yes/No]]","v":"No"},null,null,{"$f":"IF($A149=0,\"\",Table2[[#This Row],[PTC DISCIPLINE]])","v":""},{"$f":"IF($A149=0,\"\",Table2[[#This Row],[ELEMENT]])","v":""},{"$f":"IF($A149=0,\"\",Table2[[#This Row],[LG&TSL]])","v":""},{"$f":"IF($A149=0,\"\",Table2[[#This Row],[DFV]])","v":""},{"$f":"IF($A149=0,\"\",Table2[[#This Row],[60%-OTS]])","v":""},{"$f":"IF($A149=0,\"\",Table2[[#This Row],[75%]])","v":""},{"$f":"IF($A149=0,\"\",Table2[[#This Row],[Pre-Final PS&E]])","v":""},{"$f":"IF($A149=0,\"\",Table2[[#This Row],[Final PS&E]])","v":""},{"$f":"IF($A149=0,\"\",'LOD Matrix (DO NOT PRINT)'!M149)","v":""},{"$f":"IF($A149=0,\"\",'LOD Matrix (DO NOT PRINT)'!N149)","v":""},{"$f":"IF($A149=0,\"\",IF('LOD Matrix (DO NOT PRINT)'!P149=TRUE,\"Yes\",\"No\"))","v":""}]
[{"$f":"IF(B150=\"Yes\",Table2[[#This Row],[Break Level]],0)","v":0},{"$f":"Table2[[#This Row],[Yes/No]]","v":"No"},null,null,{"$f":"IF($A150=0,\"\",Table2[[#This Row],[PTC DISCIPLINE]])","v":""},{"$f":"IF($A150=0,\"\",Table2[[#This Row],[ELEMENT]])","v":""},{"$f":"IF($A150=0,\"\",Table2[[#This Row],[LG&TSL]])","v":""},{"$f":"IF($A150=0,\"\",Table2[[#This Row],[DFV]])","v":""},{"$f":"IF($A150=0,\"\",Table2[[#This Row],[60%-OTS]])","v":""},{"$f":"IF($A150=0,\"\",Table2[[#This Row],[75%]])","v":""},{"$f":"IF($A150=0,\"\",Table2[[#This Row],[Pre-Final PS&E]])","v":""},{"$f":"IF($A150=0,\"\",Table2[[#This Row],[Final PS&E]])","v":""},{"$f":"IF($A150=0,\"\",'LOD Matrix (DO NOT PRINT)'!M150)","v":""},{"$f":"IF($A150=0,\"\",'LOD Matrix (DO NOT PRINT)'!N150)","v":""},{"$f":"IF($A150=0,\"\",IF('LOD Matrix (DO NOT PRINT)'!P150=TRUE,\"Yes\",\"No\"))","v":""}]
[{"$f":"IF(B151=\"Yes\",Table2[[#This Row],[Break Level]],0)","v":0},{"$f":"Table2[[#This Row],[Yes/No]]","v":"No"},null,null,{"$f":"IF($A151=0,\"\",Table2[[#This Row],[PTC DISCIPLINE]])","v":""},{"$f":"IF($A151=0,\"\",Table2[[#This Row],[ELEMENT]])","v":""},{"$f":"IF($A151=0,\"\",Table2[[#This Row],[LG&TSL]])","v":""},{"$f":"IF($A151=0,\"\",Table2[[#This Row],[DFV]])","v":""},{"$f":"IF($A151=0,\"\",Table2[[#This Row],[60%-OTS]])","v":""},{"$f":"IF($A151=0,\"\",Table2[[#This Row],[75%]])","v":""},{"$f":"IF($A151=0,\"\",Table2[[#This Row],[Pre-Final PS&E]])","v":""},{"$f":"IF($A151=0,\"\",Table2[[#This Row],[Final PS&E]])","v":""},{"$f":"IF($A151=0,\"\",'LOD Matrix (DO NOT PRINT)'!M151)","v":""},{"$f":"IF($A151=0,\"\",'LOD Matrix (DO NOT PRINT)'!N151)","v":""},{"$f":"IF($A151=0,\"\",IF('LOD Matrix (DO NOT PRINT)'!P151=TRUE,\"Yes\",\"No\"))","v":""}]
[{"$f":"IF(B152=\"Yes\",Table2[[#This Row],[Break Level]],0)","v":0},{"$f":"Table2[[#This Row],[Yes/No]]","v":"No"},null,null,{"$f":"IF($A152=0,\"\",Table2[[#This Row],[PTC DISCIPLINE]])","v":""},{"$f":"IF($A152=0,\"\",Table2[[#This Row],[ELEMENT]])","v":""},{"$f":"IF($A152=0,\"\",Table2[[#This Row],[LG&TSL]])","v":""},{"$f":"IF($A152=0,\"\",Table2[[#This Row],[DFV]])","v":""},{"$f":"IF($A152=0,\"\",Table2[[#This Row],[60%-OTS]])","v":""},{"$f":"IF($A152=0,\"\",Table2[[#This Row],[75%]])","v":""},{"$f":"IF($A152=0,\"\",Table2[[#This Row],[Pre-Final PS&E]])","v":""},{"$f":"IF($A152=0,\"\",Table2[[#This Row],[Final PS&E]])","v":""},{"$f":"IF($A152=0,\"\",'LOD Matrix (DO NOT PRINT)'!M152)","v":""},{"$f":"IF($A152=0,\"\",'LOD Matrix (DO NOT PRINT)'!N152)","v":""},{"$f":"IF($A152=0,\"\",IF('LOD Matrix (DO NOT PRINT)'!P152=TRUE,\"Yes\",\"No\"))","v":""}]
[{"$f":"IF(B153=\"Yes\",Table2[[#This Row],[Break Level]],0)","v":0},{"$f":"Table2[[#This Row],[Yes/No]]","v":"No"},null,null,{"$f":"IF($A153=0,\"\",Table2[[#This Row],[PTC DISCIPLINE]])","v":""},{"$f":"IF($A153=0,\"\",Table2[[#This Row],[ELEMENT]])","v":""},{"$f":"IF($A153=0,\"\",Table2[[#This Row],[LG&TSL]])","v":""},{"$f":"IF($A153=0,\"\",Table2[[#This Row],[DFV]])","v":""},{"$f":"IF($A153=0,\"\",Table2[[#This Row],[60%-OTS]])","v":""},{"$f":"IF($A153=0,\"\",Table2[[#This Row],[75%]])","v":""},{"$f":"IF($A153=0,\"\",Table2[[#This Row],[Pre-Final PS&E]])","v":""},{"$f":"IF($A153=0,\"\",Table2[[#This Row],[Final PS&E]])","v":""},{"$f":"IF($A153=0,\"\",'LOD Matrix (DO NOT PRINT)'!M153)","v":""},{"$f":"IF($A153=0,\"\",'LOD Matrix (DO NOT PRINT)'!N153)","v":""},{"$f":"IF($A153=0,\"\",IF('LOD Matrix (DO NOT PRINT)'!P153=TRUE,\"Yes\",\"No\"))","v":""}]
[{"$f":"IF(B154=\"Yes\",Table2[[#This Row],[Break Level]],0)","v":0},{"$f":"Table2[[#This Row],[Yes/No]]","v":"No"},null,null,{"$f":"IF($A154=0,\"\",Table2[[#This Row],[PTC DISCIPLINE]])","v":""},{"$f":"IF($A154=0,\"\",Table2[[#This Row],[ELEMENT]])","v":""},{"$f":"IF($A154=0,\"\",Table2[[#This Row],[LG&TSL]])","v":""},{"$f":"IF($A154=0,\"\",Table2[[#This Row],[DFV]])","v":""},{"$f":"IF($A154=0,\"\",Table2[[#This Row],[60%-OTS]])","v":""},{"$f":"IF($A154=0,\"\",Table2[[#This Row],[75%]])","v":""},{"$f":"IF($A154=0,\"\",Table2[[#This Row],[Pre-Final PS&E]])","v":""},{"$f":"IF($A154=0,\"\",Table2[[#This Row],[Final PS&E]])","v":""},{"$f":"IF($A154=0,\"\",'LOD Matrix (DO NOT PRINT)'!M154)","v":""},{"$f":"IF($A154=0,\"\",'LOD Matrix (DO NOT PRINT)'!N154)","v":""},{"$f":"IF($A154=0,\"\",IF('LOD Matrix (DO NOT PRINT)'!P154=TRUE,\"Yes\",\"No\"))","v":""}]
[{"$f":"IF(B155=\"Yes\",Table2[[#This Row],[Break Level]],0)","v":0},{"$f":"Table2[[#This Row],[Yes/No]]","v":"No"},null,null,{"$f":"IF($A155=0,\"\",Table2[[#This Row],[PTC DISCIPLINE]])","v":""},{"$f":"IF($A155=0,\"\",Table2[[#This Row],[ELEMENT]])","v":""},{"$f":"IF($A155=0,\"\",Table2[[#This Row],[LG&TSL]])","v":""},{"$f":"IF($A155=0,\"\",Table2[[#This Row],[DFV]])","v":""},{"$f":"IF($A155=0,\"\",Table2[[#This Row],[60%-OTS]])","v":""},{"$f":"IF($A155=0,\"\",Table2[[#This Row],[75%]])","v":""},{"$f":"IF($A155=0,\"\",Table2[[#This Row],[Pre-Final PS&E]])","v":""},{"$f":"IF($A155=0,\"\",Table2[[#This Row],[Final PS&E]])","v":""},{"$f":"IF($A155=0,\"\",'LOD Matrix (DO NOT PRINT)'!M155)","v":""},{"$f":"IF($A155=0,\"\",'LOD Matrix (DO NOT PRINT)'!N155)","v":""},{"$f":"IF($A155=0,\"\",IF('LOD Matrix (DO NOT PRINT)'!P155=TRUE,\"Yes\",\"No\"))","v":""}]
[{"$f":"IF(B156=\"Yes\",Table2[[#This Row],[Break Level]],0)","v":0},{"$f":"Table2[[#This Row],[Yes/No]]","v":"No"},null,null,{"$f":"IF($A156=0,\"\",Table2[[#This Row],[PTC DISCIPLINE]])","v":""},{"$f":"IF($A156=0,\"\",Table2[[#This Row],[ELEMENT]])","v":""},{"$f":"IF($A156=0,\"\",Table2[[#This Row],[LG&TSL]])","v":""},{"$f":"IF($A156=0,\"\",Table2[[#This Row],[DFV]])","v":""},{"$f":"IF($A156=0,\"\",Table2[[#This Row],[60%-OTS]])","v":""},{"$f":"IF($A156=0,\"\",Table2[[#This Row],[75%]])","v":""},{"$f":"IF($A156=0,\"\",Table2[[#This Row],[Pre-Final PS&E]])","v":""},{"$f":"IF($A156=0,\"\",Table2[[#This Row],[Final PS&E]])","v":""},{"$f":"IF($A156=0,\"\",'LOD Matrix (DO NOT PRINT)'!M156)","v":""},{"$f":"IF($A156=0,\"\",'LOD Matrix (DO NOT PRINT)'!N156)","v":""},{"$f":"IF($A156=0,\"\",IF('LOD Matrix (DO NOT PRINT)'!P156=TRUE,\"Yes\",\"No\"))","v":""}]
[{"$f":"IF(B157=\"Yes\",Table2[[#This Row],[Break Level]],0)","v":0},{"$f":"Table2[[#This Row],[Yes/No]]","v":"No"},null,null,{"$f":"IF($A157=0,\"\",Table2[[#This Row],[PTC DISCIPLINE]])","v":""},{"$f":"IF($A157=0,\"\",Table2[[#This Row],[ELEMENT]])","v":""},{"$f":"IF($A157=0,\"\",Table2[[#This Row],[LG&TSL]])","v":""},{"$f":"IF($A157=0,\"\",Table2[[#This Row],[DFV]])","v":""},{"$f":"IF($A157=0,\"\",Table2[[#This Row],[60%-OTS]])","v":""},{"$f":"IF($A157=0,\"\",Table2[[#This Row],[75%]])","v":""},{"$f":"IF($A157=0,\"\",Table2[[#This Row],[Pre-Final PS&E]])","v":""},{"$f":"IF($A157=0,\"\",Table2[[#This Row],[Final PS&E]])","v":""},{"$f":"IF($A157=0,\"\",'LOD Matrix (DO NOT PRINT)'!M157)","v":""},{"$f":"IF($A157=0,\"\",'LOD Matrix (DO NOT PRINT)'!N157)","v":""},{"$f":"IF($A157=0,\"\",IF('LOD Matrix (DO NOT PRINT)'!P157=TRUE,\"Yes\",\"No\"))","v":""}]
[{"$f":"IF(B158=\"Yes\",Table2[[#This Row],[Break Level]],0)","v":0},{"$f":"Table2[[#This Row],[Yes/No]]","v":"No"},null,null,{"$f":"IF($A158=0,\"\",Table2[[#This Row],[PTC DISCIPLINE]])","v":""},{"$f":"IF($A158=0,\"\",Table2[[#This Row],[ELEMENT]])","v":""},{"$f":"IF($A158=0,\"\",Table2[[#This Row],[LG&TSL]])","v":""},{"$f":"IF($A158=0,\"\",Table2[[#This Row],[DFV]])","v":""},{"$f":"IF($A158=0,\"\",Table2[[#This Row],[60%-OTS]])","v":""},{"$f":"IF($A158=0,\"\",Table2[[#This Row],[75%]])","v":""},{"$f":"IF($A158=0,\"\",Table2[[#This Row],[Pre-Final PS&E]])","v":""},{"$f":"IF($A158=0,\"\",Table2[[#This Row],[Final PS&E]])","v":""},{"$f":"IF($A158=0,\"\",'LOD Matrix (DO NOT PRINT)'!M158)","v":""},{"$f":"IF($A158=0,\"\",'LOD Matrix (DO NOT PRINT)'!N158)","v":""},{"$f":"IF($A158=0,\"\",IF('LOD Matrix (DO NOT PRINT)'!P158=TRUE,\"Yes\",\"No\"))","v":""}]
[{"$f":"IF(B159=\"Yes\",Table2[[#This Row],[Break Level]],0)","v":0},{"$f":"Table2[[#This Row],[Yes/No]]","v":"No"},null,null,{"$f":"IF($A159=0,\"\",Table2[[#This Row],[PTC DISCIPLINE]])","v":""},{"$f":"IF($A159=0,\"\",Table2[[#This Row],[ELEMENT]])","v":""},{"$f":"IF($A159=0,\"\",Table2[[#This Row],[LG&TSL]])","v":""},{"$f":"IF($A159=0,\"\",Table2[[#This Row],[DFV]])","v":""},{"$f":"IF($A159=0,\"\",Table2[[#This Row],[60%-OTS]])","v":""},{"$f":"IF($A159=0,\"\",Table2[[#This Row],[75%]])","v":""},{"$f":"IF($A159=0,\"\",Table2[[#This Row],[Pre-Final PS&E]])","v":""},{"$f":"IF($A159=0,\"\",Table2[[#This Row],[Final PS&E]])","v":""},{"$f":"IF($A159=0,\"\",'LOD Matrix (DO NOT PRINT)'!M159)","v":""},{"$f":"IF($A159=0,\"\",'LOD Matrix (DO NOT PRINT)'!N159)","v":""},{"$f":"IF($A159=0,\"\",IF('LOD Matrix (DO NOT PRINT)'!P159=TRUE,\"Yes\",\"No\"))","v":""}]
[{"$f":"IF(B160=\"Yes\",Table2[[#This Row],[Break Level]],0)","v":0},{"$f":"Table2[[#This Row],[Yes/No]]","v":"No"},null,null,{"$f":"IF($A160=0,\"\",Table2[[#This Row],[PTC DISCIPLINE]])","v":""},{"$f":"IF($A160=0,\"\",Table2[[#This Row],[ELEMENT]])","v":""},{"$f":"IF($A160=0,\"\",Table2[[#This Row],[LG&TSL]])","v":""},{"$f":"IF($A160=0,\"\",Table2[[#This Row],[DFV]])","v":""},{"$f":"IF($A160=0,\"\",Table2[[#This Row],[60%-OTS]])","v":""},{"$f":"IF($A160=0,\"\",Table2[[#This Row],[75%]])","v":""},{"$f":"IF($A160=0,\"\",Table2[[#This Row],[Pre-Final PS&E]])","v":""},{"$f":"IF($A160=0,\"\",Table2[[#This Row],[Final PS&E]])","v":""},{"$f":"IF($A160=0,\"\",'LOD Matrix (DO NOT PRINT)'!M160)","v":""},{"$f":"IF($A160=0,\"\",'LOD Matrix (DO NOT PRINT)'!N160)","v":""},{"$f":"IF($A160=0,\"\",IF('LOD Matrix (DO NOT PRINT)'!P160=TRUE,\"Yes\",\"No\"))","v":""}]
[{"$f":"IF(B161=\"Yes\",Table2[[#This Row],[Break Level]],0)","v":0},{"$f":"Table2[[#This Row],[Yes/No]]","v":"No"},null,null,{"$f":"IF($A161=0,\"\",Table2[[#This Row],[PTC DISCIPLINE]])","v":""},{"$f":"IF($A161=0,\"\",Table2[[#This Row],[ELEMENT]])","v":""},{"$f":"IF($A161=0,\"\",Table2[[#This Row],[LG&TSL]])","v":""},{"$f":"IF($A161=0,\"\",Table2[[#This Row],[DFV]])","v":""},{"$f":"IF($A161=0,\"\",Table2[[#This Row],[60%-OTS]])","v":""},{"$f":"IF($A161=0,\"\",Table2[[#This Row],[75%]])","v":""},{"$f":"IF($A161=0,\"\",Table2[[#This Row],[Pre-Final PS&E]])","v":""},{"$f":"IF($A161=0,\"\",Table2[[#This Row],[Final PS&E]])","v":""},{"$f":"IF($A161=0,\"\",'LOD Matrix (DO NOT PRINT)'!M161)","v":""},{"$f":"IF($A161=0,\"\",'LOD Matrix (DO NOT PRINT)'!N161)","v":""},{"$f":"IF($A161=0,\"\",IF('LOD Matrix (DO NOT PRINT)'!P161=TRUE,\"Yes\",\"No\"))","v":""}]
[{"$f":"IF(B162=\"Yes\",Table2[[#This Row],[Break Level]],0)","v":0},{"$f":"Table2[[#This Row],[Yes/No]]","v":"No"},null,null,{"$f":"IF($A162=0,\"\",Table2[[#This Row],[PTC DISCIPLINE]])","v":""},{"$f":"IF($A162=0,\"\",Table2[[#This Row],[ELEMENT]])","v":""},{"$f":"IF($A162=0,\"\",Table2[[#This Row],[LG&TSL]])","v":""},{"$f":"IF($A162=0,\"\",Table2[[#This Row],[DFV]])","v":""},{"$f":"IF($A162=0,\"\",Table2[[#This Row],[60%-OTS]])","v":""},{"$f":"IF($A162=0,\"\",Table2[[#This Row],[75%]])","v":""},{"$f":"IF($A162=0,\"\",Table2[[#This Row],[Pre-Final PS&E]])","v":""},{"$f":"IF($A162=0,\"\",Table2[[#This Row],[Final PS&E]])","v":""},{"$f":"IF($A162=0,\"\",'LOD Matrix (DO NOT PRINT)'!M162)","v":""},{"$f":"IF($A162=0,\"\",'LOD Matrix (DO NOT PRINT)'!N162)","v":""},{"$f":"IF($A162=0,\"\",IF('LOD Matrix (DO NOT PRINT)'!P162=TRUE,\"Yes\",\"No\"))","v":""}]
[{"$f":"IF(B163=\"Yes\",Table2[[#This Row],[Break Level]],0)","v":0},{"$f":"Table2[[#This Row],[Yes/No]]","v":"No"},null,null,{"$f":"IF($A163=0,\"\",Table2[[#This Row],[PTC DISCIPLINE]])","v":""},{"$f":"IF($A163=0,\"\",Table2[[#This Row],[ELEMENT]])","v":""},{"$f":"IF($A163=0,\"\",Table2[[#This Row],[LG&TSL]])","v":""},{"$f":"IF($A163=0,\"\",Table2[[#This Row],[DFV]])","v":""},{"$f":"IF($A163=0,\"\",Table2[[#This Row],[60%-OTS]])","v":""},{"$f":"IF($A163=0,\"\",Table2[[#This Row],[75%]])","v":""},{"$f":"IF($A163=0,\"\",Table2[[#This Row],[Pre-Final PS&E]])","v":""},{"$f":"IF($A163=0,\"\",Table2[[#This Row],[Final PS&E]])","v":""},{"$f":"IF($A163=0,\"\",'LOD Matrix (DO NOT PRINT)'!M163)","v":""},{"$f":"IF($A163=0,\"\",'LOD Matrix (DO NOT PRINT)'!N163)","v":""},{"$f":"IF($A163=0,\"\",IF('LOD Matrix (DO NOT PRINT)'!P163=TRUE,\"Yes\",\"No\"))","v":""}]
[{"$f":"IF(B164=\"Yes\",Table2[[#This Row],[Break Level]],0)","v":0},{"$f":"Table2[[#This Row],[Yes/No]]","v":"No"},null,null,{"$f":"IF($A164=0,\"\",Table2[[#This Row],[PTC DISCIPLINE]])","v":""},{"$f":"IF($A164=0,\"\",Table2[[#This Row],[ELEMENT]])","v":""},{"$f":"IF($A164=0,\"\",Table2[[#This Row],[LG&TSL]])","v":""},{"$f":"IF($A164=0,\"\",Table2[[#This Row],[DFV]])","v":""},{"$f":"IF($A164=0,\"\",Table2[[#This Row],[60%-OTS]])","v":""},{"$f":"IF($A164=0,\"\",Table2[[#This Row],[75%]])","v":""},{"$f":"IF($A164=0,\"\",Table2[[#This Row],[Pre-Final PS&E]])","v":""},{"$f":"IF($A164=0,\"\",Table2[[#This Row],[Final PS&E]])","v":""},{"$f":"IF($A164=0,\"\",'LOD Matrix (DO NOT PRINT)'!M164)","v":""},{"$f":"IF($A164=0,\"\",'LOD Matrix (DO NOT PRINT)'!N164)","v":""},{"$f":"IF($A164=0,\"\",IF('LOD Matrix (DO NOT PRINT)'!P164=TRUE,\"Yes\",\"No\"))","v":""}]
[{"$f":"IF(B165=\"Yes\",Table2[[#This Row],[Break Level]],0)","v":0},{"$f":"Table2[[#This Row],[Yes/No]]","v":"No"},null,null,{"$f":"IF($A165=0,\"\",Table2[[#This Row],[PTC DISCIPLINE]])","v":""},{"$f":"IF($A165=0,\"\",Table2[[#This Row],[ELEMENT]])","v":""},{"$f":"IF($A165=0,\"\",Table2[[#This Row],[LG&TSL]])","v":""},{"$f":"IF($A165=0,\"\",Table2[[#This Row],[DFV]])","v":""},{"$f":"IF($A165=0,\"\",Table2[[#This Row],[60%-OTS]])","v":""},{"$f":"IF($A165=0,\"\",Table2[[#This Row],[75%]])","v":""},{"$f":"IF($A165=0,\"\",Table2[[#This Row],[Pre-Final PS&E]])","v":""},{"$f":"IF($A165=0,\"\",Table2[[#This Row],[Final PS&E]])","v":""},{"$f":"IF($A165=0,\"\",'LOD Matrix (DO NOT PRINT)'!M165)","v":""},{"$f":"IF($A165=0,\"\",'LOD Matrix (DO NOT PRINT)'!N165)","v":""},{"$f":"IF($A165=0,\"\",IF('LOD Matrix (DO NOT PRINT)'!P165=TRUE,\"Yes\",\"No\"))","v":""}]
[{"$f":"IF(B166=\"Yes\",Table2[[#This Row],[Break Level]],0)","v":0},{"$f":"Table2[[#This Row],[Yes/No]]","v":"No"},null,null,{"$f":"IF($A166=0,\"\",Table2[[#This Row],[PTC DISCIPLINE]])","v":""},{"$f":"IF($A166=0,\"\",Table2[[#This Row],[ELEMENT]])","v":""},{"$f":"IF($A166=0,\"\",Table2[[#This Row],[LG&TSL]])","v":""},{"$f":"IF($A166=0,\"\",Table2[[#This Row],[DFV]])","v":""},{"$f":"IF($A166=0,\"\",Table2[[#This Row],[60%-OTS]])","v":""},{"$f":"IF($A166=0,\"\",Table2[[#This Row],[75%]])","v":""},{"$f":"IF($A166=0,\"\",Table2[[#This Row],[Pre-Final PS&E]])","v":""},{"$f":"IF($A166=0,\"\",Table2[[#This Row],[Final PS&E]])","v":""},{"$f":"IF($A166=0,\"\",'LOD Matrix (DO NOT PRINT)'!M166)","v":""},{"$f":"IF($A166=0,\"\",'LOD Matrix (DO NOT PRINT)'!N166)","v":""},{"$f":"IF($A166=0,\"\",IF('LOD Matrix (DO NOT PRINT)'!P166=TRUE,\"Yes\",\"No\"))","v":""}]
[{"$f":"IF(B167=\"Yes\",Table2[[#This Row],[Break Level]],0)","v":0},{"$f":"Table2[[#This Row],[Yes/No]]","v":"No"},null,null,{"$f":"IF($A167=0,\"\",Table2[[#This Row],[PTC DISCIPLINE]])","v":""},{"$f":"IF($A167=0,\"\",Table2[[#This Row],[ELEMENT]])","v":""},{"$f":"IF($A167=0,\"\",Table2[[#This Row],[LG&TSL]])","v":""},{"$f":"IF($A167=0,\"\",Table2[[#This Row],[DFV]])","v":""},{"$f":"IF($A167=0,\"\",Table2[[#This Row],[60%-OTS]])","v":""},{"$f":"IF($A167=0,\"\",Table2[[#This Row],[75%]])","v":""},{"$f":"IF($A167=0,\"\",Table2[[#This Row],[Pre-Final PS&E]])","v":""},{"$f":"IF($A167=0,\"\",Table2[[#This Row],[Final PS&E]])","v":""},{"$f":"IF($A167=0,\"\",'LOD Matrix (DO NOT PRINT)'!M167)","v":""},{"$f":"IF($A167=0,\"\",'LOD Matrix (DO NOT PRINT)'!N167)","v":""},{"$f":"IF($A167=0,\"\",IF('LOD Matrix (DO NOT PRINT)'!P167=TRUE,\"Yes\",\"No\"))","v":""}]
[{"$f":"IF(B168=\"Yes\",Table2[[#This Row],[Break Level]],0)","v":0},{"$f":"Table2[[#This Row],[Yes/No]]","v":"No"},null,null,{"$f":"IF($A168=0,\"\",Table2[[#This Row],[PTC DISCIPLINE]])","v":""},{"$f":"IF($A168=0,\"\",Table2[[#This Row],[ELEMENT]])","v":""},{"$f":"IF($A168=0,\"\",Table2[[#This Row],[LG&TSL]])","v":""},{"$f":"IF($A168=0,\"\",Table2[[#This Row],[DFV]])","v":""},{"$f":"IF($A168=0,\"\",Table2[[#This Row],[60%-OTS]])","v":""},{"$f":"IF($A168=0,\"\",Table2[[#This Row],[75%]])","v":""},{"$f":"IF($A168=0,\"\",Table2[[#This Row],[Pre-Final PS&E]])","v":""},{"$f":"IF($A168=0,\"\",Table2[[#This Row],[Final PS&E]])","v":""},{"$f":"IF($A168=0,\"\",'LOD Matrix (DO NOT PRINT)'!M168)","v":""},{"$f":"IF($A168=0,\"\",'LOD Matrix (DO NOT PRINT)'!N168)","v":""},{"$f":"IF($A168=0,\"\",IF('LOD Matrix (DO NOT PRINT)'!P168=TRUE,\"Yes\",\"No\"))","v":""}]
[{"$f":"IF(B169=\"Yes\",Table2[[#This Row],[Break Level]],0)","v":0},{"$f":"Table2[[#This Row],[Yes/No]]","v":"No"},null,null,{"$f":"IF($A169=0,\"\",Table2[[#This Row],[PTC DISCIPLINE]])","v":""},{"$f":"IF($A169=0,\"\",Table2[[#This Row],[ELEMENT]])","v":""},{"$f":"IF($A169=0,\"\",Table2[[#This Row],[LG&TSL]])","v":""},{"$f":"IF($A169=0,\"\",Table2[[#This Row],[DFV]])","v":""},{"$f":"IF($A169=0,\"\",Table2[[#This Row],[60%-OTS]])","v":""},{"$f":"IF($A169=0,\"\",Table2[[#This Row],[75%]])","v":""},{"$f":"IF($A169=0,\"\",Table2[[#This Row],[Pre-Final PS&E]])","v":""},{"$f":"IF($A169=0,\"\",Table2[[#This Row],[Final PS&E]])","v":""},{"$f":"IF($A169=0,\"\",'LOD Matrix (DO NOT PRINT)'!M169)","v":""},{"$f":"IF($A169=0,\"\",'LOD Matrix (DO NOT PRINT)'!N169)","v":""},{"$f":"IF($A169=0,\"\",IF('LOD Matrix (DO NOT PRINT)'!P169=TRUE,\"Yes\",\"No\"))","v":""}]
[{"$f":"IF(B170=\"Yes\",Table2[[#This Row],[Break Level]],0)","v":0},{"$f":"Table2[[#This Row],[Yes/No]]","v":"No"},null,null,{"$f":"IF($A170=0,\"\",Table2[[#This Row],[PTC DISCIPLINE]])","v":""},{"$f":"IF($A170=0,\"\",Table2[[#This Row],[ELEMENT]])","v":""},{"$f":"IF($A170=0,\"\",Table2[[#This Row],[LG&TSL]])","v":""},{"$f":"IF($A170=0,\"\",Table2[[#This Row],[DFV]])","v":""},{"$f":"IF($A170=0,\"\",Table2[[#This Row],[60%-OTS]])","v":""},{"$f":"IF($A170=0,\"\",Table2[[#This Row],[75%]])","v":""},{"$f":"IF($A170=0,\"\",Table2[[#This Row],[Pre-Final PS&E]])","v":""},{"$f":"IF($A170=0,\"\",Table2[[#This Row],[Final PS&E]])","v":""},{"$f":"IF($A170=0,\"\",'LOD Matrix (DO NOT PRINT)'!M170)","v":""},{"$f":"IF($A170=0,\"\",'LOD Matrix (DO NOT PRINT)'!N170)","v":""},{"$f":"IF($A170=0,\"\",IF('LOD Matrix (DO NOT PRINT)'!P170=TRUE,\"Yes\",\"No\"))","v":""}]
[{"$f":"IF(B171=\"Yes\",Table2[[#This Row],[Break Level]],0)","v":0},{"$f":"Table2[[#This Row],[Yes/No]]","v":"No"},null,null,{"$f":"IF($A171=0,\"\",Table2[[#This Row],[PTC DISCIPLINE]])","v":""},{"$f":"IF($A171=0,\"\",Table2[[#This Row],[ELEMENT]])","v":""},{"$f":"IF($A171=0,\"\",Table2[[#This Row],[LG&TSL]])","v":""},{"$f":"IF($A171=0,\"\",Table2[[#This Row],[DFV]])","v":""},{"$f":"IF($A171=0,\"\",Table2[[#This Row],[60%-OTS]])","v":""},{"$f":"IF($A171=0,\"\",Table2[[#This Row],[75%]])","v":""},{"$f":"IF($A171=0,\"\",Table2[[#This Row],[Pre-Final PS&E]])","v":""},{"$f":"IF($A171=0,\"\",Table2[[#This Row],[Final PS&E]])","v":""},{"$f":"IF($A171=0,\"\",'LOD Matrix (DO NOT PRINT)'!M171)","v":""},{"$f":"IF($A171=0,\"\",'LOD Matrix (DO NOT PRINT)'!N171)","v":""},{"$f":"IF($A171=0,\"\",IF('LOD Matrix (DO NOT PRINT)'!P171=TRUE,\"Yes\",\"No\"))","v":""}]
[{"$f":"IF(B172=\"Yes\",Table2[[#This Row],[Break Level]],0)","v":0},{"$f":"Table2[[#This Row],[Yes/No]]","v":"No"},null,null,{"$f":"IF($A172=0,\"\",Table2[[#This Row],[PTC DISCIPLINE]])","v":""},{"$f":"IF($A172=0,\"\",Table2[[#This Row],[ELEMENT]])","v":""},{"$f":"IF($A172=0,\"\",Table2[[#This Row],[LG&TSL]])","v":""},{"$f":"IF($A172=0,\"\",Table2[[#This Row],[DFV]])","v":""},{"$f":"IF($A172=0,\"\",Table2[[#This Row],[60%-OTS]])","v":""},{"$f":"IF($A172=0,\"\",Table2[[#This Row],[75%]])","v":""},{"$f":"IF($A172=0,\"\",Table2[[#This Row],[Pre-Final PS&E]])","v":""},{"$f":"IF($A172=0,\"\",Table2[[#This Row],[Final PS&E]])","v":""},{"$f":"IF($A172=0,\"\",'LOD Matrix (DO NOT PRINT)'!M172)","v":""},{"$f":"IF($A172=0,\"\",'LOD Matrix (DO NOT PRINT)'!N172)","v":""},{"$f":"IF($A172=0,\"\",IF('LOD Matrix (DO NOT PRINT)'!P172=TRUE,\"Yes\",\"No\"))","v":""}]
[{"$f":"IF(B173=\"Yes\",Table2[[#This Row],[Break Level]],0)","v":0},{"$f":"Table2[[#This Row],[Yes/No]]","v":"No"},null,null,{"$f":"IF($A173=0,\"\",Table2[[#This Row],[PTC DISCIPLINE]])","v":""},{"$f":"IF($A173=0,\"\",Table2[[#This Row],[ELEMENT]])","v":""},{"$f":"IF($A173=0,\"\",Table2[[#This Row],[LG&TSL]])","v":""},{"$f":"IF($A173=0,\"\",Table2[[#This Row],[DFV]])","v":""},{"$f":"IF($A173=0,\"\",Table2[[#This Row],[60%-OTS]])","v":""},{"$f":"IF($A173=0,\"\",Table2[[#This Row],[75%]])","v":""},{"$f":"IF($A173=0,\"\",Table2[[#This Row],[Pre-Final PS&E]])","v":""},{"$f":"IF($A173=0,\"\",Table2[[#This Row],[Final PS&E]])","v":""},{"$f":"IF($A173=0,\"\",'LOD Matrix (DO NOT PRINT)'!M173)","v":""},{"$f":"IF($A173=0,\"\",'LOD Matrix (DO NOT PRINT)'!N173)","v":""},{"$f":"IF($A173=0,\"\",IF('LOD Matrix (DO NOT PRINT)'!P173=TRUE,\"Yes\",\"No\"))","v":""}]
[{"$f":"IF(B174=\"Yes\",Table2[[#This Row],[Break Level]],0)","v":0},{"$f":"Table2[[#This Row],[Yes/No]]","v":"No"},null,null,{"$f":"IF($A174=0,\"\",Table2[[#This Row],[PTC DISCIPLINE]])","v":""},{"$f":"IF($A174=0,\"\",Table2[[#This Row],[ELEMENT]])","v":""},{"$f":"IF($A174=0,\"\",Table2[[#This Row],[LG&TSL]])","v":""},{"$f":"IF($A174=0,\"\",Table2[[#This Row],[DFV]])","v":""},{"$f":"IF($A174=0,\"\",Table2[[#This Row],[60%-OTS]])","v":""},{"$f":"IF($A174=0,\"\",Table2[[#This Row],[75%]])","v":""},{"$f":"IF($A174=0,\"\",Table2[[#This Row],[Pre-Final PS&E]])","v":""},{"$f":"IF($A174=0,\"\",Table2[[#This Row],[Final PS&E]])","v":""},{"$f":"IF($A174=0,\"\",'LOD Matrix (DO NOT PRINT)'!M174)","v":""},{"$f":"IF($A174=0,\"\",'LOD Matrix (DO NOT PRINT)'!N174)","v":""},{"$f":"IF($A174=0,\"\",IF('LOD Matrix (DO NOT PRINT)'!P174=TRUE,\"Yes\",\"No\"))","v":""}]
[{"$f":"IF(B175=\"Yes\",Table2[[#This Row],[Break Level]],0)","v":0},{"$f":"Table2[[#This Row],[Yes/No]]","v":"No"},null,null,{"$f":"IF($A175=0,\"\",Table2[[#This Row],[PTC DISCIPLINE]])","v":""},{"$f":"IF($A175=0,\"\",Table2[[#This Row],[ELEMENT]])","v":""},{"$f":"IF($A175=0,\"\",Table2[[#This Row],[LG&TSL]])","v":""},{"$f":"IF($A175=0,\"\",Table2[[#This Row],[DFV]])","v":""},{"$f":"IF($A175=0,\"\",Table2[[#This Row],[60%-OTS]])","v":""},{"$f":"IF($A175=0,\"\",Table2[[#This Row],[75%]])","v":""},{"$f":"IF($A175=0,\"\",Table2[[#This Row],[Pre-Final PS&E]])","v":""},{"$f":"IF($A175=0,\"\",Table2[[#This Row],[Final PS&E]])","v":""},{"$f":"IF($A175=0,\"\",'LOD Matrix (DO NOT PRINT)'!M175)","v":""},{"$f":"IF($A175=0,\"\",'LOD Matrix (DO NOT PRINT)'!N175)","v":""},{"$f":"IF($A175=0,\"\",IF('LOD Matrix (DO NOT PRINT)'!P175=TRUE,\"Yes\",\"No\"))","v":""}]
[{"$f":"IF(B176=\"Yes\",Table2[[#This Row],[Break Level]],0)","v":0},{"$f":"Table2[[#This Row],[Yes/No]]","v":"No"},null,null,{"$f":"IF($A176=0,\"\",Table2[[#This Row],[PTC DISCIPLINE]])","v":""},{"$f":"IF($A176=0,\"\",Table2[[#This Row],[ELEMENT]])","v":""},{"$f":"IF($A176=0,\"\",Table2[[#This Row],[LG&TSL]])","v":""},{"$f":"IF($A176=0,\"\",Table2[[#This Row],[DFV]])","v":""},{"$f":"IF($A176=0,\"\",Table2[[#This Row],[60%-OTS]])","v":""},{"$f":"IF($A176=0,\"\",Table2[[#This Row],[75%]])","v":""},{"$f":"IF($A176=0,\"\",Table2[[#This Row],[Pre-Final PS&E]])","v":""},{"$f":"IF($A176=0,\"\",Table2[[#This Row],[Final PS&E]])","v":""},{"$f":"IF($A176=0,\"\",'LOD Matrix (DO NOT PRINT)'!M176)","v":""},{"$f":"IF($A176=0,\"\",'LOD Matrix (DO NOT PRINT)'!N176)","v":""},{"$f":"IF($A176=0,\"\",IF('LOD Matrix (DO NOT PRINT)'!P176=TRUE,\"Yes\",\"No\"))","v":""}]
[{"$f":"IF(B177=\"Yes\",Table2[[#This Row],[Break Level]],0)","v":0},{"$f":"Table2[[#This Row],[Yes/No]]","v":"No"},null,null,{"$f":"IF($A177=0,\"\",Table2[[#This Row],[PTC DISCIPLINE]])","v":""},{"$f":"IF($A177=0,\"\",Table2[[#This Row],[ELEMENT]])","v":""},{"$f":"IF($A177=0,\"\",Table2[[#This Row],[LG&TSL]])","v":""},{"$f":"IF($A177=0,\"\",Table2[[#This Row],[DFV]])","v":""},{"$f":"IF($A177=0,\"\",Table2[[#This Row],[60%-OTS]])","v":""},{"$f":"IF($A177=0,\"\",Table2[[#This Row],[75%]])","v":""},{"$f":"IF($A177=0,\"\",Table2[[#This Row],[Pre-Final PS&E]])","v":""},{"$f":"IF($A177=0,\"\",Table2[[#This Row],[Final PS&E]])","v":""},{"$f":"IF($A177=0,\"\",'LOD Matrix (DO NOT PRINT)'!M177)","v":""},{"$f":"IF($A177=0,\"\",'LOD Matrix (DO NOT PRINT)'!N177)","v":""},{"$f":"IF($A177=0,\"\",IF('LOD Matrix (DO NOT PRINT)'!P177=TRUE,\"Yes\",\"No\"))","v":""}]
[{"$f":"IF(B178=\"Yes\",Table2[[#This Row],[Break Level]],0)","v":0},{"$f":"Table2[[#This Row],[Yes/No]]","v":"No"},null,null,{"$f":"IF($A178=0,\"\",Table2[[#This Row],[PTC DISCIPLINE]])","v":""},{"$f":"IF($A178=0,\"\",Table2[[#This Row],[ELEMENT]])","v":""},{"$f":"IF($A178=0,\"\",Table2[[#This Row],[LG&TSL]])","v":""},{"$f":"IF($A178=0,\"\",Table2[[#This Row],[DFV]])","v":""},{"$f":"IF($A178=0,\"\",Table2[[#This Row],[60%-OTS]])","v":""},{"$f":"IF($A178=0,\"\",Table2[[#This Row],[75%]])","v":""},{"$f":"IF($A178=0,\"\",Table2[[#This Row],[Pre-Final PS&E]])","v":""},{"$f":"IF($A178=0,\"\",Table2[[#This Row],[Final PS&E]])","v":""},{"$f":"IF($A178=0,\"\",'LOD Matrix (DO NOT PRINT)'!M178)","v":""},{"$f":"IF($A178=0,\"\",'LOD Matrix (DO NOT PRINT)'!N178)","v":""},{"$f":"IF($A178=0,\"\",IF('LOD Matrix (DO NOT PRINT)'!P178=TRUE,\"Yes\",\"No\"))","v":""}]
[{"$f":"IF(B179=\"Yes\",Table2[[#This Row],[Break Level]],0)","v":0},{"$f":"Table2[[#This Row],[Yes/No]]","v":"No"},null,null,{"$f":"IF($A179=0,\"\",Table2[[#This Row],[PTC DISCIPLINE]])","v":""},{"$f":"IF($A179=0,\"\",Table2[[#This Row],[ELEMENT]])","v":""},{"$f":"IF($A179=0,\"\",Table2[[#This Row],[LG&TSL]])","v":""},{"$f":"IF($A179=0,\"\",Table2[[#This Row],[DFV]])","v":""},{"$f":"IF($A179=0,\"\",Table2[[#This Row],[60%-OTS]])","v":""},{"$f":"IF($A179=0,\"\",Table2[[#This Row],[75%]])","v":""},{"$f":"IF($A179=0,\"\",Table2[[#This Row],[Pre-Final PS&E]])","v":""},{"$f":"IF($A179=0,\"\",Table2[[#This Row],[Final PS&E]])","v":""},{"$f":"IF($A179=0,\"\",'LOD Matrix (DO NOT PRINT)'!M179)","v":""},{"$f":"IF($A179=0,\"\",'LOD Matrix (DO NOT PRINT)'!N179)","v":""},{"$f":"IF($A179=0,\"\",IF('LOD Matrix (DO NOT PRINT)'!P179=TRUE,\"Yes\",\"No\"))","v":""}]
[{"$f":"IF(B180=\"Yes\",Table2[[#This Row],[Break Level]],0)","v":0},{"$f":"Table2[[#This Row],[Yes/No]]","v":"No"},null,null,{"$f":"IF($A180=0,\"\",Table2[[#This Row],[PTC DISCIPLINE]])","v":""},{"$f":"IF($A180=0,\"\",Table2[[#This Row],[ELEMENT]])","v":""},{"$f":"IF($A180=0,\"\",Table2[[#This Row],[LG&TSL]])","v":""},{"$f":"IF($A180=0,\"\",Table2[[#This Row],[DFV]])","v":""},{"$f":"IF($A180=0,\"\",Table2[[#This Row],[60%-OTS]])","v":""},{"$f":"IF($A180=0,\"\",Table2[[#This Row],[75%]])","v":""},{"$f":"IF($A180=0,\"\",Table2[[#This Row],[Pre-Final PS&E]])","v":""},{"$f":"IF($A180=0,\"\",Table2[[#This Row],[Final PS&E]])","v":""},{"$f":"IF($A180=0,\"\",'LOD Matrix (DO NOT PRINT)'!M180)","v":""},{"$f":"IF($A180=0,\"\",'LOD Matrix (DO NOT PRINT)'!N180)","v":""},{"$f":"IF($A180=0,\"\",IF('LOD Matrix (DO NOT PRINT)'!P180=TRUE,\"Yes\",\"No\"))","v":""}]
[{"$f":"IF(B181=\"Yes\",Table2[[#This Row],[Break Level]],0)","v":0},{"$f":"Table2[[#This Row],[Yes/No]]","v":"No"},null,null,{"$f":"IF($A181=0,\"\",Table2[[#This Row],[PTC DISCIPLINE]])","v":""},{"$f":"IF($A181=0,\"\",Table2[[#This Row],[ELEMENT]])","v":""},{"$f":"IF($A181=0,\"\",Table2[[#This Row],[LG&TSL]])","v":""},{"$f":"IF($A181=0,\"\",Table2[[#This Row],[DFV]])","v":""},{"$f":"IF($A181=0,\"\",Table2[[#This Row],[60%-OTS]])","v":""},{"$f":"IF($A181=0,\"\",Table2[[#This Row],[75%]])","v":""},{"$f":"IF($A181=0,\"\",Table2[[#This Row],[Pre-Final PS&E]])","v":""},{"$f":"IF($A181=0,\"\",Table2[[#This Row],[Final PS&E]])","v":""},{"$f":"IF($A181=0,\"\",'LOD Matrix (DO NOT PRINT)'!M181)","v":""},{"$f":"IF($A181=0,\"\",'LOD Matrix (DO NOT PRINT)'!N181)","v":""},{"$f":"IF($A181=0,\"\",IF('LOD Matrix (DO NOT PRINT)'!P181=TRUE,\"Yes\",\"No\"))","v":""}]
[{"$f":"IF(B182=\"Yes\",Table2[[#This Row],[Break Level]],0)","v":0},{"$f":"Table2[[#This Row],[Yes/No]]","v":"No"},null,null,{"$f":"IF($A182=0,\"\",Table2[[#This Row],[PTC DISCIPLINE]])","v":""},{"$f":"IF($A182=0,\"\",Table2[[#This Row],[ELEMENT]])","v":""},{"$f":"IF($A182=0,\"\",Table2[[#This Row],[LG&TSL]])","v":""},{"$f":"IF($A182=0,\"\",Table2[[#This Row],[DFV]])","v":""},{"$f":"IF($A182=0,\"\",Table2[[#This Row],[60%-OTS]])","v":""},{"$f":"IF($A182=0,\"\",Table2[[#This Row],[75%]])","v":""},{"$f":"IF($A182=0,\"\",Table2[[#This Row],[Pre-Final PS&E]])","v":""},{"$f":"IF($A182=0,\"\",Table2[[#This Row],[Final PS&E]])","v":""},{"$f":"IF($A182=0,\"\",'LOD Matrix (DO NOT PRINT)'!M182)","v":""},{"$f":"IF($A182=0,\"\",'LOD Matrix (DO NOT PRINT)'!N182)","v":""},{"$f":"IF($A182=0,\"\",IF('LOD Matrix (DO NOT PRINT)'!P182=TRUE,\"Yes\",\"No\"))","v":""}]
[{"$f":"IF(B183=\"Yes\",Table2[[#This Row],[Break Level]],0)","v":0},{"$f":"Table2[[#This Row],[Yes/No]]","v":"No"},null,null,{"$f":"IF($A183=0,\"\",Table2[[#This Row],[PTC DISCIPLINE]])","v":""},{"$f":"IF($A183=0,\"\",Table2[[#This Row],[ELEMENT]])","v":""},{"$f":"IF($A183=0,\"\",Table2[[#This Row],[LG&TSL]])","v":""},{"$f":"IF($A183=0,\"\",Table2[[#This Row],[DFV]])","v":""},{"$f":"IF($A183=0,\"\",Table2[[#This Row],[60%-OTS]])","v":""},{"$f":"IF($A183=0,\"\",Table2[[#This Row],[75%]])","v":""},{"$f":"IF($A183=0,\"\",Table2[[#This Row],[Pre-Final PS&E]])","v":""},{"$f":"IF($A183=0,\"\",Table2[[#This Row],[Final PS&E]])","v":""},{"$f":"IF($A183=0,\"\",'LOD Matrix (DO NOT PRINT)'!M183)","v":""},{"$f":"IF($A183=0,\"\",'LOD Matrix (DO NOT PRINT)'!N183)","v":""},{"$f":"IF($A183=0,\"\",IF('LOD Matrix (DO NOT PRINT)'!P183=TRUE,\"Yes\",\"No\"))","v":""}]
[{"$f":"IF(B184=\"Yes\",Table2[[#This Row],[Break Level]],0)","v":0},{"$f":"Table2[[#This Row],[Yes/No]]","v":"No"},null,null,{"$f":"IF($A184=0,\"\",Table2[[#This Row],[PTC DISCIPLINE]])","v":""},{"$f":"IF($A184=0,\"\",Table2[[#This Row],[ELEMENT]])","v":""},{"$f":"IF($A184=0,\"\",Table2[[#This Row],[LG&TSL]])","v":""},{"$f":"IF($A184=0,\"\",Table2[[#This Row],[DFV]])","v":""},{"$f":"IF($A184=0,\"\",Table2[[#This Row],[60%-OTS]])","v":""},{"$f":"IF($A184=0,\"\",Table2[[#This Row],[75%]])","v":""},{"$f":"IF($A184=0,\"\",Table2[[#This Row],[Pre-Final PS&E]])","v":""},{"$f":"IF($A184=0,\"\",Table2[[#This Row],[Final PS&E]])","v":""},{"$f":"IF($A184=0,\"\",'LOD Matrix (DO NOT PRINT)'!M184)","v":""},{"$f":"IF($A184=0,\"\",'LOD Matrix (DO NOT PRINT)'!N184)","v":""},{"$f":"IF($A184=0,\"\",IF('LOD Matrix (DO NOT PRINT)'!P184=TRUE,\"Yes\",\"No\"))","v":""}]
[{"$f":"IF(B185=\"Yes\",Table2[[#This Row],[Break Level]],0)","v":0},{"$f":"Table2[[#This Row],[Yes/No]]","v":"No"},null,null,{"$f":"IF($A185=0,\"\",Table2[[#This Row],[PTC DISCIPLINE]])","v":""},{"$f":"IF($A185=0,\"\",Table2[[#This Row],[ELEMENT]])","v":""},{"$f":"IF($A185=0,\"\",Table2[[#This Row],[LG&TSL]])","v":""},{"$f":"IF($A185=0,\"\",Table2[[#This Row],[DFV]])","v":""},{"$f":"IF($A185=0,\"\",Table2[[#This Row],[60%-OTS]])","v":""},{"$f":"IF($A185=0,\"\",Table2[[#This Row],[75%]])","v":""},{"$f":"IF($A185=0,\"\",Table2[[#This Row],[Pre-Final PS&E]])","v":""},{"$f":"IF($A185=0,\"\",Table2[[#This Row],[Final PS&E]])","v":""},{"$f":"IF($A185=0,\"\",'LOD Matrix (DO NOT PRINT)'!M185)","v":""},{"$f":"IF($A185=0,\"\",'LOD Matrix (DO NOT PRINT)'!N185)","v":""},{"$f":"IF($A185=0,\"\",IF('LOD Matrix (DO NOT PRINT)'!P185=TRUE,\"Yes\",\"No\"))","v":""}]
[{"$f":"IF(B186=\"Yes\",Table2[[#This Row],[Break Level]],0)","v":0},{"$f":"Table2[[#This Row],[Yes/No]]","v":"No"},null,null,{"$f":"IF($A186=0,\"\",Table2[[#This Row],[PTC DISCIPLINE]])","v":""},{"$f":"IF($A186=0,\"\",Table2[[#This Row],[ELEMENT]])","v":""},{"$f":"IF($A186=0,\"\",Table2[[#This Row],[LG&TSL]])","v":""},{"$f":"IF($A186=0,\"\",Table2[[#This Row],[DFV]])","v":""},{"$f":"IF($A186=0,\"\",Table2[[#This Row],[60%-OTS]])","v":""},{"$f":"IF($A186=0,\"\",Table2[[#This Row],[75%]])","v":""},{"$f":"IF($A186=0,\"\",Table2[[#This Row],[Pre-Final PS&E]])","v":""},{"$f":"IF($A186=0,\"\",Table2[[#This Row],[Final PS&E]])","v":""},{"$f":"IF($A186=0,\"\",'LOD Matrix (DO NOT PRINT)'!M186)","v":""},{"$f":"IF($A186=0,\"\",'LOD Matrix (DO NOT PRINT)'!N186)","v":""},{"$f":"IF($A186=0,\"\",IF('LOD Matrix (DO NOT PRINT)'!P186=TRUE,\"Yes\",\"No\"))","v":""}]
[{"$f":"IF(B187=\"Yes\",Table2[[#This Row],[Break Level]],0)","v":0},{"$f":"Table2[[#This Row],[Yes/No]]","v":"No"},null,null,{"$f":"IF($A187=0,\"\",Table2[[#This Row],[PTC DISCIPLINE]])","v":""},{"$f":"IF($A187=0,\"\",Table2[[#This Row],[ELEMENT]])","v":""},{"$f":"IF($A187=0,\"\",Table2[[#This Row],[LG&TSL]])","v":""},{"$f":"IF($A187=0,\"\",Table2[[#This Row],[DFV]])","v":""},{"$f":"IF($A187=0,\"\",Table2[[#This Row],[60%-OTS]])","v":""},{"$f":"IF($A187=0,\"\",Table2[[#This Row],[75%]])","v":""},{"$f":"IF($A187=0,\"\",Table2[[#This Row],[Pre-Final PS&E]])","v":""},{"$f":"IF($A187=0,\"\",Table2[[#This Row],[Final PS&E]])","v":""},{"$f":"IF($A187=0,\"\",'LOD Matrix (DO NOT PRINT)'!M187)","v":""},{"$f":"IF($A187=0,\"\",'LOD Matrix (DO NOT PRINT)'!N187)","v":""},{"$f":"IF($A187=0,\"\",IF('LOD Matrix (DO NOT PRINT)'!P187=TRUE,\"Yes\",\"No\"))","v":""}]
[{"$f":"IF(B188=\"Yes\",Table2[[#This Row],[Break Level]],0)","v":0},{"$f":"Table2[[#This Row],[Yes/No]]","v":"No"},null,null,{"$f":"IF($A188=0,\"\",Table2[[#This Row],[PTC DISCIPLINE]])","v":""},{"$f":"IF($A188=0,\"\",Table2[[#This Row],[ELEMENT]])","v":""},{"$f":"IF($A188=0,\"\",Table2[[#This Row],[LG&TSL]])","v":""},{"$f":"IF($A188=0,\"\",Table2[[#This Row],[DFV]])","v":""},{"$f":"IF($A188=0,\"\",Table2[[#This Row],[60%-OTS]])","v":""},{"$f":"IF($A188=0,\"\",Table2[[#This Row],[75%]])","v":""},{"$f":"IF($A188=0,\"\",Table2[[#This Row],[Pre-Final PS&E]])","v":""},{"$f":"IF($A188=0,\"\",Table2[[#This Row],[Final PS&E]])","v":""},{"$f":"IF($A188=0,\"\",'LOD Matrix (DO NOT PRINT)'!M188)","v":""},{"$f":"IF($A188=0,\"\",'LOD Matrix (DO NOT PRINT)'!N188)","v":""},{"$f":"IF($A188=0,\"\",IF('LOD Matrix (DO NOT PRINT)'!P188=TRUE,\"Yes\",\"No\"))","v":""}]
[{"$f":"IF(B189=\"Yes\",Table2[[#This Row],[Break Level]],0)","v":0},{"$f":"Table2[[#This Row],[Yes/No]]","v":"No"},null,null,{"$f":"IF($A189=0,\"\",Table2[[#This Row],[PTC DISCIPLINE]])","v":""},{"$f":"IF($A189=0,\"\",Table2[[#This Row],[ELEMENT]])","v":""},{"$f":"IF($A189=0,\"\",Table2[[#This Row],[LG&TSL]])","v":""},{"$f":"IF($A189=0,\"\",Table2[[#This Row],[DFV]])","v":""},{"$f":"IF($A189=0,\"\",Table2[[#This Row],[60%-OTS]])","v":""},{"$f":"IF($A189=0,\"\",Table2[[#This Row],[75%]])","v":""},{"$f":"IF($A189=0,\"\",Table2[[#This Row],[Pre-Final PS&E]])","v":""},{"$f":"IF($A189=0,\"\",Table2[[#This Row],[Final PS&E]])","v":""},{"$f":"IF($A189=0,\"\",'LOD Matrix (DO NOT PRINT)'!M189)","v":""},{"$f":"IF($A189=0,\"\",'LOD Matrix (DO NOT PRINT)'!N189)","v":""},{"$f":"IF($A189=0,\"\",IF('LOD Matrix (DO NOT PRINT)'!P189=TRUE,\"Yes\",\"No\"))","v":""}]
[{"$f":"IF(B190=\"Yes\",Table2[[#This Row],[Break Level]],0)","v":0},{"$f":"Table2[[#This Row],[Yes/No]]","v":"No"},null,null,{"$f":"IF($A190=0,\"\",Table2[[#This Row],[PTC DISCIPLINE]])","v":""},{"$f":"IF($A190=0,\"\",Table2[[#This Row],[ELEMENT]])","v":""},{"$f":"IF($A190=0,\"\",Table2[[#This Row],[LG&TSL]])","v":""},{"$f":"IF($A190=0,\"\",Table2[[#This Row],[DFV]])","v":""},{"$f":"IF($A190=0,\"\",Table2[[#This Row],[60%-OTS]])","v":""},{"$f":"IF($A190=0,\"\",Table2[[#This Row],[75%]])","v":""},{"$f":"IF($A190=0,\"\",Table2[[#This Row],[Pre-Final PS&E]])","v":""},{"$f":"IF($A190=0,\"\",Table2[[#This Row],[Final PS&E]])","v":""},{"$f":"IF($A190=0,\"\",'LOD Matrix (DO NOT PRINT)'!M190)","v":""},{"$f":"IF($A190=0,\"\",'LOD Matrix (DO NOT PRINT)'!N190)","v":""},{"$f":"IF($A190=0,\"\",IF('LOD Matrix (DO NOT PRINT)'!P190=TRUE,\"Yes\",\"No\"))","v":""}]
[{"$f":"IF(B191=\"Yes\",Table2[[#This Row],[Break Level]],0)","v":0},{"$f":"Table2[[#This Row],[Yes/No]]","v":"No"},null,null,{"$f":"IF($A191=0,\"\",Table2[[#This Row],[PTC DISCIPLINE]])","v":""},{"$f":"IF($A191=0,\"\",Table2[[#This Row],[ELEMENT]])","v":""},{"$f":"IF($A191=0,\"\",Table2[[#This Row],[LG&TSL]])","v":""},{"$f":"IF($A191=0,\"\",Table2[[#This Row],[DFV]])","v":""},{"$f":"IF($A191=0,\"\",Table2[[#This Row],[60%-OTS]])","v":""},{"$f":"IF($A191=0,\"\",Table2[[#This Row],[75%]])","v":""},{"$f":"IF($A191=0,\"\",Table2[[#This Row],[Pre-Final PS&E]])","v":""},{"$f":"IF($A191=0,\"\",Table2[[#This Row],[Final PS&E]])","v":""},{"$f":"IF($A191=0,\"\",'LOD Matrix (DO NOT PRINT)'!M191)","v":""},{"$f":"IF($A191=0,\"\",'LOD Matrix (DO NOT PRINT)'!N191)","v":""},{"$f":"IF($A191=0,\"\",IF('LOD Matrix (DO NOT PRINT)'!P191=TRUE,\"Yes\",\"No\"))","v":""}]
[{"$f":"IF(B192=\"Yes\",Table2[[#This Row],[Break Level]],0)","v":0},{"$f":"Table2[[#This Row],[Yes/No]]","v":"No"},null,null,{"$f":"IF($A192=0,\"\",Table2[[#This Row],[PTC DISCIPLINE]])","v":""},{"$f":"IF($A192=0,\"\",Table2[[#This Row],[ELEMENT]])","v":""},{"$f":"IF($A192=0,\"\",Table2[[#This Row],[LG&TSL]])","v":""},{"$f":"IF($A192=0,\"\",Table2[[#This Row],[DFV]])","v":""},{"$f":"IF($A192=0,\"\",Table2[[#This Row],[60%-OTS]])","v":""},{"$f":"IF($A192=0,\"\",Table2[[#This Row],[75%]])","v":""},{"$f":"IF($A192=0,\"\",Table2[[#This Row],[Pre-Final PS&E]])","v":""},{"$f":"IF($A192=0,\"\",Table2[[#This Row],[Final PS&E]])","v":""},{"$f":"IF($A192=0,\"\",'LOD Matrix (DO NOT PRINT)'!M192)","v":""},{"$f":"IF($A192=0,\"\",'LOD Matrix (DO NOT PRINT)'!N192)","v":""},{"$f":"IF($A192=0,\"\",IF('LOD Matrix (DO NOT PRINT)'!P192=TRUE,\"Yes\",\"No\"))","v":""}]
[{"$f":"IF(B193=\"Yes\",Table2[[#This Row],[Break Level]],0)","v":0},{"$f":"Table2[[#This Row],[Yes/No]]","v":"No"},null,null,{"$f":"IF($A193=0,\"\",Table2[[#This Row],[PTC DISCIPLINE]])","v":""},{"$f":"IF($A193=0,\"\",Table2[[#This Row],[ELEMENT]])","v":""},{"$f":"IF($A193=0,\"\",Table2[[#This Row],[LG&TSL]])","v":""},{"$f":"IF($A193=0,\"\",Table2[[#This Row],[DFV]])","v":""},{"$f":"IF($A193=0,\"\",Table2[[#This Row],[60%-OTS]])","v":""},{"$f":"IF($A193=0,\"\",Table2[[#This Row],[75%]])","v":""},{"$f":"IF($A193=0,\"\",Table2[[#This Row],[Pre-Final PS&E]])","v":""},{"$f":"IF($A193=0,\"\",Table2[[#This Row],[Final PS&E]])","v":""},{"$f":"IF($A193=0,\"\",'LOD Matrix (DO NOT PRINT)'!M193)","v":""},{"$f":"IF($A193=0,\"\",'LOD Matrix (DO NOT PRINT)'!N193)","v":""},{"$f":"IF($A193=0,\"\",IF('LOD Matrix (DO NOT PRINT)'!P193=TRUE,\"Yes\",\"No\"))","v":""}]
[{"$f":"IF(B194=\"Yes\",Table2[[#This Row],[Break Level]],0)","v":0},{"$f":"Table2[[#This Row],[Yes/No]]","v":"No"},null,null,{"$f":"IF($A194=0,\"\",Table2[[#This Row],[PTC DISCIPLINE]])","v":""},{"$f":"IF($A194=0,\"\",Table2[[#This Row],[ELEMENT]])","v":""},{"$f":"IF($A194=0,\"\",Table2[[#This Row],[LG&TSL]])","v":""},{"$f":"IF($A194=0,\"\",Table2[[#This Row],[DFV]])","v":""},{"$f":"IF($A194=0,\"\",Table2[[#This Row],[60%-OTS]])","v":""},{"$f":"IF($A194=0,\"\",Table2[[#This Row],[75%]])","v":""},{"$f":"IF($A194=0,\"\",Table2[[#This Row],[Pre-Final PS&E]])","v":""},{"$f":"IF($A194=0,\"\",Table2[[#This Row],[Final PS&E]])","v":""},{"$f":"IF($A194=0,\"\",'LOD Matrix (DO NOT PRINT)'!M194)","v":""},{"$f":"IF($A194=0,\"\",'LOD Matrix (DO NOT PRINT)'!N194)","v":""},{"$f":"IF($A194=0,\"\",IF('LOD Matrix (DO NOT PRINT)'!P194=TRUE,\"Yes\",\"No\"))","v":""}]
[{"$f":"IF(B195=\"Yes\",Table2[[#This Row],[Break Level]],0)","v":0},{"$f":"Table2[[#This Row],[Yes/No]]","v":"No"},null,null,{"$f":"IF($A195=0,\"\",Table2[[#This Row],[PTC DISCIPLINE]])","v":""},{"$f":"IF($A195=0,\"\",Table2[[#This Row],[ELEMENT]])","v":""},{"$f":"IF($A195=0,\"\",Table2[[#This Row],[LG&TSL]])","v":""},{"$f":"IF($A195=0,\"\",Table2[[#This Row],[DFV]])","v":""},{"$f":"IF($A195=0,\"\",Table2[[#This Row],[60%-OTS]])","v":""},{"$f":"IF($A195=0,\"\",Table2[[#This Row],[75%]])","v":""},{"$f":"IF($A195=0,\"\",Table2[[#This Row],[Pre-Final PS&E]])","v":""},{"$f":"IF($A195=0,\"\",Table2[[#This Row],[Final PS&E]])","v":""},{"$f":"IF($A195=0,\"\",'LOD Matrix (DO NOT PRINT)'!M195)","v":""},{"$f":"IF($A195=0,\"\",'LOD Matrix (DO NOT PRINT)'!N195)","v":""},{"$f":"IF($A195=0,\"\",IF('LOD Matrix (DO NOT PRINT)'!P195=TRUE,\"Yes\",\"No\"))","v":""}]
[{"$f":"IF(B196=\"Yes\",Table2[[#This Row],[Break Level]],0)","v":0},{"$f":"Table2[[#This Row],[Yes/No]]","v":"No"},null,null,{"$f":"IF($A196=0,\"\",Table2[[#This Row],[PTC DISCIPLINE]])","v":""},{"$f":"IF($A196=0,\"\",Table2[[#This Row],[ELEMENT]])","v":""},{"$f":"IF($A196=0,\"\",Table2[[#This Row],[LG&TSL]])","v":""},{"$f":"IF($A196=0,\"\",Table2[[#This Row],[DFV]])","v":""},{"$f":"IF($A196=0,\"\",Table2[[#This Row],[60%-OTS]])","v":""},{"$f":"IF($A196=0,\"\",Table2[[#This Row],[75%]])","v":""},{"$f":"IF($A196=0,\"\",Table2[[#This Row],[Pre-Final PS&E]])","v":""},{"$f":"IF($A196=0,\"\",Table2[[#This Row],[Final PS&E]])","v":""},{"$f":"IF($A196=0,\"\",'LOD Matrix (DO NOT PRINT)'!M196)","v":""},{"$f":"IF($A196=0,\"\",'LOD Matrix (DO NOT PRINT)'!N196)","v":""},{"$f":"IF($A196=0,\"\",IF('LOD Matrix (DO NOT PRINT)'!P196=TRUE,\"Yes\",\"No\"))","v":""}]
[{"$f":"IF(B197=\"Yes\",Table2[[#This Row],[Break Level]],0)","v":0},{"$f":"Table2[[#This Row],[Yes/No]]","v":"No"},null,null,{"$f":"IF($A197=0,\"\",Table2[[#This Row],[PTC DISCIPLINE]])","v":""},{"$f":"IF($A197=0,\"\",Table2[[#This Row],[ELEMENT]])","v":""},{"$f":"IF($A197=0,\"\",Table2[[#This Row],[LG&TSL]])","v":""},{"$f":"IF($A197=0,\"\",Table2[[#This Row],[DFV]])","v":""},{"$f":"IF($A197=0,\"\",Table2[[#This Row],[60%-OTS]])","v":""},{"$f":"IF($A197=0,\"\",Table2[[#This Row],[75%]])","v":""},{"$f":"IF($A197=0,\"\",Table2[[#This Row],[Pre-Final PS&E]])","v":""},{"$f":"IF($A197=0,\"\",Table2[[#This Row],[Final PS&E]])","v":""},{"$f":"IF($A197=0,\"\",'LOD Matrix (DO NOT PRINT)'!M197)","v":""},{"$f":"IF($A197=0,\"\",'LOD Matrix (DO NOT PRINT)'!N197)","v":""},{"$f":"IF($A197=0,\"\",IF('LOD Matrix (DO NOT PRINT)'!P197=TRUE,\"Yes\",\"No\"))","v":""}]
[{"$f":"IF(B198=\"Yes\",Table2[[#This Row],[Break Level]],0)","v":0},{"$f":"Table2[[#This Row],[Yes/No]]","v":"No"},null,null,{"$f":"IF($A198=0,\"\",Table2[[#This Row],[PTC DISCIPLINE]])","v":""},{"$f":"IF($A198=0,\"\",Table2[[#This Row],[ELEMENT]])","v":""},{"$f":"IF($A198=0,\"\",Table2[[#This Row],[LG&TSL]])","v":""},{"$f":"IF($A198=0,\"\",Table2[[#This Row],[DFV]])","v":""},{"$f":"IF($A198=0,\"\",Table2[[#This Row],[60%-OTS]])","v":""},{"$f":"IF($A198=0,\"\",Table2[[#This Row],[75%]])","v":""},{"$f":"IF($A198=0,\"\",Table2[[#This Row],[Pre-Final PS&E]])","v":""},{"$f":"IF($A198=0,\"\",Table2[[#This Row],[Final PS&E]])","v":""},{"$f":"IF($A198=0,\"\",'LOD Matrix (DO NOT PRINT)'!M198)","v":""},{"$f":"IF($A198=0,\"\",'LOD Matrix (DO NOT PRINT)'!N198)","v":""},{"$f":"IF($A198=0,\"\",IF('LOD Matrix (DO NOT PRINT)'!P198=TRUE,\"Yes\",\"No\"))","v":""}]
[{"$f":"IF(B199=\"Yes\",Table2[[#This Row],[Break Level]],0)","v":0},{"$f":"Table2[[#This Row],[Yes/No]]","v":"No"},null,null,{"$f":"IF($A199=0,\"\",Table2[[#This Row],[PTC DISCIPLINE]])","v":""},{"$f":"IF($A199=0,\"\",Table2[[#This Row],[ELEMENT]])","v":""},{"$f":"IF($A199=0,\"\",Table2[[#This Row],[LG&TSL]])","v":""},{"$f":"IF($A199=0,\"\",Table2[[#This Row],[DFV]])","v":""},{"$f":"IF($A199=0,\"\",Table2[[#This Row],[60%-OTS]])","v":""},{"$f":"IF($A199=0,\"\",Table2[[#This Row],[75%]])","v":""},{"$f":"IF($A199=0,\"\",Table2[[#This Row],[Pre-Final PS&E]])","v":""},{"$f":"IF($A199=0,\"\",Table2[[#This Row],[Final PS&E]])","v":""},{"$f":"IF($A199=0,\"\",'LOD Matrix (DO NOT PRINT)'!M199)","v":""},{"$f":"IF($A199=0,\"\",'LOD Matrix (DO NOT PRINT)'!N199)","v":""},{"$f":"IF($A199=0,\"\",IF('LOD Matrix (DO NOT PRINT)'!P199=TRUE,\"Yes\",\"No\"))","v":""}]
[{"$f":"IF(B200=\"Yes\",Table2[[#This Row],[Break Level]],0)","v":0},{"$f":"Table2[[#This Row],[Yes/No]]","v":"No"},null,null,{"$f":"IF($A200=0,\"\",Table2[[#This Row],[PTC DISCIPLINE]])","v":""},{"$f":"IF($A200=0,\"\",Table2[[#This Row],[ELEMENT]])","v":""},{"$f":"IF($A200=0,\"\",Table2[[#This Row],[LG&TSL]])","v":""},{"$f":"IF($A200=0,\"\",Table2[[#This Row],[DFV]])","v":""},{"$f":"IF($A200=0,\"\",Table2[[#This Row],[60%-OTS]])","v":""},{"$f":"IF($A200=0,\"\",Table2[[#This Row],[75%]])","v":""},{"$f":"IF($A200=0,\"\",Table2[[#This Row],[Pre-Final PS&E]])","v":""},{"$f":"IF($A200=0,\"\",Table2[[#This Row],[Final PS&E]])","v":""},{"$f":"IF($A200=0,\"\",'LOD Matrix (DO NOT PRINT)'!M200)","v":""},{"$f":"IF($A200=0,\"\",'LOD Matrix (DO NOT PRINT)'!N200)","v":""},{"$f":"IF($A200=0,\"\",IF('LOD Matrix (DO NOT PRINT)'!P200=TRUE,\"Yes\",\"No\"))","v":""}]
[{"$f":"IF(B201=\"Yes\",Table2[[#This Row],[Break Level]],0)","v":0},{"$f":"Table2[[#This Row],[Yes/No]]","v":"No"},null,null,{"$f":"IF($A201=0,\"\",Table2[[#This Row],[PTC DISCIPLINE]])","v":""},{"$f":"IF($A201=0,\"\",Table2[[#This Row],[ELEMENT]])","v":""},{"$f":"IF($A201=0,\"\",Table2[[#This Row],[LG&TSL]])","v":""},{"$f":"IF($A201=0,\"\",Table2[[#This Row],[DFV]])","v":""},{"$f":"IF($A201=0,\"\",Table2[[#This Row],[60%-OTS]])","v":""},{"$f":"IF($A201=0,\"\",Table2[[#This Row],[75%]])","v":""},{"$f":"IF($A201=0,\"\",Table2[[#This Row],[Pre-Final PS&E]])","v":""},{"$f":"IF($A201=0,\"\",Table2[[#This Row],[Final PS&E]])","v":""},{"$f":"IF($A201=0,\"\",'LOD Matrix (DO NOT PRINT)'!M201)","v":""},{"$f":"IF($A201=0,\"\",'LOD Matrix (DO NOT PRINT)'!N201)","v":""},{"$f":"IF($A201=0,\"\",IF('LOD Matrix (DO NOT PRINT)'!P201=TRUE,\"Yes\",\"No\"))","v":""}]
[{"$f":"IF(B202=\"Yes\",Table2[[#This Row],[Break Level]],0)","v":0},{"$f":"Table2[[#This Row],[Yes/No]]","v":"No"},null,null,{"$f":"IF($A202=0,\"\",Table2[[#This Row],[PTC DISCIPLINE]])","v":""},{"$f":"IF($A202=0,\"\",Table2[[#This Row],[ELEMENT]])","v":""},{"$f":"IF($A202=0,\"\",Table2[[#This Row],[LG&TSL]])","v":""},{"$f":"IF($A202=0,\"\",Table2[[#This Row],[DFV]])","v":""},{"$f":"IF($A202=0,\"\",Table2[[#This Row],[60%-OTS]])","v":""},{"$f":"IF($A202=0,\"\",Table2[[#This Row],[75%]])","v":""},{"$f":"IF($A202=0,\"\",Table2[[#This Row],[Pre-Final PS&E]])","v":""},{"$f":"IF($A202=0,\"\",Table2[[#This Row],[Final PS&E]])","v":""},{"$f":"IF($A202=0,\"\",'LOD Matrix (DO NOT PRINT)'!M202)","v":""},{"$f":"IF($A202=0,\"\",'LOD Matrix (DO NOT PRINT)'!N202)","v":""},{"$f":"IF($A202=0,\"\",IF('LOD Matrix (DO NOT PRINT)'!P202=TRUE,\"Yes\",\"No\"))","v":""}]
[{"$f":"IF(B203=\"Yes\",Table2[[#This Row],[Break Level]],0)","v":0},{"$f":"Table2[[#This Row],[Yes/No]]","v":"No"},null,null,{"$f":"IF($A203=0,\"\",Table2[[#This Row],[PTC DISCIPLINE]])","v":""},{"$f":"IF($A203=0,\"\",Table2[[#This Row],[ELEMENT]])","v":""},{"$f":"IF($A203=0,\"\",Table2[[#This Row],[LG&TSL]])","v":""},{"$f":"IF($A203=0,\"\",Table2[[#This Row],[DFV]])","v":""},{"$f":"IF($A203=0,\"\",Table2[[#This Row],[60%-OTS]])","v":""},{"$f":"IF($A203=0,\"\",Table2[[#This Row],[75%]])","v":""},{"$f":"IF($A203=0,\"\",Table2[[#This Row],[Pre-Final PS&E]])","v":""},{"$f":"IF($A203=0,\"\",Table2[[#This Row],[Final PS&E]])","v":""},{"$f":"IF($A203=0,\"\",'LOD Matrix (DO NOT PRINT)'!M203)","v":""},{"$f":"IF($A203=0,\"\",'LOD Matrix (DO NOT PRINT)'!N203)","v":""},{"$f":"IF($A203=0,\"\",IF('LOD Matrix (DO NOT PRINT)'!P203=TRUE,\"Yes\",\"No\"))","v":""}]
[{"$f":"IF(B204=\"Yes\",Table2[[#This Row],[Break Level]],0)","v":0},{"$f":"Table2[[#This Row],[Yes/No]]","v":"No"},null,null,{"$f":"IF($A204=0,\"\",Table2[[#This Row],[PTC DISCIPLINE]])","v":""},{"$f":"IF($A204=0,\"\",Table2[[#This Row],[ELEMENT]])","v":""},{"$f":"IF($A204=0,\"\",Table2[[#This Row],[LG&TSL]])","v":""},{"$f":"IF($A204=0,\"\",Table2[[#This Row],[DFV]])","v":""},{"$f":"IF($A204=0,\"\",Table2[[#This Row],[60%-OTS]])","v":""},{"$f":"IF($A204=0,\"\",Table2[[#This Row],[75%]])","v":""},{"$f":"IF($A204=0,\"\",Table2[[#This Row],[Pre-Final PS&E]])","v":""},{"$f":"IF($A204=0,\"\",Table2[[#This Row],[Final PS&E]])","v":""},{"$f":"IF($A204=0,\"\",'LOD Matrix (DO NOT PRINT)'!M204)","v":""},{"$f":"IF($A204=0,\"\",'LOD Matrix (DO NOT PRINT)'!N204)","v":""},{"$f":"IF($A204=0,\"\",IF('LOD Matrix (DO NOT PRINT)'!P204=TRUE,\"Yes\",\"No\"))","v":""}]
[{"$f":"IF(B205=\"Yes\",Table2[[#This Row],[Break Level]],0)","v":0},{"$f":"Table2[[#This Row],[Yes/No]]","v":"No"},null,null,{"$f":"IF($A205=0,\"\",Table2[[#This Row],[PTC DISCIPLINE]])","v":""},{"$f":"IF($A205=0,\"\",Table2[[#This Row],[ELEMENT]])","v":""},{"$f":"IF($A205=0,\"\",Table2[[#This Row],[LG&TSL]])","v":""},{"$f":"IF($A205=0,\"\",Table2[[#This Row],[DFV]])","v":""},{"$f":"IF($A205=0,\"\",Table2[[#This Row],[60%-OTS]])","v":""},{"$f":"IF($A205=0,\"\",Table2[[#This Row],[75%]])","v":""},{"$f":"IF($A205=0,\"\",Table2[[#This Row],[Pre-Final PS&E]])","v":""},{"$f":"IF($A205=0,\"\",Table2[[#This Row],[Final PS&E]])","v":""},{"$f":"IF($A205=0,\"\",'LOD Matrix (DO NOT PRINT)'!M205)","v":""},{"$f":"IF($A205=0,\"\",'LOD Matrix (DO NOT PRINT)'!N205)","v":""},{"$f":"IF($A205=0,\"\",IF('LOD Matrix (DO NOT PRINT)'!P205=TRUE,\"Yes\",\"No\"))","v":""}]
[{"$f":"IF(B206=\"Yes\",Table2[[#This Row],[Break Level]],0)","v":0},{"$f":"Table2[[#This Row],[Yes/No]]","v":"No"},null,null,{"$f":"IF($A206=0,\"\",Table2[[#This Row],[PTC DISCIPLINE]])","v":""},{"$f":"IF($A206=0,\"\",Table2[[#This Row],[ELEMENT]])","v":""},{"$f":"IF($A206=0,\"\",Table2[[#This Row],[LG&TSL]])","v":""},{"$f":"IF($A206=0,\"\",Table2[[#This Row],[DFV]])","v":""},{"$f":"IF($A206=0,\"\",Table2[[#This Row],[60%-OTS]])","v":""},{"$f":"IF($A206=0,\"\",Table2[[#This Row],[75%]])","v":""},{"$f":"IF($A206=0,\"\",Table2[[#This Row],[Pre-Final PS&E]])","v":""},{"$f":"IF($A206=0,\"\",Table2[[#This Row],[Final PS&E]])","v":""},{"$f":"IF($A206=0,\"\",'LOD Matrix (DO NOT PRINT)'!M206)","v":""},{"$f":"IF($A206=0,\"\",'LOD Matrix (DO NOT PRINT)'!N206)","v":""},{"$f":"IF($A206=0,\"\",IF('LOD Matrix (DO NOT PRINT)'!P206=TRUE,\"Yes\",\"No\"))","v":""}]
[{"$f":"IF(B207=\"Yes\",Table2[[#This Row],[Break Level]],0)","v":0},{"$f":"Table2[[#This Row],[Yes/No]]","v":"No"},null,null,{"$f":"IF($A207=0,\"\",Table2[[#This Row],[PTC DISCIPLINE]])","v":""},{"$f":"IF($A207=0,\"\",Table2[[#This Row],[ELEMENT]])","v":""},{"$f":"IF($A207=0,\"\",Table2[[#This Row],[LG&TSL]])","v":""},{"$f":"IF($A207=0,\"\",Table2[[#This Row],[DFV]])","v":""},{"$f":"IF($A207=0,\"\",Table2[[#This Row],[60%-OTS]])","v":""},{"$f":"IF($A207=0,\"\",Table2[[#This Row],[75%]])","v":""},{"$f":"IF($A207=0,\"\",Table2[[#This Row],[Pre-Final PS&E]])","v":""},{"$f":"IF($A207=0,\"\",Table2[[#This Row],[Final PS&E]])","v":""},{"$f":"IF($A207=0,\"\",'LOD Matrix (DO NOT PRINT)'!M207)","v":""},{"$f":"IF($A207=0,\"\",'LOD Matrix (DO NOT PRINT)'!N207)","v":""},{"$f":"IF($A207=0,\"\",IF('LOD Matrix (DO NOT PRINT)'!P207=TRUE,\"Yes\",\"No\"))","v":""}]
[{"$f":"IF(B208=\"Yes\",Table2[[#This Row],[Break Level]],0)","v":0},{"$f":"Table2[[#This Row],[Yes/No]]","v":"No"},null,null,{"$f":"IF($A208=0,\"\",Table2[[#This Row],[PTC DISCIPLINE]])","v":""},{"$f":"IF($A208=0,\"\",Table2[[#This Row],[ELEMENT]])","v":""},{"$f":"IF($A208=0,\"\",Table2[[#This Row],[LG&TSL]])","v":""},{"$f":"IF($A208=0,\"\",Table2[[#This Row],[DFV]])","v":""},{"$f":"IF($A208=0,\"\",Table2[[#This Row],[60%-OTS]])","v":""},{"$f":"IF($A208=0,\"\",Table2[[#This Row],[75%]])","v":""},{"$f":"IF($A208=0,\"\",Table2[[#This Row],[Pre-Final PS&E]])","v":""},{"$f":"IF($A208=0,\"\",Table2[[#This Row],[Final PS&E]])","v":""},{"$f":"IF($A208=0,\"\",'LOD Matrix (DO NOT PRINT)'!M208)","v":""},{"$f":"IF($A208=0,\"\",'LOD Matrix (DO NOT PRINT)'!N208)","v":""},{"$f":"IF($A208=0,\"\",IF('LOD Matrix (DO NOT PRINT)'!P208=TRUE,\"Yes\",\"No\"))","v":""}]
[{"$f":"IF(B209=\"Yes\",Table2[[#This Row],[Break Level]],0)","v":0},{"$f":"Table2[[#This Row],[Yes/No]]","v":"No"},null,null,{"$f":"IF($A209=0,\"\",Table2[[#This Row],[PTC DISCIPLINE]])","v":""},{"$f":"IF($A209=0,\"\",Table2[[#This Row],[ELEMENT]])","v":""},{"$f":"IF($A209=0,\"\",Table2[[#This Row],[LG&TSL]])","v":""},{"$f":"IF($A209=0,\"\",Table2[[#This Row],[DFV]])","v":""},{"$f":"IF($A209=0,\"\",Table2[[#This Row],[60%-OTS]])","v":""},{"$f":"IF($A209=0,\"\",Table2[[#This Row],[75%]])","v":""},{"$f":"IF($A209=0,\"\",Table2[[#This Row],[Pre-Final PS&E]])","v":""},{"$f":"IF($A209=0,\"\",Table2[[#This Row],[Final PS&E]])","v":""},{"$f":"IF($A209=0,\"\",'LOD Matrix (DO NOT PRINT)'!M209)","v":""},{"$f":"IF($A209=0,\"\",'LOD Matrix (DO NOT PRINT)'!N209)","v":""},{"$f":"IF($A209=0,\"\",IF('LOD Matrix (DO NOT PRINT)'!P209=TRUE,\"Yes\",\"No\"))","v":""}]
[{"$f":"IF(B210=\"Yes\",Table2[[#This Row],[Break Level]],0)","v":0},{"$f":"Table2[[#This Row],[Yes/No]]","v":"No"},null,null,{"$f":"IF($A210=0,\"\",Table2[[#This Row],[PTC DISCIPLINE]])","v":""},{"$f":"IF($A210=0,\"\",Table2[[#This Row],[ELEMENT]])","v":""},{"$f":"IF($A210=0,\"\",Table2[[#This Row],[LG&TSL]])","v":""},{"$f":"IF($A210=0,\"\",Table2[[#This Row],[DFV]])","v":""},{"$f":"IF($A210=0,\"\",Table2[[#This Row],[60%-OTS]])","v":""},{"$f":"IF($A210=0,\"\",Table2[[#This Row],[75%]])","v":""},{"$f":"IF($A210=0,\"\",Table2[[#This Row],[Pre-Final PS&E]])","v":""},{"$f":"IF($A210=0,\"\",Table2[[#This Row],[Final PS&E]])","v":""},{"$f":"IF($A210=0,\"\",'LOD Matrix (DO NOT PRINT)'!M210)","v":""},{"$f":"IF($A210=0,\"\",'LOD Matrix (DO NOT PRINT)'!N210)","v":""},{"$f":"IF($A210=0,\"\",IF('LOD Matrix (DO NOT PRINT)'!P210=TRUE,\"Yes\",\"No\"))","v":""}]
[{"$f":"IF(B211=\"Yes\",Table2[[#This Row],[Break Level]],0)","v":0},{"$f":"Table2[[#This Row],[Yes/No]]","v":"No"},null,null,{"$f":"IF($A211=0,\"\",Table2[[#This Row],[PTC DISCIPLINE]])","v":""},{"$f":"IF($A211=0,\"\",Table2[[#This Row],[ELEMENT]])","v":""},{"$f":"IF($A211=0,\"\",Table2[[#This Row],[LG&TSL]])","v":""},{"$f":"IF($A211=0,\"\",Table2[[#This Row],[DFV]])","v":""},{"$f":"IF($A211=0,\"\",Table2[[#This Row],[60%-OTS]])","v":""},{"$f":"IF($A211=0,\"\",Table2[[#This Row],[75%]])","v":""},{"$f":"IF($A211=0,\"\",Table2[[#This Row],[Pre-Final PS&E]])","v":""},{"$f":"IF($A211=0,\"\",Table2[[#This Row],[Final PS&E]])","v":""},{"$f":"IF($A211=0,\"\",'LOD Matrix (DO NOT PRINT)'!M211)","v":""},{"$f":"IF($A211=0,\"\",'LOD Matrix (DO NOT PRINT)'!N211)","v":""},{"$f":"IF($A211=0,\"\",IF('LOD Matrix (DO NOT PRINT)'!P211=TRUE,\"Yes\",\"No\"))","v":""}]
[{"$f":"IF(B212=\"Yes\",Table2[[#This Row],[Break Level]],0)","v":0},{"$f":"Table2[[#This Row],[Yes/No]]","v":"No"},null,null,{"$f":"IF($A212=0,\"\",Table2[[#This Row],[PTC DISCIPLINE]])","v":""},{"$f":"IF($A212=0,\"\",Table2[[#This Row],[ELEMENT]])","v":""},{"$f":"IF($A212=0,\"\",Table2[[#This Row],[LG&TSL]])","v":""},{"$f":"IF($A212=0,\"\",Table2[[#This Row],[DFV]])","v":""},{"$f":"IF($A212=0,\"\",Table2[[#This Row],[60%-OTS]])","v":""},{"$f":"IF($A212=0,\"\",Table2[[#This Row],[75%]])","v":""},{"$f":"IF($A212=0,\"\",Table2[[#This Row],[Pre-Final PS&E]])","v":""},{"$f":"IF($A212=0,\"\",Table2[[#This Row],[Final PS&E]])","v":""},{"$f":"IF($A212=0,\"\",'LOD Matrix (DO NOT PRINT)'!M212)","v":""},{"$f":"IF($A212=0,\"\",'LOD Matrix (DO NOT PRINT)'!N212)","v":""},{"$f":"IF($A212=0,\"\",IF('LOD Matrix (DO NOT PRINT)'!P212=TRUE,\"Yes\",\"No\"))","v":""}]
[{"$f":"IF(B213=\"Yes\",Table2[[#This Row],[Break Level]],0)","v":0},{"$f":"Table2[[#This Row],[Yes/No]]","v":"No"},null,null,{"$f":"IF($A213=0,\"\",Table2[[#This Row],[PTC DISCIPLINE]])","v":""},{"$f":"IF($A213=0,\"\",Table2[[#This Row],[ELEMENT]])","v":""},{"$f":"IF($A213=0,\"\",Table2[[#This Row],[LG&TSL]])","v":""},{"$f":"IF($A213=0,\"\",Table2[[#This Row],[DFV]])","v":""},{"$f":"IF($A213=0,\"\",Table2[[#This Row],[60%-OTS]])","v":""},{"$f":"IF($A213=0,\"\",Table2[[#This Row],[75%]])","v":""},{"$f":"IF($A213=0,\"\",Table2[[#This Row],[Pre-Final PS&E]])","v":""},{"$f":"IF($A213=0,\"\",Table2[[#This Row],[Final PS&E]])","v":""},{"$f":"IF($A213=0,\"\",'LOD Matrix (DO NOT PRINT)'!M213)","v":""},{"$f":"IF($A213=0,\"\",'LOD Matrix (DO NOT PRINT)'!N213)","v":""},{"$f":"IF($A213=0,\"\",IF('LOD Matrix (DO NOT PRINT)'!P213=TRUE,\"Yes\",\"No\"))","v":""}]
[{"$f":"IF(B214=\"Yes\",Table2[[#This Row],[Break Level]],0)","v":0},{"$f":"Table2[[#This Row],[Yes/No]]","v":"No"},null,null,{"$f":"IF($A214=0,\"\",Table2[[#This Row],[PTC DISCIPLINE]])","v":""},{"$f":"IF($A214=0,\"\",Table2[[#This Row],[ELEMENT]])","v":""},{"$f":"IF($A214=0,\"\",Table2[[#This Row],[LG&TSL]])","v":""},{"$f":"IF($A214=0,\"\",Table2[[#This Row],[DFV]])","v":""},{"$f":"IF($A214=0,\"\",Table2[[#This Row],[60%-OTS]])","v":""},{"$f":"IF($A214=0,\"\",Table2[[#This Row],[75%]])","v":""},{"$f":"IF($A214=0,\"\",Table2[[#This Row],[Pre-Final PS&E]])","v":""},{"$f":"IF($A214=0,\"\",Table2[[#This Row],[Final PS&E]])","v":""},{"$f":"IF($A214=0,\"\",'LOD Matrix (DO NOT PRINT)'!M214)","v":""},{"$f":"IF($A214=0,\"\",'LOD Matrix (DO NOT PRINT)'!N214)","v":""},{"$f":"IF($A214=0,\"\",IF('LOD Matrix (DO NOT PRINT)'!P214=TRUE,\"Yes\",\"No\"))","v":""}]
[{"$f":"IF(B215=\"Yes\",Table2[[#This Row],[Break Level]],0)","v":0},{"$f":"Table2[[#This Row],[Yes/No]]","v":"No"},null,null,{"$f":"IF($A215=0,\"\",Table2[[#This Row],[PTC DISCIPLINE]])","v":""},{"$f":"IF($A215=0,\"\",Table2[[#This Row],[ELEMENT]])","v":""},{"$f":"IF($A215=0,\"\",Table2[[#This Row],[LG&TSL]])","v":""},{"$f":"IF($A215=0,\"\",Table2[[#This Row],[DFV]])","v":""},{"$f":"IF($A215=0,\"\",Table2[[#This Row],[60%-OTS]])","v":""},{"$f":"IF($A215=0,\"\",Table2[[#This Row],[75%]])","v":""},{"$f":"IF($A215=0,\"\",Table2[[#This Row],[Pre-Final PS&E]])","v":""},{"$f":"IF($A215=0,\"\",Table2[[#This Row],[Final PS&E]])","v":""},{"$f":"IF($A215=0,\"\",'LOD Matrix (DO NOT PRINT)'!M215)","v":""},{"$f":"IF($A215=0,\"\",'LOD Matrix (DO NOT PRINT)'!N215)","v":""},{"$f":"IF($A215=0,\"\",IF('LOD Matrix (DO NOT PRINT)'!P215=TRUE,\"Yes\",\"No\"))","v":""}]
[{"$f":"IF(B216=\"Yes\",Table2[[#This Row],[Break Level]],0)","v":0},{"$f":"Table2[[#This Row],[Yes/No]]","v":"No"},null,null,{"$f":"IF($A216=0,\"\",Table2[[#This Row],[PTC DISCIPLINE]])","v":""},{"$f":"IF($A216=0,\"\",Table2[[#This Row],[ELEMENT]])","v":""},{"$f":"IF($A216=0,\"\",Table2[[#This Row],[LG&TSL]])","v":""},{"$f":"IF($A216=0,\"\",Table2[[#This Row],[DFV]])","v":""},{"$f":"IF($A216=0,\"\",Table2[[#This Row],[60%-OTS]])","v":""},{"$f":"IF($A216=0,\"\",Table2[[#This Row],[75%]])","v":""},{"$f":"IF($A216=0,\"\",Table2[[#This Row],[Pre-Final PS&E]])","v":""},{"$f":"IF($A216=0,\"\",Table2[[#This Row],[Final PS&E]])","v":""},{"$f":"IF($A216=0,\"\",'LOD Matrix (DO NOT PRINT)'!M216)","v":""},{"$f":"IF($A216=0,\"\",'LOD Matrix (DO NOT PRINT)'!N216)","v":""},{"$f":"IF($A216=0,\"\",IF('LOD Matrix (DO NOT PRINT)'!P216=TRUE,\"Yes\",\"No\"))","v":""}]
[{"$f":"IF(B217=\"Yes\",Table2[[#This Row],[Break Level]],0)","v":0},{"$f":"Table2[[#This Row],[Yes/No]]","v":"No"},null,null,{"$f":"IF($A217=0,\"\",Table2[[#This Row],[PTC DISCIPLINE]])","v":""},{"$f":"IF($A217=0,\"\",Table2[[#This Row],[ELEMENT]])","v":""},{"$f":"IF($A217=0,\"\",Table2[[#This Row],[LG&TSL]])","v":""},{"$f":"IF($A217=0,\"\",Table2[[#This Row],[DFV]])","v":""},{"$f":"IF($A217=0,\"\",Table2[[#This Row],[60%-OTS]])","v":""},{"$f":"IF($A217=0,\"\",Table2[[#This Row],[75%]])","v":""},{"$f":"IF($A217=0,\"\",Table2[[#This Row],[Pre-Final PS&E]])","v":""},{"$f":"IF($A217=0,\"\",Table2[[#This Row],[Final PS&E]])","v":""},{"$f":"IF($A217=0,\"\",'LOD Matrix (DO NOT PRINT)'!M217)","v":""},{"$f":"IF($A217=0,\"\",'LOD Matrix (DO NOT PRINT)'!N217)","v":""},{"$f":"IF($A217=0,\"\",IF('LOD Matrix (DO NOT PRINT)'!P217=TRUE,\"Yes\",\"No\"))","v":""}]
[{"$f":"IF(B218=\"Yes\",Table2[[#This Row],[Break Level]],0)","v":0},{"$f":"Table2[[#This Row],[Yes/No]]","v":"No"},null,null,{"$f":"IF($A218=0,\"\",Table2[[#This Row],[PTC DISCIPLINE]])","v":""},{"$f":"IF($A218=0,\"\",Table2[[#This Row],[ELEMENT]])","v":""},{"$f":"IF($A218=0,\"\",Table2[[#This Row],[LG&TSL]])","v":""},{"$f":"IF($A218=0,\"\",Table2[[#This Row],[DFV]])","v":""},{"$f":"IF($A218=0,\"\",Table2[[#This Row],[60%-OTS]])","v":""},{"$f":"IF($A218=0,\"\",Table2[[#This Row],[75%]])","v":""},{"$f":"IF($A218=0,\"\",Table2[[#This Row],[Pre-Final PS&E]])","v":""},{"$f":"IF($A218=0,\"\",Table2[[#This Row],[Final PS&E]])","v":""},{"$f":"IF($A218=0,\"\",'LOD Matrix (DO NOT PRINT)'!M218)","v":""},{"$f":"IF($A218=0,\"\",'LOD Matrix (DO NOT PRINT)'!N218)","v":""},{"$f":"IF($A218=0,\"\",IF('LOD Matrix (DO NOT PRINT)'!P218=TRUE,\"Yes\",\"No\"))","v":""}]
[{"$f":"IF(B219=\"Yes\",Table2[[#This Row],[Break Level]],0)","v":0},{"$f":"Table2[[#This Row],[Yes/No]]","v":"No"},null,null,{"$f":"IF($A219=0,\"\",Table2[[#This Row],[PTC DISCIPLINE]])","v":""},{"$f":"IF($A219=0,\"\",Table2[[#This Row],[ELEMENT]])","v":""},{"$f":"IF($A219=0,\"\",Table2[[#This Row],[LG&TSL]])","v":""},{"$f":"IF($A219=0,\"\",Table2[[#This Row],[DFV]])","v":""},{"$f":"IF($A219=0,\"\",Table2[[#This Row],[60%-OTS]])","v":""},{"$f":"IF($A219=0,\"\",Table2[[#This Row],[75%]])","v":""},{"$f":"IF($A219=0,\"\",Table2[[#This Row],[Pre-Final PS&E]])","v":""},{"$f":"IF($A219=0,\"\",Table2[[#This Row],[Final PS&E]])","v":""},{"$f":"IF($A219=0,\"\",'LOD Matrix (DO NOT PRINT)'!M219)","v":""},{"$f":"IF($A219=0,\"\",'LOD Matrix (DO NOT PRINT)'!N219)","v":""},{"$f":"IF($A219=0,\"\",IF('LOD Matrix (DO NOT PRINT)'!P219=TRUE,\"Yes\",\"No\"))","v":""}]
[{"$f":"IF(B220=\"Yes\",Table2[[#This Row],[Break Level]],0)","v":0},{"$f":"Table2[[#This Row],[Yes/No]]","v":"No"},null,null,{"$f":"IF($A220=0,\"\",Table2[[#This Row],[PTC DISCIPLINE]])","v":""},{"$f":"IF($A220=0,\"\",Table2[[#This Row],[ELEMENT]])","v":""},{"$f":"IF($A220=0,\"\",Table2[[#This Row],[LG&TSL]])","v":""},{"$f":"IF($A220=0,\"\",Table2[[#This Row],[DFV]])","v":""},{"$f":"IF($A220=0,\"\",Table2[[#This Row],[60%-OTS]])","v":""},{"$f":"IF($A220=0,\"\",Table2[[#This Row],[75%]])","v":""},{"$f":"IF($A220=0,\"\",Table2[[#This Row],[Pre-Final PS&E]])","v":""},{"$f":"IF($A220=0,\"\",Table2[[#This Row],[Final PS&E]])","v":""},{"$f":"IF($A220=0,\"\",'LOD Matrix (DO NOT PRINT)'!M220)","v":""},{"$f":"IF($A220=0,\"\",'LOD Matrix (DO NOT PRINT)'!N220)","v":""},{"$f":"IF($A220=0,\"\",IF('LOD Matrix (DO NOT PRINT)'!P220=TRUE,\"Yes\",\"No\"))","v":""}]
[{"$f":"IF(B221=\"Yes\",Table2[[#This Row],[Break Level]],0)","v":0},{"$f":"Table2[[#This Row],[Yes/No]]","v":"No"},null,null,{"$f":"IF($A221=0,\"\",Table2[[#This Row],[PTC DISCIPLINE]])","v":""},{"$f":"IF($A221=0,\"\",Table2[[#This Row],[ELEMENT]])","v":""},{"$f":"IF($A221=0,\"\",Table2[[#This Row],[LG&TSL]])","v":""},{"$f":"IF($A221=0,\"\",Table2[[#This Row],[DFV]])","v":""},{"$f":"IF($A221=0,\"\",Table2[[#This Row],[60%-OTS]])","v":""},{"$f":"IF($A221=0,\"\",Table2[[#This Row],[75%]])","v":""},{"$f":"IF($A221=0,\"\",Table2[[#This Row],[Pre-Final PS&E]])","v":""},{"$f":"IF($A221=0,\"\",Table2[[#This Row],[Final PS&E]])","v":""},{"$f":"IF($A221=0,\"\",'LOD Matrix (DO NOT PRINT)'!M221)","v":""},{"$f":"IF($A221=0,\"\",'LOD Matrix (DO NOT PRINT)'!N221)","v":""},{"$f":"IF($A221=0,\"\",IF('LOD Matrix (DO NOT PRINT)'!P221=TRUE,\"Yes\",\"No\"))","v":""}]
[{"$f":"IF(B222=\"Yes\",Table2[[#This Row],[Break Level]],0)","v":0},{"$f":"Table2[[#This Row],[Yes/No]]","v":"No"},null,null,{"$f":"IF($A222=0,\"\",Table2[[#This Row],[PTC DISCIPLINE]])","v":""},{"$f":"IF($A222=0,\"\",Table2[[#This Row],[ELEMENT]])","v":""},{"$f":"IF($A222=0,\"\",Table2[[#This Row],[LG&TSL]])","v":""},{"$f":"IF($A222=0,\"\",Table2[[#This Row],[DFV]])","v":""},{"$f":"IF($A222=0,\"\",Table2[[#This Row],[60%-OTS]])","v":""},{"$f":"IF($A222=0,\"\",Table2[[#This Row],[75%]])","v":""},{"$f":"IF($A222=0,\"\",Table2[[#This Row],[Pre-Final PS&E]])","v":""},{"$f":"IF($A222=0,\"\",Table2[[#This Row],[Final PS&E]])","v":""},{"$f":"IF($A222=0,\"\",'LOD Matrix (DO NOT PRINT)'!M222)","v":""},{"$f":"IF($A222=0,\"\",'LOD Matrix (DO NOT PRINT)'!N222)","v":""},{"$f":"IF($A222=0,\"\",IF('LOD Matrix (DO NOT PRINT)'!P222=TRUE,\"Yes\",\"No\"))","v":""}]
[{"$f":"IF(B223=\"Yes\",Table2[[#This Row],[Break Level]],0)","v":0},{"$f":"Table2[[#This Row],[Yes/No]]","v":"No"},null,null,{"$f":"IF($A223=0,\"\",Table2[[#This Row],[PTC DISCIPLINE]])","v":""},{"$f":"IF($A223=0,\"\",Table2[[#This Row],[ELEMENT]])","v":""},{"$f":"IF($A223=0,\"\",Table2[[#This Row],[LG&TSL]])","v":""},{"$f":"IF($A223=0,\"\",Table2[[#This Row],[DFV]])","v":""},{"$f":"IF($A223=0,\"\",Table2[[#This Row],[60%-OTS]])","v":""},{"$f":"IF($A223=0,\"\",Table2[[#This Row],[75%]])","v":""},{"$f":"IF($A223=0,\"\",Table2[[#This Row],[Pre-Final PS&E]])","v":""},{"$f":"IF($A223=0,\"\",Table2[[#This Row],[Final PS&E]])","v":""},{"$f":"IF($A223=0,\"\",'LOD Matrix (DO NOT PRINT)'!M223)","v":""},{"$f":"IF($A223=0,\"\",'LOD Matrix (DO NOT PRINT)'!N223)","v":""},{"$f":"IF($A223=0,\"\",IF('LOD Matrix (DO NOT PRINT)'!P223=TRUE,\"Yes\",\"No\"))","v":""}]
[{"$f":"IF(B224=\"Yes\",Table2[[#This Row],[Break Level]],0)","v":0},{"$f":"Table2[[#This Row],[Yes/No]]","v":"No"},null,null,{"$f":"IF($A224=0,\"\",Table2[[#This Row],[PTC DISCIPLINE]])","v":""},{"$f":"IF($A224=0,\"\",Table2[[#This Row],[ELEMENT]])","v":""},{"$f":"IF($A224=0,\"\",Table2[[#This Row],[LG&TSL]])","v":""},{"$f":"IF($A224=0,\"\",Table2[[#This Row],[DFV]])","v":""},{"$f":"IF($A224=0,\"\",Table2[[#This Row],[60%-OTS]])","v":""},{"$f":"IF($A224=0,\"\",Table2[[#This Row],[75%]])","v":""},{"$f":"IF($A224=0,\"\",Table2[[#This Row],[Pre-Final PS&E]])","v":""},{"$f":"IF($A224=0,\"\",Table2[[#This Row],[Final PS&E]])","v":""},{"$f":"IF($A224=0,\"\",'LOD Matrix (DO NOT PRINT)'!M224)","v":""},{"$f":"IF($A224=0,\"\",'LOD Matrix (DO NOT PRINT)'!N224)","v":""},{"$f":"IF($A224=0,\"\",IF('LOD Matrix (DO NOT PRINT)'!P224=TRUE,\"Yes\",\"No\"))","v":""}]
[{"$f":"IF(B225=\"Yes\",Table2[[#This Row],[Break Level]],0)","v":0},{"$f":"Table2[[#This Row],[Yes/No]]","v":"No"},null,null,{"$f":"IF($A225=0,\"\",Table2[[#This Row],[PTC DISCIPLINE]])","v":""},{"$f":"IF($A225=0,\"\",Table2[[#This Row],[ELEMENT]])","v":""},{"$f":"IF($A225=0,\"\",Table2[[#This Row],[LG&TSL]])","v":""},{"$f":"IF($A225=0,\"\",Table2[[#This Row],[DFV]])","v":""},{"$f":"IF($A225=0,\"\",Table2[[#This Row],[60%-OTS]])","v":""},{"$f":"IF($A225=0,\"\",Table2[[#This Row],[75%]])","v":""},{"$f":"IF($A225=0,\"\",Table2[[#This Row],[Pre-Final PS&E]])","v":""},{"$f":"IF($A225=0,\"\",Table2[[#This Row],[Final PS&E]])","v":""},{"$f":"IF($A225=0,\"\",'LOD Matrix (DO NOT PRINT)'!M225)","v":""},{"$f":"IF($A225=0,\"\",'LOD Matrix (DO NOT PRINT)'!N225)","v":""},{"$f":"IF($A225=0,\"\",IF('LOD Matrix (DO NOT PRINT)'!P225=TRUE,\"Yes\",\"No\"))","v":""}]
[{"$f":"IF(B226=\"Yes\",Table2[[#This Row],[Break Level]],0)","v":0},{"$f":"Table2[[#This Row],[Yes/No]]","v":"No"},null,null,{"$f":"IF($A226=0,\"\",Table2[[#This Row],[PTC DISCIPLINE]])","v":""},{"$f":"IF($A226=0,\"\",Table2[[#This Row],[ELEMENT]])","v":""},{"$f":"IF($A226=0,\"\",Table2[[#This Row],[LG&TSL]])","v":""},{"$f":"IF($A226=0,\"\",Table2[[#This Row],[DFV]])","v":""},{"$f":"IF($A226=0,\"\",Table2[[#This Row],[60%-OTS]])","v":""},{"$f":"IF($A226=0,\"\",Table2[[#This Row],[75%]])","v":""},{"$f":"IF($A226=0,\"\",Table2[[#This Row],[Pre-Final PS&E]])","v":""},{"$f":"IF($A226=0,\"\",Table2[[#This Row],[Final PS&E]])","v":""},{"$f":"IF($A226=0,\"\",'LOD Matrix (DO NOT PRINT)'!M226)","v":""},{"$f":"IF($A226=0,\"\",'LOD Matrix (DO NOT PRINT)'!N226)","v":""},{"$f":"IF($A226=0,\"\",IF('LOD Matrix (DO NOT PRINT)'!P226=TRUE,\"Yes\",\"No\"))","v":""}]
[{"$f":"IF(B227=\"Yes\",Table2[[#This Row],[Break Level]],0)","v":0},{"$f":"Table2[[#This Row],[Yes/No]]","v":"No"},null,null,{"$f":"IF($A227=0,\"\",Table2[[#This Row],[PTC DISCIPLINE]])","v":""},{"$f":"IF($A227=0,\"\",Table2[[#This Row],[ELEMENT]])","v":""},{"$f":"IF($A227=0,\"\",Table2[[#This Row],[LG&TSL]])","v":""},{"$f":"IF($A227=0,\"\",Table2[[#This Row],[DFV]])","v":""},{"$f":"IF($A227=0,\"\",Table2[[#This Row],[60%-OTS]])","v":""},{"$f":"IF($A227=0,\"\",Table2[[#This Row],[75%]])","v":""},{"$f":"IF($A227=0,\"\",Table2[[#This Row],[Pre-Final PS&E]])","v":""},{"$f":"IF($A227=0,\"\",Table2[[#This Row],[Final PS&E]])","v":""},{"$f":"IF($A227=0,\"\",'LOD Matrix (DO NOT PRINT)'!M227)","v":""},{"$f":"IF($A227=0,\"\",'LOD Matrix (DO NOT PRINT)'!N227)","v":""},{"$f":"IF($A227=0,\"\",IF('LOD Matrix (DO NOT PRINT)'!P227=TRUE,\"Yes\",\"No\"))","v":""}]
[{"$f":"IF(B228=\"Yes\",Table2[[#This Row],[Break Level]],0)","v":0},{"$f":"Table2[[#This Row],[Yes/No]]","v":"No"},null,null,{"$f":"IF($A228=0,\"\",Table2[[#This Row],[PTC DISCIPLINE]])","v":""},{"$f":"IF($A228=0,\"\",Table2[[#This Row],[ELEMENT]])","v":""},{"$f":"IF($A228=0,\"\",Table2[[#This Row],[LG&TSL]])","v":""},{"$f":"IF($A228=0,\"\",Table2[[#This Row],[DFV]])","v":""},{"$f":"IF($A228=0,\"\",Table2[[#This Row],[60%-OTS]])","v":""},{"$f":"IF($A228=0,\"\",Table2[[#This Row],[75%]])","v":""},{"$f":"IF($A228=0,\"\",Table2[[#This Row],[Pre-Final PS&E]])","v":""},{"$f":"IF($A228=0,\"\",Table2[[#This Row],[Final PS&E]])","v":""},{"$f":"IF($A228=0,\"\",'LOD Matrix (DO NOT PRINT)'!M228)","v":""},{"$f":"IF($A228=0,\"\",'LOD Matrix (DO NOT PRINT)'!N228)","v":""},{"$f":"IF($A228=0,\"\",IF('LOD Matrix (DO NOT PRINT)'!P228=TRUE,\"Yes\",\"No\"))","v":""}]
[{"$f":"IF(B229=\"Yes\",Table2[[#This Row],[Break Level]],0)","v":0},{"$f":"Table2[[#This Row],[Yes/No]]","v":"No"},null,null,{"$f":"IF($A229=0,\"\",Table2[[#This Row],[PTC DISCIPLINE]])","v":""},{"$f":"IF($A229=0,\"\",Table2[[#This Row],[ELEMENT]])","v":""},{"$f":"IF($A229=0,\"\",Table2[[#This Row],[LG&TSL]])","v":""},{"$f":"IF($A229=0,\"\",Table2[[#This Row],[DFV]])","v":""},{"$f":"IF($A229=0,\"\",Table2[[#This Row],[60%-OTS]])","v":""},{"$f":"IF($A229=0,\"\",Table2[[#This Row],[75%]])","v":""},{"$f":"IF($A229=0,\"\",Table2[[#This Row],[Pre-Final PS&E]])","v":""},{"$f":"IF($A229=0,\"\",Table2[[#This Row],[Final PS&E]])","v":""},{"$f":"IF($A229=0,\"\",'LOD Matrix (DO NOT PRINT)'!M229)","v":""},{"$f":"IF($A229=0,\"\",'LOD Matrix (DO NOT PRINT)'!N229)","v":""},{"$f":"IF($A229=0,\"\",IF('LOD Matrix (DO NOT PRINT)'!P229=TRUE,\"Yes\",\"No\"))","v":""}]
[{"$f":"IF(B230=\"Yes\",Table2[[#This Row],[Break Level]],0)","v":0},{"$f":"Table2[[#This Row],[Yes/No]]","v":"No"},null,null,{"$f":"IF($A230=0,\"\",Table2[[#This Row],[PTC DISCIPLINE]])","v":""},{"$f":"IF($A230=0,\"\",Table2[[#This Row],[ELEMENT]])","v":""},{"$f":"IF($A230=0,\"\",Table2[[#This Row],[LG&TSL]])","v":""},{"$f":"IF($A230=0,\"\",Table2[[#This Row],[DFV]])","v":""},{"$f":"IF($A230=0,\"\",Table2[[#This Row],[60%-OTS]])","v":""},{"$f":"IF($A230=0,\"\",Table2[[#This Row],[75%]])","v":""},{"$f":"IF($A230=0,\"\",Table2[[#This Row],[Pre-Final PS&E]])","v":""},{"$f":"IF($A230=0,\"\",Table2[[#This Row],[Final PS&E]])","v":""},{"$f":"IF($A230=0,\"\",'LOD Matrix (DO NOT PRINT)'!M230)","v":""},{"$f":"IF($A230=0,\"\",'LOD Matrix (DO NOT PRINT)'!N230)","v":""},{"$f":"IF($A230=0,\"\",IF('LOD Matrix (DO NOT PRINT)'!P230=TRUE,\"Yes\",\"No\"))","v":""}]
[{"$f":"IF(B231=\"Yes\",Table2[[#This Row],[Break Level]],0)","v":0},{"$f":"Table2[[#This Row],[Yes/No]]","v":"No"},null,null,{"$f":"IF($A231=0,\"\",Table2[[#This Row],[PTC DISCIPLINE]])","v":""},{"$f":"IF($A231=0,\"\",Table2[[#This Row],[ELEMENT]])","v":""},{"$f":"IF($A231=0,\"\",Table2[[#This Row],[LG&TSL]])","v":""},{"$f":"IF($A231=0,\"\",Table2[[#This Row],[DFV]])","v":""},{"$f":"IF($A231=0,\"\",Table2[[#This Row],[60%-OTS]])","v":""},{"$f":"IF($A231=0,\"\",Table2[[#This Row],[75%]])","v":""},{"$f":"IF($A231=0,\"\",Table2[[#This Row],[Pre-Final PS&E]])","v":""},{"$f":"IF($A231=0,\"\",Table2[[#This Row],[Final PS&E]])","v":""},{"$f":"IF($A231=0,\"\",'LOD Matrix (DO NOT PRINT)'!M231)","v":""},{"$f":"IF($A231=0,\"\",'LOD Matrix (DO NOT PRINT)'!N231)","v":""},{"$f":"IF($A231=0,\"\",IF('LOD Matrix (DO NOT PRINT)'!P231=TRUE,\"Yes\",\"No\"))","v":""}]
[{"$f":"IF(B232=\"Yes\",Table2[[#This Row],[Break Level]],0)","v":0},{"$f":"Table2[[#This Row],[Yes/No]]","v":"No"},null,null,{"$f":"IF($A232=0,\"\",Table2[[#This Row],[PTC DISCIPLINE]])","v":""},{"$f":"IF($A232=0,\"\",Table2[[#This Row],[ELEMENT]])","v":""},{"$f":"IF($A232=0,\"\",Table2[[#This Row],[LG&TSL]])","v":""},{"$f":"IF($A232=0,\"\",Table2[[#This Row],[DFV]])","v":""},{"$f":"IF($A232=0,\"\",Table2[[#This Row],[60%-OTS]])","v":""},{"$f":"IF($A232=0,\"\",Table2[[#This Row],[75%]])","v":""},{"$f":"IF($A232=0,\"\",Table2[[#This Row],[Pre-Final PS&E]])","v":""},{"$f":"IF($A232=0,\"\",Table2[[#This Row],[Final PS&E]])","v":""},{"$f":"IF($A232=0,\"\",'LOD Matrix (DO NOT PRINT)'!M232)","v":""},{"$f":"IF($A232=0,\"\",'LOD Matrix (DO NOT PRINT)'!N232)","v":""},{"$f":"IF($A232=0,\"\",IF('LOD Matrix (DO NOT PRINT)'!P232=TRUE,\"Yes\",\"No\"))","v":""}]
[{"$f":"IF(B233=\"Yes\",Table2[[#This Row],[Break Level]],0)","v":0},{"$f":"Table2[[#This Row],[Yes/No]]","v":"No"},null,null,{"$f":"IF($A233=0,\"\",Table2[[#This Row],[PTC DISCIPLINE]])","v":""},{"$f":"IF($A233=0,\"\",Table2[[#This Row],[ELEMENT]])","v":""},{"$f":"IF($A233=0,\"\",Table2[[#This Row],[LG&TSL]])","v":""},{"$f":"IF($A233=0,\"\",Table2[[#This Row],[DFV]])","v":""},{"$f":"IF($A233=0,\"\",Table2[[#This Row],[60%-OTS]])","v":""},{"$f":"IF($A233=0,\"\",Table2[[#This Row],[75%]])","v":""},{"$f":"IF($A233=0,\"\",Table2[[#This Row],[Pre-Final PS&E]])","v":""},{"$f":"IF($A233=0,\"\",Table2[[#This Row],[Final PS&E]])","v":""},{"$f":"IF($A233=0,\"\",'LOD Matrix (DO NOT PRINT)'!M233)","v":""},{"$f":"IF($A233=0,\"\",'LOD Matrix (DO NOT PRINT)'!N233)","v":""},{"$f":"IF($A233=0,\"\",IF('LOD Matrix (DO NOT PRINT)'!P233=TRUE,\"Yes\",\"No\"))","v":""}]
[{"$f":"IF(B234=\"Yes\",Table2[[#This Row],[Break Level]],0)","v":0},{"$f":"Table2[[#This Row],[Yes/No]]","v":"No"},null,null,{"$f":"IF($A234=0,\"\",Table2[[#This Row],[PTC DISCIPLINE]])","v":""},{"$f":"IF($A234=0,\"\",Table2[[#This Row],[ELEMENT]])","v":""},{"$f":"IF($A234=0,\"\",Table2[[#This Row],[LG&TSL]])","v":""},{"$f":"IF($A234=0,\"\",Table2[[#This Row],[DFV]])","v":""},{"$f":"IF($A234=0,\"\",Table2[[#This Row],[60%-OTS]])","v":""},{"$f":"IF($A234=0,\"\",Table2[[#This Row],[75%]])","v":""},{"$f":"IF($A234=0,\"\",Table2[[#This Row],[Pre-Final PS&E]])","v":""},{"$f":"IF($A234=0,\"\",Table2[[#This Row],[Final PS&E]])","v":""},{"$f":"IF($A234=0,\"\",'LOD Matrix (DO NOT PRINT)'!M234)","v":""},{"$f":"IF($A234=0,\"\",'LOD Matrix (DO NOT PRINT)'!N234)","v":""},{"$f":"IF($A234=0,\"\",IF('LOD Matrix (DO NOT PRINT)'!P234=TRUE,\"Yes\",\"No\"))","v":""}]
[{"$f":"IF(B235=\"Yes\",Table2[[#This Row],[Break Level]],0)","v":0},{"$f":"Table2[[#This Row],[Yes/No]]","v":"No"},null,null,{"$f":"IF($A235=0,\"\",Table2[[#This Row],[PTC DISCIPLINE]])","v":""},{"$f":"IF($A235=0,\"\",Table2[[#This Row],[ELEMENT]])","v":""},{"$f":"IF($A235=0,\"\",Table2[[#This Row],[LG&TSL]])","v":""},{"$f":"IF($A235=0,\"\",Table2[[#This Row],[DFV]])","v":""},{"$f":"IF($A235=0,\"\",Table2[[#This Row],[60%-OTS]])","v":""},{"$f":"IF($A235=0,\"\",Table2[[#This Row],[75%]])","v":""},{"$f":"IF($A235=0,\"\",Table2[[#This Row],[Pre-Final PS&E]])","v":""},{"$f":"IF($A235=0,\"\",Table2[[#This Row],[Final PS&E]])","v":""},{"$f":"IF($A235=0,\"\",'LOD Matrix (DO NOT PRINT)'!M235)","v":""},{"$f":"IF($A235=0,\"\",'LOD Matrix (DO NOT PRINT)'!N235)","v":""},{"$f":"IF($A235=0,\"\",IF('LOD Matrix (DO NOT PRINT)'!P235=TRUE,\"Yes\",\"No\"))","v":""}]
[{"$f":"IF(B236=\"Yes\",Table2[[#This Row],[Break Level]],0)","v":0},{"$f":"Table2[[#This Row],[Yes/No]]","v":"No"},null,null,{"$f":"IF($A236=0,\"\",Table2[[#This Row],[PTC DISCIPLINE]])","v":""},{"$f":"IF($A236=0,\"\",Table2[[#This Row],[ELEMENT]])","v":""},{"$f":"IF($A236=0,\"\",Table2[[#This Row],[LG&TSL]])","v":""},{"$f":"IF($A236=0,\"\",Table2[[#This Row],[DFV]])","v":""},{"$f":"IF($A236=0,\"\",Table2[[#This Row],[60%-OTS]])","v":""},{"$f":"IF($A236=0,\"\",Table2[[#This Row],[75%]])","v":""},{"$f":"IF($A236=0,\"\",Table2[[#This Row],[Pre-Final PS&E]])","v":""},{"$f":"IF($A236=0,\"\",Table2[[#This Row],[Final PS&E]])","v":""},{"$f":"IF($A236=0,\"\",'LOD Matrix (DO NOT PRINT)'!M236)","v":""},{"$f":"IF($A236=0,\"\",'LOD Matrix (DO NOT PRINT)'!N236)","v":""},{"$f":"IF($A236=0,\"\",IF('LOD Matrix (DO NOT PRINT)'!P236=TRUE,\"Yes\",\"No\"))","v":""}]
[{"$f":"IF(B237=\"Yes\",Table2[[#This Row],[Break Level]],0)","v":0},{"$f":"Table2[[#This Row],[Yes/No]]","v":"No"},null,null,{"$f":"IF($A237=0,\"\",Table2[[#This Row],[PTC DISCIPLINE]])","v":""},{"$f":"IF($A237=0,\"\",Table2[[#This Row],[ELEMENT]])","v":""},{"$f":"IF($A237=0,\"\",Table2[[#This Row],[LG&TSL]])","v":""},{"$f":"IF($A237=0,\"\",Table2[[#This Row],[DFV]])","v":""},{"$f":"IF($A237=0,\"\",Table2[[#This Row],[60%-OTS]])","v":""},{"$f":"IF($A237=0,\"\",Table2[[#This Row],[75%]])","v":""},{"$f":"IF($A237=0,\"\",Table2[[#This Row],[Pre-Final PS&E]])","v":""},{"$f":"IF($A237=0,\"\",Table2[[#This Row],[Final PS&E]])","v":""},{"$f":"IF($A237=0,\"\",'LOD Matrix (DO NOT PRINT)'!M237)","v":""},{"$f":"IF($A237=0,\"\",'LOD Matrix (DO NOT PRINT)'!N237)","v":""},{"$f":"IF($A237=0,\"\",IF('LOD Matrix (DO NOT PRINT)'!P237=TRUE,\"Yes\",\"No\"))","v":""}]
[{"$f":"IF(B238=\"Yes\",Table2[[#This Row],[Break Level]],0)","v":0},{"$f":"Table2[[#This Row],[Yes/No]]","v":"No"},null,null,{"$f":"IF($A238=0,\"\",Table2[[#This Row],[PTC DISCIPLINE]])","v":""},{"$f":"IF($A238=0,\"\",Table2[[#This Row],[ELEMENT]])","v":""},{"$f":"IF($A238=0,\"\",Table2[[#This Row],[LG&TSL]])","v":""},{"$f":"IF($A238=0,\"\",Table2[[#This Row],[DFV]])","v":""},{"$f":"IF($A238=0,\"\",Table2[[#This Row],[60%-OTS]])","v":""},{"$f":"IF($A238=0,\"\",Table2[[#This Row],[75%]])","v":""},{"$f":"IF($A238=0,\"\",Table2[[#This Row],[Pre-Final PS&E]])","v":""},{"$f":"IF($A238=0,\"\",Table2[[#This Row],[Final PS&E]])","v":""},{"$f":"IF($A238=0,\"\",'LOD Matrix (DO NOT PRINT)'!M238)","v":""},{"$f":"IF($A238=0,\"\",'LOD Matrix (DO NOT PRINT)'!N238)","v":""},{"$f":"IF($A238=0,\"\",IF('LOD Matrix (DO NOT PRINT)'!P238=TRUE,\"Yes\",\"No\"))","v":""}]
[{"$f":"IF(B239=\"Yes\",Table2[[#This Row],[Break Level]],0)","v":0},{"$f":"Table2[[#This Row],[Yes/No]]","v":"No"},null,null,{"$f":"IF($A239=0,\"\",Table2[[#This Row],[PTC DISCIPLINE]])","v":""},{"$f":"IF($A239=0,\"\",Table2[[#This Row],[ELEMENT]])","v":""},{"$f":"IF($A239=0,\"\",Table2[[#This Row],[LG&TSL]])","v":""},{"$f":"IF($A239=0,\"\",Table2[[#This Row],[DFV]])","v":""},{"$f":"IF($A239=0,\"\",Table2[[#This Row],[60%-OTS]])","v":""},{"$f":"IF($A239=0,\"\",Table2[[#This Row],[75%]])","v":""},{"$f":"IF($A239=0,\"\",Table2[[#This Row],[Pre-Final PS&E]])","v":""},{"$f":"IF($A239=0,\"\",Table2[[#This Row],[Final PS&E]])","v":""},{"$f":"IF($A239=0,\"\",'LOD Matrix (DO NOT PRINT)'!M239)","v":""},{"$f":"IF($A239=0,\"\",'LOD Matrix (DO NOT PRINT)'!N239)","v":""},{"$f":"IF($A239=0,\"\",IF('LOD Matrix (DO NOT PRINT)'!P239=TRUE,\"Yes\",\"No\"))","v":""}]
[{"$f":"IF(B240=\"Yes\",Table2[[#This Row],[Break Level]],0)","v":0},{"$f":"Table2[[#This Row],[Yes/No]]","v":"No"},null,null,{"$f":"IF($A240=0,\"\",Table2[[#This Row],[PTC DISCIPLINE]])","v":""},{"$f":"IF($A240=0,\"\",Table2[[#This Row],[ELEMENT]])","v":""},{"$f":"IF($A240=0,\"\",Table2[[#This Row],[LG&TSL]])","v":""},{"$f":"IF($A240=0,\"\",Table2[[#This Row],[DFV]])","v":""},{"$f":"IF($A240=0,\"\",Table2[[#This Row],[60%-OTS]])","v":""},{"$f":"IF($A240=0,\"\",Table2[[#This Row],[75%]])","v":""},{"$f":"IF($A240=0,\"\",Table2[[#This Row],[Pre-Final PS&E]])","v":""},{"$f":"IF($A240=0,\"\",Table2[[#This Row],[Final PS&E]])","v":""},{"$f":"IF($A240=0,\"\",'LOD Matrix (DO NOT PRINT)'!M240)","v":""},{"$f":"IF($A240=0,\"\",'LOD Matrix (DO NOT PRINT)'!N240)","v":""},{"$f":"IF($A240=0,\"\",IF('LOD Matrix (DO NOT PRINT)'!P240=TRUE,\"Yes\",\"No\"))","v":""}]
[{"$f":"IF(B241=\"Yes\",Table2[[#This Row],[Break Level]],0)","v":0},{"$f":"Table2[[#This Row],[Yes/No]]","v":"No"},null,null,{"$f":"IF($A241=0,\"\",Table2[[#This Row],[PTC DISCIPLINE]])","v":""},{"$f":"IF($A241=0,\"\",Table2[[#This Row],[ELEMENT]])","v":""},{"$f":"IF($A241=0,\"\",Table2[[#This Row],[LG&TSL]])","v":""},{"$f":"IF($A241=0,\"\",Table2[[#This Row],[DFV]])","v":""},{"$f":"IF($A241=0,\"\",Table2[[#This Row],[60%-OTS]])","v":""},{"$f":"IF($A241=0,\"\",Table2[[#This Row],[75%]])","v":""},{"$f":"IF($A241=0,\"\",Table2[[#This Row],[Pre-Final PS&E]])","v":""},{"$f":"IF($A241=0,\"\",Table2[[#This Row],[Final PS&E]])","v":""},{"$f":"IF($A241=0,\"\",'LOD Matrix (DO NOT PRINT)'!M241)","v":""},{"$f":"IF($A241=0,\"\",'LOD Matrix (DO NOT PRINT)'!N241)","v":""},{"$f":"IF($A241=0,\"\",IF('LOD Matrix (DO NOT PRINT)'!P241=TRUE,\"Yes\",\"No\"))","v":""}]
[{"$f":"IF(B242=\"Yes\",Table2[[#This Row],[Break Level]],0)","v":0},{"$f":"Table2[[#This Row],[Yes/No]]","v":"No"},null,null,{"$f":"IF($A242=0,\"\",Table2[[#This Row],[PTC DISCIPLINE]])","v":""},{"$f":"IF($A242=0,\"\",Table2[[#This Row],[ELEMENT]])","v":""},{"$f":"IF($A242=0,\"\",Table2[[#This Row],[LG&TSL]])","v":""},{"$f":"IF($A242=0,\"\",Table2[[#This Row],[DFV]])","v":""},{"$f":"IF($A242=0,\"\",Table2[[#This Row],[60%-OTS]])","v":""},{"$f":"IF($A242=0,\"\",Table2[[#This Row],[75%]])","v":""},{"$f":"IF($A242=0,\"\",Table2[[#This Row],[Pre-Final PS&E]])","v":""},{"$f":"IF($A242=0,\"\",Table2[[#This Row],[Final PS&E]])","v":""},{"$f":"IF($A242=0,\"\",'LOD Matrix (DO NOT PRINT)'!M242)","v":""},{"$f":"IF($A242=0,\"\",'LOD Matrix (DO NOT PRINT)'!N242)","v":""},{"$f":"IF($A242=0,\"\",IF('LOD Matrix (DO NOT PRINT)'!P242=TRUE,\"Yes\",\"No\"))","v":""}]
[{"$f":"IF(B243=\"Yes\",Table2[[#This Row],[Break Level]],0)","v":0},{"$f":"Table2[[#This Row],[Yes/No]]","v":"No"},null,null,{"$f":"IF($A243=0,\"\",Table2[[#This Row],[PTC DISCIPLINE]])","v":""},{"$f":"IF($A243=0,\"\",Table2[[#This Row],[ELEMENT]])","v":""},{"$f":"IF($A243=0,\"\",Table2[[#This Row],[LG&TSL]])","v":""},{"$f":"IF($A243=0,\"\",Table2[[#This Row],[DFV]])","v":""},{"$f":"IF($A243=0,\"\",Table2[[#This Row],[60%-OTS]])","v":""},{"$f":"IF($A243=0,\"\",Table2[[#This Row],[75%]])","v":""},{"$f":"IF($A243=0,\"\",Table2[[#This Row],[Pre-Final PS&E]])","v":""},{"$f":"IF($A243=0,\"\",Table2[[#This Row],[Final PS&E]])","v":""},{"$f":"IF($A243=0,\"\",'LOD Matrix (DO NOT PRINT)'!M243)","v":""},{"$f":"IF($A243=0,\"\",'LOD Matrix (DO NOT PRINT)'!N243)","v":""},{"$f":"IF($A243=0,\"\",IF('LOD Matrix (DO NOT PRINT)'!P243=TRUE,\"Yes\",\"No\"))","v":""}]
[{"$f":"IF(B244=\"Yes\",Table2[[#This Row],[Break Level]],0)","v":0},{"$f":"Table2[[#This Row],[Yes/No]]","v":"No"},null,null,{"$f":"IF($A244=0,\"\",Table2[[#This Row],[PTC DISCIPLINE]])","v":""},{"$f":"IF($A244=0,\"\",Table2[[#This Row],[ELEMENT]])","v":""},{"$f":"IF($A244=0,\"\",Table2[[#This Row],[LG&TSL]])","v":""},{"$f":"IF($A244=0,\"\",Table2[[#This Row],[DFV]])","v":""},{"$f":"IF($A244=0,\"\",Table2[[#This Row],[60%-OTS]])","v":""},{"$f":"IF($A244=0,\"\",Table2[[#This Row],[75%]])","v":""},{"$f":"IF($A244=0,\"\",Table2[[#This Row],[Pre-Final PS&E]])","v":""},{"$f":"IF($A244=0,\"\",Table2[[#This Row],[Final PS&E]])","v":""},{"$f":"IF($A244=0,\"\",'LOD Matrix (DO NOT PRINT)'!M244)","v":""},{"$f":"IF($A244=0,\"\",'LOD Matrix (DO NOT PRINT)'!N244)","v":""},{"$f":"IF($A244=0,\"\",IF('LOD Matrix (DO NOT PRINT)'!P244=TRUE,\"Yes\",\"No\"))","v":""}]
[{"$f":"IF(B245=\"Yes\",Table2[[#This Row],[Break Level]],0)","v":0},{"$f":"Table2[[#This Row],[Yes/No]]","v":"No"},null,null,{"$f":"IF($A245=0,\"\",Table2[[#This Row],[PTC DISCIPLINE]])","v":""},{"$f":"IF($A245=0,\"\",Table2[[#This Row],[ELEMENT]])","v":""},{"$f":"IF($A245=0,\"\",Table2[[#This Row],[LG&TSL]])","v":""},{"$f":"IF($A245=0,\"\",Table2[[#This Row],[DFV]])","v":""},{"$f":"IF($A245=0,\"\",Table2[[#This Row],[60%-OTS]])","v":""},{"$f":"IF($A245=0,\"\",Table2[[#This Row],[75%]])","v":""},{"$f":"IF($A245=0,\"\",Table2[[#This Row],[Pre-Final PS&E]])","v":""},{"$f":"IF($A245=0,\"\",Table2[[#This Row],[Final PS&E]])","v":""},{"$f":"IF($A245=0,\"\",'LOD Matrix (DO NOT PRINT)'!M245)","v":""},{"$f":"IF($A245=0,\"\",'LOD Matrix (DO NOT PRINT)'!N245)","v":""},{"$f":"IF($A245=0,\"\",IF('LOD Matrix (DO NOT PRINT)'!P245=TRUE,\"Yes\",\"No\"))","v":""}]
[{"$f":"IF(B246=\"Yes\",Table2[[#This Row],[Break Level]],0)","v":0},{"$f":"Table2[[#This Row],[Yes/No]]","v":"No"},null,null,{"$f":"IF($A246=0,\"\",Table2[[#This Row],[PTC DISCIPLINE]])","v":""},{"$f":"IF($A246=0,\"\",Table2[[#This Row],[ELEMENT]])","v":""},{"$f":"IF($A246=0,\"\",Table2[[#This Row],[LG&TSL]])","v":""},{"$f":"IF($A246=0,\"\",Table2[[#This Row],[DFV]])","v":""},{"$f":"IF($A246=0,\"\",Table2[[#This Row],[60%-OTS]])","v":""},{"$f":"IF($A246=0,\"\",Table2[[#This Row],[75%]])","v":""},{"$f":"IF($A246=0,\"\",Table2[[#This Row],[Pre-Final PS&E]])","v":""},{"$f":"IF($A246=0,\"\",Table2[[#This Row],[Final PS&E]])","v":""},{"$f":"IF($A246=0,\"\",'LOD Matrix (DO NOT PRINT)'!M246)","v":""},{"$f":"IF($A246=0,\"\",'LOD Matrix (DO NOT PRINT)'!N246)","v":""},{"$f":"IF($A246=0,\"\",IF('LOD Matrix (DO NOT PRINT)'!P246=TRUE,\"Yes\",\"No\"))","v":""}]
[{"$f":"IF(B247=\"Yes\",Table2[[#This Row],[Break Level]],0)","v":0},{"$f":"Table2[[#This Row],[Yes/No]]","v":"No"},null,null,{"$f":"IF($A247=0,\"\",Table2[[#This Row],[PTC DISCIPLINE]])","v":""},{"$f":"IF($A247=0,\"\",Table2[[#This Row],[ELEMENT]])","v":""},{"$f":"IF($A247=0,\"\",Table2[[#This Row],[LG&TSL]])","v":""},{"$f":"IF($A247=0,\"\",Table2[[#This Row],[DFV]])","v":""},{"$f":"IF($A247=0,\"\",Table2[[#This Row],[60%-OTS]])","v":""},{"$f":"IF($A247=0,\"\",Table2[[#This Row],[75%]])","v":""},{"$f":"IF($A247=0,\"\",Table2[[#This Row],[Pre-Final PS&E]])","v":""},{"$f":"IF($A247=0,\"\",Table2[[#This Row],[Final PS&E]])","v":""},{"$f":"IF($A247=0,\"\",'LOD Matrix (DO NOT PRINT)'!M247)","v":""},{"$f":"IF($A247=0,\"\",'LOD Matrix (DO NOT PRINT)'!N247)","v":""},{"$f":"IF($A247=0,\"\",IF('LOD Matrix (DO NOT PRINT)'!P247=TRUE,\"Yes\",\"No\"))","v":""}]
[{"$f":"IF(B248=\"Yes\",Table2[[#This Row],[Break Level]],0)","v":0},{"$f":"Table2[[#This Row],[Yes/No]]","v":"No"},null,null,{"$f":"IF($A248=0,\"\",Table2[[#This Row],[PTC DISCIPLINE]])","v":""},{"$f":"IF($A248=0,\"\",Table2[[#This Row],[ELEMENT]])","v":""},{"$f":"IF($A248=0,\"\",Table2[[#This Row],[LG&TSL]])","v":""},{"$f":"IF($A248=0,\"\",Table2[[#This Row],[DFV]])","v":""},{"$f":"IF($A248=0,\"\",Table2[[#This Row],[60%-OTS]])","v":""},{"$f":"IF($A248=0,\"\",Table2[[#This Row],[75%]])","v":""},{"$f":"IF($A248=0,\"\",Table2[[#This Row],[Pre-Final PS&E]])","v":""},{"$f":"IF($A248=0,\"\",Table2[[#This Row],[Final PS&E]])","v":""},{"$f":"IF($A248=0,\"\",'LOD Matrix (DO NOT PRINT)'!M248)","v":""},{"$f":"IF($A248=0,\"\",'LOD Matrix (DO NOT PRINT)'!N248)","v":""},{"$f":"IF($A248=0,\"\",IF('LOD Matrix (DO NOT PRINT)'!P248=TRUE,\"Yes\",\"No\"))","v":""}]
[{"$f":"IF(B249=\"Yes\",Table2[[#This Row],[Break Level]],0)","v":0},{"$f":"Table2[[#This Row],[Yes/No]]","v":"No"},null,null,{"$f":"IF($A249=0,\"\",Table2[[#This Row],[PTC DISCIPLINE]])","v":""},{"$f":"IF($A249=0,\"\",Table2[[#This Row],[ELEMENT]])","v":""},{"$f":"IF($A249=0,\"\",Table2[[#This Row],[LG&TSL]])","v":""},{"$f":"IF($A249=0,\"\",Table2[[#This Row],[DFV]])","v":""},{"$f":"IF($A249=0,\"\",Table2[[#This Row],[60%-OTS]])","v":""},{"$f":"IF($A249=0,\"\",Table2[[#This Row],[75%]])","v":""},{"$f":"IF($A249=0,\"\",Table2[[#This Row],[Pre-Final PS&E]])","v":""},{"$f":"IF($A249=0,\"\",Table2[[#This Row],[Final PS&E]])","v":""},{"$f":"IF($A249=0,\"\",'LOD Matrix (DO NOT PRINT)'!M249)","v":""},{"$f":"IF($A249=0,\"\",'LOD Matrix (DO NOT PRINT)'!N249)","v":""},{"$f":"IF($A249=0,\"\",IF('LOD Matrix (DO NOT PRINT)'!P249=TRUE,\"Yes\",\"No\"))","v":""}]
[{"$f":"IF(B250=\"Yes\",Table2[[#This Row],[Break Level]],0)","v":0},{"$f":"Table2[[#This Row],[Yes/No]]","v":"No"},null,null,{"$f":"IF($A250=0,\"\",Table2[[#This Row],[PTC DISCIPLINE]])","v":""},{"$f":"IF($A250=0,\"\",Table2[[#This Row],[ELEMENT]])","v":""},{"$f":"IF($A250=0,\"\",Table2[[#This Row],[LG&TSL]])","v":""},{"$f":"IF($A250=0,\"\",Table2[[#This Row],[DFV]])","v":""},{"$f":"IF($A250=0,\"\",Table2[[#This Row],[60%-OTS]])","v":""},{"$f":"IF($A250=0,\"\",Table2[[#This Row],[75%]])","v":""},{"$f":"IF($A250=0,\"\",Table2[[#This Row],[Pre-Final PS&E]])","v":""},{"$f":"IF($A250=0,\"\",Table2[[#This Row],[Final PS&E]])","v":""},{"$f":"IF($A250=0,\"\",'LOD Matrix (DO NOT PRINT)'!M250)","v":""},{"$f":"IF($A250=0,\"\",'LOD Matrix (DO NOT PRINT)'!N250)","v":""},{"$f":"IF($A250=0,\"\",IF('LOD Matrix (DO NOT PRINT)'!P250=TRUE,\"Yes\",\"No\"))","v":""}]
[{"$f":"IF(B251=\"Yes\",Table2[[#This Row],[Break Level]],0)","v":0},{"$f":"Table2[[#This Row],[Yes/No]]","v":"No"},null,null,{"$f":"IF($A251=0,\"\",Table2[[#This Row],[PTC DISCIPLINE]])","v":""},{"$f":"IF($A251=0,\"\",Table2[[#This Row],[ELEMENT]])","v":""},{"$f":"IF($A251=0,\"\",Table2[[#This Row],[LG&TSL]])","v":""},{"$f":"IF($A251=0,\"\",Table2[[#This Row],[DFV]])","v":""},{"$f":"IF($A251=0,\"\",Table2[[#This Row],[60%-OTS]])","v":""},{"$f":"IF($A251=0,\"\",Table2[[#This Row],[75%]])","v":""},{"$f":"IF($A251=0,\"\",Table2[[#This Row],[Pre-Final PS&E]])","v":""},{"$f":"IF($A251=0,\"\",Table2[[#This Row],[Final PS&E]])","v":""},{"$f":"IF($A251=0,\"\",'LOD Matrix (DO NOT PRINT)'!M251)","v":""},{"$f":"IF($A251=0,\"\",'LOD Matrix (DO NOT PRINT)'!N251)","v":""},{"$f":"IF($A251=0,\"\",IF('LOD Matrix (DO NOT PRINT)'!P251=TRUE,\"Yes\",\"No\"))","v":""}]
[{"$f":"IF(B252=\"Yes\",Table2[[#This Row],[Break Level]],0)","v":0},{"$f":"Table2[[#This Row],[Yes/No]]","v":"No"},null,null,{"$f":"IF($A252=0,\"\",Table2[[#This Row],[PTC DISCIPLINE]])","v":""},{"$f":"IF($A252=0,\"\",Table2[[#This Row],[ELEMENT]])","v":""},{"$f":"IF($A252=0,\"\",Table2[[#This Row],[LG&TSL]])","v":""},{"$f":"IF($A252=0,\"\",Table2[[#This Row],[DFV]])","v":""},{"$f":"IF($A252=0,\"\",Table2[[#This Row],[60%-OTS]])","v":""},{"$f":"IF($A252=0,\"\",Table2[[#This Row],[75%]])","v":""},{"$f":"IF($A252=0,\"\",Table2[[#This Row],[Pre-Final PS&E]])","v":""},{"$f":"IF($A252=0,\"\",Table2[[#This Row],[Final PS&E]])","v":""},{"$f":"IF($A252=0,\"\",'LOD Matrix (DO NOT PRINT)'!M252)","v":""},{"$f":"IF($A252=0,\"\",'LOD Matrix (DO NOT PRINT)'!N252)","v":""},{"$f":"IF($A252=0,\"\",IF('LOD Matrix (DO NOT PRINT)'!P252=TRUE,\"Yes\",\"No\"))","v":""}]
[{"$f":"IF(B253=\"Yes\",Table2[[#This Row],[Break Level]],0)","v":0},{"$f":"Table2[[#This Row],[Yes/No]]","v":"No"},null,null,{"$f":"IF($A253=0,\"\",Table2[[#This Row],[PTC DISCIPLINE]])","v":""},{"$f":"IF($A253=0,\"\",Table2[[#This Row],[ELEMENT]])","v":""},{"$f":"IF($A253=0,\"\",Table2[[#This Row],[LG&TSL]])","v":""},{"$f":"IF($A253=0,\"\",Table2[[#This Row],[DFV]])","v":""},{"$f":"IF($A253=0,\"\",Table2[[#This Row],[60%-OTS]])","v":""},{"$f":"IF($A253=0,\"\",Table2[[#This Row],[75%]])","v":""},{"$f":"IF($A253=0,\"\",Table2[[#This Row],[Pre-Final PS&E]])","v":""},{"$f":"IF($A253=0,\"\",Table2[[#This Row],[Final PS&E]])","v":""},{"$f":"IF($A253=0,\"\",'LOD Matrix (DO NOT PRINT)'!M253)","v":""},{"$f":"IF($A253=0,\"\",'LOD Matrix (DO NOT PRINT)'!N253)","v":""},{"$f":"IF($A253=0,\"\",IF('LOD Matrix (DO NOT PRINT)'!P253=TRUE,\"Yes\",\"No\"))","v":""}]
[{"$f":"IF(B254=\"Yes\",Table2[[#This Row],[Break Level]],0)","v":0},{"$f":"Table2[[#This Row],[Yes/No]]","v":"No"},null,null,{"$f":"IF($A254=0,\"\",Table2[[#This Row],[PTC DISCIPLINE]])","v":""},{"$f":"IF($A254=0,\"\",Table2[[#This Row],[ELEMENT]])","v":""},{"$f":"IF($A254=0,\"\",Table2[[#This Row],[LG&TSL]])","v":""},{"$f":"IF($A254=0,\"\",Table2[[#This Row],[DFV]])","v":""},{"$f":"IF($A254=0,\"\",Table2[[#This Row],[60%-OTS]])","v":""},{"$f":"IF($A254=0,\"\",Table2[[#This Row],[75%]])","v":""},{"$f":"IF($A254=0,\"\",Table2[[#This Row],[Pre-Final PS&E]])","v":""},{"$f":"IF($A254=0,\"\",Table2[[#This Row],[Final PS&E]])","v":""},{"$f":"IF($A254=0,\"\",'LOD Matrix (DO NOT PRINT)'!M254)","v":""},{"$f":"IF($A254=0,\"\",'LOD Matrix (DO NOT PRINT)'!N254)","v":""},{"$f":"IF($A254=0,\"\",IF('LOD Matrix (DO NOT PRINT)'!P254=TRUE,\"Yes\",\"No\"))","v":""}]
[{"$f":"IF(B255=\"Yes\",Table2[[#This Row],[Break Level]],0)","v":0},{"$f":"Table2[[#This Row],[Yes/No]]","v":"No"},null,null,{"$f":"IF($A255=0,\"\",Table2[[#This Row],[PTC DISCIPLINE]])","v":""},{"$f":"IF($A255=0,\"\",Table2[[#This Row],[ELEMENT]])","v":""},{"$f":"IF($A255=0,\"\",Table2[[#This Row],[LG&TSL]])","v":""},{"$f":"IF($A255=0,\"\",Table2[[#This Row],[DFV]])","v":""},{"$f":"IF($A255=0,\"\",Table2[[#This Row],[60%-OTS]])","v":""},{"$f":"IF($A255=0,\"\",Table2[[#This Row],[75%]])","v":""},{"$f":"IF($A255=0,\"\",Table2[[#This Row],[Pre-Final PS&E]])","v":""},{"$f":"IF($A255=0,\"\",Table2[[#This Row],[Final PS&E]])","v":""},{"$f":"IF($A255=0,\"\",'LOD Matrix (DO NOT PRINT)'!M255)","v":""},{"$f":"IF($A255=0,\"\",'LOD Matrix (DO NOT PRINT)'!N255)","v":""},{"$f":"IF($A255=0,\"\",IF('LOD Matrix (DO NOT PRINT)'!P255=TRUE,\"Yes\",\"No\"))","v":""}]
[{"$f":"IF(B256=\"Yes\",Table2[[#This Row],[Break Level]],0)","v":0},{"$f":"Table2[[#This Row],[Yes/No]]","v":"No"},null,null,{"$f":"IF($A256=0,\"\",Table2[[#This Row],[PTC DISCIPLINE]])","v":""},{"$f":"IF($A256=0,\"\",Table2[[#This Row],[ELEMENT]])","v":""},{"$f":"IF($A256=0,\"\",Table2[[#This Row],[LG&TSL]])","v":""},{"$f":"IF($A256=0,\"\",Table2[[#This Row],[DFV]])","v":""},{"$f":"IF($A256=0,\"\",Table2[[#This Row],[60%-OTS]])","v":""},{"$f":"IF($A256=0,\"\",Table2[[#This Row],[75%]])","v":""},{"$f":"IF($A256=0,\"\",Table2[[#This Row],[Pre-Final PS&E]])","v":""},{"$f":"IF($A256=0,\"\",Table2[[#This Row],[Final PS&E]])","v":""},{"$f":"IF($A256=0,\"\",'LOD Matrix (DO NOT PRINT)'!M256)","v":""},{"$f":"IF($A256=0,\"\",'LOD Matrix (DO NOT PRINT)'!N256)","v":""},{"$f":"IF($A256=0,\"\",IF('LOD Matrix (DO NOT PRINT)'!P256=TRUE,\"Yes\",\"No\"))","v":""}]
[{"$f":"IF(B257=\"Yes\",Table2[[#This Row],[Break Level]],0)","v":0},{"$f":"Table2[[#This Row],[Yes/No]]","v":"No"},null,null,{"$f":"IF($A257=0,\"\",Table2[[#This Row],[PTC DISCIPLINE]])","v":""},{"$f":"IF($A257=0,\"\",Table2[[#This Row],[ELEMENT]])","v":""},{"$f":"IF($A257=0,\"\",Table2[[#This Row],[LG&TSL]])","v":""},{"$f":"IF($A257=0,\"\",Table2[[#This Row],[DFV]])","v":""},{"$f":"IF($A257=0,\"\",Table2[[#This Row],[60%-OTS]])","v":""},{"$f":"IF($A257=0,\"\",Table2[[#This Row],[75%]])","v":""},{"$f":"IF($A257=0,\"\",Table2[[#This Row],[Pre-Final PS&E]])","v":""},{"$f":"IF($A257=0,\"\",Table2[[#This Row],[Final PS&E]])","v":""},{"$f":"IF($A257=0,\"\",'LOD Matrix (DO NOT PRINT)'!M257)","v":""},{"$f":"IF($A257=0,\"\",'LOD Matrix (DO NOT PRINT)'!N257)","v":""},{"$f":"IF($A257=0,\"\",IF('LOD Matrix (DO NOT PRINT)'!P257=TRUE,\"Yes\",\"No\"))","v":""}]
[{"$f":"IF(B258=\"Yes\",Table2[[#This Row],[Break Level]],0)","v":0},{"$f":"Table2[[#This Row],[Yes/No]]","v":"No"},null,null,{"$f":"IF($A258=0,\"\",Table2[[#This Row],[PTC DISCIPLINE]])","v":""},{"$f":"IF($A258=0,\"\",Table2[[#This Row],[ELEMENT]])","v":""},{"$f":"IF($A258=0,\"\",Table2[[#This Row],[LG&TSL]])","v":""},{"$f":"IF($A258=0,\"\",Table2[[#This Row],[DFV]])","v":""},{"$f":"IF($A258=0,\"\",Table2[[#This Row],[60%-OTS]])","v":""},{"$f":"IF($A258=0,\"\",Table2[[#This Row],[75%]])","v":""},{"$f":"IF($A258=0,\"\",Table2[[#This Row],[Pre-Final PS&E]])","v":""},{"$f":"IF($A258=0,\"\",Table2[[#This Row],[Final PS&E]])","v":""},{"$f":"IF($A258=0,\"\",'LOD Matrix (DO NOT PRINT)'!M258)","v":""},{"$f":"IF($A258=0,\"\",'LOD Matrix (DO NOT PRINT)'!N258)","v":""},{"$f":"IF($A258=0,\"\",IF('LOD Matrix (DO NOT PRINT)'!P258=TRUE,\"Yes\",\"No\"))","v":""}]
[{"$f":"IF(B259=\"Yes\",Table2[[#This Row],[Break Level]],0)","v":0},{"$f":"Table2[[#This Row],[Yes/No]]","v":"No"},null,null,{"$f":"IF($A259=0,\"\",Table2[[#This Row],[PTC DISCIPLINE]])","v":""},{"$f":"IF($A259=0,\"\",Table2[[#This Row],[ELEMENT]])","v":""},{"$f":"IF($A259=0,\"\",Table2[[#This Row],[LG&TSL]])","v":""},{"$f":"IF($A259=0,\"\",Table2[[#This Row],[DFV]])","v":""},{"$f":"IF($A259=0,\"\",Table2[[#This Row],[60%-OTS]])","v":""},{"$f":"IF($A259=0,\"\",Table2[[#This Row],[75%]])","v":""},{"$f":"IF($A259=0,\"\",Table2[[#This Row],[Pre-Final PS&E]])","v":""},{"$f":"IF($A259=0,\"\",Table2[[#This Row],[Final PS&E]])","v":""},{"$f":"IF($A259=0,\"\",'LOD Matrix (DO NOT PRINT)'!M259)","v":""},{"$f":"IF($A259=0,\"\",'LOD Matrix (DO NOT PRINT)'!N259)","v":""},{"$f":"IF($A259=0,\"\",IF('LOD Matrix (DO NOT PRINT)'!P259=TRUE,\"Yes\",\"No\"))","v":""}]
[{"$f":"IF(B260=\"Yes\",Table2[[#This Row],[Break Level]],0)","v":0},{"$f":"Table2[[#This Row],[Yes/No]]","v":"No"},null,null,{"$f":"IF($A260=0,\"\",Table2[[#This Row],[PTC DISCIPLINE]])","v":""},{"$f":"IF($A260=0,\"\",Table2[[#This Row],[ELEMENT]])","v":""},{"$f":"IF($A260=0,\"\",Table2[[#This Row],[LG&TSL]])","v":""},{"$f":"IF($A260=0,\"\",Table2[[#This Row],[DFV]])","v":""},{"$f":"IF($A260=0,\"\",Table2[[#This Row],[60%-OTS]])","v":""},{"$f":"IF($A260=0,\"\",Table2[[#This Row],[75%]])","v":""},{"$f":"IF($A260=0,\"\",Table2[[#This Row],[Pre-Final PS&E]])","v":""},{"$f":"IF($A260=0,\"\",Table2[[#This Row],[Final PS&E]])","v":""},{"$f":"IF($A260=0,\"\",'LOD Matrix (DO NOT PRINT)'!M260)","v":""},{"$f":"IF($A260=0,\"\",'LOD Matrix (DO NOT PRINT)'!N260)","v":""},{"$f":"IF($A260=0,\"\",IF('LOD Matrix (DO NOT PRINT)'!P260=TRUE,\"Yes\",\"No\"))","v":""}]
[{"$f":"IF(B261=\"Yes\",Table2[[#This Row],[Break Level]],0)","v":0},{"$f":"Table2[[#This Row],[Yes/No]]","v":"No"},null,null,{"$f":"IF($A261=0,\"\",Table2[[#This Row],[PTC DISCIPLINE]])","v":""},{"$f":"IF($A261=0,\"\",Table2[[#This Row],[ELEMENT]])","v":""},{"$f":"IF($A261=0,\"\",Table2[[#This Row],[LG&TSL]])","v":""},{"$f":"IF($A261=0,\"\",Table2[[#This Row],[DFV]])","v":""},{"$f":"IF($A261=0,\"\",Table2[[#This Row],[60%-OTS]])","v":""},{"$f":"IF($A261=0,\"\",Table2[[#This Row],[75%]])","v":""},{"$f":"IF($A261=0,\"\",Table2[[#This Row],[Pre-Final PS&E]])","v":""},{"$f":"IF($A261=0,\"\",Table2[[#This Row],[Final PS&E]])","v":""},{"$f":"IF($A261=0,\"\",'LOD Matrix (DO NOT PRINT)'!M261)","v":""},{"$f":"IF($A261=0,\"\",'LOD Matrix (DO NOT PRINT)'!N261)","v":""},{"$f":"IF($A261=0,\"\",IF('LOD Matrix (DO NOT PRINT)'!P261=TRUE,\"Yes\",\"No\"))","v":""}]
[{"$f":"IF(B262=\"Yes\",Table2[[#This Row],[Break Level]],0)","v":0},{"$f":"Table2[[#This Row],[Yes/No]]","v":"No"},null,null,{"$f":"IF($A262=0,\"\",Table2[[#This Row],[PTC DISCIPLINE]])","v":""},{"$f":"IF($A262=0,\"\",Table2[[#This Row],[ELEMENT]])","v":""},{"$f":"IF($A262=0,\"\",Table2[[#This Row],[LG&TSL]])","v":""},{"$f":"IF($A262=0,\"\",Table2[[#This Row],[DFV]])","v":""},{"$f":"IF($A262=0,\"\",Table2[[#This Row],[60%-OTS]])","v":""},{"$f":"IF($A262=0,\"\",Table2[[#This Row],[75%]])","v":""},{"$f":"IF($A262=0,\"\",Table2[[#This Row],[Pre-Final PS&E]])","v":""},{"$f":"IF($A262=0,\"\",Table2[[#This Row],[Final PS&E]])","v":""},{"$f":"IF($A262=0,\"\",'LOD Matrix (DO NOT PRINT)'!M262)","v":""},{"$f":"IF($A262=0,\"\",'LOD Matrix (DO NOT PRINT)'!N262)","v":""},{"$f":"IF($A262=0,\"\",IF('LOD Matrix (DO NOT PRINT)'!P262=TRUE,\"Yes\",\"No\"))","v":""}]
[{"$f":"IF(B263=\"Yes\",Table2[[#This Row],[Break Level]],0)","v":0},{"$f":"Table2[[#This Row],[Yes/No]]","v":"No"},null,null,{"$f":"IF($A263=0,\"\",Table2[[#This Row],[PTC DISCIPLINE]])","v":""},{"$f":"IF($A263=0,\"\",Table2[[#This Row],[ELEMENT]])","v":""},{"$f":"IF($A263=0,\"\",Table2[[#This Row],[LG&TSL]])","v":""},{"$f":"IF($A263=0,\"\",Table2[[#This Row],[DFV]])","v":""},{"$f":"IF($A263=0,\"\",Table2[[#This Row],[60%-OTS]])","v":""},{"$f":"IF($A263=0,\"\",Table2[[#This Row],[75%]])","v":""},{"$f":"IF($A263=0,\"\",Table2[[#This Row],[Pre-Final PS&E]])","v":""},{"$f":"IF($A263=0,\"\",Table2[[#This Row],[Final PS&E]])","v":""},{"$f":"IF($A263=0,\"\",'LOD Matrix (DO NOT PRINT)'!M263)","v":""},{"$f":"IF($A263=0,\"\",'LOD Matrix (DO NOT PRINT)'!N263)","v":""},{"$f":"IF($A263=0,\"\",IF('LOD Matrix (DO NOT PRINT)'!P263=TRUE,\"Yes\",\"No\"))","v":""}]
[{"$f":"IF(B264=\"Yes\",Table2[[#This Row],[Break Level]],0)","v":0},{"$f":"Table2[[#This Row],[Yes/No]]","v":"No"},null,null,{"$f":"IF($A264=0,\"\",Table2[[#This Row],[PTC DISCIPLINE]])","v":""},{"$f":"IF($A264=0,\"\",Table2[[#This Row],[ELEMENT]])","v":""},{"$f":"IF($A264=0,\"\",Table2[[#This Row],[LG&TSL]])","v":""},{"$f":"IF($A264=0,\"\",Table2[[#This Row],[DFV]])","v":""},{"$f":"IF($A264=0,\"\",Table2[[#This Row],[60%-OTS]])","v":""},{"$f":"IF($A264=0,\"\",Table2[[#This Row],[75%]])","v":""},{"$f":"IF($A264=0,\"\",Table2[[#This Row],[Pre-Final PS&E]])","v":""},{"$f":"IF($A264=0,\"\",Table2[[#This Row],[Final PS&E]])","v":""},{"$f":"IF($A264=0,\"\",'LOD Matrix (DO NOT PRINT)'!M264)","v":""},{"$f":"IF($A264=0,\"\",'LOD Matrix (DO NOT PRINT)'!N264)","v":""},{"$f":"IF($A264=0,\"\",IF('LOD Matrix (DO NOT PRINT)'!P264=TRUE,\"Yes\",\"No\"))","v":""}]
[{"$f":"IF(B265=\"Yes\",Table2[[#This Row],[Break Level]],0)","v":0},{"$f":"Table2[[#This Row],[Yes/No]]","v":"No"},null,null,{"$f":"IF($A265=0,\"\",Table2[[#This Row],[PTC DISCIPLINE]])","v":""},{"$f":"IF($A265=0,\"\",Table2[[#This Row],[ELEMENT]])","v":""},{"$f":"IF($A265=0,\"\",Table2[[#This Row],[LG&TSL]])","v":""},{"$f":"IF($A265=0,\"\",Table2[[#This Row],[DFV]])","v":""},{"$f":"IF($A265=0,\"\",Table2[[#This Row],[60%-OTS]])","v":""},{"$f":"IF($A265=0,\"\",Table2[[#This Row],[75%]])","v":""},{"$f":"IF($A265=0,\"\",Table2[[#This Row],[Pre-Final PS&E]])","v":""},{"$f":"IF($A265=0,\"\",Table2[[#This Row],[Final PS&E]])","v":""},{"$f":"IF($A265=0,\"\",'LOD Matrix (DO NOT PRINT)'!M265)","v":""},{"$f":"IF($A265=0,\"\",'LOD Matrix (DO NOT PRINT)'!N265)","v":""},{"$f":"IF($A265=0,\"\",IF('LOD Matrix (DO NOT PRINT)'!P265=TRUE,\"Yes\",\"No\"))","v":""}]
[{"$f":"IF(B266=\"Yes\",Table2[[#This Row],[Break Level]],0)","v":0},{"$f":"Table2[[#This Row],[Yes/No]]","v":"No"},null,null,{"$f":"IF($A266=0,\"\",Table2[[#This Row],[PTC DISCIPLINE]])","v":""},{"$f":"IF($A266=0,\"\",Table2[[#This Row],[ELEMENT]])","v":""},{"$f":"IF($A266=0,\"\",Table2[[#This Row],[LG&TSL]])","v":""},{"$f":"IF($A266=0,\"\",Table2[[#This Row],[DFV]])","v":""},{"$f":"IF($A266=0,\"\",Table2[[#This Row],[60%-OTS]])","v":""},{"$f":"IF($A266=0,\"\",Table2[[#This Row],[75%]])","v":""},{"$f":"IF($A266=0,\"\",Table2[[#This Row],[Pre-Final PS&E]])","v":""},{"$f":"IF($A266=0,\"\",Table2[[#This Row],[Final PS&E]])","v":""},{"$f":"IF($A266=0,\"\",'LOD Matrix (DO NOT PRINT)'!M266)","v":""},{"$f":"IF($A266=0,\"\",'LOD Matrix (DO NOT PRINT)'!N266)","v":""},{"$f":"IF($A266=0,\"\",IF('LOD Matrix (DO NOT PRINT)'!P266=TRUE,\"Yes\",\"No\"))","v":""}]
[{"$f":"IF(B267=\"Yes\",Table2[[#This Row],[Break Level]],0)","v":0},{"$f":"Table2[[#This Row],[Yes/No]]","v":"No"},null,null,{"$f":"IF($A267=0,\"\",Table2[[#This Row],[PTC DISCIPLINE]])","v":""},{"$f":"IF($A267=0,\"\",Table2[[#This Row],[ELEMENT]])","v":""},{"$f":"IF($A267=0,\"\",Table2[[#This Row],[LG&TSL]])","v":""},{"$f":"IF($A267=0,\"\",Table2[[#This Row],[DFV]])","v":""},{"$f":"IF($A267=0,\"\",Table2[[#This Row],[60%-OTS]])","v":""},{"$f":"IF($A267=0,\"\",Table2[[#This Row],[75%]])","v":""},{"$f":"IF($A267=0,\"\",Table2[[#This Row],[Pre-Final PS&E]])","v":""},{"$f":"IF($A267=0,\"\",Table2[[#This Row],[Final PS&E]])","v":""},{"$f":"IF($A267=0,\"\",'LOD Matrix (DO NOT PRINT)'!M267)","v":""},{"$f":"IF($A267=0,\"\",'LOD Matrix (DO NOT PRINT)'!N267)","v":""},{"$f":"IF($A267=0,\"\",IF('LOD Matrix (DO NOT PRINT)'!P267=TRUE,\"Yes\",\"No\"))","v":""}]
[{"$f":"IF(B268=\"Yes\",Table2[[#This Row],[Break Level]],0)","v":0},{"$f":"Table2[[#This Row],[Yes/No]]","v":"No"},null,null,{"$f":"IF($A268=0,\"\",Table2[[#This Row],[PTC DISCIPLINE]])","v":""},{"$f":"IF($A268=0,\"\",Table2[[#This Row],[ELEMENT]])","v":""},{"$f":"IF($A268=0,\"\",Table2[[#This Row],[LG&TSL]])","v":""},{"$f":"IF($A268=0,\"\",Table2[[#This Row],[DFV]])","v":""},{"$f":"IF($A268=0,\"\",Table2[[#This Row],[60%-OTS]])","v":""},{"$f":"IF($A268=0,\"\",Table2[[#This Row],[75%]])","v":""},{"$f":"IF($A268=0,\"\",Table2[[#This Row],[Pre-Final PS&E]])","v":""},{"$f":"IF($A268=0,\"\",Table2[[#This Row],[Final PS&E]])","v":""},{"$f":"IF($A268=0,\"\",'LOD Matrix (DO NOT PRINT)'!M268)","v":""},{"$f":"IF($A268=0,\"\",'LOD Matrix (DO NOT PRINT)'!N268)","v":""},{"$f":"IF($A268=0,\"\",IF('LOD Matrix (DO NOT PRINT)'!P268=TRUE,\"Yes\",\"No\"))","v":""}]
[{"$f":"IF(B269=\"Yes\",Table2[[#This Row],[Break Level]],0)","v":0},{"$f":"Table2[[#This Row],[Yes/No]]","v":"No"},null,null,{"$f":"IF($A269=0,\"\",Table2[[#This Row],[PTC DISCIPLINE]])","v":""},{"$f":"IF($A269=0,\"\",Table2[[#This Row],[ELEMENT]])","v":""},{"$f":"IF($A269=0,\"\",Table2[[#This Row],[LG&TSL]])","v":""},{"$f":"IF($A269=0,\"\",Table2[[#This Row],[DFV]])","v":""},{"$f":"IF($A269=0,\"\",Table2[[#This Row],[60%-OTS]])","v":""},{"$f":"IF($A269=0,\"\",Table2[[#This Row],[75%]])","v":""},{"$f":"IF($A269=0,\"\",Table2[[#This Row],[Pre-Final PS&E]])","v":""},{"$f":"IF($A269=0,\"\",Table2[[#This Row],[Final PS&E]])","v":""},{"$f":"IF($A269=0,\"\",'LOD Matrix (DO NOT PRINT)'!M269)","v":""},{"$f":"IF($A269=0,\"\",'LOD Matrix (DO NOT PRINT)'!N269)","v":""},{"$f":"IF($A269=0,\"\",IF('LOD Matrix (DO NOT PRINT)'!P269=TRUE,\"Yes\",\"No\"))","v":""}]
[{"$f":"IF(B270=\"Yes\",Table2[[#This Row],[Break Level]],0)","v":0},{"$f":"Table2[[#This Row],[Yes/No]]","v":"No"},null,null,{"$f":"IF($A270=0,\"\",Table2[[#This Row],[PTC DISCIPLINE]])","v":""},{"$f":"IF($A270=0,\"\",Table2[[#This Row],[ELEMENT]])","v":""},{"$f":"IF($A270=0,\"\",Table2[[#This Row],[LG&TSL]])","v":""},{"$f":"IF($A270=0,\"\",Table2[[#This Row],[DFV]])","v":""},{"$f":"IF($A270=0,\"\",Table2[[#This Row],[60%-OTS]])","v":""},{"$f":"IF($A270=0,\"\",Table2[[#This Row],[75%]])","v":""},{"$f":"IF($A270=0,\"\",Table2[[#This Row],[Pre-Final PS&E]])","v":""},{"$f":"IF($A270=0,\"\",Table2[[#This Row],[Final PS&E]])","v":""},{"$f":"IF($A270=0,\"\",'LOD Matrix (DO NOT PRINT)'!M270)","v":""},{"$f":"IF($A270=0,\"\",'LOD Matrix (DO NOT PRINT)'!N270)","v":""},{"$f":"IF($A270=0,\"\",IF('LOD Matrix (DO NOT PRINT)'!P270=TRUE,\"Yes\",\"No\"))","v":""}]
[{"$f":"IF(B271=\"Yes\",Table2[[#This Row],[Break Level]],0)","v":0},{"$f":"Table2[[#This Row],[Yes/No]]","v":"No"},null,null,{"$f":"IF($A271=0,\"\",Table2[[#This Row],[PTC DISCIPLINE]])","v":""},{"$f":"IF($A271=0,\"\",Table2[[#This Row],[ELEMENT]])","v":""},{"$f":"IF($A271=0,\"\",Table2[[#This Row],[LG&TSL]])","v":""},{"$f":"IF($A271=0,\"\",Table2[[#This Row],[DFV]])","v":""},{"$f":"IF($A271=0,\"\",Table2[[#This Row],[60%-OTS]])","v":""},{"$f":"IF($A271=0,\"\",Table2[[#This Row],[75%]])","v":""},{"$f":"IF($A271=0,\"\",Table2[[#This Row],[Pre-Final PS&E]])","v":""},{"$f":"IF($A271=0,\"\",Table2[[#This Row],[Final PS&E]])","v":""},{"$f":"IF($A271=0,\"\",'LOD Matrix (DO NOT PRINT)'!M271)","v":""},{"$f":"IF($A271=0,\"\",'LOD Matrix (DO NOT PRINT)'!N271)","v":""},{"$f":"IF($A271=0,\"\",IF('LOD Matrix (DO NOT PRINT)'!P271=TRUE,\"Yes\",\"No\"))","v":""}]
[{"$f":"IF(B272=\"Yes\",Table2[[#This Row],[Break Level]],0)","v":0},{"$f":"Table2[[#This Row],[Yes/No]]","v":"No"},null,null,{"$f":"IF($A272=0,\"\",Table2[[#This Row],[PTC DISCIPLINE]])","v":""},{"$f":"IF($A272=0,\"\",Table2[[#This Row],[ELEMENT]])","v":""},{"$f":"IF($A272=0,\"\",Table2[[#This Row],[LG&TSL]])","v":""},{"$f":"IF($A272=0,\"\",Table2[[#This Row],[DFV]])","v":""},{"$f":"IF($A272=0,\"\",Table2[[#This Row],[60%-OTS]])","v":""},{"$f":"IF($A272=0,\"\",Table2[[#This Row],[75%]])","v":""},{"$f":"IF($A272=0,\"\",Table2[[#This Row],[Pre-Final PS&E]])","v":""},{"$f":"IF($A272=0,\"\",Table2[[#This Row],[Final PS&E]])","v":""},{"$f":"IF($A272=0,\"\",'LOD Matrix (DO NOT PRINT)'!M272)","v":""},{"$f":"IF($A272=0,\"\",'LOD Matrix (DO NOT PRINT)'!N272)","v":""},{"$f":"IF($A272=0,\"\",IF('LOD Matrix (DO NOT PRINT)'!P272=TRUE,\"Yes\",\"No\"))","v":""}]
[{"$f":"IF(B273=\"Yes\",Table2[[#This Row],[Break Level]],0)","v":0},{"$f":"Table2[[#This Row],[Yes/No]]","v":"No"},null,null,{"$f":"IF($A273=0,\"\",Table2[[#This Row],[PTC DISCIPLINE]])","v":""},{"$f":"IF($A273=0,\"\",Table2[[#This Row],[ELEMENT]])","v":""},{"$f":"IF($A273=0,\"\",Table2[[#This Row],[LG&TSL]])","v":""},{"$f":"IF($A273=0,\"\",Table2[[#This Row],[DFV]])","v":""},{"$f":"IF($A273=0,\"\",Table2[[#This Row],[60%-OTS]])","v":""},{"$f":"IF($A273=0,\"\",Table2[[#This Row],[75%]])","v":""},{"$f":"IF($A273=0,\"\",Table2[[#This Row],[Pre-Final PS&E]])","v":""},{"$f":"IF($A273=0,\"\",Table2[[#This Row],[Final PS&E]])","v":""},{"$f":"IF($A273=0,\"\",'LOD Matrix (DO NOT PRINT)'!M273)","v":""},{"$f":"IF($A273=0,\"\",'LOD Matrix (DO NOT PRINT)'!N273)","v":""},{"$f":"IF($A273=0,\"\",IF('LOD Matrix (DO NOT PRINT)'!P273=TRUE,\"Yes\",\"No\"))","v":""}]
[{"$f":"IF(B274=\"Yes\",Table2[[#This Row],[Break Level]],0)","v":0},{"$f":"Table2[[#This Row],[Yes/No]]","v":"No"},null,null,{"$f":"IF($A274=0,\"\",Table2[[#This Row],[PTC DISCIPLINE]])","v":""},{"$f":"IF($A274=0,\"\",Table2[[#This Row],[ELEMENT]])","v":""},{"$f":"IF($A274=0,\"\",Table2[[#This Row],[LG&TSL]])","v":""},{"$f":"IF($A274=0,\"\",Table2[[#This Row],[DFV]])","v":""},{"$f":"IF($A274=0,\"\",Table2[[#This Row],[60%-OTS]])","v":""},{"$f":"IF($A274=0,\"\",Table2[[#This Row],[75%]])","v":""},{"$f":"IF($A274=0,\"\",Table2[[#This Row],[Pre-Final PS&E]])","v":""},{"$f":"IF($A274=0,\"\",Table2[[#This Row],[Final PS&E]])","v":""},{"$f":"IF($A274=0,\"\",'LOD Matrix (DO NOT PRINT)'!M274)","v":""},{"$f":"IF($A274=0,\"\",'LOD Matrix (DO NOT PRINT)'!N274)","v":""},{"$f":"IF($A274=0,\"\",IF('LOD Matrix (DO NOT PRINT)'!P274=TRUE,\"Yes\",\"No\"))","v":""}]
[{"$f":"IF(B275=\"Yes\",Table2[[#This Row],[Break Level]],0)","v":0},{"$f":"Table2[[#This Row],[Yes/No]]","v":"No"},null,null,{"$f":"IF($A275=0,\"\",Table2[[#This Row],[PTC DISCIPLINE]])","v":""},{"$f":"IF($A275=0,\"\",Table2[[#This Row],[ELEMENT]])","v":""},{"$f":"IF($A275=0,\"\",Table2[[#This Row],[LG&TSL]])","v":""},{"$f":"IF($A275=0,\"\",Table2[[#This Row],[DFV]])","v":""},{"$f":"IF($A275=0,\"\",Table2[[#This Row],[60%-OTS]])","v":""},{"$f":"IF($A275=0,\"\",Table2[[#This Row],[75%]])","v":""},{"$f":"IF($A275=0,\"\",Table2[[#This Row],[Pre-Final PS&E]])","v":""},{"$f":"IF($A275=0,\"\",Table2[[#This Row],[Final PS&E]])","v":""},{"$f":"IF($A275=0,\"\",'LOD Matrix (DO NOT PRINT)'!M275)","v":""},{"$f":"IF($A275=0,\"\",'LOD Matrix (DO NOT PRINT)'!N275)","v":""},{"$f":"IF($A275=0,\"\",IF('LOD Matrix (DO NOT PRINT)'!P275=TRUE,\"Yes\",\"No\"))","v":""}]
[{"$f":"IF(B276=\"Yes\",Table2[[#This Row],[Break Level]],0)","v":0},{"$f":"Table2[[#This Row],[Yes/No]]","v":"No"},null,null,{"$f":"IF($A276=0,\"\",Table2[[#This Row],[PTC DISCIPLINE]])","v":""},{"$f":"IF($A276=0,\"\",Table2[[#This Row],[ELEMENT]])","v":""},{"$f":"IF($A276=0,\"\",Table2[[#This Row],[LG&TSL]])","v":""},{"$f":"IF($A276=0,\"\",Table2[[#This Row],[DFV]])","v":""},{"$f":"IF($A276=0,\"\",Table2[[#This Row],[60%-OTS]])","v":""},{"$f":"IF($A276=0,\"\",Table2[[#This Row],[75%]])","v":""},{"$f":"IF($A276=0,\"\",Table2[[#This Row],[Pre-Final PS&E]])","v":""},{"$f":"IF($A276=0,\"\",Table2[[#This Row],[Final PS&E]])","v":""},{"$f":"IF($A276=0,\"\",'LOD Matrix (DO NOT PRINT)'!M276)","v":""},{"$f":"IF($A276=0,\"\",'LOD Matrix (DO NOT PRINT)'!N276)","v":""},{"$f":"IF($A276=0,\"\",IF('LOD Matrix (DO NOT PRINT)'!P276=TRUE,\"Yes\",\"No\"))","v":""}]
[{"$f":"IF(B277=\"Yes\",Table2[[#This Row],[Break Level]],0)","v":0},{"$f":"Table2[[#This Row],[Yes/No]]","v":"No"},null,null,{"$f":"IF($A277=0,\"\",Table2[[#This Row],[PTC DISCIPLINE]])","v":""},{"$f":"IF($A277=0,\"\",Table2[[#This Row],[ELEMENT]])","v":""},{"$f":"IF($A277=0,\"\",Table2[[#This Row],[LG&TSL]])","v":""},{"$f":"IF($A277=0,\"\",Table2[[#This Row],[DFV]])","v":""},{"$f":"IF($A277=0,\"\",Table2[[#This Row],[60%-OTS]])","v":""},{"$f":"IF($A277=0,\"\",Table2[[#This Row],[75%]])","v":""},{"$f":"IF($A277=0,\"\",Table2[[#This Row],[Pre-Final PS&E]])","v":""},{"$f":"IF($A277=0,\"\",Table2[[#This Row],[Final PS&E]])","v":""},{"$f":"IF($A277=0,\"\",'LOD Matrix (DO NOT PRINT)'!M277)","v":""},{"$f":"IF($A277=0,\"\",'LOD Matrix (DO NOT PRINT)'!N277)","v":""},{"$f":"IF($A277=0,\"\",IF('LOD Matrix (DO NOT PRINT)'!P277=TRUE,\"Yes\",\"No\"))","v":""}]
[{"$f":"IF(B278=\"Yes\",Table2[[#This Row],[Break Level]],0)","v":0},{"$f":"Table2[[#This Row],[Yes/No]]","v":"No"},null,null,{"$f":"IF($A278=0,\"\",Table2[[#This Row],[PTC DISCIPLINE]])","v":""},{"$f":"IF($A278=0,\"\",Table2[[#This Row],[ELEMENT]])","v":""},{"$f":"IF($A278=0,\"\",Table2[[#This Row],[LG&TSL]])","v":""},{"$f":"IF($A278=0,\"\",Table2[[#This Row],[DFV]])","v":""},{"$f":"IF($A278=0,\"\",Table2[[#This Row],[60%-OTS]])","v":""},{"$f":"IF($A278=0,\"\",Table2[[#This Row],[75%]])","v":""},{"$f":"IF($A278=0,\"\",Table2[[#This Row],[Pre-Final PS&E]])","v":""},{"$f":"IF($A278=0,\"\",Table2[[#This Row],[Final PS&E]])","v":""},{"$f":"IF($A278=0,\"\",'LOD Matrix (DO NOT PRINT)'!M278)","v":""},{"$f":"IF($A278=0,\"\",'LOD Matrix (DO NOT PRINT)'!N278)","v":""},{"$f":"IF($A278=0,\"\",IF('LOD Matrix (DO NOT PRINT)'!P278=TRUE,\"Yes\",\"No\"))","v":""}]
[{"$f":"IF(B279=\"Yes\",Table2[[#This Row],[Break Level]],0)","v":0},{"$f":"Table2[[#This Row],[Yes/No]]","v":"No"},null,null,{"$f":"IF($A279=0,\"\",Table2[[#This Row],[PTC DISCIPLINE]])","v":""},{"$f":"IF($A279=0,\"\",Table2[[#This Row],[ELEMENT]])","v":""},{"$f":"IF($A279=0,\"\",Table2[[#This Row],[LG&TSL]])","v":""},{"$f":"IF($A279=0,\"\",Table2[[#This Row],[DFV]])","v":""},{"$f":"IF($A279=0,\"\",Table2[[#This Row],[60%-OTS]])","v":""},{"$f":"IF($A279=0,\"\",Table2[[#This Row],[75%]])","v":""},{"$f":"IF($A279=0,\"\",Table2[[#This Row],[Pre-Final PS&E]])","v":""},{"$f":"IF($A279=0,\"\",Table2[[#This Row],[Final PS&E]])","v":""},{"$f":"IF($A279=0,\"\",'LOD Matrix (DO NOT PRINT)'!M279)","v":""},{"$f":"IF($A279=0,\"\",'LOD Matrix (DO NOT PRINT)'!N279)","v":""},{"$f":"IF($A279=0,\"\",IF('LOD Matrix (DO NOT PRINT)'!P279=TRUE,\"Yes\",\"No\"))","v":""}]
[{"$f":"IF(B280=\"Yes\",Table2[[#This Row],[Break Level]],0)","v":0},{"$f":"Table2[[#This Row],[Yes/No]]","v":"No"},null,null,{"$f":"IF($A280=0,\"\",Table2[[#This Row],[PTC DISCIPLINE]])","v":""},{"$f":"IF($A280=0,\"\",Table2[[#This Row],[ELEMENT]])","v":""},{"$f":"IF($A280=0,\"\",Table2[[#This Row],[LG&TSL]])","v":""},{"$f":"IF($A280=0,\"\",Table2[[#This Row],[DFV]])","v":""},{"$f":"IF($A280=0,\"\",Table2[[#This Row],[60%-OTS]])","v":""},{"$f":"IF($A280=0,\"\",Table2[[#This Row],[75%]])","v":""},{"$f":"IF($A280=0,\"\",Table2[[#This Row],[Pre-Final PS&E]])","v":""},{"$f":"IF($A280=0,\"\",Table2[[#This Row],[Final PS&E]])","v":""},{"$f":"IF($A280=0,\"\",'LOD Matrix (DO NOT PRINT)'!M280)","v":""},{"$f":"IF($A280=0,\"\",'LOD Matrix (DO NOT PRINT)'!N280)","v":""},{"$f":"IF($A280=0,\"\",IF('LOD Matrix (DO NOT PRINT)'!P280=TRUE,\"Yes\",\"No\"))","v":""}]
[{"$f":"IF(B281=\"Yes\",Table2[[#This Row],[Break Level]],0)","v":0},{"$f":"Table2[[#This Row],[Yes/No]]","v":"No"},null,null,{"$f":"IF($A281=0,\"\",Table2[[#This Row],[PTC DISCIPLINE]])","v":""},{"$f":"IF($A281=0,\"\",Table2[[#This Row],[ELEMENT]])","v":""},{"$f":"IF($A281=0,\"\",Table2[[#This Row],[LG&TSL]])","v":""},{"$f":"IF($A281=0,\"\",Table2[[#This Row],[DFV]])","v":""},{"$f":"IF($A281=0,\"\",Table2[[#This Row],[60%-OTS]])","v":""},{"$f":"IF($A281=0,\"\",Table2[[#This Row],[75%]])","v":""},{"$f":"IF($A281=0,\"\",Table2[[#This Row],[Pre-Final PS&E]])","v":""},{"$f":"IF($A281=0,\"\",Table2[[#This Row],[Final PS&E]])","v":""},{"$f":"IF($A281=0,\"\",'LOD Matrix (DO NOT PRINT)'!M281)","v":""},{"$f":"IF($A281=0,\"\",'LOD Matrix (DO NOT PRINT)'!N281)","v":""},{"$f":"IF($A281=0,\"\",IF('LOD Matrix (DO NOT PRINT)'!P281=TRUE,\"Yes\",\"No\"))","v":""}]
[{"$f":"IF(B282=\"Yes\",Table2[[#This Row],[Break Level]],0)","v":0},{"$f":"Table2[[#This Row],[Yes/No]]","v":"No"},null,null,{"$f":"IF($A282=0,\"\",Table2[[#This Row],[PTC DISCIPLINE]])","v":""},{"$f":"IF($A282=0,\"\",Table2[[#This Row],[ELEMENT]])","v":""},{"$f":"IF($A282=0,\"\",Table2[[#This Row],[LG&TSL]])","v":""},{"$f":"IF($A282=0,\"\",Table2[[#This Row],[DFV]])","v":""},{"$f":"IF($A282=0,\"\",Table2[[#This Row],[60%-OTS]])","v":""},{"$f":"IF($A282=0,\"\",Table2[[#This Row],[75%]])","v":""},{"$f":"IF($A282=0,\"\",Table2[[#This Row],[Pre-Final PS&E]])","v":""},{"$f":"IF($A282=0,\"\",Table2[[#This Row],[Final PS&E]])","v":""},{"$f":"IF($A282=0,\"\",'LOD Matrix (DO NOT PRINT)'!M282)","v":""},{"$f":"IF($A282=0,\"\",'LOD Matrix (DO NOT PRINT)'!N282)","v":""},{"$f":"IF($A282=0,\"\",IF('LOD Matrix (DO NOT PRINT)'!P282=TRUE,\"Yes\",\"No\"))","v":""}]
[{"$f":"IF(B283=\"Yes\",Table2[[#This Row],[Break Level]],0)","v":0},{"$f":"Table2[[#This Row],[Yes/No]]","v":"No"},null,null,{"$f":"IF($A283=0,\"\",Table2[[#This Row],[PTC DISCIPLINE]])","v":""},{"$f":"IF($A283=0,\"\",Table2[[#This Row],[ELEMENT]])","v":""},{"$f":"IF($A283=0,\"\",Table2[[#This Row],[LG&TSL]])","v":""},{"$f":"IF($A283=0,\"\",Table2[[#This Row],[DFV]])","v":""},{"$f":"IF($A283=0,\"\",Table2[[#This Row],[60%-OTS]])","v":""},{"$f":"IF($A283=0,\"\",Table2[[#This Row],[75%]])","v":""},{"$f":"IF($A283=0,\"\",Table2[[#This Row],[Pre-Final PS&E]])","v":""},{"$f":"IF($A283=0,\"\",Table2[[#This Row],[Final PS&E]])","v":""},{"$f":"IF($A283=0,\"\",'LOD Matrix (DO NOT PRINT)'!M283)","v":""},{"$f":"IF($A283=0,\"\",'LOD Matrix (DO NOT PRINT)'!N283)","v":""},{"$f":"IF($A283=0,\"\",IF('LOD Matrix (DO NOT PRINT)'!P283=TRUE,\"Yes\",\"No\"))","v":""}]
[{"$f":"IF(B284=\"Yes\",Table2[[#This Row],[Break Level]],0)","v":0},{"$f":"Table2[[#This Row],[Yes/No]]","v":"No"},null,null,{"$f":"IF($A284=0,\"\",Table2[[#This Row],[PTC DISCIPLINE]])","v":""},{"$f":"IF($A284=0,\"\",Table2[[#This Row],[ELEMENT]])","v":""},{"$f":"IF($A284=0,\"\",Table2[[#This Row],[LG&TSL]])","v":""},{"$f":"IF($A284=0,\"\",Table2[[#This Row],[DFV]])","v":""},{"$f":"IF($A284=0,\"\",Table2[[#This Row],[60%-OTS]])","v":""},{"$f":"IF($A284=0,\"\",Table2[[#This Row],[75%]])","v":""},{"$f":"IF($A284=0,\"\",Table2[[#This Row],[Pre-Final PS&E]])","v":""},{"$f":"IF($A284=0,\"\",Table2[[#This Row],[Final PS&E]])","v":""},{"$f":"IF($A284=0,\"\",'LOD Matrix (DO NOT PRINT)'!M284)","v":""},{"$f":"IF($A284=0,\"\",'LOD Matrix (DO NOT PRINT)'!N284)","v":""},{"$f":"IF($A284=0,\"\",IF('LOD Matrix (DO NOT PRINT)'!P284=TRUE,\"Yes\",\"No\"))","v":""}]
[{"$f":"IF(B285=\"Yes\",Table2[[#This Row],[Break Level]],0)","v":0},{"$f":"Table2[[#This Row],[Yes/No]]","v":"No"},null,null,{"$f":"IF($A285=0,\"\",Table2[[#This Row],[PTC DISCIPLINE]])","v":""},{"$f":"IF($A285=0,\"\",Table2[[#This Row],[ELEMENT]])","v":""},{"$f":"IF($A285=0,\"\",Table2[[#This Row],[LG&TSL]])","v":""},{"$f":"IF($A285=0,\"\",Table2[[#This Row],[DFV]])","v":""},{"$f":"IF($A285=0,\"\",Table2[[#This Row],[60%-OTS]])","v":""},{"$f":"IF($A285=0,\"\",Table2[[#This Row],[75%]])","v":""},{"$f":"IF($A285=0,\"\",Table2[[#This Row],[Pre-Final PS&E]])","v":""},{"$f":"IF($A285=0,\"\",Table2[[#This Row],[Final PS&E]])","v":""},{"$f":"IF($A285=0,\"\",'LOD Matrix (DO NOT PRINT)'!M285)","v":""},{"$f":"IF($A285=0,\"\",'LOD Matrix (DO NOT PRINT)'!N285)","v":""},{"$f":"IF($A285=0,\"\",IF('LOD Matrix (DO NOT PRINT)'!P285=TRUE,\"Yes\",\"No\"))","v":""}]
[{"$f":"IF(B286=\"Yes\",Table2[[#This Row],[Break Level]],0)","v":0},{"$f":"Table2[[#This Row],[Yes/No]]","v":"No"},null,null,{"$f":"IF($A286=0,\"\",Table2[[#This Row],[PTC DISCIPLINE]])","v":""},{"$f":"IF($A286=0,\"\",Table2[[#This Row],[ELEMENT]])","v":""},{"$f":"IF($A286=0,\"\",Table2[[#This Row],[LG&TSL]])","v":""},{"$f":"IF($A286=0,\"\",Table2[[#This Row],[DFV]])","v":""},{"$f":"IF($A286=0,\"\",Table2[[#This Row],[60%-OTS]])","v":""},{"$f":"IF($A286=0,\"\",Table2[[#This Row],[75%]])","v":""},{"$f":"IF($A286=0,\"\",Table2[[#This Row],[Pre-Final PS&E]])","v":""},{"$f":"IF($A286=0,\"\",Table2[[#This Row],[Final PS&E]])","v":""},{"$f":"IF($A286=0,\"\",'LOD Matrix (DO NOT PRINT)'!M286)","v":""},{"$f":"IF($A286=0,\"\",'LOD Matrix (DO NOT PRINT)'!N286)","v":""},{"$f":"IF($A286=0,\"\",IF('LOD Matrix (DO NOT PRINT)'!P286=TRUE,\"Yes\",\"No\"))","v":""}]
[{"$f":"IF(B287=\"Yes\",Table2[[#This Row],[Break Level]],0)","v":0},{"$f":"Table2[[#This Row],[Yes/No]]","v":"No"},null,null,{"$f":"IF($A287=0,\"\",Table2[[#This Row],[PTC DISCIPLINE]])","v":""},{"$f":"IF($A287=0,\"\",Table2[[#This Row],[ELEMENT]])","v":""},{"$f":"IF($A287=0,\"\",Table2[[#This Row],[LG&TSL]])","v":""},{"$f":"IF($A287=0,\"\",Table2[[#This Row],[DFV]])","v":""},{"$f":"IF($A287=0,\"\",Table2[[#This Row],[60%-OTS]])","v":""},{"$f":"IF($A287=0,\"\",Table2[[#This Row],[75%]])","v":""},{"$f":"IF($A287=0,\"\",Table2[[#This Row],[Pre-Final PS&E]])","v":""},{"$f":"IF($A287=0,\"\",Table2[[#This Row],[Final PS&E]])","v":""},{"$f":"IF($A287=0,\"\",'LOD Matrix (DO NOT PRINT)'!M287)","v":""},{"$f":"IF($A287=0,\"\",'LOD Matrix (DO NOT PRINT)'!N287)","v":""},{"$f":"IF($A287=0,\"\",IF('LOD Matrix (DO NOT PRINT)'!P287=TRUE,\"Yes\",\"No\"))","v":""}]
[{"$f":"IF(B288=\"Yes\",Table2[[#This Row],[Break Level]],0)","v":0},{"$f":"Table2[[#This Row],[Yes/No]]","v":"No"},null,null,{"$f":"IF($A288=0,\"\",Table2[[#This Row],[PTC DISCIPLINE]])","v":""},{"$f":"IF($A288=0,\"\",Table2[[#This Row],[ELEMENT]])","v":""},{"$f":"IF($A288=0,\"\",Table2[[#This Row],[LG&TSL]])","v":""},{"$f":"IF($A288=0,\"\",Table2[[#This Row],[DFV]])","v":""},{"$f":"IF($A288=0,\"\",Table2[[#This Row],[60%-OTS]])","v":""},{"$f":"IF($A288=0,\"\",Table2[[#This Row],[75%]])","v":""},{"$f":"IF($A288=0,\"\",Table2[[#This Row],[Pre-Final PS&E]])","v":""},{"$f":"IF($A288=0,\"\",Table2[[#This Row],[Final PS&E]])","v":""},{"$f":"IF($A288=0,\"\",'LOD Matrix (DO NOT PRINT)'!M288)","v":""},{"$f":"IF($A288=0,\"\",'LOD Matrix (DO NOT PRINT)'!N288)","v":""},{"$f":"IF($A288=0,\"\",IF('LOD Matrix (DO NOT PRINT)'!P288=TRUE,\"Yes\",\"No\"))","v":""}]
[{"$f":"IF(B289=\"Yes\",Table2[[#This Row],[Break Level]],0)","v":0},{"$f":"Table2[[#This Row],[Yes/No]]","v":"No"},null,null,{"$f":"IF($A289=0,\"\",Table2[[#This Row],[PTC DISCIPLINE]])","v":""},{"$f":"IF($A289=0,\"\",Table2[[#This Row],[ELEMENT]])","v":""},{"$f":"IF($A289=0,\"\",Table2[[#This Row],[LG&TSL]])","v":""},{"$f":"IF($A289=0,\"\",Table2[[#This Row],[DFV]])","v":""},{"$f":"IF($A289=0,\"\",Table2[[#This Row],[60%-OTS]])","v":""},{"$f":"IF($A289=0,\"\",Table2[[#This Row],[75%]])","v":""},{"$f":"IF($A289=0,\"\",Table2[[#This Row],[Pre-Final PS&E]])","v":""},{"$f":"IF($A289=0,\"\",Table2[[#This Row],[Final PS&E]])","v":""},{"$f":"IF($A289=0,\"\",'LOD Matrix (DO NOT PRINT)'!M289)","v":""},{"$f":"IF($A289=0,\"\",'LOD Matrix (DO NOT PRINT)'!N289)","v":""},{"$f":"IF($A289=0,\"\",IF('LOD Matrix (DO NOT PRINT)'!P289=TRUE,\"Yes\",\"No\"))","v":""}]
[{"$f":"IF(B290=\"Yes\",Table2[[#This Row],[Break Level]],0)","v":0},{"$f":"Table2[[#This Row],[Yes/No]]","v":"No"},null,null,{"$f":"IF($A290=0,\"\",Table2[[#This Row],[PTC DISCIPLINE]])","v":""},{"$f":"IF($A290=0,\"\",Table2[[#This Row],[ELEMENT]])","v":""},{"$f":"IF($A290=0,\"\",Table2[[#This Row],[LG&TSL]])","v":""},{"$f":"IF($A290=0,\"\",Table2[[#This Row],[DFV]])","v":""},{"$f":"IF($A290=0,\"\",Table2[[#This Row],[60%-OTS]])","v":""},{"$f":"IF($A290=0,\"\",Table2[[#This Row],[75%]])","v":""},{"$f":"IF($A290=0,\"\",Table2[[#This Row],[Pre-Final PS&E]])","v":""},{"$f":"IF($A290=0,\"\",Table2[[#This Row],[Final PS&E]])","v":""},{"$f":"IF($A290=0,\"\",'LOD Matrix (DO NOT PRINT)'!M290)","v":""},{"$f":"IF($A290=0,\"\",'LOD Matrix (DO NOT PRINT)'!N290)","v":""},{"$f":"IF($A290=0,\"\",IF('LOD Matrix (DO NOT PRINT)'!P290=TRUE,\"Yes\",\"No\"))","v":""}]
[{"$f":"IF(B291=\"Yes\",Table2[[#This Row],[Break Level]],0)","v":0},{"$f":"Table2[[#This Row],[Yes/No]]","v":"No"},null,null,{"$f":"IF($A291=0,\"\",Table2[[#This Row],[PTC DISCIPLINE]])","v":""},{"$f":"IF($A291=0,\"\",Table2[[#This Row],[ELEMENT]])","v":""},{"$f":"IF($A291=0,\"\",Table2[[#This Row],[LG&TSL]])","v":""},{"$f":"IF($A291=0,\"\",Table2[[#This Row],[DFV]])","v":""},{"$f":"IF($A291=0,\"\",Table2[[#This Row],[60%-OTS]])","v":""},{"$f":"IF($A291=0,\"\",Table2[[#This Row],[75%]])","v":""},{"$f":"IF($A291=0,\"\",Table2[[#This Row],[Pre-Final PS&E]])","v":""},{"$f":"IF($A291=0,\"\",Table2[[#This Row],[Final PS&E]])","v":""},{"$f":"IF($A291=0,\"\",'LOD Matrix (DO NOT PRINT)'!M291)","v":""},{"$f":"IF($A291=0,\"\",'LOD Matrix (DO NOT PRINT)'!N291)","v":""},{"$f":"IF($A291=0,\"\",IF('LOD Matrix (DO NOT PRINT)'!P291=TRUE,\"Yes\",\"No\"))","v":""}]
[{"$f":"IF(B292=\"Yes\",Table2[[#This Row],[Break Level]],0)","v":0},{"$f":"Table2[[#This Row],[Yes/No]]","v":"No"},null,null,{"$f":"IF($A292=0,\"\",Table2[[#This Row],[PTC DISCIPLINE]])","v":""},{"$f":"IF($A292=0,\"\",Table2[[#This Row],[ELEMENT]])","v":""},{"$f":"IF($A292=0,\"\",Table2[[#This Row],[LG&TSL]])","v":""},{"$f":"IF($A292=0,\"\",Table2[[#This Row],[DFV]])","v":""},{"$f":"IF($A292=0,\"\",Table2[[#This Row],[60%-OTS]])","v":""},{"$f":"IF($A292=0,\"\",Table2[[#This Row],[75%]])","v":""},{"$f":"IF($A292=0,\"\",Table2[[#This Row],[Pre-Final PS&E]])","v":""},{"$f":"IF($A292=0,\"\",Table2[[#This Row],[Final PS&E]])","v":""},{"$f":"IF($A292=0,\"\",'LOD Matrix (DO NOT PRINT)'!M292)","v":""},{"$f":"IF($A292=0,\"\",'LOD Matrix (DO NOT PRINT)'!N292)","v":""},{"$f":"IF($A292=0,\"\",IF('LOD Matrix (DO NOT PRINT)'!P292=TRUE,\"Yes\",\"No\"))","v":""}]
[{"$f":"IF(B293=\"Yes\",Table2[[#This Row],[Break Level]],0)","v":0},{"$f":"Table2[[#This Row],[Yes/No]]","v":"No"},null,null,{"$f":"IF($A293=0,\"\",Table2[[#This Row],[PTC DISCIPLINE]])","v":""},{"$f":"IF($A293=0,\"\",Table2[[#This Row],[ELEMENT]])","v":""},{"$f":"IF($A293=0,\"\",Table2[[#This Row],[LG&TSL]])","v":""},{"$f":"IF($A293=0,\"\",Table2[[#This Row],[DFV]])","v":""},{"$f":"IF($A293=0,\"\",Table2[[#This Row],[60%-OTS]])","v":""},{"$f":"IF($A293=0,\"\",Table2[[#This Row],[75%]])","v":""},{"$f":"IF($A293=0,\"\",Table2[[#This Row],[Pre-Final PS&E]])","v":""},{"$f":"IF($A293=0,\"\",Table2[[#This Row],[Final PS&E]])","v":""},{"$f":"IF($A293=0,\"\",'LOD Matrix (DO NOT PRINT)'!M293)","v":""},{"$f":"IF($A293=0,\"\",'LOD Matrix (DO NOT PRINT)'!N293)","v":""},{"$f":"IF($A293=0,\"\",IF('LOD Matrix (DO NOT PRINT)'!P293=TRUE,\"Yes\",\"No\"))","v":""}]
[{"$f":"IF(B294=\"Yes\",Table2[[#This Row],[Break Level]],0)","v":0},{"$f":"Table2[[#This Row],[Yes/No]]","v":"No"},null,null,{"$f":"IF($A294=0,\"\",Table2[[#This Row],[PTC DISCIPLINE]])","v":""},{"$f":"IF($A294=0,\"\",Table2[[#This Row],[ELEMENT]])","v":""},{"$f":"IF($A294=0,\"\",Table2[[#This Row],[LG&TSL]])","v":""},{"$f":"IF($A294=0,\"\",Table2[[#This Row],[DFV]])","v":""},{"$f":"IF($A294=0,\"\",Table2[[#This Row],[60%-OTS]])","v":""},{"$f":"IF($A294=0,\"\",Table2[[#This Row],[75%]])","v":""},{"$f":"IF($A294=0,\"\",Table2[[#This Row],[Pre-Final PS&E]])","v":""},{"$f":"IF($A294=0,\"\",Table2[[#This Row],[Final PS&E]])","v":""},{"$f":"IF($A294=0,\"\",'LOD Matrix (DO NOT PRINT)'!M294)","v":""},{"$f":"IF($A294=0,\"\",'LOD Matrix (DO NOT PRINT)'!N294)","v":""},{"$f":"IF($A294=0,\"\",IF('LOD Matrix (DO NOT PRINT)'!P294=TRUE,\"Yes\",\"No\"))","v":""}]
[{"$f":"IF(B295=\"Yes\",Table2[[#This Row],[Break Level]],0)","v":0},{"$f":"Table2[[#This Row],[Yes/No]]","v":"No"},null,null,{"$f":"IF($A295=0,\"\",Table2[[#This Row],[PTC DISCIPLINE]])","v":""},{"$f":"IF($A295=0,\"\",Table2[[#This Row],[ELEMENT]])","v":""},{"$f":"IF($A295=0,\"\",Table2[[#This Row],[LG&TSL]])","v":""},{"$f":"IF($A295=0,\"\",Table2[[#This Row],[DFV]])","v":""},{"$f":"IF($A295=0,\"\",Table2[[#This Row],[60%-OTS]])","v":""},{"$f":"IF($A295=0,\"\",Table2[[#This Row],[75%]])","v":""},{"$f":"IF($A295=0,\"\",Table2[[#This Row],[Pre-Final PS&E]])","v":""},{"$f":"IF($A295=0,\"\",Table2[[#This Row],[Final PS&E]])","v":""},{"$f":"IF($A295=0,\"\",'LOD Matrix (DO NOT PRINT)'!M295)","v":""},{"$f":"IF($A295=0,\"\",'LOD Matrix (DO NOT PRINT)'!N295)","v":""},{"$f":"IF($A295=0,\"\",IF('LOD Matrix (DO NOT PRINT)'!P295=TRUE,\"Yes\",\"No\"))","v":""}]
[{"$f":"IF(B296=\"Yes\",Table2[[#This Row],[Break Level]],0)","v":0},{"$f":"Table2[[#This Row],[Yes/No]]","v":"No"},null,null,{"$f":"IF($A296=0,\"\",Table2[[#This Row],[PTC DISCIPLINE]])","v":""},{"$f":"IF($A296=0,\"\",Table2[[#This Row],[ELEMENT]])","v":""},{"$f":"IF($A296=0,\"\",Table2[[#This Row],[LG&TSL]])","v":""},{"$f":"IF($A296=0,\"\",Table2[[#This Row],[DFV]])","v":""},{"$f":"IF($A296=0,\"\",Table2[[#This Row],[60%-OTS]])","v":""},{"$f":"IF($A296=0,\"\",Table2[[#This Row],[75%]])","v":""},{"$f":"IF($A296=0,\"\",Table2[[#This Row],[Pre-Final PS&E]])","v":""},{"$f":"IF($A296=0,\"\",Table2[[#This Row],[Final PS&E]])","v":""},{"$f":"IF($A296=0,\"\",'LOD Matrix (DO NOT PRINT)'!M296)","v":""},{"$f":"IF($A296=0,\"\",'LOD Matrix (DO NOT PRINT)'!N296)","v":""},{"$f":"IF($A296=0,\"\",IF('LOD Matrix (DO NOT PRINT)'!P296=TRUE,\"Yes\",\"No\"))","v":""}]
[{"$f":"IF(B297=\"Yes\",Table2[[#This Row],[Break Level]],0)","v":0},{"$f":"Table2[[#This Row],[Yes/No]]","v":"No"},null,null,{"$f":"IF($A297=0,\"\",Table2[[#This Row],[PTC DISCIPLINE]])","v":""},{"$f":"IF($A297=0,\"\",Table2[[#This Row],[ELEMENT]])","v":""},{"$f":"IF($A297=0,\"\",Table2[[#This Row],[LG&TSL]])","v":""},{"$f":"IF($A297=0,\"\",Table2[[#This Row],[DFV]])","v":""},{"$f":"IF($A297=0,\"\",Table2[[#This Row],[60%-OTS]])","v":""},{"$f":"IF($A297=0,\"\",Table2[[#This Row],[75%]])","v":""},{"$f":"IF($A297=0,\"\",Table2[[#This Row],[Pre-Final PS&E]])","v":""},{"$f":"IF($A297=0,\"\",Table2[[#This Row],[Final PS&E]])","v":""},{"$f":"IF($A297=0,\"\",'LOD Matrix (DO NOT PRINT)'!M297)","v":""},{"$f":"IF($A297=0,\"\",'LOD Matrix (DO NOT PRINT)'!N297)","v":""},{"$f":"IF($A297=0,\"\",IF('LOD Matrix (DO NOT PRINT)'!P297=TRUE,\"Yes\",\"No\"))","v":""}]
[{"$f":"IF(B298=\"Yes\",Table2[[#This Row],[Break Level]],0)","v":0},{"$f":"Table2[[#This Row],[Yes/No]]","v":"No"},null,null,{"$f":"IF($A298=0,\"\",Table2[[#This Row],[PTC DISCIPLINE]])","v":""},{"$f":"IF($A298=0,\"\",Table2[[#This Row],[ELEMENT]])","v":""},{"$f":"IF($A298=0,\"\",Table2[[#This Row],[LG&TSL]])","v":""},{"$f":"IF($A298=0,\"\",Table2[[#This Row],[DFV]])","v":""},{"$f":"IF($A298=0,\"\",Table2[[#This Row],[60%-OTS]])","v":""},{"$f":"IF($A298=0,\"\",Table2[[#This Row],[75%]])","v":""},{"$f":"IF($A298=0,\"\",Table2[[#This Row],[Pre-Final PS&E]])","v":""},{"$f":"IF($A298=0,\"\",Table2[[#This Row],[Final PS&E]])","v":""},{"$f":"IF($A298=0,\"\",'LOD Matrix (DO NOT PRINT)'!M298)","v":""},{"$f":"IF($A298=0,\"\",'LOD Matrix (DO NOT PRINT)'!N298)","v":""},{"$f":"IF($A298=0,\"\",IF('LOD Matrix (DO NOT PRINT)'!P298=TRUE,\"Yes\",\"No\"))","v":""}]
[{"$f":"IF(B299=\"Yes\",Table2[[#This Row],[Break Level]],0)","v":0},{"$f":"Table2[[#This Row],[Yes/No]]","v":"No"},null,null,{"$f":"IF($A299=0,\"\",Table2[[#This Row],[PTC DISCIPLINE]])","v":""},{"$f":"IF($A299=0,\"\",Table2[[#This Row],[ELEMENT]])","v":""},{"$f":"IF($A299=0,\"\",Table2[[#This Row],[LG&TSL]])","v":""},{"$f":"IF($A299=0,\"\",Table2[[#This Row],[DFV]])","v":""},{"$f":"IF($A299=0,\"\",Table2[[#This Row],[60%-OTS]])","v":""},{"$f":"IF($A299=0,\"\",Table2[[#This Row],[75%]])","v":""},{"$f":"IF($A299=0,\"\",Table2[[#This Row],[Pre-Final PS&E]])","v":""},{"$f":"IF($A299=0,\"\",Table2[[#This Row],[Final PS&E]])","v":""},{"$f":"IF($A299=0,\"\",'LOD Matrix (DO NOT PRINT)'!M299)","v":""},{"$f":"IF($A299=0,\"\",'LOD Matrix (DO NOT PRINT)'!N299)","v":""},{"$f":"IF($A299=0,\"\",IF('LOD Matrix (DO NOT PRINT)'!P299=TRUE,\"Yes\",\"No\"))","v":""}]
[{"$f":"IF(B300=\"Yes\",Table2[[#This Row],[Break Level]],0)","v":0},{"$f":"Table2[[#This Row],[Yes/No]]","v":"No"},null,null,{"$f":"IF($A300=0,\"\",Table2[[#This Row],[PTC DISCIPLINE]])","v":""},{"$f":"IF($A300=0,\"\",Table2[[#This Row],[ELEMENT]])","v":""},{"$f":"IF($A300=0,\"\",Table2[[#This Row],[LG&TSL]])","v":""},{"$f":"IF($A300=0,\"\",Table2[[#This Row],[DFV]])","v":""},{"$f":"IF($A300=0,\"\",Table2[[#This Row],[60%-OTS]])","v":""},{"$f":"IF($A300=0,\"\",Table2[[#This Row],[75%]])","v":""},{"$f":"IF($A300=0,\"\",Table2[[#This Row],[Pre-Final PS&E]])","v":""},{"$f":"IF($A300=0,\"\",Table2[[#This Row],[Final PS&E]])","v":""},{"$f":"IF($A300=0,\"\",'LOD Matrix (DO NOT PRINT)'!M300)","v":""},{"$f":"IF($A300=0,\"\",'LOD Matrix (DO NOT PRINT)'!N300)","v":""},{"$f":"IF($A300=0,\"\",IF('LOD Matrix (DO NOT PRINT)'!P300=TRUE,\"Yes\",\"No\"))","v":""}]
[{"$f":"IF(B301=\"Yes\",Table2[[#This Row],[Break Level]],0)","v":0},{"$f":"Table2[[#This Row],[Yes/No]]","v":"No"},null,null,{"$f":"IF($A301=0,\"\",Table2[[#This Row],[PTC DISCIPLINE]])","v":""},{"$f":"IF($A301=0,\"\",Table2[[#This Row],[ELEMENT]])","v":""},{"$f":"IF($A301=0,\"\",Table2[[#This Row],[LG&TSL]])","v":""},{"$f":"IF($A301=0,\"\",Table2[[#This Row],[DFV]])","v":""},{"$f":"IF($A301=0,\"\",Table2[[#This Row],[60%-OTS]])","v":""},{"$f":"IF($A301=0,\"\",Table2[[#This Row],[75%]])","v":""},{"$f":"IF($A301=0,\"\",Table2[[#This Row],[Pre-Final PS&E]])","v":""},{"$f":"IF($A301=0,\"\",Table2[[#This Row],[Final PS&E]])","v":""},{"$f":"IF($A301=0,\"\",'LOD Matrix (DO NOT PRINT)'!M301)","v":""},{"$f":"IF($A301=0,\"\",'LOD Matrix (DO NOT PRINT)'!N301)","v":""},{"$f":"IF($A301=0,\"\",IF('LOD Matrix (DO NOT PRINT)'!P301=TRUE,\"Yes\",\"No\"))","v":""}]
[{"$f":"IF(B302=\"Yes\",Table2[[#This Row],[Break Level]],0)","v":0},{"$f":"Table2[[#This Row],[Yes/No]]","v":"No"},null,null,{"$f":"IF($A302=0,\"\",Table2[[#This Row],[PTC DISCIPLINE]])","v":""},{"$f":"IF($A302=0,\"\",Table2[[#This Row],[ELEMENT]])","v":""},{"$f":"IF($A302=0,\"\",Table2[[#This Row],[LG&TSL]])","v":""},{"$f":"IF($A302=0,\"\",Table2[[#This Row],[DFV]])","v":""},{"$f":"IF($A302=0,\"\",Table2[[#This Row],[60%-OTS]])","v":""},{"$f":"IF($A302=0,\"\",Table2[[#This Row],[75%]])","v":""},{"$f":"IF($A302=0,\"\",Table2[[#This Row],[Pre-Final PS&E]])","v":""},{"$f":"IF($A302=0,\"\",Table2[[#This Row],[Final PS&E]])","v":""},{"$f":"IF($A302=0,\"\",'LOD Matrix (DO NOT PRINT)'!M302)","v":""},{"$f":"IF($A302=0,\"\",'LOD Matrix (DO NOT PRINT)'!N302)","v":""},{"$f":"IF($A302=0,\"\",IF('LOD Matrix (DO NOT PRINT)'!P302=TRUE,\"Yes\",\"No\"))","v":""}]
[{"$f":"IF(B303=\"Yes\",Table2[[#This Row],[Break Level]],0)","v":0},{"$f":"Table2[[#This Row],[Yes/No]]","v":"No"},null,null,{"$f":"IF($A303=0,\"\",Table2[[#This Row],[PTC DISCIPLINE]])","v":""},{"$f":"IF($A303=0,\"\",Table2[[#This Row],[ELEMENT]])","v":""},{"$f":"IF($A303=0,\"\",Table2[[#This Row],[LG&TSL]])","v":""},{"$f":"IF($A303=0,\"\",Table2[[#This Row],[DFV]])","v":""},{"$f":"IF($A303=0,\"\",Table2[[#This Row],[60%-OTS]])","v":""},{"$f":"IF($A303=0,\"\",Table2[[#This Row],[75%]])","v":""},{"$f":"IF($A303=0,\"\",Table2[[#This Row],[Pre-Final PS&E]])","v":""},{"$f":"IF($A303=0,\"\",Table2[[#This Row],[Final PS&E]])","v":""},{"$f":"IF($A303=0,\"\",'LOD Matrix (DO NOT PRINT)'!M303)","v":""},{"$f":"IF($A303=0,\"\",'LOD Matrix (DO NOT PRINT)'!N303)","v":""},{"$f":"IF($A303=0,\"\",IF('LOD Matrix (DO NOT PRINT)'!P303=TRUE,\"Yes\",\"No\"))","v":""}]
[{"$f":"IF(B304=\"Yes\",Table2[[#This Row],[Break Level]],0)","v":0},{"$f":"Table2[[#This Row],[Yes/No]]","v":"No"},null,null,{"$f":"IF($A304=0,\"\",Table2[[#This Row],[PTC DISCIPLINE]])","v":""},{"$f":"IF($A304=0,\"\",Table2[[#This Row],[ELEMENT]])","v":""},{"$f":"IF($A304=0,\"\",Table2[[#This Row],[LG&TSL]])","v":""},{"$f":"IF($A304=0,\"\",Table2[[#This Row],[DFV]])","v":""},{"$f":"IF($A304=0,\"\",Table2[[#This Row],[60%-OTS]])","v":""},{"$f":"IF($A304=0,\"\",Table2[[#This Row],[75%]])","v":""},{"$f":"IF($A304=0,\"\",Table2[[#This Row],[Pre-Final PS&E]])","v":""},{"$f":"IF($A304=0,\"\",Table2[[#This Row],[Final PS&E]])","v":""},{"$f":"IF($A304=0,\"\",'LOD Matrix (DO NOT PRINT)'!M304)","v":""},{"$f":"IF($A304=0,\"\",'LOD Matrix (DO NOT PRINT)'!N304)","v":""},{"$f":"IF($A304=0,\"\",IF('LOD Matrix (DO NOT PRINT)'!P304=TRUE,\"Yes\",\"No\"))","v":""}]
[{"$f":"IF(B305=\"Yes\",Table2[[#This Row],[Break Level]],0)","v":0},{"$f":"Table2[[#This Row],[Yes/No]]","v":"No"},null,null,{"$f":"IF($A305=0,\"\",Table2[[#This Row],[PTC DISCIPLINE]])","v":""},{"$f":"IF($A305=0,\"\",Table2[[#This Row],[ELEMENT]])","v":""},{"$f":"IF($A305=0,\"\",Table2[[#This Row],[LG&TSL]])","v":""},{"$f":"IF($A305=0,\"\",Table2[[#This Row],[DFV]])","v":""},{"$f":"IF($A305=0,\"\",Table2[[#This Row],[60%-OTS]])","v":""},{"$f":"IF($A305=0,\"\",Table2[[#This Row],[75%]])","v":""},{"$f":"IF($A305=0,\"\",Table2[[#This Row],[Pre-Final PS&E]])","v":""},{"$f":"IF($A305=0,\"\",Table2[[#This Row],[Final PS&E]])","v":""},{"$f":"IF($A305=0,\"\",'LOD Matrix (DO NOT PRINT)'!M305)","v":""},{"$f":"IF($A305=0,\"\",'LOD Matrix (DO NOT PRINT)'!N305)","v":""},{"$f":"IF($A305=0,\"\",IF('LOD Matrix (DO NOT PRINT)'!P305=TRUE,\"Yes\",\"No\"))","v":""}]
[{"$f":"IF(B306=\"Yes\",Table2[[#This Row],[Break Level]],0)","v":0},{"$f":"Table2[[#This Row],[Yes/No]]","v":"No"},null,null,{"$f":"IF($A306=0,\"\",Table2[[#This Row],[PTC DISCIPLINE]])","v":""},{"$f":"IF($A306=0,\"\",Table2[[#This Row],[ELEMENT]])","v":""},{"$f":"IF($A306=0,\"\",Table2[[#This Row],[LG&TSL]])","v":""},{"$f":"IF($A306=0,\"\",Table2[[#This Row],[DFV]])","v":""},{"$f":"IF($A306=0,\"\",Table2[[#This Row],[60%-OTS]])","v":""},{"$f":"IF($A306=0,\"\",Table2[[#This Row],[75%]])","v":""},{"$f":"IF($A306=0,\"\",Table2[[#This Row],[Pre-Final PS&E]])","v":""},{"$f":"IF($A306=0,\"\",Table2[[#This Row],[Final PS&E]])","v":""},{"$f":"IF($A306=0,\"\",'LOD Matrix (DO NOT PRINT)'!M306)","v":""},{"$f":"IF($A306=0,\"\",'LOD Matrix (DO NOT PRINT)'!N306)","v":""},{"$f":"IF($A306=0,\"\",IF('LOD Matrix (DO NOT PRINT)'!P306=TRUE,\"Yes\",\"No\"))","v":""}]
[{"$f":"IF(B307=\"Yes\",Table2[[#This Row],[Break Level]],0)","v":0},{"$f":"Table2[[#This Row],[Yes/No]]","v":"No"},null,null,{"$f":"IF($A307=0,\"\",Table2[[#This Row],[PTC DISCIPLINE]])","v":""},{"$f":"IF($A307=0,\"\",Table2[[#This Row],[ELEMENT]])","v":""},{"$f":"IF($A307=0,\"\",Table2[[#This Row],[LG&TSL]])","v":""},{"$f":"IF($A307=0,\"\",Table2[[#This Row],[DFV]])","v":""},{"$f":"IF($A307=0,\"\",Table2[[#This Row],[60%-OTS]])","v":""},{"$f":"IF($A307=0,\"\",Table2[[#This Row],[75%]])","v":""},{"$f":"IF($A307=0,\"\",Table2[[#This Row],[Pre-Final PS&E]])","v":""},{"$f":"IF($A307=0,\"\",Table2[[#This Row],[Final PS&E]])","v":""},{"$f":"IF($A307=0,\"\",'LOD Matrix (DO NOT PRINT)'!M307)","v":""},{"$f":"IF($A307=0,\"\",'LOD Matrix (DO NOT PRINT)'!N307)","v":""},{"$f":"IF($A307=0,\"\",IF('LOD Matrix (DO NOT PRINT)'!P307=TRUE,\"Yes\",\"No\"))","v":""}]
[{"$f":"IF(B308=\"Yes\",Table2[[#This Row],[Break Level]],0)","v":0},{"$f":"Table2[[#This Row],[Yes/No]]","v":"No"},null,null,{"$f":"IF($A308=0,\"\",Table2[[#This Row],[PTC DISCIPLINE]])","v":""},{"$f":"IF($A308=0,\"\",Table2[[#This Row],[ELEMENT]])","v":""},{"$f":"IF($A308=0,\"\",Table2[[#This Row],[LG&TSL]])","v":""},{"$f":"IF($A308=0,\"\",Table2[[#This Row],[DFV]])","v":""},{"$f":"IF($A308=0,\"\",Table2[[#This Row],[60%-OTS]])","v":""},{"$f":"IF($A308=0,\"\",Table2[[#This Row],[75%]])","v":""},{"$f":"IF($A308=0,\"\",Table2[[#This Row],[Pre-Final PS&E]])","v":""},{"$f":"IF($A308=0,\"\",Table2[[#This Row],[Final PS&E]])","v":""},{"$f":"IF($A308=0,\"\",'LOD Matrix (DO NOT PRINT)'!M308)","v":""},{"$f":"IF($A308=0,\"\",'LOD Matrix (DO NOT PRINT)'!N308)","v":""},{"$f":"IF($A308=0,\"\",IF('LOD Matrix (DO NOT PRINT)'!P308=TRUE,\"Yes\",\"No\"))","v":""}]
[{"$f":"IF(B309=\"Yes\",Table2[[#This Row],[Break Level]],0)","v":0},{"$f":"Table2[[#This Row],[Yes/No]]","v":"No"},null,null,{"$f":"IF($A309=0,\"\",Table2[[#This Row],[PTC DISCIPLINE]])","v":""},{"$f":"IF($A309=0,\"\",Table2[[#This Row],[ELEMENT]])","v":""},{"$f":"IF($A309=0,\"\",Table2[[#This Row],[LG&TSL]])","v":""},{"$f":"IF($A309=0,\"\",Table2[[#This Row],[DFV]])","v":""},{"$f":"IF($A309=0,\"\",Table2[[#This Row],[60%-OTS]])","v":""},{"$f":"IF($A309=0,\"\",Table2[[#This Row],[75%]])","v":""},{"$f":"IF($A309=0,\"\",Table2[[#This Row],[Pre-Final PS&E]])","v":""},{"$f":"IF($A309=0,\"\",Table2[[#This Row],[Final PS&E]])","v":""},{"$f":"IF($A309=0,\"\",'LOD Matrix (DO NOT PRINT)'!M309)","v":""},{"$f":"IF($A309=0,\"\",'LOD Matrix (DO NOT PRINT)'!N309)","v":""},{"$f":"IF($A309=0,\"\",IF('LOD Matrix (DO NOT PRINT)'!P309=TRUE,\"Yes\",\"No\"))","v":""}]
[{"$f":"IF(B310=\"Yes\",Table2[[#This Row],[Break Level]],0)","v":0},{"$f":"Table2[[#This Row],[Yes/No]]","v":"No"},null,null,{"$f":"IF($A310=0,\"\",Table2[[#This Row],[PTC DISCIPLINE]])","v":""},{"$f":"IF($A310=0,\"\",Table2[[#This Row],[ELEMENT]])","v":""},{"$f":"IF($A310=0,\"\",Table2[[#This Row],[LG&TSL]])","v":""},{"$f":"IF($A310=0,\"\",Table2[[#This Row],[DFV]])","v":""},{"$f":"IF($A310=0,\"\",Table2[[#This Row],[60%-OTS]])","v":""},{"$f":"IF($A310=0,\"\",Table2[[#This Row],[75%]])","v":""},{"$f":"IF($A310=0,\"\",Table2[[#This Row],[Pre-Final PS&E]])","v":""},{"$f":"IF($A310=0,\"\",Table2[[#This Row],[Final PS&E]])","v":""},{"$f":"IF($A310=0,\"\",'LOD Matrix (DO NOT PRINT)'!M310)","v":""},{"$f":"IF($A310=0,\"\",'LOD Matrix (DO NOT PRINT)'!N310)","v":""},{"$f":"IF($A310=0,\"\",IF('LOD Matrix (DO NOT PRINT)'!P310=TRUE,\"Yes\",\"No\"))","v":""}]
[{"$f":"IF(B311=\"Yes\",Table2[[#This Row],[Break Level]],0)","v":0},{"$f":"Table2[[#This Row],[Yes/No]]","v":"No"},null,null,{"$f":"IF($A311=0,\"\",Table2[[#This Row],[PTC DISCIPLINE]])","v":""},{"$f":"IF($A311=0,\"\",Table2[[#This Row],[ELEMENT]])","v":""},{"$f":"IF($A311=0,\"\",Table2[[#This Row],[LG&TSL]])","v":""},{"$f":"IF($A311=0,\"\",Table2[[#This Row],[DFV]])","v":""},{"$f":"IF($A311=0,\"\",Table2[[#This Row],[60%-OTS]])","v":""},{"$f":"IF($A311=0,\"\",Table2[[#This Row],[75%]])","v":""},{"$f":"IF($A311=0,\"\",Table2[[#This Row],[Pre-Final PS&E]])","v":""},{"$f":"IF($A311=0,\"\",Table2[[#This Row],[Final PS&E]])","v":""},{"$f":"IF($A311=0,\"\",'LOD Matrix (DO NOT PRINT)'!M311)","v":""},{"$f":"IF($A311=0,\"\",'LOD Matrix (DO NOT PRINT)'!N311)","v":""},{"$f":"IF($A311=0,\"\",IF('LOD Matrix (DO NOT PRINT)'!P311=TRUE,\"Yes\",\"No\"))","v":""}]
[{"$f":"IF(B312=\"Yes\",Table2[[#This Row],[Break Level]],0)","v":0},{"$f":"Table2[[#This Row],[Yes/No]]","v":"No"},null,null,{"$f":"IF($A312=0,\"\",Table2[[#This Row],[PTC DISCIPLINE]])","v":""},{"$f":"IF($A312=0,\"\",Table2[[#This Row],[ELEMENT]])","v":""},{"$f":"IF($A312=0,\"\",Table2[[#This Row],[LG&TSL]])","v":""},{"$f":"IF($A312=0,\"\",Table2[[#This Row],[DFV]])","v":""},{"$f":"IF($A312=0,\"\",Table2[[#This Row],[60%-OTS]])","v":""},{"$f":"IF($A312=0,\"\",Table2[[#This Row],[75%]])","v":""},{"$f":"IF($A312=0,\"\",Table2[[#This Row],[Pre-Final PS&E]])","v":""},{"$f":"IF($A312=0,\"\",Table2[[#This Row],[Final PS&E]])","v":""},{"$f":"IF($A312=0,\"\",'LOD Matrix (DO NOT PRINT)'!M312)","v":""},{"$f":"IF($A312=0,\"\",'LOD Matrix (DO NOT PRINT)'!N312)","v":""},{"$f":"IF($A312=0,\"\",IF('LOD Matrix (DO NOT PRINT)'!P312=TRUE,\"Yes\",\"No\"))","v":""}]
[{"$f":"IF(B313=\"Yes\",Table2[[#This Row],[Break Level]],0)","v":0},{"$f":"Table2[[#This Row],[Yes/No]]","v":"No"},null,null,{"$f":"IF($A313=0,\"\",Table2[[#This Row],[PTC DISCIPLINE]])","v":""},{"$f":"IF($A313=0,\"\",Table2[[#This Row],[ELEMENT]])","v":""},{"$f":"IF($A313=0,\"\",Table2[[#This Row],[LG&TSL]])","v":""},{"$f":"IF($A313=0,\"\",Table2[[#This Row],[DFV]])","v":""},{"$f":"IF($A313=0,\"\",Table2[[#This Row],[60%-OTS]])","v":""},{"$f":"IF($A313=0,\"\",Table2[[#This Row],[75%]])","v":""},{"$f":"IF($A313=0,\"\",Table2[[#This Row],[Pre-Final PS&E]])","v":""},{"$f":"IF($A313=0,\"\",Table2[[#This Row],[Final PS&E]])","v":""},{"$f":"IF($A313=0,\"\",'LOD Matrix (DO NOT PRINT)'!M313)","v":""},{"$f":"IF($A313=0,\"\",'LOD Matrix (DO NOT PRINT)'!N313)","v":""},{"$f":"IF($A313=0,\"\",IF('LOD Matrix (DO NOT PRINT)'!P313=TRUE,\"Yes\",\"No\"))","v":""}]
[{"$f":"IF(B314=\"Yes\",Table2[[#This Row],[Break Level]],0)","v":0},{"$f":"Table2[[#This Row],[Yes/No]]","v":"No"},null,null,{"$f":"IF($A314=0,\"\",Table2[[#This Row],[PTC DISCIPLINE]])","v":""},{"$f":"IF($A314=0,\"\",Table2[[#This Row],[ELEMENT]])","v":""},{"$f":"IF($A314=0,\"\",Table2[[#This Row],[LG&TSL]])","v":""},{"$f":"IF($A314=0,\"\",Table2[[#This Row],[DFV]])","v":""},{"$f":"IF($A314=0,\"\",Table2[[#This Row],[60%-OTS]])","v":""},{"$f":"IF($A314=0,\"\",Table2[[#This Row],[75%]])","v":""},{"$f":"IF($A314=0,\"\",Table2[[#This Row],[Pre-Final PS&E]])","v":""},{"$f":"IF($A314=0,\"\",Table2[[#This Row],[Final PS&E]])","v":""},{"$f":"IF($A314=0,\"\",'LOD Matrix (DO NOT PRINT)'!M314)","v":""},{"$f":"IF($A314=0,\"\",'LOD Matrix (DO NOT PRINT)'!N314)","v":""},{"$f":"IF($A314=0,\"\",IF('LOD Matrix (DO NOT PRINT)'!P314=TRUE,\"Yes\",\"No\"))","v":""}]
[{"$f":"IF(B315=\"Yes\",Table2[[#This Row],[Break Level]],0)","v":0},{"$f":"Table2[[#This Row],[Yes/No]]","v":"No"},null,null,{"$f":"IF($A315=0,\"\",Table2[[#This Row],[PTC DISCIPLINE]])","v":""},{"$f":"IF($A315=0,\"\",Table2[[#This Row],[ELEMENT]])","v":""},{"$f":"IF($A315=0,\"\",Table2[[#This Row],[LG&TSL]])","v":""},{"$f":"IF($A315=0,\"\",Table2[[#This Row],[DFV]])","v":""},{"$f":"IF($A315=0,\"\",Table2[[#This Row],[60%-OTS]])","v":""},{"$f":"IF($A315=0,\"\",Table2[[#This Row],[75%]])","v":""},{"$f":"IF($A315=0,\"\",Table2[[#This Row],[Pre-Final PS&E]])","v":""},{"$f":"IF($A315=0,\"\",Table2[[#This Row],[Final PS&E]])","v":""},{"$f":"IF($A315=0,\"\",'LOD Matrix (DO NOT PRINT)'!M315)","v":""},{"$f":"IF($A315=0,\"\",'LOD Matrix (DO NOT PRINT)'!N315)","v":""},{"$f":"IF($A315=0,\"\",IF('LOD Matrix (DO NOT PRINT)'!P315=TRUE,\"Yes\",\"No\"))","v":""}]
[{"$f":"IF(B316=\"Yes\",Table2[[#This Row],[Break Level]],0)","v":0},{"$f":"Table2[[#This Row],[Yes/No]]","v":"No"},null,null,{"$f":"IF($A316=0,\"\",Table2[[#This Row],[PTC DISCIPLINE]])","v":""},{"$f":"IF($A316=0,\"\",Table2[[#This Row],[ELEMENT]])","v":""},{"$f":"IF($A316=0,\"\",Table2[[#This Row],[LG&TSL]])","v":""},{"$f":"IF($A316=0,\"\",Table2[[#This Row],[DFV]])","v":""},{"$f":"IF($A316=0,\"\",Table2[[#This Row],[60%-OTS]])","v":""},{"$f":"IF($A316=0,\"\",Table2[[#This Row],[75%]])","v":""},{"$f":"IF($A316=0,\"\",Table2[[#This Row],[Pre-Final PS&E]])","v":""},{"$f":"IF($A316=0,\"\",Table2[[#This Row],[Final PS&E]])","v":""},{"$f":"IF($A316=0,\"\",'LOD Matrix (DO NOT PRINT)'!M316)","v":""},{"$f":"IF($A316=0,\"\",'LOD Matrix (DO NOT PRINT)'!N316)","v":""},{"$f":"IF($A316=0,\"\",IF('LOD Matrix (DO NOT PRINT)'!P316=TRUE,\"Yes\",\"No\"))","v":""}]
[{"$f":"IF(B317=\"Yes\",Table2[[#This Row],[Break Level]],0)","v":0},{"$f":"Table2[[#This Row],[Yes/No]]","v":"No"},null,null,{"$f":"IF($A317=0,\"\",Table2[[#This Row],[PTC DISCIPLINE]])","v":""},{"$f":"IF($A317=0,\"\",Table2[[#This Row],[ELEMENT]])","v":""},{"$f":"IF($A317=0,\"\",Table2[[#This Row],[LG&TSL]])","v":""},{"$f":"IF($A317=0,\"\",Table2[[#This Row],[DFV]])","v":""},{"$f":"IF($A317=0,\"\",Table2[[#This Row],[60%-OTS]])","v":""},{"$f":"IF($A317=0,\"\",Table2[[#This Row],[75%]])","v":""},{"$f":"IF($A317=0,\"\",Table2[[#This Row],[Pre-Final PS&E]])","v":""},{"$f":"IF($A317=0,\"\",Table2[[#This Row],[Final PS&E]])","v":""},{"$f":"IF($A317=0,\"\",'LOD Matrix (DO NOT PRINT)'!M317)","v":""},{"$f":"IF($A317=0,\"\",'LOD Matrix (DO NOT PRINT)'!N317)","v":""},{"$f":"IF($A317=0,\"\",IF('LOD Matrix (DO NOT PRINT)'!P317=TRUE,\"Yes\",\"No\"))","v":""}]
[{"$f":"IF(B318=\"Yes\",Table2[[#This Row],[Break Level]],0)","v":0},{"$f":"Table2[[#This Row],[Yes/No]]","v":"No"},null,null,{"$f":"IF($A318=0,\"\",Table2[[#This Row],[PTC DISCIPLINE]])","v":""},{"$f":"IF($A318=0,\"\",Table2[[#This Row],[ELEMENT]])","v":""},{"$f":"IF($A318=0,\"\",Table2[[#This Row],[LG&TSL]])","v":""},{"$f":"IF($A318=0,\"\",Table2[[#This Row],[DFV]])","v":""},{"$f":"IF($A318=0,\"\",Table2[[#This Row],[60%-OTS]])","v":""},{"$f":"IF($A318=0,\"\",Table2[[#This Row],[75%]])","v":""},{"$f":"IF($A318=0,\"\",Table2[[#This Row],[Pre-Final PS&E]])","v":""},{"$f":"IF($A318=0,\"\",Table2[[#This Row],[Final PS&E]])","v":""},{"$f":"IF($A318=0,\"\",'LOD Matrix (DO NOT PRINT)'!M318)","v":""},{"$f":"IF($A318=0,\"\",'LOD Matrix (DO NOT PRINT)'!N318)","v":""},{"$f":"IF($A318=0,\"\",IF('LOD Matrix (DO NOT PRINT)'!P318=TRUE,\"Yes\",\"No\"))","v":""}]
[{"$f":"IF(B319=\"Yes\",Table2[[#This Row],[Break Level]],0)","v":0},{"$f":"Table2[[#This Row],[Yes/No]]","v":"No"},null,null,{"$f":"IF($A319=0,\"\",Table2[[#This Row],[PTC DISCIPLINE]])","v":""},{"$f":"IF($A319=0,\"\",Table2[[#This Row],[ELEMENT]])","v":""},{"$f":"IF($A319=0,\"\",Table2[[#This Row],[LG&TSL]])","v":""},{"$f":"IF($A319=0,\"\",Table2[[#This Row],[DFV]])","v":""},{"$f":"IF($A319=0,\"\",Table2[[#This Row],[60%-OTS]])","v":""},{"$f":"IF($A319=0,\"\",Table2[[#This Row],[75%]])","v":""},{"$f":"IF($A319=0,\"\",Table2[[#This Row],[Pre-Final PS&E]])","v":""},{"$f":"IF($A319=0,\"\",Table2[[#This Row],[Final PS&E]])","v":""},{"$f":"IF($A319=0,\"\",'LOD Matrix (DO NOT PRINT)'!M319)","v":""},{"$f":"IF($A319=0,\"\",'LOD Matrix (DO NOT PRINT)'!N319)","v":""},{"$f":"IF($A319=0,\"\",IF('LOD Matrix (DO NOT PRINT)'!P319=TRUE,\"Yes\",\"No\"))","v":""}]
[{"$f":"IF(B320=\"Yes\",Table2[[#This Row],[Break Level]],0)","v":0},{"$f":"Table2[[#This Row],[Yes/No]]","v":"No"},null,null,{"$f":"IF($A320=0,\"\",Table2[[#This Row],[PTC DISCIPLINE]])","v":""},{"$f":"IF($A320=0,\"\",Table2[[#This Row],[ELEMENT]])","v":""},{"$f":"IF($A320=0,\"\",Table2[[#This Row],[LG&TSL]])","v":""},{"$f":"IF($A320=0,\"\",Table2[[#This Row],[DFV]])","v":""},{"$f":"IF($A320=0,\"\",Table2[[#This Row],[60%-OTS]])","v":""},{"$f":"IF($A320=0,\"\",Table2[[#This Row],[75%]])","v":""},{"$f":"IF($A320=0,\"\",Table2[[#This Row],[Pre-Final PS&E]])","v":""},{"$f":"IF($A320=0,\"\",Table2[[#This Row],[Final PS&E]])","v":""},{"$f":"IF($A320=0,\"\",'LOD Matrix (DO NOT PRINT)'!M320)","v":""},{"$f":"IF($A320=0,\"\",'LOD Matrix (DO NOT PRINT)'!N320)","v":""},{"$f":"IF($A320=0,\"\",IF('LOD Matrix (DO NOT PRINT)'!P320=TRUE,\"Yes\",\"No\"))","v":""}]
[{"$f":"IF(B321=\"Yes\",Table2[[#This Row],[Break Level]],0)","v":0},{"$f":"Table2[[#This Row],[Yes/No]]","v":"No"},null,null,{"$f":"IF($A321=0,\"\",Table2[[#This Row],[PTC DISCIPLINE]])","v":""},{"$f":"IF($A321=0,\"\",Table2[[#This Row],[ELEMENT]])","v":""},{"$f":"IF($A321=0,\"\",Table2[[#This Row],[LG&TSL]])","v":""},{"$f":"IF($A321=0,\"\",Table2[[#This Row],[DFV]])","v":""},{"$f":"IF($A321=0,\"\",Table2[[#This Row],[60%-OTS]])","v":""},{"$f":"IF($A321=0,\"\",Table2[[#This Row],[75%]])","v":""},{"$f":"IF($A321=0,\"\",Table2[[#This Row],[Pre-Final PS&E]])","v":""},{"$f":"IF($A321=0,\"\",Table2[[#This Row],[Final PS&E]])","v":""},{"$f":"IF($A321=0,\"\",'LOD Matrix (DO NOT PRINT)'!M321)","v":""},{"$f":"IF($A321=0,\"\",'LOD Matrix (DO NOT PRINT)'!N321)","v":""},{"$f":"IF($A321=0,\"\",IF('LOD Matrix (DO NOT PRINT)'!P321=TRUE,\"Yes\",\"No\"))","v":""}]
[{"$f":"IF(B322=\"Yes\",Table2[[#This Row],[Break Level]],0)","v":0},{"$f":"Table2[[#This Row],[Yes/No]]","v":"No"},null,null,{"$f":"IF($A322=0,\"\",Table2[[#This Row],[PTC DISCIPLINE]])","v":""},{"$f":"IF($A322=0,\"\",Table2[[#This Row],[ELEMENT]])","v":""},{"$f":"IF($A322=0,\"\",Table2[[#This Row],[LG&TSL]])","v":""},{"$f":"IF($A322=0,\"\",Table2[[#This Row],[DFV]])","v":""},{"$f":"IF($A322=0,\"\",Table2[[#This Row],[60%-OTS]])","v":""},{"$f":"IF($A322=0,\"\",Table2[[#This Row],[75%]])","v":""},{"$f":"IF($A322=0,\"\",Table2[[#This Row],[Pre-Final PS&E]])","v":""},{"$f":"IF($A322=0,\"\",Table2[[#This Row],[Final PS&E]])","v":""},{"$f":"IF($A322=0,\"\",'LOD Matrix (DO NOT PRINT)'!M322)","v":""},{"$f":"IF($A322=0,\"\",'LOD Matrix (DO NOT PRINT)'!N322)","v":""},{"$f":"IF($A322=0,\"\",IF('LOD Matrix (DO NOT PRINT)'!P322=TRUE,\"Yes\",\"No\"))","v":""}]
[{"$f":"IF(B323=\"Yes\",Table2[[#This Row],[Break Level]],0)","v":0},{"$f":"Table2[[#This Row],[Yes/No]]","v":"No"},null,null,{"$f":"IF($A323=0,\"\",Table2[[#This Row],[PTC DISCIPLINE]])","v":""},{"$f":"IF($A323=0,\"\",Table2[[#This Row],[ELEMENT]])","v":""},{"$f":"IF($A323=0,\"\",Table2[[#This Row],[LG&TSL]])","v":""},{"$f":"IF($A323=0,\"\",Table2[[#This Row],[DFV]])","v":""},{"$f":"IF($A323=0,\"\",Table2[[#This Row],[60%-OTS]])","v":""},{"$f":"IF($A323=0,\"\",Table2[[#This Row],[75%]])","v":""},{"$f":"IF($A323=0,\"\",Table2[[#This Row],[Pre-Final PS&E]])","v":""},{"$f":"IF($A323=0,\"\",Table2[[#This Row],[Final PS&E]])","v":""},{"$f":"IF($A323=0,\"\",'LOD Matrix (DO NOT PRINT)'!M323)","v":""},{"$f":"IF($A323=0,\"\",'LOD Matrix (DO NOT PRINT)'!N323)","v":""},{"$f":"IF($A323=0,\"\",IF('LOD Matrix (DO NOT PRINT)'!P323=TRUE,\"Yes\",\"No\"))","v":""}]
[{"$f":"IF(B324=\"Yes\",Table2[[#This Row],[Break Level]],0)","v":0},{"$f":"Table2[[#This Row],[Yes/No]]","v":"No"},null,null,{"$f":"IF($A324=0,\"\",Table2[[#This Row],[PTC DISCIPLINE]])","v":""},{"$f":"IF($A324=0,\"\",Table2[[#This Row],[ELEMENT]])","v":""},{"$f":"IF($A324=0,\"\",Table2[[#This Row],[LG&TSL]])","v":""},{"$f":"IF($A324=0,\"\",Table2[[#This Row],[DFV]])","v":""},{"$f":"IF($A324=0,\"\",Table2[[#This Row],[60%-OTS]])","v":""},{"$f":"IF($A324=0,\"\",Table2[[#This Row],[75%]])","v":""},{"$f":"IF($A324=0,\"\",Table2[[#This Row],[Pre-Final PS&E]])","v":""},{"$f":"IF($A324=0,\"\",Table2[[#This Row],[Final PS&E]])","v":""},{"$f":"IF($A324=0,\"\",'LOD Matrix (DO NOT PRINT)'!M324)","v":""},{"$f":"IF($A324=0,\"\",'LOD Matrix (DO NOT PRINT)'!N324)","v":""},{"$f":"IF($A324=0,\"\",IF('LOD Matrix (DO NOT PRINT)'!P324=TRUE,\"Yes\",\"No\"))","v":""}]
[{"$f":"IF(B325=\"Yes\",Table2[[#This Row],[Break Level]],0)","v":0},{"$f":"Table2[[#This Row],[Yes/No]]","v":"No"},null,null,{"$f":"IF($A325=0,\"\",Table2[[#This Row],[PTC DISCIPLINE]])","v":""},{"$f":"IF($A325=0,\"\",Table2[[#This Row],[ELEMENT]])","v":""},{"$f":"IF($A325=0,\"\",Table2[[#This Row],[LG&TSL]])","v":""},{"$f":"IF($A325=0,\"\",Table2[[#This Row],[DFV]])","v":""},{"$f":"IF($A325=0,\"\",Table2[[#This Row],[60%-OTS]])","v":""},{"$f":"IF($A325=0,\"\",Table2[[#This Row],[75%]])","v":""},{"$f":"IF($A325=0,\"\",Table2[[#This Row],[Pre-Final PS&E]])","v":""},{"$f":"IF($A325=0,\"\",Table2[[#This Row],[Final PS&E]])","v":""},{"$f":"IF($A325=0,\"\",'LOD Matrix (DO NOT PRINT)'!M325)","v":""},{"$f":"IF($A325=0,\"\",'LOD Matrix (DO NOT PRINT)'!N325)","v":""},{"$f":"IF($A325=0,\"\",IF('LOD Matrix (DO NOT PRINT)'!P325=TRUE,\"Yes\",\"No\"))","v":""}]
[{"$f":"IF(B326=\"Yes\",Table2[[#This Row],[Break Level]],0)","v":0},{"$f":"Table2[[#This Row],[Yes/No]]","v":"No"},null,null,{"$f":"IF($A326=0,\"\",Table2[[#This Row],[PTC DISCIPLINE]])","v":""},{"$f":"IF($A326=0,\"\",Table2[[#This Row],[ELEMENT]])","v":""},{"$f":"IF($A326=0,\"\",Table2[[#This Row],[LG&TSL]])","v":""},{"$f":"IF($A326=0,\"\",Table2[[#This Row],[DFV]])","v":""},{"$f":"IF($A326=0,\"\",Table2[[#This Row],[60%-OTS]])","v":""},{"$f":"IF($A326=0,\"\",Table2[[#This Row],[75%]])","v":""},{"$f":"IF($A326=0,\"\",Table2[[#This Row],[Pre-Final PS&E]])","v":""},{"$f":"IF($A326=0,\"\",Table2[[#This Row],[Final PS&E]])","v":""},{"$f":"IF($A326=0,\"\",'LOD Matrix (DO NOT PRINT)'!M326)","v":""},{"$f":"IF($A326=0,\"\",'LOD Matrix (DO NOT PRINT)'!N326)","v":""},{"$f":"IF($A326=0,\"\",IF('LOD Matrix (DO NOT PRINT)'!P326=TRUE,\"Yes\",\"No\"))","v":""}]
[{"$f":"IF(B327=\"Yes\",Table2[[#This Row],[Break Level]],0)","v":0},{"$f":"Table2[[#This Row],[Yes/No]]","v":"No"},null,null,{"$f":"IF($A327=0,\"\",Table2[[#This Row],[PTC DISCIPLINE]])","v":""},{"$f":"IF($A327=0,\"\",Table2[[#This Row],[ELEMENT]])","v":""},{"$f":"IF($A327=0,\"\",Table2[[#This Row],[LG&TSL]])","v":""},{"$f":"IF($A327=0,\"\",Table2[[#This Row],[DFV]])","v":""},{"$f":"IF($A327=0,\"\",Table2[[#This Row],[60%-OTS]])","v":""},{"$f":"IF($A327=0,\"\",Table2[[#This Row],[75%]])","v":""},{"$f":"IF($A327=0,\"\",Table2[[#This Row],[Pre-Final PS&E]])","v":""},{"$f":"IF($A327=0,\"\",Table2[[#This Row],[Final PS&E]])","v":""},{"$f":"IF($A327=0,\"\",'LOD Matrix (DO NOT PRINT)'!M327)","v":""},{"$f":"IF($A327=0,\"\",'LOD Matrix (DO NOT PRINT)'!N327)","v":""},{"$f":"IF($A327=0,\"\",IF('LOD Matrix (DO NOT PRINT)'!P327=TRUE,\"Yes\",\"No\"))","v":""}]
[{"$f":"IF(B328=\"Yes\",Table2[[#This Row],[Break Level]],0)","v":0},{"$f":"Table2[[#This Row],[Yes/No]]","v":"No"},null,null,{"$f":"IF($A328=0,\"\",Table2[[#This Row],[PTC DISCIPLINE]])","v":""},{"$f":"IF($A328=0,\"\",Table2[[#This Row],[ELEMENT]])","v":""},{"$f":"IF($A328=0,\"\",Table2[[#This Row],[LG&TSL]])","v":""},{"$f":"IF($A328=0,\"\",Table2[[#This Row],[DFV]])","v":""},{"$f":"IF($A328=0,\"\",Table2[[#This Row],[60%-OTS]])","v":""},{"$f":"IF($A328=0,\"\",Table2[[#This Row],[75%]])","v":""},{"$f":"IF($A328=0,\"\",Table2[[#This Row],[Pre-Final PS&E]])","v":""},{"$f":"IF($A328=0,\"\",Table2[[#This Row],[Final PS&E]])","v":""},{"$f":"IF($A328=0,\"\",'LOD Matrix (DO NOT PRINT)'!M328)","v":""},{"$f":"IF($A328=0,\"\",'LOD Matrix (DO NOT PRINT)'!N328)","v":""},{"$f":"IF($A328=0,\"\",IF('LOD Matrix (DO NOT PRINT)'!P328=TRUE,\"Yes\",\"No\"))","v":""}]
[{"$f":"IF(B329=\"Yes\",Table2[[#This Row],[Break Level]],0)","v":0},{"$f":"Table2[[#This Row],[Yes/No]]","v":"No"},null,null,{"$f":"IF($A329=0,\"\",Table2[[#This Row],[PTC DISCIPLINE]])","v":""},{"$f":"IF($A329=0,\"\",Table2[[#This Row],[ELEMENT]])","v":""},{"$f":"IF($A329=0,\"\",Table2[[#This Row],[LG&TSL]])","v":""},{"$f":"IF($A329=0,\"\",Table2[[#This Row],[DFV]])","v":""},{"$f":"IF($A329=0,\"\",Table2[[#This Row],[60%-OTS]])","v":""},{"$f":"IF($A329=0,\"\",Table2[[#This Row],[75%]])","v":""},{"$f":"IF($A329=0,\"\",Table2[[#This Row],[Pre-Final PS&E]])","v":""},{"$f":"IF($A329=0,\"\",Table2[[#This Row],[Final PS&E]])","v":""},{"$f":"IF($A329=0,\"\",'LOD Matrix (DO NOT PRINT)'!M329)","v":""},{"$f":"IF($A329=0,\"\",'LOD Matrix (DO NOT PRINT)'!N329)","v":""},{"$f":"IF($A329=0,\"\",IF('LOD Matrix (DO NOT PRINT)'!P329=TRUE,\"Yes\",\"No\"))","v":""}]
[{"$f":"IF(B330=\"Yes\",Table2[[#This Row],[Break Level]],0)","v":0},{"$f":"Table2[[#This Row],[Yes/No]]","v":"No"},null,null,{"$f":"IF($A330=0,\"\",Table2[[#This Row],[PTC DISCIPLINE]])","v":""},{"$f":"IF($A330=0,\"\",Table2[[#This Row],[ELEMENT]])","v":""},{"$f":"IF($A330=0,\"\",Table2[[#This Row],[LG&TSL]])","v":""},{"$f":"IF($A330=0,\"\",Table2[[#This Row],[DFV]])","v":""},{"$f":"IF($A330=0,\"\",Table2[[#This Row],[60%-OTS]])","v":""},{"$f":"IF($A330=0,\"\",Table2[[#This Row],[75%]])","v":""},{"$f":"IF($A330=0,\"\",Table2[[#This Row],[Pre-Final PS&E]])","v":""},{"$f":"IF($A330=0,\"\",Table2[[#This Row],[Final PS&E]])","v":""},{"$f":"IF($A330=0,\"\",'LOD Matrix (DO NOT PRINT)'!M330)","v":""},{"$f":"IF($A330=0,\"\",'LOD Matrix (DO NOT PRINT)'!N330)","v":""},{"$f":"IF($A330=0,\"\",IF('LOD Matrix (DO NOT PRINT)'!P330=TRUE,\"Yes\",\"No\"))","v":""}]
[{"$f":"IF(B331=\"Yes\",Table2[[#This Row],[Break Level]],0)","v":0},{"$f":"Table2[[#This Row],[Yes/No]]","v":"No"},null,null,{"$f":"IF($A331=0,\"\",Table2[[#This Row],[PTC DISCIPLINE]])","v":""},{"$f":"IF($A331=0,\"\",Table2[[#This Row],[ELEMENT]])","v":""},{"$f":"IF($A331=0,\"\",Table2[[#This Row],[LG&TSL]])","v":""},{"$f":"IF($A331=0,\"\",Table2[[#This Row],[DFV]])","v":""},{"$f":"IF($A331=0,\"\",Table2[[#This Row],[60%-OTS]])","v":""},{"$f":"IF($A331=0,\"\",Table2[[#This Row],[75%]])","v":""},{"$f":"IF($A331=0,\"\",Table2[[#This Row],[Pre-Final PS&E]])","v":""},{"$f":"IF($A331=0,\"\",Table2[[#This Row],[Final PS&E]])","v":""},{"$f":"IF($A331=0,\"\",'LOD Matrix (DO NOT PRINT)'!M331)","v":""},{"$f":"IF($A331=0,\"\",'LOD Matrix (DO NOT PRINT)'!N331)","v":""},{"$f":"IF($A331=0,\"\",IF('LOD Matrix (DO NOT PRINT)'!P331=TRUE,\"Yes\",\"No\"))","v":""}]
[{"$f":"IF(B332=\"Yes\",Table2[[#This Row],[Break Level]],0)","v":0},{"$f":"Table2[[#This Row],[Yes/No]]","v":"No"},null,null,{"$f":"IF($A332=0,\"\",Table2[[#This Row],[PTC DISCIPLINE]])","v":""},{"$f":"IF($A332=0,\"\",Table2[[#This Row],[ELEMENT]])","v":""},{"$f":"IF($A332=0,\"\",Table2[[#This Row],[LG&TSL]])","v":""},{"$f":"IF($A332=0,\"\",Table2[[#This Row],[DFV]])","v":""},{"$f":"IF($A332=0,\"\",Table2[[#This Row],[60%-OTS]])","v":""},{"$f":"IF($A332=0,\"\",Table2[[#This Row],[75%]])","v":""},{"$f":"IF($A332=0,\"\",Table2[[#This Row],[Pre-Final PS&E]])","v":""},{"$f":"IF($A332=0,\"\",Table2[[#This Row],[Final PS&E]])","v":""},{"$f":"IF($A332=0,\"\",'LOD Matrix (DO NOT PRINT)'!M332)","v":""},{"$f":"IF($A332=0,\"\",'LOD Matrix (DO NOT PRINT)'!N332)","v":""},{"$f":"IF($A332=0,\"\",IF('LOD Matrix (DO NOT PRINT)'!P332=TRUE,\"Yes\",\"No\"))","v":""}]
[{"$f":"IF(B333=\"Yes\",Table2[[#This Row],[Break Level]],0)","v":0},{"$f":"Table2[[#This Row],[Yes/No]]","v":"No"},null,null,{"$f":"IF($A333=0,\"\",Table2[[#This Row],[PTC DISCIPLINE]])","v":""},{"$f":"IF($A333=0,\"\",Table2[[#This Row],[ELEMENT]])","v":""},{"$f":"IF($A333=0,\"\",Table2[[#This Row],[LG&TSL]])","v":""},{"$f":"IF($A333=0,\"\",Table2[[#This Row],[DFV]])","v":""},{"$f":"IF($A333=0,\"\",Table2[[#This Row],[60%-OTS]])","v":""},{"$f":"IF($A333=0,\"\",Table2[[#This Row],[75%]])","v":""},{"$f":"IF($A333=0,\"\",Table2[[#This Row],[Pre-Final PS&E]])","v":""},{"$f":"IF($A333=0,\"\",Table2[[#This Row],[Final PS&E]])","v":""},{"$f":"IF($A333=0,\"\",'LOD Matrix (DO NOT PRINT)'!M333)","v":""},{"$f":"IF($A333=0,\"\",'LOD Matrix (DO NOT PRINT)'!N333)","v":""},{"$f":"IF($A333=0,\"\",IF('LOD Matrix (DO NOT PRINT)'!P333=TRUE,\"Yes\",\"No\"))","v":""}]
[{"$f":"IF(B334=\"Yes\",Table2[[#This Row],[Break Level]],0)","v":0},{"$f":"Table2[[#This Row],[Yes/No]]","v":"No"},null,null,{"$f":"IF($A334=0,\"\",Table2[[#This Row],[PTC DISCIPLINE]])","v":""},{"$f":"IF($A334=0,\"\",Table2[[#This Row],[ELEMENT]])","v":""},{"$f":"IF($A334=0,\"\",Table2[[#This Row],[LG&TSL]])","v":""},{"$f":"IF($A334=0,\"\",Table2[[#This Row],[DFV]])","v":""},{"$f":"IF($A334=0,\"\",Table2[[#This Row],[60%-OTS]])","v":""},{"$f":"IF($A334=0,\"\",Table2[[#This Row],[75%]])","v":""},{"$f":"IF($A334=0,\"\",Table2[[#This Row],[Pre-Final PS&E]])","v":""},{"$f":"IF($A334=0,\"\",Table2[[#This Row],[Final PS&E]])","v":""},{"$f":"IF($A334=0,\"\",'LOD Matrix (DO NOT PRINT)'!M334)","v":""},{"$f":"IF($A334=0,\"\",'LOD Matrix (DO NOT PRINT)'!N334)","v":""},{"$f":"IF($A334=0,\"\",IF('LOD Matrix (DO NOT PRINT)'!P334=TRUE,\"Yes\",\"No\"))","v":""}]
[{"$f":"IF(B335=\"Yes\",Table2[[#This Row],[Break Level]],0)","v":0},{"$f":"Table2[[#This Row],[Yes/No]]","v":"No"},null,null,{"$f":"IF($A335=0,\"\",Table2[[#This Row],[PTC DISCIPLINE]])","v":""},{"$f":"IF($A335=0,\"\",Table2[[#This Row],[ELEMENT]])","v":""},{"$f":"IF($A335=0,\"\",Table2[[#This Row],[LG&TSL]])","v":""},{"$f":"IF($A335=0,\"\",Table2[[#This Row],[DFV]])","v":""},{"$f":"IF($A335=0,\"\",Table2[[#This Row],[60%-OTS]])","v":""},{"$f":"IF($A335=0,\"\",Table2[[#This Row],[75%]])","v":""},{"$f":"IF($A335=0,\"\",Table2[[#This Row],[Pre-Final PS&E]])","v":""},{"$f":"IF($A335=0,\"\",Table2[[#This Row],[Final PS&E]])","v":""},{"$f":"IF($A335=0,\"\",'LOD Matrix (DO NOT PRINT)'!M335)","v":""},{"$f":"IF($A335=0,\"\",'LOD Matrix (DO NOT PRINT)'!N335)","v":""},{"$f":"IF($A335=0,\"\",IF('LOD Matrix (DO NOT PRINT)'!P335=TRUE,\"Yes\",\"No\"))","v":""}]
[{"$f":"IF(B336=\"Yes\",Table2[[#This Row],[Break Level]],0)","v":0},{"$f":"Table2[[#This Row],[Yes/No]]","v":"No"},null,null,{"$f":"IF($A336=0,\"\",Table2[[#This Row],[PTC DISCIPLINE]])","v":""},{"$f":"IF($A336=0,\"\",Table2[[#This Row],[ELEMENT]])","v":""},{"$f":"IF($A336=0,\"\",Table2[[#This Row],[LG&TSL]])","v":""},{"$f":"IF($A336=0,\"\",Table2[[#This Row],[DFV]])","v":""},{"$f":"IF($A336=0,\"\",Table2[[#This Row],[60%-OTS]])","v":""},{"$f":"IF($A336=0,\"\",Table2[[#This Row],[75%]])","v":""},{"$f":"IF($A336=0,\"\",Table2[[#This Row],[Pre-Final PS&E]])","v":""},{"$f":"IF($A336=0,\"\",Table2[[#This Row],[Final PS&E]])","v":""},{"$f":"IF($A336=0,\"\",'LOD Matrix (DO NOT PRINT)'!M336)","v":""},{"$f":"IF($A336=0,\"\",'LOD Matrix (DO NOT PRINT)'!N336)","v":""},{"$f":"IF($A336=0,\"\",IF('LOD Matrix (DO NOT PRINT)'!P336=TRUE,\"Yes\",\"No\"))","v":""}]
[{"$f":"IF(B337=\"Yes\",Table2[[#This Row],[Break Level]],0)","v":0},{"$f":"Table2[[#This Row],[Yes/No]]","v":"No"},null,null,{"$f":"IF($A337=0,\"\",Table2[[#This Row],[PTC DISCIPLINE]])","v":""},{"$f":"IF($A337=0,\"\",Table2[[#This Row],[ELEMENT]])","v":""},{"$f":"IF($A337=0,\"\",Table2[[#This Row],[LG&TSL]])","v":""},{"$f":"IF($A337=0,\"\",Table2[[#This Row],[DFV]])","v":""},{"$f":"IF($A337=0,\"\",Table2[[#This Row],[60%-OTS]])","v":""},{"$f":"IF($A337=0,\"\",Table2[[#This Row],[75%]])","v":""},{"$f":"IF($A337=0,\"\",Table2[[#This Row],[Pre-Final PS&E]])","v":""},{"$f":"IF($A337=0,\"\",Table2[[#This Row],[Final PS&E]])","v":""},{"$f":"IF($A337=0,\"\",'LOD Matrix (DO NOT PRINT)'!M337)","v":""},{"$f":"IF($A337=0,\"\",'LOD Matrix (DO NOT PRINT)'!N337)","v":""},{"$f":"IF($A337=0,\"\",IF('LOD Matrix (DO NOT PRINT)'!P337=TRUE,\"Yes\",\"No\"))","v":""}]
[{"$f":"IF(B338=\"Yes\",Table2[[#This Row],[Break Level]],0)","v":0},{"$f":"Table2[[#This Row],[Yes/No]]","v":"No"},null,null,{"$f":"IF($A338=0,\"\",Table2[[#This Row],[PTC DISCIPLINE]])","v":""},{"$f":"IF($A338=0,\"\",Table2[[#This Row],[ELEMENT]])","v":""},{"$f":"IF($A338=0,\"\",Table2[[#This Row],[LG&TSL]])","v":""},{"$f":"IF($A338=0,\"\",Table2[[#This Row],[DFV]])","v":""},{"$f":"IF($A338=0,\"\",Table2[[#This Row],[60%-OTS]])","v":""},{"$f":"IF($A338=0,\"\",Table2[[#This Row],[75%]])","v":""},{"$f":"IF($A338=0,\"\",Table2[[#This Row],[Pre-Final PS&E]])","v":""},{"$f":"IF($A338=0,\"\",Table2[[#This Row],[Final PS&E]])","v":""},{"$f":"IF($A338=0,\"\",'LOD Matrix (DO NOT PRINT)'!M338)","v":""},{"$f":"IF($A338=0,\"\",'LOD Matrix (DO NOT PRINT)'!N338)","v":""},{"$f":"IF($A338=0,\"\",IF('LOD Matrix (DO NOT PRINT)'!P338=TRUE,\"Yes\",\"No\"))","v":""}]
[{"$f":"IF(B339=\"Yes\",Table2[[#This Row],[Break Level]],0)","v":0},{"$f":"Table2[[#This Row],[Yes/No]]","v":"No"},null,null,{"$f":"IF($A339=0,\"\",Table2[[#This Row],[PTC DISCIPLINE]])","v":""},{"$f":"IF($A339=0,\"\",Table2[[#This Row],[ELEMENT]])","v":""},{"$f":"IF($A339=0,\"\",Table2[[#This Row],[LG&TSL]])","v":""},{"$f":"IF($A339=0,\"\",Table2[[#This Row],[DFV]])","v":""},{"$f":"IF($A339=0,\"\",Table2[[#This Row],[60%-OTS]])","v":""},{"$f":"IF($A339=0,\"\",Table2[[#This Row],[75%]])","v":""},{"$f":"IF($A339=0,\"\",Table2[[#This Row],[Pre-Final PS&E]])","v":""},{"$f":"IF($A339=0,\"\",Table2[[#This Row],[Final PS&E]])","v":""},{"$f":"IF($A339=0,\"\",'LOD Matrix (DO NOT PRINT)'!M339)","v":""},{"$f":"IF($A339=0,\"\",'LOD Matrix (DO NOT PRINT)'!N339)","v":""},{"$f":"IF($A339=0,\"\",IF('LOD Matrix (DO NOT PRINT)'!P339=TRUE,\"Yes\",\"No\"))","v":""}]
[{"$f":"IF(B340=\"Yes\",Table2[[#This Row],[Break Level]],0)","v":0},{"$f":"Table2[[#This Row],[Yes/No]]","v":"No"},null,null,{"$f":"IF($A340=0,\"\",Table2[[#This Row],[PTC DISCIPLINE]])","v":""},{"$f":"IF($A340=0,\"\",Table2[[#This Row],[ELEMENT]])","v":""},{"$f":"IF($A340=0,\"\",Table2[[#This Row],[LG&TSL]])","v":""},{"$f":"IF($A340=0,\"\",Table2[[#This Row],[DFV]])","v":""},{"$f":"IF($A340=0,\"\",Table2[[#This Row],[60%-OTS]])","v":""},{"$f":"IF($A340=0,\"\",Table2[[#This Row],[75%]])","v":""},{"$f":"IF($A340=0,\"\",Table2[[#This Row],[Pre-Final PS&E]])","v":""},{"$f":"IF($A340=0,\"\",Table2[[#This Row],[Final PS&E]])","v":""},{"$f":"IF($A340=0,\"\",'LOD Matrix (DO NOT PRINT)'!M340)","v":""},{"$f":"IF($A340=0,\"\",'LOD Matrix (DO NOT PRINT)'!N340)","v":""},{"$f":"IF($A340=0,\"\",IF('LOD Matrix (DO NOT PRINT)'!P340=TRUE,\"Yes\",\"No\"))","v":""}]
[{"$f":"IF(B341=\"Yes\",Table2[[#This Row],[Break Level]],0)","v":0},{"$f":"Table2[[#This Row],[Yes/No]]","v":"No"},null,null,{"$f":"IF($A341=0,\"\",Table2[[#This Row],[PTC DISCIPLINE]])","v":""},{"$f":"IF($A341=0,\"\",Table2[[#This Row],[ELEMENT]])","v":""},{"$f":"IF($A341=0,\"\",Table2[[#This Row],[LG&TSL]])","v":""},{"$f":"IF($A341=0,\"\",Table2[[#This Row],[DFV]])","v":""},{"$f":"IF($A341=0,\"\",Table2[[#This Row],[60%-OTS]])","v":""},{"$f":"IF($A341=0,\"\",Table2[[#This Row],[75%]])","v":""},{"$f":"IF($A341=0,\"\",Table2[[#This Row],[Pre-Final PS&E]])","v":""},{"$f":"IF($A341=0,\"\",Table2[[#This Row],[Final PS&E]])","v":""},{"$f":"IF($A341=0,\"\",'LOD Matrix (DO NOT PRINT)'!M341)","v":""},{"$f":"IF($A341=0,\"\",'LOD Matrix (DO NOT PRINT)'!N341)","v":""},{"$f":"IF($A341=0,\"\",IF('LOD Matrix (DO NOT PRINT)'!P341=TRUE,\"Yes\",\"No\"))","v":""}]
[{"$f":"IF(B342=\"Yes\",Table2[[#This Row],[Break Level]],0)","v":0},{"$f":"Table2[[#This Row],[Yes/No]]","v":"No"},null,null,{"$f":"IF($A342=0,\"\",Table2[[#This Row],[PTC DISCIPLINE]])","v":""},{"$f":"IF($A342=0,\"\",Table2[[#This Row],[ELEMENT]])","v":""},{"$f":"IF($A342=0,\"\",Table2[[#This Row],[LG&TSL]])","v":""},{"$f":"IF($A342=0,\"\",Table2[[#This Row],[DFV]])","v":""},{"$f":"IF($A342=0,\"\",Table2[[#This Row],[60%-OTS]])","v":""},{"$f":"IF($A342=0,\"\",Table2[[#This Row],[75%]])","v":""},{"$f":"IF($A342=0,\"\",Table2[[#This Row],[Pre-Final PS&E]])","v":""},{"$f":"IF($A342=0,\"\",Table2[[#This Row],[Final PS&E]])","v":""},{"$f":"IF($A342=0,\"\",'LOD Matrix (DO NOT PRINT)'!M342)","v":""},{"$f":"IF($A342=0,\"\",'LOD Matrix (DO NOT PRINT)'!N342)","v":""},{"$f":"IF($A342=0,\"\",IF('LOD Matrix (DO NOT PRINT)'!P342=TRUE,\"Yes\",\"No\"))","v":""}]
[{"$f":"IF(B343=\"Yes\",Table2[[#This Row],[Break Level]],0)","v":0},{"$f":"Table2[[#This Row],[Yes/No]]","v":"No"},null,null,{"$f":"IF($A343=0,\"\",Table2[[#This Row],[PTC DISCIPLINE]])","v":""},{"$f":"IF($A343=0,\"\",Table2[[#This Row],[ELEMENT]])","v":""},{"$f":"IF($A343=0,\"\",Table2[[#This Row],[LG&TSL]])","v":""},{"$f":"IF($A343=0,\"\",Table2[[#This Row],[DFV]])","v":""},{"$f":"IF($A343=0,\"\",Table2[[#This Row],[60%-OTS]])","v":""},{"$f":"IF($A343=0,\"\",Table2[[#This Row],[75%]])","v":""},{"$f":"IF($A343=0,\"\",Table2[[#This Row],[Pre-Final PS&E]])","v":""},{"$f":"IF($A343=0,\"\",Table2[[#This Row],[Final PS&E]])","v":""},{"$f":"IF($A343=0,\"\",'LOD Matrix (DO NOT PRINT)'!M343)","v":""},{"$f":"IF($A343=0,\"\",'LOD Matrix (DO NOT PRINT)'!N343)","v":""},{"$f":"IF($A343=0,\"\",IF('LOD Matrix (DO NOT PRINT)'!P343=TRUE,\"Yes\",\"No\"))","v":""}]
[{"$f":"IF(B344=\"Yes\",Table2[[#This Row],[Break Level]],0)","v":0},{"$f":"Table2[[#This Row],[Yes/No]]","v":"No"},null,null,{"$f":"IF($A344=0,\"\",Table2[[#This Row],[PTC DISCIPLINE]])","v":""},{"$f":"IF($A344=0,\"\",Table2[[#This Row],[ELEMENT]])","v":""},{"$f":"IF($A344=0,\"\",Table2[[#This Row],[LG&TSL]])","v":""},{"$f":"IF($A344=0,\"\",Table2[[#This Row],[DFV]])","v":""},{"$f":"IF($A344=0,\"\",Table2[[#This Row],[60%-OTS]])","v":""},{"$f":"IF($A344=0,\"\",Table2[[#This Row],[75%]])","v":""},{"$f":"IF($A344=0,\"\",Table2[[#This Row],[Pre-Final PS&E]])","v":""},{"$f":"IF($A344=0,\"\",Table2[[#This Row],[Final PS&E]])","v":""},{"$f":"IF($A344=0,\"\",'LOD Matrix (DO NOT PRINT)'!M344)","v":""},{"$f":"IF($A344=0,\"\",'LOD Matrix (DO NOT PRINT)'!N344)","v":""},{"$f":"IF($A344=0,\"\",IF('LOD Matrix (DO NOT PRINT)'!P344=TRUE,\"Yes\",\"No\"))","v":""}]
[{"$f":"IF(B345=\"Yes\",Table2[[#This Row],[Break Level]],0)","v":0},{"$f":"Table2[[#This Row],[Yes/No]]","v":"No"},null,null,{"$f":"IF($A345=0,\"\",Table2[[#This Row],[PTC DISCIPLINE]])","v":""},{"$f":"IF($A345=0,\"\",Table2[[#This Row],[ELEMENT]])","v":""},{"$f":"IF($A345=0,\"\",Table2[[#This Row],[LG&TSL]])","v":""},{"$f":"IF($A345=0,\"\",Table2[[#This Row],[DFV]])","v":""},{"$f":"IF($A345=0,\"\",Table2[[#This Row],[60%-OTS]])","v":""},{"$f":"IF($A345=0,\"\",Table2[[#This Row],[75%]])","v":""},{"$f":"IF($A345=0,\"\",Table2[[#This Row],[Pre-Final PS&E]])","v":""},{"$f":"IF($A345=0,\"\",Table2[[#This Row],[Final PS&E]])","v":""},{"$f":"IF($A345=0,\"\",'LOD Matrix (DO NOT PRINT)'!M345)","v":""},{"$f":"IF($A345=0,\"\",'LOD Matrix (DO NOT PRINT)'!N345)","v":""},{"$f":"IF($A345=0,\"\",IF('LOD Matrix (DO NOT PRINT)'!P345=TRUE,\"Yes\",\"No\"))","v":""}]
[{"$f":"IF(B346=\"Yes\",Table2[[#This Row],[Break Level]],0)","v":0},{"$f":"Table2[[#This Row],[Yes/No]]","v":"No"},null,null,{"$f":"IF($A346=0,\"\",Table2[[#This Row],[PTC DISCIPLINE]])","v":""},{"$f":"IF($A346=0,\"\",Table2[[#This Row],[ELEMENT]])","v":""},{"$f":"IF($A346=0,\"\",Table2[[#This Row],[LG&TSL]])","v":""},{"$f":"IF($A346=0,\"\",Table2[[#This Row],[DFV]])","v":""},{"$f":"IF($A346=0,\"\",Table2[[#This Row],[60%-OTS]])","v":""},{"$f":"IF($A346=0,\"\",Table2[[#This Row],[75%]])","v":""},{"$f":"IF($A346=0,\"\",Table2[[#This Row],[Pre-Final PS&E]])","v":""},{"$f":"IF($A346=0,\"\",Table2[[#This Row],[Final PS&E]])","v":""},{"$f":"IF($A346=0,\"\",'LOD Matrix (DO NOT PRINT)'!M346)","v":""},{"$f":"IF($A346=0,\"\",'LOD Matrix (DO NOT PRINT)'!N346)","v":""},{"$f":"IF($A346=0,\"\",IF('LOD Matrix (DO NOT PRINT)'!P346=TRUE,\"Yes\",\"No\"))","v":""}]
[{"$f":"IF(B347=\"Yes\",Table2[[#This Row],[Break Level]],0)","v":0},{"$f":"Table2[[#This Row],[Yes/No]]","v":"No"},null,null,{"$f":"IF($A347=0,\"\",Table2[[#This Row],[PTC DISCIPLINE]])","v":""},{"$f":"IF($A347=0,\"\",Table2[[#This Row],[ELEMENT]])","v":""},{"$f":"IF($A347=0,\"\",Table2[[#This Row],[LG&TSL]])","v":""},{"$f":"IF($A347=0,\"\",Table2[[#This Row],[DFV]])","v":""},{"$f":"IF($A347=0,\"\",Table2[[#This Row],[60%-OTS]])","v":""},{"$f":"IF($A347=0,\"\",Table2[[#This Row],[75%]])","v":""},{"$f":"IF($A347=0,\"\",Table2[[#This Row],[Pre-Final PS&E]])","v":""},{"$f":"IF($A347=0,\"\",Table2[[#This Row],[Final PS&E]])","v":""},{"$f":"IF($A347=0,\"\",'LOD Matrix (DO NOT PRINT)'!M347)","v":""},{"$f":"IF($A347=0,\"\",'LOD Matrix (DO NOT PRINT)'!N347)","v":""},{"$f":"IF($A347=0,\"\",IF('LOD Matrix (DO NOT PRINT)'!P347=TRUE,\"Yes\",\"No\"))","v":""}]
[{"$f":"IF(B348=\"Yes\",Table2[[#This Row],[Break Level]],0)","v":0},{"$f":"Table2[[#This Row],[Yes/No]]","v":"No"},null,null,{"$f":"IF($A348=0,\"\",Table2[[#This Row],[PTC DISCIPLINE]])","v":""},{"$f":"IF($A348=0,\"\",Table2[[#This Row],[ELEMENT]])","v":""},{"$f":"IF($A348=0,\"\",Table2[[#This Row],[LG&TSL]])","v":""},{"$f":"IF($A348=0,\"\",Table2[[#This Row],[DFV]])","v":""},{"$f":"IF($A348=0,\"\",Table2[[#This Row],[60%-OTS]])","v":""},{"$f":"IF($A348=0,\"\",Table2[[#This Row],[75%]])","v":""},{"$f":"IF($A348=0,\"\",Table2[[#This Row],[Pre-Final PS&E]])","v":""},{"$f":"IF($A348=0,\"\",Table2[[#This Row],[Final PS&E]])","v":""},{"$f":"IF($A348=0,\"\",'LOD Matrix (DO NOT PRINT)'!M348)","v":""},{"$f":"IF($A348=0,\"\",'LOD Matrix (DO NOT PRINT)'!N348)","v":""},{"$f":"IF($A348=0,\"\",IF('LOD Matrix (DO NOT PRINT)'!P348=TRUE,\"Yes\",\"No\"))","v":""}]
[{"$f":"IF(B349=\"Yes\",Table2[[#This Row],[Break Level]],0)","v":0},{"$f":"Table2[[#This Row],[Yes/No]]","v":"No"},null,null,{"$f":"IF($A349=0,\"\",Table2[[#This Row],[PTC DISCIPLINE]])","v":""},{"$f":"IF($A349=0,\"\",Table2[[#This Row],[ELEMENT]])","v":""},{"$f":"IF($A349=0,\"\",Table2[[#This Row],[LG&TSL]])","v":""},{"$f":"IF($A349=0,\"\",Table2[[#This Row],[DFV]])","v":""},{"$f":"IF($A349=0,\"\",Table2[[#This Row],[60%-OTS]])","v":""},{"$f":"IF($A349=0,\"\",Table2[[#This Row],[75%]])","v":""},{"$f":"IF($A349=0,\"\",Table2[[#This Row],[Pre-Final PS&E]])","v":""},{"$f":"IF($A349=0,\"\",Table2[[#This Row],[Final PS&E]])","v":""},{"$f":"IF($A349=0,\"\",'LOD Matrix (DO NOT PRINT)'!M349)","v":""},{"$f":"IF($A349=0,\"\",'LOD Matrix (DO NOT PRINT)'!N349)","v":""},{"$f":"IF($A349=0,\"\",IF('LOD Matrix (DO NOT PRINT)'!P349=TRUE,\"Yes\",\"No\"))","v":""}]
[{"$f":"IF(B350=\"Yes\",Table2[[#This Row],[Break Level]],0)","v":0},{"$f":"Table2[[#This Row],[Yes/No]]","v":"No"},null,null,{"$f":"IF($A350=0,\"\",Table2[[#This Row],[PTC DISCIPLINE]])","v":""},{"$f":"IF($A350=0,\"\",Table2[[#This Row],[ELEMENT]])","v":""},{"$f":"IF($A350=0,\"\",Table2[[#This Row],[LG&TSL]])","v":""},{"$f":"IF($A350=0,\"\",Table2[[#This Row],[DFV]])","v":""},{"$f":"IF($A350=0,\"\",Table2[[#This Row],[60%-OTS]])","v":""},{"$f":"IF($A350=0,\"\",Table2[[#This Row],[75%]])","v":""},{"$f":"IF($A350=0,\"\",Table2[[#This Row],[Pre-Final PS&E]])","v":""},{"$f":"IF($A350=0,\"\",Table2[[#This Row],[Final PS&E]])","v":""},{"$f":"IF($A350=0,\"\",'LOD Matrix (DO NOT PRINT)'!M350)","v":""},{"$f":"IF($A350=0,\"\",'LOD Matrix (DO NOT PRINT)'!N350)","v":""},{"$f":"IF($A350=0,\"\",IF('LOD Matrix (DO NOT PRINT)'!P350=TRUE,\"Yes\",\"No\"))","v":""}]
[{"$f":"IF(B351=\"Yes\",Table2[[#This Row],[Break Level]],0)","v":0},{"$f":"Table2[[#This Row],[Yes/No]]","v":"No"},null,null,{"$f":"IF($A351=0,\"\",Table2[[#This Row],[PTC DISCIPLINE]])","v":""},{"$f":"IF($A351=0,\"\",Table2[[#This Row],[ELEMENT]])","v":""},{"$f":"IF($A351=0,\"\",Table2[[#This Row],[LG&TSL]])","v":""},{"$f":"IF($A351=0,\"\",Table2[[#This Row],[DFV]])","v":""},{"$f":"IF($A351=0,\"\",Table2[[#This Row],[60%-OTS]])","v":""},{"$f":"IF($A351=0,\"\",Table2[[#This Row],[75%]])","v":""},{"$f":"IF($A351=0,\"\",Table2[[#This Row],[Pre-Final PS&E]])","v":""},{"$f":"IF($A351=0,\"\",Table2[[#This Row],[Final PS&E]])","v":""},{"$f":"IF($A351=0,\"\",'LOD Matrix (DO NOT PRINT)'!M351)","v":""},{"$f":"IF($A351=0,\"\",'LOD Matrix (DO NOT PRINT)'!N351)","v":""},{"$f":"IF($A351=0,\"\",IF('LOD Matrix (DO NOT PRINT)'!P351=TRUE,\"Yes\",\"No\"))","v":""}]
[{"$f":"IF(B352=\"Yes\",Table2[[#This Row],[Break Level]],0)","v":0},{"$f":"Table2[[#This Row],[Yes/No]]","v":"No"},null,null,{"$f":"IF($A352=0,\"\",Table2[[#This Row],[PTC DISCIPLINE]])","v":""},{"$f":"IF($A352=0,\"\",Table2[[#This Row],[ELEMENT]])","v":""},{"$f":"IF($A352=0,\"\",Table2[[#This Row],[LG&TSL]])","v":""},{"$f":"IF($A352=0,\"\",Table2[[#This Row],[DFV]])","v":""},{"$f":"IF($A352=0,\"\",Table2[[#This Row],[60%-OTS]])","v":""},{"$f":"IF($A352=0,\"\",Table2[[#This Row],[75%]])","v":""},{"$f":"IF($A352=0,\"\",Table2[[#This Row],[Pre-Final PS&E]])","v":""},{"$f":"IF($A352=0,\"\",Table2[[#This Row],[Final PS&E]])","v":""},{"$f":"IF($A352=0,\"\",'LOD Matrix (DO NOT PRINT)'!M352)","v":""},{"$f":"IF($A352=0,\"\",'LOD Matrix (DO NOT PRINT)'!N352)","v":""},{"$f":"IF($A352=0,\"\",IF('LOD Matrix (DO NOT PRINT)'!P352=TRUE,\"Yes\",\"No\"))","v":""}]
[{"$f":"IF(B353=\"Yes\",Table2[[#This Row],[Break Level]],0)","v":0},{"$f":"Table2[[#This Row],[Yes/No]]","v":"No"},null,null,{"$f":"IF($A353=0,\"\",Table2[[#This Row],[PTC DISCIPLINE]])","v":""},{"$f":"IF($A353=0,\"\",Table2[[#This Row],[ELEMENT]])","v":""},{"$f":"IF($A353=0,\"\",Table2[[#This Row],[LG&TSL]])","v":""},{"$f":"IF($A353=0,\"\",Table2[[#This Row],[DFV]])","v":""},{"$f":"IF($A353=0,\"\",Table2[[#This Row],[60%-OTS]])","v":""},{"$f":"IF($A353=0,\"\",Table2[[#This Row],[75%]])","v":""},{"$f":"IF($A353=0,\"\",Table2[[#This Row],[Pre-Final PS&E]])","v":""},{"$f":"IF($A353=0,\"\",Table2[[#This Row],[Final PS&E]])","v":""},{"$f":"IF($A353=0,\"\",'LOD Matrix (DO NOT PRINT)'!M353)","v":""},{"$f":"IF($A353=0,\"\",'LOD Matrix (DO NOT PRINT)'!N353)","v":""},{"$f":"IF($A353=0,\"\",IF('LOD Matrix (DO NOT PRINT)'!P353=TRUE,\"Yes\",\"No\"))","v":""}]
[{"$f":"IF(B354=\"Yes\",Table2[[#This Row],[Break Level]],0)","v":0},{"$f":"Table2[[#This Row],[Yes/No]]","v":"No"},null,null,{"$f":"IF($A354=0,\"\",Table2[[#This Row],[PTC DISCIPLINE]])","v":""},{"$f":"IF($A354=0,\"\",Table2[[#This Row],[ELEMENT]])","v":""},{"$f":"IF($A354=0,\"\",Table2[[#This Row],[LG&TSL]])","v":""},{"$f":"IF($A354=0,\"\",Table2[[#This Row],[DFV]])","v":""},{"$f":"IF($A354=0,\"\",Table2[[#This Row],[60%-OTS]])","v":""},{"$f":"IF($A354=0,\"\",Table2[[#This Row],[75%]])","v":""},{"$f":"IF($A354=0,\"\",Table2[[#This Row],[Pre-Final PS&E]])","v":""},{"$f":"IF($A354=0,\"\",Table2[[#This Row],[Final PS&E]])","v":""},{"$f":"IF($A354=0,\"\",'LOD Matrix (DO NOT PRINT)'!M354)","v":""},{"$f":"IF($A354=0,\"\",'LOD Matrix (DO NOT PRINT)'!N354)","v":""},{"$f":"IF($A354=0,\"\",IF('LOD Matrix (DO NOT PRINT)'!P354=TRUE,\"Yes\",\"No\"))","v":""}]
[{"$f":"IF(B355=\"Yes\",Table2[[#This Row],[Break Level]],0)","v":0},{"$f":"Table2[[#This Row],[Yes/No]]","v":"No"},null,null,{"$f":"IF($A355=0,\"\",Table2[[#This Row],[PTC DISCIPLINE]])","v":""},{"$f":"IF($A355=0,\"\",Table2[[#This Row],[ELEMENT]])","v":""},{"$f":"IF($A355=0,\"\",Table2[[#This Row],[LG&TSL]])","v":""},{"$f":"IF($A355=0,\"\",Table2[[#This Row],[DFV]])","v":""},{"$f":"IF($A355=0,\"\",Table2[[#This Row],[60%-OTS]])","v":""},{"$f":"IF($A355=0,\"\",Table2[[#This Row],[75%]])","v":""},{"$f":"IF($A355=0,\"\",Table2[[#This Row],[Pre-Final PS&E]])","v":""},{"$f":"IF($A355=0,\"\",Table2[[#This Row],[Final PS&E]])","v":""},{"$f":"IF($A355=0,\"\",'LOD Matrix (DO NOT PRINT)'!M355)","v":""},{"$f":"IF($A355=0,\"\",'LOD Matrix (DO NOT PRINT)'!N355)","v":""},{"$f":"IF($A355=0,\"\",IF('LOD Matrix (DO NOT PRINT)'!P355=TRUE,\"Yes\",\"No\"))","v":""}]
[{"$f":"IF(B356=\"Yes\",Table2[[#This Row],[Break Level]],0)","v":0},{"$f":"Table2[[#This Row],[Yes/No]]","v":"No"},null,null,{"$f":"IF($A356=0,\"\",Table2[[#This Row],[PTC DISCIPLINE]])","v":""},{"$f":"IF($A356=0,\"\",Table2[[#This Row],[ELEMENT]])","v":""},{"$f":"IF($A356=0,\"\",Table2[[#This Row],[LG&TSL]])","v":""},{"$f":"IF($A356=0,\"\",Table2[[#This Row],[DFV]])","v":""},{"$f":"IF($A356=0,\"\",Table2[[#This Row],[60%-OTS]])","v":""},{"$f":"IF($A356=0,\"\",Table2[[#This Row],[75%]])","v":""},{"$f":"IF($A356=0,\"\",Table2[[#This Row],[Pre-Final PS&E]])","v":""},{"$f":"IF($A356=0,\"\",Table2[[#This Row],[Final PS&E]])","v":""},{"$f":"IF($A356=0,\"\",'LOD Matrix (DO NOT PRINT)'!M356)","v":""},{"$f":"IF($A356=0,\"\",'LOD Matrix (DO NOT PRINT)'!N356)","v":""},{"$f":"IF($A356=0,\"\",IF('LOD Matrix (DO NOT PRINT)'!P356=TRUE,\"Yes\",\"No\"))","v":""}]
[{"$f":"IF(B357=\"Yes\",Table2[[#This Row],[Break Level]],0)","v":0},{"$f":"Table2[[#This Row],[Yes/No]]","v":"No"},null,null,{"$f":"IF($A357=0,\"\",Table2[[#This Row],[PTC DISCIPLINE]])","v":""},{"$f":"IF($A357=0,\"\",Table2[[#This Row],[ELEMENT]])","v":""},{"$f":"IF($A357=0,\"\",Table2[[#This Row],[LG&TSL]])","v":""},{"$f":"IF($A357=0,\"\",Table2[[#This Row],[DFV]])","v":""},{"$f":"IF($A357=0,\"\",Table2[[#This Row],[60%-OTS]])","v":""},{"$f":"IF($A357=0,\"\",Table2[[#This Row],[75%]])","v":""},{"$f":"IF($A357=0,\"\",Table2[[#This Row],[Pre-Final PS&E]])","v":""},{"$f":"IF($A357=0,\"\",Table2[[#This Row],[Final PS&E]])","v":""},{"$f":"IF($A357=0,\"\",'LOD Matrix (DO NOT PRINT)'!M357)","v":""},{"$f":"IF($A357=0,\"\",'LOD Matrix (DO NOT PRINT)'!N357)","v":""},{"$f":"IF($A357=0,\"\",IF('LOD Matrix (DO NOT PRINT)'!P357=TRUE,\"Yes\",\"No\"))","v":""}]
[{"$f":"IF(B358=\"Yes\",Table2[[#This Row],[Break Level]],0)","v":0},{"$f":"Table2[[#This Row],[Yes/No]]","v":"No"},null,null,{"$f":"IF($A358=0,\"\",Table2[[#This Row],[PTC DISCIPLINE]])","v":""},{"$f":"IF($A358=0,\"\",Table2[[#This Row],[ELEMENT]])","v":""},{"$f":"IF($A358=0,\"\",Table2[[#This Row],[LG&TSL]])","v":""},{"$f":"IF($A358=0,\"\",Table2[[#This Row],[DFV]])","v":""},{"$f":"IF($A358=0,\"\",Table2[[#This Row],[60%-OTS]])","v":""},{"$f":"IF($A358=0,\"\",Table2[[#This Row],[75%]])","v":""},{"$f":"IF($A358=0,\"\",Table2[[#This Row],[Pre-Final PS&E]])","v":""},{"$f":"IF($A358=0,\"\",Table2[[#This Row],[Final PS&E]])","v":""},{"$f":"IF($A358=0,\"\",'LOD Matrix (DO NOT PRINT)'!M358)","v":""},{"$f":"IF($A358=0,\"\",'LOD Matrix (DO NOT PRINT)'!N358)","v":""},{"$f":"IF($A358=0,\"\",IF('LOD Matrix (DO NOT PRINT)'!P358=TRUE,\"Yes\",\"No\"))","v":""}]
[{"$f":"IF(B359=\"Yes\",Table2[[#This Row],[Break Level]],0)","v":0},{"$f":"Table2[[#This Row],[Yes/No]]","v":"No"},null,null,{"$f":"IF($A359=0,\"\",Table2[[#This Row],[PTC DISCIPLINE]])","v":""},{"$f":"IF($A359=0,\"\",Table2[[#This Row],[ELEMENT]])","v":""},{"$f":"IF($A359=0,\"\",Table2[[#This Row],[LG&TSL]])","v":""},{"$f":"IF($A359=0,\"\",Table2[[#This Row],[DFV]])","v":""},{"$f":"IF($A359=0,\"\",Table2[[#This Row],[60%-OTS]])","v":""},{"$f":"IF($A359=0,\"\",Table2[[#This Row],[75%]])","v":""},{"$f":"IF($A359=0,\"\",Table2[[#This Row],[Pre-Final PS&E]])","v":""},{"$f":"IF($A359=0,\"\",Table2[[#This Row],[Final PS&E]])","v":""},{"$f":"IF($A359=0,\"\",'LOD Matrix (DO NOT PRINT)'!M359)","v":""},{"$f":"IF($A359=0,\"\",'LOD Matrix (DO NOT PRINT)'!N359)","v":""},{"$f":"IF($A359=0,\"\",IF('LOD Matrix (DO NOT PRINT)'!P359=TRUE,\"Yes\",\"No\"))","v":""}]
[{"$f":"IF(B360=\"Yes\",Table2[[#This Row],[Break Level]],0)","v":0},{"$f":"Table2[[#This Row],[Yes/No]]","v":"No"},null,null,{"$f":"IF($A360=0,\"\",Table2[[#This Row],[PTC DISCIPLINE]])","v":""},{"$f":"IF($A360=0,\"\",Table2[[#This Row],[ELEMENT]])","v":""},{"$f":"IF($A360=0,\"\",Table2[[#This Row],[LG&TSL]])","v":""},{"$f":"IF($A360=0,\"\",Table2[[#This Row],[DFV]])","v":""},{"$f":"IF($A360=0,\"\",Table2[[#This Row],[60%-OTS]])","v":""},{"$f":"IF($A360=0,\"\",Table2[[#This Row],[75%]])","v":""},{"$f":"IF($A360=0,\"\",Table2[[#This Row],[Pre-Final PS&E]])","v":""},{"$f":"IF($A360=0,\"\",Table2[[#This Row],[Final PS&E]])","v":""},{"$f":"IF($A360=0,\"\",'LOD Matrix (DO NOT PRINT)'!M360)","v":""},{"$f":"IF($A360=0,\"\",'LOD Matrix (DO NOT PRINT)'!N360)","v":""},{"$f":"IF($A360=0,\"\",IF('LOD Matrix (DO NOT PRINT)'!P360=TRUE,\"Yes\",\"No\"))","v":""}]
[{"$f":"IF(B361=\"Yes\",Table2[[#This Row],[Break Level]],0)","v":0},{"$f":"Table2[[#This Row],[Yes/No]]","v":"No"},null,null,{"$f":"IF($A361=0,\"\",Table2[[#This Row],[PTC DISCIPLINE]])","v":""},{"$f":"IF($A361=0,\"\",Table2[[#This Row],[ELEMENT]])","v":""},{"$f":"IF($A361=0,\"\",Table2[[#This Row],[LG&TSL]])","v":""},{"$f":"IF($A361=0,\"\",Table2[[#This Row],[DFV]])","v":""},{"$f":"IF($A361=0,\"\",Table2[[#This Row],[60%-OTS]])","v":""},{"$f":"IF($A361=0,\"\",Table2[[#This Row],[75%]])","v":""},{"$f":"IF($A361=0,\"\",Table2[[#This Row],[Pre-Final PS&E]])","v":""},{"$f":"IF($A361=0,\"\",Table2[[#This Row],[Final PS&E]])","v":""},{"$f":"IF($A361=0,\"\",'LOD Matrix (DO NOT PRINT)'!M361)","v":""},{"$f":"IF($A361=0,\"\",'LOD Matrix (DO NOT PRINT)'!N361)","v":""},{"$f":"IF($A361=0,\"\",IF('LOD Matrix (DO NOT PRINT)'!P361=TRUE,\"Yes\",\"No\"))","v":""}]
[{"$f":"IF(B362=\"Yes\",Table2[[#This Row],[Break Level]],0)","v":0},{"$f":"Table2[[#This Row],[Yes/No]]","v":"No"},null,null,{"$f":"IF($A362=0,\"\",Table2[[#This Row],[PTC DISCIPLINE]])","v":""},{"$f":"IF($A362=0,\"\",Table2[[#This Row],[ELEMENT]])","v":""},{"$f":"IF($A362=0,\"\",Table2[[#This Row],[LG&TSL]])","v":""},{"$f":"IF($A362=0,\"\",Table2[[#This Row],[DFV]])","v":""},{"$f":"IF($A362=0,\"\",Table2[[#This Row],[60%-OTS]])","v":""},{"$f":"IF($A362=0,\"\",Table2[[#This Row],[75%]])","v":""},{"$f":"IF($A362=0,\"\",Table2[[#This Row],[Pre-Final PS&E]])","v":""},{"$f":"IF($A362=0,\"\",Table2[[#This Row],[Final PS&E]])","v":""},{"$f":"IF($A362=0,\"\",'LOD Matrix (DO NOT PRINT)'!M362)","v":""},{"$f":"IF($A362=0,\"\",'LOD Matrix (DO NOT PRINT)'!N362)","v":""},{"$f":"IF($A362=0,\"\",IF('LOD Matrix (DO NOT PRINT)'!P362=TRUE,\"Yes\",\"No\"))","v":""}]
[{"$f":"IF(B363=\"Yes\",Table2[[#This Row],[Break Level]],0)","v":0},{"$f":"Table2[[#This Row],[Yes/No]]","v":"No"},null,null,{"$f":"IF($A363=0,\"\",Table2[[#This Row],[PTC DISCIPLINE]])","v":""},{"$f":"IF($A363=0,\"\",Table2[[#This Row],[ELEMENT]])","v":""},{"$f":"IF($A363=0,\"\",Table2[[#This Row],[LG&TSL]])","v":""},{"$f":"IF($A363=0,\"\",Table2[[#This Row],[DFV]])","v":""},{"$f":"IF($A363=0,\"\",Table2[[#This Row],[60%-OTS]])","v":""},{"$f":"IF($A363=0,\"\",Table2[[#This Row],[75%]])","v":""},{"$f":"IF($A363=0,\"\",Table2[[#This Row],[Pre-Final PS&E]])","v":""},{"$f":"IF($A363=0,\"\",Table2[[#This Row],[Final PS&E]])","v":""},{"$f":"IF($A363=0,\"\",'LOD Matrix (DO NOT PRINT)'!M363)","v":""},{"$f":"IF($A363=0,\"\",'LOD Matrix (DO NOT PRINT)'!N363)","v":""},{"$f":"IF($A363=0,\"\",IF('LOD Matrix (DO NOT PRINT)'!P363=TRUE,\"Yes\",\"No\"))","v":""}]
[{"$f":"IF(B364=\"Yes\",Table2[[#This Row],[Break Level]],0)","v":0},{"$f":"Table2[[#This Row],[Yes/No]]","v":"No"},null,null,{"$f":"IF($A364=0,\"\",Table2[[#This Row],[PTC DISCIPLINE]])","v":""},{"$f":"IF($A364=0,\"\",Table2[[#This Row],[ELEMENT]])","v":""},{"$f":"IF($A364=0,\"\",Table2[[#This Row],[LG&TSL]])","v":""},{"$f":"IF($A364=0,\"\",Table2[[#This Row],[DFV]])","v":""},{"$f":"IF($A364=0,\"\",Table2[[#This Row],[60%-OTS]])","v":""},{"$f":"IF($A364=0,\"\",Table2[[#This Row],[75%]])","v":""},{"$f":"IF($A364=0,\"\",Table2[[#This Row],[Pre-Final PS&E]])","v":""},{"$f":"IF($A364=0,\"\",Table2[[#This Row],[Final PS&E]])","v":""},{"$f":"IF($A364=0,\"\",'LOD Matrix (DO NOT PRINT)'!M364)","v":""},{"$f":"IF($A364=0,\"\",'LOD Matrix (DO NOT PRINT)'!N364)","v":""},{"$f":"IF($A364=0,\"\",IF('LOD Matrix (DO NOT PRINT)'!P364=TRUE,\"Yes\",\"No\"))","v":""}]
[{"$f":"IF(B365=\"Yes\",Table2[[#This Row],[Break Level]],0)","v":0},{"$f":"Table2[[#This Row],[Yes/No]]","v":"No"},null,null,{"$f":"IF($A365=0,\"\",Table2[[#This Row],[PTC DISCIPLINE]])","v":""},{"$f":"IF($A365=0,\"\",Table2[[#This Row],[ELEMENT]])","v":""},{"$f":"IF($A365=0,\"\",Table2[[#This Row],[LG&TSL]])","v":""},{"$f":"IF($A365=0,\"\",Table2[[#This Row],[DFV]])","v":""},{"$f":"IF($A365=0,\"\",Table2[[#This Row],[60%-OTS]])","v":""},{"$f":"IF($A365=0,\"\",Table2[[#This Row],[75%]])","v":""},{"$f":"IF($A365=0,\"\",Table2[[#This Row],[Pre-Final PS&E]])","v":""},{"$f":"IF($A365=0,\"\",Table2[[#This Row],[Final PS&E]])","v":""},{"$f":"IF($A365=0,\"\",'LOD Matrix (DO NOT PRINT)'!M365)","v":""},{"$f":"IF($A365=0,\"\",'LOD Matrix (DO NOT PRINT)'!N365)","v":""},{"$f":"IF($A365=0,\"\",IF('LOD Matrix (DO NOT PRINT)'!P365=TRUE,\"Yes\",\"No\"))","v":""}]
[{"$f":"IF(B366=\"Yes\",Table2[[#This Row],[Break Level]],0)","v":0},{"$f":"Table2[[#This Row],[Yes/No]]","v":"No"},null,null,{"$f":"IF($A366=0,\"\",Table2[[#This Row],[PTC DISCIPLINE]])","v":""},{"$f":"IF($A366=0,\"\",Table2[[#This Row],[ELEMENT]])","v":""},{"$f":"IF($A366=0,\"\",Table2[[#This Row],[LG&TSL]])","v":""},{"$f":"IF($A366=0,\"\",Table2[[#This Row],[DFV]])","v":""},{"$f":"IF($A366=0,\"\",Table2[[#This Row],[60%-OTS]])","v":""},{"$f":"IF($A366=0,\"\",Table2[[#This Row],[75%]])","v":""},{"$f":"IF($A366=0,\"\",Table2[[#This Row],[Pre-Final PS&E]])","v":""},{"$f":"IF($A366=0,\"\",Table2[[#This Row],[Final PS&E]])","v":""},{"$f":"IF($A366=0,\"\",'LOD Matrix (DO NOT PRINT)'!M366)","v":""},{"$f":"IF($A366=0,\"\",'LOD Matrix (DO NOT PRINT)'!N366)","v":""},{"$f":"IF($A366=0,\"\",IF('LOD Matrix (DO NOT PRINT)'!P366=TRUE,\"Yes\",\"No\"))","v":""}]
[{"$f":"IF(B367=\"Yes\",Table2[[#This Row],[Break Level]],0)","v":0},{"$f":"Table2[[#This Row],[Yes/No]]","v":"No"},null,null,{"$f":"IF($A367=0,\"\",Table2[[#This Row],[PTC DISCIPLINE]])","v":""},{"$f":"IF($A367=0,\"\",Table2[[#This Row],[ELEMENT]])","v":""},{"$f":"IF($A367=0,\"\",Table2[[#This Row],[LG&TSL]])","v":""},{"$f":"IF($A367=0,\"\",Table2[[#This Row],[DFV]])","v":""},{"$f":"IF($A367=0,\"\",Table2[[#This Row],[60%-OTS]])","v":""},{"$f":"IF($A367=0,\"\",Table2[[#This Row],[75%]])","v":""},{"$f":"IF($A367=0,\"\",Table2[[#This Row],[Pre-Final PS&E]])","v":""},{"$f":"IF($A367=0,\"\",Table2[[#This Row],[Final PS&E]])","v":""},{"$f":"IF($A367=0,\"\",'LOD Matrix (DO NOT PRINT)'!M367)","v":""},{"$f":"IF($A367=0,\"\",'LOD Matrix (DO NOT PRINT)'!N367)","v":""},{"$f":"IF($A367=0,\"\",IF('LOD Matrix (DO NOT PRINT)'!P367=TRUE,\"Yes\",\"No\"))","v":""}]
[{"$f":"IF(B368=\"Yes\",Table2[[#This Row],[Break Level]],0)","v":0},{"$f":"Table2[[#This Row],[Yes/No]]","v":"No"},null,null,{"$f":"IF($A368=0,\"\",Table2[[#This Row],[PTC DISCIPLINE]])","v":""},{"$f":"IF($A368=0,\"\",Table2[[#This Row],[ELEMENT]])","v":""},{"$f":"IF($A368=0,\"\",Table2[[#This Row],[LG&TSL]])","v":""},{"$f":"IF($A368=0,\"\",Table2[[#This Row],[DFV]])","v":""},{"$f":"IF($A368=0,\"\",Table2[[#This Row],[60%-OTS]])","v":""},{"$f":"IF($A368=0,\"\",Table2[[#This Row],[75%]])","v":""},{"$f":"IF($A368=0,\"\",Table2[[#This Row],[Pre-Final PS&E]])","v":""},{"$f":"IF($A368=0,\"\",Table2[[#This Row],[Final PS&E]])","v":""},{"$f":"IF($A368=0,\"\",'LOD Matrix (DO NOT PRINT)'!M368)","v":""},{"$f":"IF($A368=0,\"\",'LOD Matrix (DO NOT PRINT)'!N368)","v":""},{"$f":"IF($A368=0,\"\",IF('LOD Matrix (DO NOT PRINT)'!P368=TRUE,\"Yes\",\"No\"))","v":""}]
[{"$f":"IF(B369=\"Yes\",Table2[[#This Row],[Break Level]],0)","v":0},{"$f":"Table2[[#This Row],[Yes/No]]","v":"No"},null,null,{"$f":"IF($A369=0,\"\",Table2[[#This Row],[PTC DISCIPLINE]])","v":""},{"$f":"IF($A369=0,\"\",Table2[[#This Row],[ELEMENT]])","v":""},{"$f":"IF($A369=0,\"\",Table2[[#This Row],[LG&TSL]])","v":""},{"$f":"IF($A369=0,\"\",Table2[[#This Row],[DFV]])","v":""},{"$f":"IF($A369=0,\"\",Table2[[#This Row],[60%-OTS]])","v":""},{"$f":"IF($A369=0,\"\",Table2[[#This Row],[75%]])","v":""},{"$f":"IF($A369=0,\"\",Table2[[#This Row],[Pre-Final PS&E]])","v":""},{"$f":"IF($A369=0,\"\",Table2[[#This Row],[Final PS&E]])","v":""},{"$f":"IF($A369=0,\"\",'LOD Matrix (DO NOT PRINT)'!M369)","v":""},{"$f":"IF($A369=0,\"\",'LOD Matrix (DO NOT PRINT)'!N369)","v":""},{"$f":"IF($A369=0,\"\",IF('LOD Matrix (DO NOT PRINT)'!P369=TRUE,\"Yes\",\"No\"))","v":""}]
[{"$f":"IF(B370=\"Yes\",Table2[[#This Row],[Break Level]],0)","v":0},{"$f":"Table2[[#This Row],[Yes/No]]","v":"No"},null,null,{"$f":"IF($A370=0,\"\",Table2[[#This Row],[PTC DISCIPLINE]])","v":""},{"$f":"IF($A370=0,\"\",Table2[[#This Row],[ELEMENT]])","v":""},{"$f":"IF($A370=0,\"\",Table2[[#This Row],[LG&TSL]])","v":""},{"$f":"IF($A370=0,\"\",Table2[[#This Row],[DFV]])","v":""},{"$f":"IF($A370=0,\"\",Table2[[#This Row],[60%-OTS]])","v":""},{"$f":"IF($A370=0,\"\",Table2[[#This Row],[75%]])","v":""},{"$f":"IF($A370=0,\"\",Table2[[#This Row],[Pre-Final PS&E]])","v":""},{"$f":"IF($A370=0,\"\",Table2[[#This Row],[Final PS&E]])","v":""},{"$f":"IF($A370=0,\"\",'LOD Matrix (DO NOT PRINT)'!M370)","v":""},{"$f":"IF($A370=0,\"\",'LOD Matrix (DO NOT PRINT)'!N370)","v":""},{"$f":"IF($A370=0,\"\",IF('LOD Matrix (DO NOT PRINT)'!P370=TRUE,\"Yes\",\"No\"))","v":""}]
[{"$f":"IF(B371=\"Yes\",Table2[[#This Row],[Break Level]],0)","v":0},{"$f":"Table2[[#This Row],[Yes/No]]","v":"No"},null,null,{"$f":"IF($A371=0,\"\",Table2[[#This Row],[PTC DISCIPLINE]])","v":""},{"$f":"IF($A371=0,\"\",Table2[[#This Row],[ELEMENT]])","v":""},{"$f":"IF($A371=0,\"\",Table2[[#This Row],[LG&TSL]])","v":""},{"$f":"IF($A371=0,\"\",Table2[[#This Row],[DFV]])","v":""},{"$f":"IF($A371=0,\"\",Table2[[#This Row],[60%-OTS]])","v":""},{"$f":"IF($A371=0,\"\",Table2[[#This Row],[75%]])","v":""},{"$f":"IF($A371=0,\"\",Table2[[#This Row],[Pre-Final PS&E]])","v":""},{"$f":"IF($A371=0,\"\",Table2[[#This Row],[Final PS&E]])","v":""},{"$f":"IF($A371=0,\"\",'LOD Matrix (DO NOT PRINT)'!M371)","v":""},{"$f":"IF($A371=0,\"\",'LOD Matrix (DO NOT PRINT)'!N371)","v":""},{"$f":"IF($A371=0,\"\",IF('LOD Matrix (DO NOT PRINT)'!P371=TRUE,\"Yes\",\"No\"))","v":""}]
[{"$f":"IF(B372=\"Yes\",Table2[[#This Row],[Break Level]],0)","v":0},{"$f":"Table2[[#This Row],[Yes/No]]","v":"No"},null,null,{"$f":"IF($A372=0,\"\",Table2[[#This Row],[PTC DISCIPLINE]])","v":""},{"$f":"IF($A372=0,\"\",Table2[[#This Row],[ELEMENT]])","v":""},{"$f":"IF($A372=0,\"\",Table2[[#This Row],[LG&TSL]])","v":""},{"$f":"IF($A372=0,\"\",Table2[[#This Row],[DFV]])","v":""},{"$f":"IF($A372=0,\"\",Table2[[#This Row],[60%-OTS]])","v":""},{"$f":"IF($A372=0,\"\",Table2[[#This Row],[75%]])","v":""},{"$f":"IF($A372=0,\"\",Table2[[#This Row],[Pre-Final PS&E]])","v":""},{"$f":"IF($A372=0,\"\",Table2[[#This Row],[Final PS&E]])","v":""},{"$f":"IF($A372=0,\"\",'LOD Matrix (DO NOT PRINT)'!M372)","v":""},{"$f":"IF($A372=0,\"\",'LOD Matrix (DO NOT PRINT)'!N372)","v":""},{"$f":"IF($A372=0,\"\",IF('LOD Matrix (DO NOT PRINT)'!P372=TRUE,\"Yes\",\"No\"))","v":""}]
[{"$f":"IF(B373=\"Yes\",Table2[[#This Row],[Break Level]],0)","v":0},{"$f":"Table2[[#This Row],[Yes/No]]","v":"No"},null,null,{"$f":"IF($A373=0,\"\",Table2[[#This Row],[PTC DISCIPLINE]])","v":""},{"$f":"IF($A373=0,\"\",Table2[[#This Row],[ELEMENT]])","v":""},{"$f":"IF($A373=0,\"\",Table2[[#This Row],[LG&TSL]])","v":""},{"$f":"IF($A373=0,\"\",Table2[[#This Row],[DFV]])","v":""},{"$f":"IF($A373=0,\"\",Table2[[#This Row],[60%-OTS]])","v":""},{"$f":"IF($A373=0,\"\",Table2[[#This Row],[75%]])","v":""},{"$f":"IF($A373=0,\"\",Table2[[#This Row],[Pre-Final PS&E]])","v":""},{"$f":"IF($A373=0,\"\",Table2[[#This Row],[Final PS&E]])","v":""},{"$f":"IF($A373=0,\"\",'LOD Matrix (DO NOT PRINT)'!M373)","v":""},{"$f":"IF($A373=0,\"\",'LOD Matrix (DO NOT PRINT)'!N373)","v":""},{"$f":"IF($A373=0,\"\",IF('LOD Matrix (DO NOT PRINT)'!P373=TRUE,\"Yes\",\"No\"))","v":""}]
[{"$f":"IF(B374=\"Yes\",Table2[[#This Row],[Break Level]],0)","v":0},{"$f":"Table2[[#This Row],[Yes/No]]","v":"No"},null,null,{"$f":"IF($A374=0,\"\",Table2[[#This Row],[PTC DISCIPLINE]])","v":""},{"$f":"IF($A374=0,\"\",Table2[[#This Row],[ELEMENT]])","v":""},{"$f":"IF($A374=0,\"\",Table2[[#This Row],[LG&TSL]])","v":""},{"$f":"IF($A374=0,\"\",Table2[[#This Row],[DFV]])","v":""},{"$f":"IF($A374=0,\"\",Table2[[#This Row],[60%-OTS]])","v":""},{"$f":"IF($A374=0,\"\",Table2[[#This Row],[75%]])","v":""},{"$f":"IF($A374=0,\"\",Table2[[#This Row],[Pre-Final PS&E]])","v":""},{"$f":"IF($A374=0,\"\",Table2[[#This Row],[Final PS&E]])","v":""},{"$f":"IF($A374=0,\"\",'LOD Matrix (DO NOT PRINT)'!M374)","v":""},{"$f":"IF($A374=0,\"\",'LOD Matrix (DO NOT PRINT)'!N374)","v":""},{"$f":"IF($A374=0,\"\",IF('LOD Matrix (DO NOT PRINT)'!P374=TRUE,\"Yes\",\"No\"))","v":""}]
[{"$f":"IF(B375=\"Yes\",Table2[[#This Row],[Break Level]],0)","v":0},{"$f":"Table2[[#This Row],[Yes/No]]","v":"No"},null,null,{"$f":"IF($A375=0,\"\",Table2[[#This Row],[PTC DISCIPLINE]])","v":""},{"$f":"IF($A375=0,\"\",Table2[[#This Row],[ELEMENT]])","v":""},{"$f":"IF($A375=0,\"\",Table2[[#This Row],[LG&TSL]])","v":""},{"$f":"IF($A375=0,\"\",Table2[[#This Row],[DFV]])","v":""},{"$f":"IF($A375=0,\"\",Table2[[#This Row],[60%-OTS]])","v":""},{"$f":"IF($A375=0,\"\",Table2[[#This Row],[75%]])","v":""},{"$f":"IF($A375=0,\"\",Table2[[#This Row],[Pre-Final PS&E]])","v":""},{"$f":"IF($A375=0,\"\",Table2[[#This Row],[Final PS&E]])","v":""},{"$f":"IF($A375=0,\"\",'LOD Matrix (DO NOT PRINT)'!M375)","v":""},{"$f":"IF($A375=0,\"\",'LOD Matrix (DO NOT PRINT)'!N375)","v":""},{"$f":"IF($A375=0,\"\",IF('LOD Matrix (DO NOT PRINT)'!P375=TRUE,\"Yes\",\"No\"))","v":""}]
[{"$f":"IF(B376=\"Yes\",Table2[[#This Row],[Break Level]],0)","v":0},{"$f":"Table2[[#This Row],[Yes/No]]","v":"No"},null,null,{"$f":"IF($A376=0,\"\",Table2[[#This Row],[PTC DISCIPLINE]])","v":""},{"$f":"IF($A376=0,\"\",Table2[[#This Row],[ELEMENT]])","v":""},{"$f":"IF($A376=0,\"\",Table2[[#This Row],[LG&TSL]])","v":""},{"$f":"IF($A376=0,\"\",Table2[[#This Row],[DFV]])","v":""},{"$f":"IF($A376=0,\"\",Table2[[#This Row],[60%-OTS]])","v":""},{"$f":"IF($A376=0,\"\",Table2[[#This Row],[75%]])","v":""},{"$f":"IF($A376=0,\"\",Table2[[#This Row],[Pre-Final PS&E]])","v":""},{"$f":"IF($A376=0,\"\",Table2[[#This Row],[Final PS&E]])","v":""},{"$f":"IF($A376=0,\"\",'LOD Matrix (DO NOT PRINT)'!M376)","v":""},{"$f":"IF($A376=0,\"\",'LOD Matrix (DO NOT PRINT)'!N376)","v":""},{"$f":"IF($A376=0,\"\",IF('LOD Matrix (DO NOT PRINT)'!P376=TRUE,\"Yes\",\"No\"))","v":""}]
[{"$f":"IF(B377=\"Yes\",Table2[[#This Row],[Break Level]],0)","v":0},{"$f":"Table2[[#This Row],[Yes/No]]","v":"No"},null,null,{"$f":"IF($A377=0,\"\",Table2[[#This Row],[PTC DISCIPLINE]])","v":""},{"$f":"IF($A377=0,\"\",Table2[[#This Row],[ELEMENT]])","v":""},{"$f":"IF($A377=0,\"\",Table2[[#This Row],[LG&TSL]])","v":""},{"$f":"IF($A377=0,\"\",Table2[[#This Row],[DFV]])","v":""},{"$f":"IF($A377=0,\"\",Table2[[#This Row],[60%-OTS]])","v":""},{"$f":"IF($A377=0,\"\",Table2[[#This Row],[75%]])","v":""},{"$f":"IF($A377=0,\"\",Table2[[#This Row],[Pre-Final PS&E]])","v":""},{"$f":"IF($A377=0,\"\",Table2[[#This Row],[Final PS&E]])","v":""},{"$f":"IF($A377=0,\"\",'LOD Matrix (DO NOT PRINT)'!M377)","v":""},{"$f":"IF($A377=0,\"\",'LOD Matrix (DO NOT PRINT)'!N377)","v":""},{"$f":"IF($A377=0,\"\",IF('LOD Matrix (DO NOT PRINT)'!P377=TRUE,\"Yes\",\"No\"))","v":""}]
[{"$f":"IF(B378=\"Yes\",Table2[[#This Row],[Break Level]],0)","v":0},{"$f":"Table2[[#This Row],[Yes/No]]","v":"No"},null,null,{"$f":"IF($A378=0,\"\",Table2[[#This Row],[PTC DISCIPLINE]])","v":""},{"$f":"IF($A378=0,\"\",Table2[[#This Row],[ELEMENT]])","v":""},{"$f":"IF($A378=0,\"\",Table2[[#This Row],[LG&TSL]])","v":""},{"$f":"IF($A378=0,\"\",Table2[[#This Row],[DFV]])","v":""},{"$f":"IF($A378=0,\"\",Table2[[#This Row],[60%-OTS]])","v":""},{"$f":"IF($A378=0,\"\",Table2[[#This Row],[75%]])","v":""},{"$f":"IF($A378=0,\"\",Table2[[#This Row],[Pre-Final PS&E]])","v":""},{"$f":"IF($A378=0,\"\",Table2[[#This Row],[Final PS&E]])","v":""},{"$f":"IF($A378=0,\"\",'LOD Matrix (DO NOT PRINT)'!M378)","v":""},{"$f":"IF($A378=0,\"\",'LOD Matrix (DO NOT PRINT)'!N378)","v":""},{"$f":"IF($A378=0,\"\",IF('LOD Matrix (DO NOT PRINT)'!P378=TRUE,\"Yes\",\"No\"))","v":""}]
[{"$f":"IF(B379=\"Yes\",Table2[[#This Row],[Break Level]],0)","v":0},{"$f":"Table2[[#This Row],[Yes/No]]","v":"No"},null,null,{"$f":"IF($A379=0,\"\",Table2[[#This Row],[PTC DISCIPLINE]])","v":""},{"$f":"IF($A379=0,\"\",Table2[[#This Row],[ELEMENT]])","v":""},{"$f":"IF($A379=0,\"\",Table2[[#This Row],[LG&TSL]])","v":""},{"$f":"IF($A379=0,\"\",Table2[[#This Row],[DFV]])","v":""},{"$f":"IF($A379=0,\"\",Table2[[#This Row],[60%-OTS]])","v":""},{"$f":"IF($A379=0,\"\",Table2[[#This Row],[75%]])","v":""},{"$f":"IF($A379=0,\"\",Table2[[#This Row],[Pre-Final PS&E]])","v":""},{"$f":"IF($A379=0,\"\",Table2[[#This Row],[Final PS&E]])","v":""},{"$f":"IF($A379=0,\"\",'LOD Matrix (DO NOT PRINT)'!M379)","v":""},{"$f":"IF($A379=0,\"\",'LOD Matrix (DO NOT PRINT)'!N379)","v":""},{"$f":"IF($A379=0,\"\",IF('LOD Matrix (DO NOT PRINT)'!P379=TRUE,\"Yes\",\"No\"))","v":""}]
[{"$f":"IF(B380=\"Yes\",Table2[[#This Row],[Break Level]],0)","v":0},{"$f":"Table2[[#This Row],[Yes/No]]","v":"No"},null,null,{"$f":"IF($A380=0,\"\",Table2[[#This Row],[PTC DISCIPLINE]])","v":""},{"$f":"IF($A380=0,\"\",Table2[[#This Row],[ELEMENT]])","v":""},{"$f":"IF($A380=0,\"\",Table2[[#This Row],[LG&TSL]])","v":""},{"$f":"IF($A380=0,\"\",Table2[[#This Row],[DFV]])","v":""},{"$f":"IF($A380=0,\"\",Table2[[#This Row],[60%-OTS]])","v":""},{"$f":"IF($A380=0,\"\",Table2[[#This Row],[75%]])","v":""},{"$f":"IF($A380=0,\"\",Table2[[#This Row],[Pre-Final PS&E]])","v":""},{"$f":"IF($A380=0,\"\",Table2[[#This Row],[Final PS&E]])","v":""},{"$f":"IF($A380=0,\"\",'LOD Matrix (DO NOT PRINT)'!M380)","v":""},{"$f":"IF($A380=0,\"\",'LOD Matrix (DO NOT PRINT)'!N380)","v":""},{"$f":"IF($A380=0,\"\",IF('LOD Matrix (DO NOT PRINT)'!P380=TRUE,\"Yes\",\"No\"))","v":""}]
[{"$f":"IF(B381=\"Yes\",Table2[[#This Row],[Break Level]],0)","v":0},{"$f":"Table2[[#This Row],[Yes/No]]","v":"No"},null,null,{"$f":"IF($A381=0,\"\",Table2[[#This Row],[PTC DISCIPLINE]])","v":""},{"$f":"IF($A381=0,\"\",Table2[[#This Row],[ELEMENT]])","v":""},{"$f":"IF($A381=0,\"\",Table2[[#This Row],[LG&TSL]])","v":""},{"$f":"IF($A381=0,\"\",Table2[[#This Row],[DFV]])","v":""},{"$f":"IF($A381=0,\"\",Table2[[#This Row],[60%-OTS]])","v":""},{"$f":"IF($A381=0,\"\",Table2[[#This Row],[75%]])","v":""},{"$f":"IF($A381=0,\"\",Table2[[#This Row],[Pre-Final PS&E]])","v":""},{"$f":"IF($A381=0,\"\",Table2[[#This Row],[Final PS&E]])","v":""},{"$f":"IF($A381=0,\"\",'LOD Matrix (DO NOT PRINT)'!M381)","v":""},{"$f":"IF($A381=0,\"\",'LOD Matrix (DO NOT PRINT)'!N381)","v":""},{"$f":"IF($A381=0,\"\",IF('LOD Matrix (DO NOT PRINT)'!P381=TRUE,\"Yes\",\"No\"))","v":""}]
[{"$f":"IF(B382=\"Yes\",Table2[[#This Row],[Break Level]],0)","v":0},{"$f":"Table2[[#This Row],[Yes/No]]","v":"No"},null,null,{"$f":"IF($A382=0,\"\",Table2[[#This Row],[PTC DISCIPLINE]])","v":""},{"$f":"IF($A382=0,\"\",Table2[[#This Row],[ELEMENT]])","v":""},{"$f":"IF($A382=0,\"\",Table2[[#This Row],[LG&TSL]])","v":""},{"$f":"IF($A382=0,\"\",Table2[[#This Row],[DFV]])","v":""},{"$f":"IF($A382=0,\"\",Table2[[#This Row],[60%-OTS]])","v":""},{"$f":"IF($A382=0,\"\",Table2[[#This Row],[75%]])","v":""},{"$f":"IF($A382=0,\"\",Table2[[#This Row],[Pre-Final PS&E]])","v":""},{"$f":"IF($A382=0,\"\",Table2[[#This Row],[Final PS&E]])","v":""},{"$f":"IF($A382=0,\"\",'LOD Matrix (DO NOT PRINT)'!M382)","v":""},{"$f":"IF($A382=0,\"\",'LOD Matrix (DO NOT PRINT)'!N382)","v":""},{"$f":"IF($A382=0,\"\",IF('LOD Matrix (DO NOT PRINT)'!P382=TRUE,\"Yes\",\"No\"))","v":""}]
[{"$f":"IF(B383=\"Yes\",Table2[[#This Row],[Break Level]],0)","v":0},{"$f":"Table2[[#This Row],[Yes/No]]","v":"No"},null,null,{"$f":"IF($A383=0,\"\",Table2[[#This Row],[PTC DISCIPLINE]])","v":""},{"$f":"IF($A383=0,\"\",Table2[[#This Row],[ELEMENT]])","v":""},{"$f":"IF($A383=0,\"\",Table2[[#This Row],[LG&TSL]])","v":""},{"$f":"IF($A383=0,\"\",Table2[[#This Row],[DFV]])","v":""},{"$f":"IF($A383=0,\"\",Table2[[#This Row],[60%-OTS]])","v":""},{"$f":"IF($A383=0,\"\",Table2[[#This Row],[75%]])","v":""},{"$f":"IF($A383=0,\"\",Table2[[#This Row],[Pre-Final PS&E]])","v":""},{"$f":"IF($A383=0,\"\",Table2[[#This Row],[Final PS&E]])","v":""},{"$f":"IF($A383=0,\"\",'LOD Matrix (DO NOT PRINT)'!M383)","v":""},{"$f":"IF($A383=0,\"\",'LOD Matrix (DO NOT PRINT)'!N383)","v":""},{"$f":"IF($A383=0,\"\",IF('LOD Matrix (DO NOT PRINT)'!P383=TRUE,\"Yes\",\"No\"))","v":""}]
[{"$f":"IF(B384=\"Yes\",Table2[[#This Row],[Break Level]],0)","v":0},{"$f":"Table2[[#This Row],[Yes/No]]","v":"No"},null,null,{"$f":"IF($A384=0,\"\",Table2[[#This Row],[PTC DISCIPLINE]])","v":""},{"$f":"IF($A384=0,\"\",Table2[[#This Row],[ELEMENT]])","v":""},{"$f":"IF($A384=0,\"\",Table2[[#This Row],[LG&TSL]])","v":""},{"$f":"IF($A384=0,\"\",Table2[[#This Row],[DFV]])","v":""},{"$f":"IF($A384=0,\"\",Table2[[#This Row],[60%-OTS]])","v":""},{"$f":"IF($A384=0,\"\",Table2[[#This Row],[75%]])","v":""},{"$f":"IF($A384=0,\"\",Table2[[#This Row],[Pre-Final PS&E]])","v":""},{"$f":"IF($A384=0,\"\",Table2[[#This Row],[Final PS&E]])","v":""},{"$f":"IF($A384=0,\"\",'LOD Matrix (DO NOT PRINT)'!M384)","v":""},{"$f":"IF($A384=0,\"\",'LOD Matrix (DO NOT PRINT)'!N384)","v":""},{"$f":"IF($A384=0,\"\",IF('LOD Matrix (DO NOT PRINT)'!P384=TRUE,\"Yes\",\"No\"))","v":""}]
[{"$f":"IF(B385=\"Yes\",Table2[[#This Row],[Break Level]],0)","v":0},{"$f":"Table2[[#This Row],[Yes/No]]","v":"No"},null,null,{"$f":"IF($A385=0,\"\",Table2[[#This Row],[PTC DISCIPLINE]])","v":""},{"$f":"IF($A385=0,\"\",Table2[[#This Row],[ELEMENT]])","v":""},{"$f":"IF($A385=0,\"\",Table2[[#This Row],[LG&TSL]])","v":""},{"$f":"IF($A385=0,\"\",Table2[[#This Row],[DFV]])","v":""},{"$f":"IF($A385=0,\"\",Table2[[#This Row],[60%-OTS]])","v":""},{"$f":"IF($A385=0,\"\",Table2[[#This Row],[75%]])","v":""},{"$f":"IF($A385=0,\"\",Table2[[#This Row],[Pre-Final PS&E]])","v":""},{"$f":"IF($A385=0,\"\",Table2[[#This Row],[Final PS&E]])","v":""},{"$f":"IF($A385=0,\"\",'LOD Matrix (DO NOT PRINT)'!M385)","v":""},{"$f":"IF($A385=0,\"\",'LOD Matrix (DO NOT PRINT)'!N385)","v":""},{"$f":"IF($A385=0,\"\",IF('LOD Matrix (DO NOT PRINT)'!P385=TRUE,\"Yes\",\"No\"))","v":""}]
[{"$f":"IF(B386=\"Yes\",Table2[[#This Row],[Break Level]],0)","v":0},{"$f":"Table2[[#This Row],[Yes/No]]","v":"No"},null,null,{"$f":"IF($A386=0,\"\",Table2[[#This Row],[PTC DISCIPLINE]])","v":""},{"$f":"IF($A386=0,\"\",Table2[[#This Row],[ELEMENT]])","v":""},{"$f":"IF($A386=0,\"\",Table2[[#This Row],[LG&TSL]])","v":""},{"$f":"IF($A386=0,\"\",Table2[[#This Row],[DFV]])","v":""},{"$f":"IF($A386=0,\"\",Table2[[#This Row],[60%-OTS]])","v":""},{"$f":"IF($A386=0,\"\",Table2[[#This Row],[75%]])","v":""},{"$f":"IF($A386=0,\"\",Table2[[#This Row],[Pre-Final PS&E]])","v":""},{"$f":"IF($A386=0,\"\",Table2[[#This Row],[Final PS&E]])","v":""},{"$f":"IF($A386=0,\"\",'LOD Matrix (DO NOT PRINT)'!M386)","v":""},{"$f":"IF($A386=0,\"\",'LOD Matrix (DO NOT PRINT)'!N386)","v":""},{"$f":"IF($A386=0,\"\",IF('LOD Matrix (DO NOT PRINT)'!P386=TRUE,\"Yes\",\"No\"))","v":""}]
[{"$f":"IF(B387=\"Yes\",Table2[[#This Row],[Break Level]],0)","v":0},{"$f":"Table2[[#This Row],[Yes/No]]","v":"No"},null,null,{"$f":"IF($A387=0,\"\",Table2[[#This Row],[PTC DISCIPLINE]])","v":""},{"$f":"IF($A387=0,\"\",Table2[[#This Row],[ELEMENT]])","v":""},{"$f":"IF($A387=0,\"\",Table2[[#This Row],[LG&TSL]])","v":""},{"$f":"IF($A387=0,\"\",Table2[[#This Row],[DFV]])","v":""},{"$f":"IF($A387=0,\"\",Table2[[#This Row],[60%-OTS]])","v":""},{"$f":"IF($A387=0,\"\",Table2[[#This Row],[75%]])","v":""},{"$f":"IF($A387=0,\"\",Table2[[#This Row],[Pre-Final PS&E]])","v":""},{"$f":"IF($A387=0,\"\",Table2[[#This Row],[Final PS&E]])","v":""},{"$f":"IF($A387=0,\"\",'LOD Matrix (DO NOT PRINT)'!M387)","v":""},{"$f":"IF($A387=0,\"\",'LOD Matrix (DO NOT PRINT)'!N387)","v":""},{"$f":"IF($A387=0,\"\",IF('LOD Matrix (DO NOT PRINT)'!P387=TRUE,\"Yes\",\"No\"))","v":""}]
[{"$f":"IF(B388=\"Yes\",Table2[[#This Row],[Break Level]],0)","v":0},{"$f":"Table2[[#This Row],[Yes/No]]","v":"No"},null,null,{"$f":"IF($A388=0,\"\",Table2[[#This Row],[PTC DISCIPLINE]])","v":""},{"$f":"IF($A388=0,\"\",Table2[[#This Row],[ELEMENT]])","v":""},{"$f":"IF($A388=0,\"\",Table2[[#This Row],[LG&TSL]])","v":""},{"$f":"IF($A388=0,\"\",Table2[[#This Row],[DFV]])","v":""},{"$f":"IF($A388=0,\"\",Table2[[#This Row],[60%-OTS]])","v":""},{"$f":"IF($A388=0,\"\",Table2[[#This Row],[75%]])","v":""},{"$f":"IF($A388=0,\"\",Table2[[#This Row],[Pre-Final PS&E]])","v":""},{"$f":"IF($A388=0,\"\",Table2[[#This Row],[Final PS&E]])","v":""},{"$f":"IF($A388=0,\"\",'LOD Matrix (DO NOT PRINT)'!M388)","v":""},{"$f":"IF($A388=0,\"\",'LOD Matrix (DO NOT PRINT)'!N388)","v":""},{"$f":"IF($A388=0,\"\",IF('LOD Matrix (DO NOT PRINT)'!P388=TRUE,\"Yes\",\"No\"))","v":""}]
[{"$f":"IF(B389=\"Yes\",Table2[[#This Row],[Break Level]],0)","v":0},{"$f":"Table2[[#This Row],[Yes/No]]","v":"No"},null,null,{"$f":"IF($A389=0,\"\",Table2[[#This Row],[PTC DISCIPLINE]])","v":""},{"$f":"IF($A389=0,\"\",Table2[[#This Row],[ELEMENT]])","v":""},{"$f":"IF($A389=0,\"\",Table2[[#This Row],[LG&TSL]])","v":""},{"$f":"IF($A389=0,\"\",Table2[[#This Row],[DFV]])","v":""},{"$f":"IF($A389=0,\"\",Table2[[#This Row],[60%-OTS]])","v":""},{"$f":"IF($A389=0,\"\",Table2[[#This Row],[75%]])","v":""},{"$f":"IF($A389=0,\"\",Table2[[#This Row],[Pre-Final PS&E]])","v":""},{"$f":"IF($A389=0,\"\",Table2[[#This Row],[Final PS&E]])","v":""},{"$f":"IF($A389=0,\"\",'LOD Matrix (DO NOT PRINT)'!M389)","v":""},{"$f":"IF($A389=0,\"\",'LOD Matrix (DO NOT PRINT)'!N389)","v":""},{"$f":"IF($A389=0,\"\",IF('LOD Matrix (DO NOT PRINT)'!P389=TRUE,\"Yes\",\"No\"))","v":""}]
[{"$f":"IF(B390=\"Yes\",Table2[[#This Row],[Break Level]],0)","v":0},{"$f":"Table2[[#This Row],[Yes/No]]","v":"No"},null,null,{"$f":"IF($A390=0,\"\",Table2[[#This Row],[PTC DISCIPLINE]])","v":""},{"$f":"IF($A390=0,\"\",Table2[[#This Row],[ELEMENT]])","v":""},{"$f":"IF($A390=0,\"\",Table2[[#This Row],[LG&TSL]])","v":""},{"$f":"IF($A390=0,\"\",Table2[[#This Row],[DFV]])","v":""},{"$f":"IF($A390=0,\"\",Table2[[#This Row],[60%-OTS]])","v":""},{"$f":"IF($A390=0,\"\",Table2[[#This Row],[75%]])","v":""},{"$f":"IF($A390=0,\"\",Table2[[#This Row],[Pre-Final PS&E]])","v":""},{"$f":"IF($A390=0,\"\",Table2[[#This Row],[Final PS&E]])","v":""},{"$f":"IF($A390=0,\"\",'LOD Matrix (DO NOT PRINT)'!M390)","v":""},{"$f":"IF($A390=0,\"\",'LOD Matrix (DO NOT PRINT)'!N390)","v":""},{"$f":"IF($A390=0,\"\",IF('LOD Matrix (DO NOT PRINT)'!P390=TRUE,\"Yes\",\"No\"))","v":""}]
[{"$f":"IF(B391=\"Yes\",Table2[[#This Row],[Break Level]],0)","v":0},{"$f":"Table2[[#This Row],[Yes/No]]","v":"No"},null,null,{"$f":"IF($A391=0,\"\",Table2[[#This Row],[PTC DISCIPLINE]])","v":""},{"$f":"IF($A391=0,\"\",Table2[[#This Row],[ELEMENT]])","v":""},{"$f":"IF($A391=0,\"\",Table2[[#This Row],[LG&TSL]])","v":""},{"$f":"IF($A391=0,\"\",Table2[[#This Row],[DFV]])","v":""},{"$f":"IF($A391=0,\"\",Table2[[#This Row],[60%-OTS]])","v":""},{"$f":"IF($A391=0,\"\",Table2[[#This Row],[75%]])","v":""},{"$f":"IF($A391=0,\"\",Table2[[#This Row],[Pre-Final PS&E]])","v":""},{"$f":"IF($A391=0,\"\",Table2[[#This Row],[Final PS&E]])","v":""},{"$f":"IF($A391=0,\"\",'LOD Matrix (DO NOT PRINT)'!M391)","v":""},{"$f":"IF($A391=0,\"\",'LOD Matrix (DO NOT PRINT)'!N391)","v":""},{"$f":"IF($A391=0,\"\",IF('LOD Matrix (DO NOT PRINT)'!P391=TRUE,\"Yes\",\"No\"))","v":""}]
[{"$f":"IF(B392=\"Yes\",Table2[[#This Row],[Break Level]],0)","v":0},{"$f":"Table2[[#This Row],[Yes/No]]","v":"No"},null,null,{"$f":"IF($A392=0,\"\",Table2[[#This Row],[PTC DISCIPLINE]])","v":""},{"$f":"IF($A392=0,\"\",Table2[[#This Row],[ELEMENT]])","v":""},{"$f":"IF($A392=0,\"\",Table2[[#This Row],[LG&TSL]])","v":""},{"$f":"IF($A392=0,\"\",Table2[[#This Row],[DFV]])","v":""},{"$f":"IF($A392=0,\"\",Table2[[#This Row],[60%-OTS]])","v":""},{"$f":"IF($A392=0,\"\",Table2[[#This Row],[75%]])","v":""},{"$f":"IF($A392=0,\"\",Table2[[#This Row],[Pre-Final PS&E]])","v":""},{"$f":"IF($A392=0,\"\",Table2[[#This Row],[Final PS&E]])","v":""},{"$f":"IF($A392=0,\"\",'LOD Matrix (DO NOT PRINT)'!M392)","v":""},{"$f":"IF($A392=0,\"\",'LOD Matrix (DO NOT PRINT)'!N392)","v":""},{"$f":"IF($A392=0,\"\",IF('LOD Matrix (DO NOT PRINT)'!P392=TRUE,\"Yes\",\"No\"))","v":""}]
[{"$f":"IF(B393=\"Yes\",Table2[[#This Row],[Break Level]],0)","v":0},{"$f":"Table2[[#This Row],[Yes/No]]","v":"No"},null,null,{"$f":"IF($A393=0,\"\",Table2[[#This Row],[PTC DISCIPLINE]])","v":""},{"$f":"IF($A393=0,\"\",Table2[[#This Row],[ELEMENT]])","v":""},{"$f":"IF($A393=0,\"\",Table2[[#This Row],[LG&TSL]])","v":""},{"$f":"IF($A393=0,\"\",Table2[[#This Row],[DFV]])","v":""},{"$f":"IF($A393=0,\"\",Table2[[#This Row],[60%-OTS]])","v":""},{"$f":"IF($A393=0,\"\",Table2[[#This Row],[75%]])","v":""},{"$f":"IF($A393=0,\"\",Table2[[#This Row],[Pre-Final PS&E]])","v":""},{"$f":"IF($A393=0,\"\",Table2[[#This Row],[Final PS&E]])","v":""},{"$f":"IF($A393=0,\"\",'LOD Matrix (DO NOT PRINT)'!M393)","v":""},{"$f":"IF($A393=0,\"\",'LOD Matrix (DO NOT PRINT)'!N393)","v":""},{"$f":"IF($A393=0,\"\",IF('LOD Matrix (DO NOT PRINT)'!P393=TRUE,\"Yes\",\"No\"))","v":""}]
[{"$f":"IF(B394=\"Yes\",Table2[[#This Row],[Break Level]],0)","v":0},{"$f":"Table2[[#This Row],[Yes/No]]","v":"No"},null,null,{"$f":"IF($A394=0,\"\",Table2[[#This Row],[PTC DISCIPLINE]])","v":""},{"$f":"IF($A394=0,\"\",Table2[[#This Row],[ELEMENT]])","v":""},{"$f":"IF($A394=0,\"\",Table2[[#This Row],[LG&TSL]])","v":""},{"$f":"IF($A394=0,\"\",Table2[[#This Row],[DFV]])","v":""},{"$f":"IF($A394=0,\"\",Table2[[#This Row],[60%-OTS]])","v":""},{"$f":"IF($A394=0,\"\",Table2[[#This Row],[75%]])","v":""},{"$f":"IF($A394=0,\"\",Table2[[#This Row],[Pre-Final PS&E]])","v":""},{"$f":"IF($A394=0,\"\",Table2[[#This Row],[Final PS&E]])","v":""},{"$f":"IF($A394=0,\"\",'LOD Matrix (DO NOT PRINT)'!M394)","v":""},{"$f":"IF($A394=0,\"\",'LOD Matrix (DO NOT PRINT)'!N394)","v":""},{"$f":"IF($A394=0,\"\",IF('LOD Matrix (DO NOT PRINT)'!P394=TRUE,\"Yes\",\"No\"))","v":""}]
[{"$f":"IF(B395=\"Yes\",Table2[[#This Row],[Break Level]],0)","v":0},{"$f":"Table2[[#This Row],[Yes/No]]","v":"No"},null,null,{"$f":"IF($A395=0,\"\",Table2[[#This Row],[PTC DISCIPLINE]])","v":""},{"$f":"IF($A395=0,\"\",Table2[[#This Row],[ELEMENT]])","v":""},{"$f":"IF($A395=0,\"\",Table2[[#This Row],[LG&TSL]])","v":""},{"$f":"IF($A395=0,\"\",Table2[[#This Row],[DFV]])","v":""},{"$f":"IF($A395=0,\"\",Table2[[#This Row],[60%-OTS]])","v":""},{"$f":"IF($A395=0,\"\",Table2[[#This Row],[75%]])","v":""},{"$f":"IF($A395=0,\"\",Table2[[#This Row],[Pre-Final PS&E]])","v":""},{"$f":"IF($A395=0,\"\",Table2[[#This Row],[Final PS&E]])","v":""},{"$f":"IF($A395=0,\"\",'LOD Matrix (DO NOT PRINT)'!M395)","v":""},{"$f":"IF($A395=0,\"\",'LOD Matrix (DO NOT PRINT)'!N395)","v":""},{"$f":"IF($A395=0,\"\",IF('LOD Matrix (DO NOT PRINT)'!P395=TRUE,\"Yes\",\"No\"))","v":""}]
[{"$f":"IF(B396=\"Yes\",Table2[[#This Row],[Break Level]],0)","v":0},{"$f":"Table2[[#This Row],[Yes/No]]","v":"No"},null,null,{"$f":"IF($A396=0,\"\",Table2[[#This Row],[PTC DISCIPLINE]])","v":""},{"$f":"IF($A396=0,\"\",Table2[[#This Row],[ELEMENT]])","v":""},{"$f":"IF($A396=0,\"\",Table2[[#This Row],[LG&TSL]])","v":""},{"$f":"IF($A396=0,\"\",Table2[[#This Row],[DFV]])","v":""},{"$f":"IF($A396=0,\"\",Table2[[#This Row],[60%-OTS]])","v":""},{"$f":"IF($A396=0,\"\",Table2[[#This Row],[75%]])","v":""},{"$f":"IF($A396=0,\"\",Table2[[#This Row],[Pre-Final PS&E]])","v":""},{"$f":"IF($A396=0,\"\",Table2[[#This Row],[Final PS&E]])","v":""},{"$f":"IF($A396=0,\"\",'LOD Matrix (DO NOT PRINT)'!M396)","v":""},{"$f":"IF($A396=0,\"\",'LOD Matrix (DO NOT PRINT)'!N396)","v":""},{"$f":"IF($A396=0,\"\",IF('LOD Matrix (DO NOT PRINT)'!P396=TRUE,\"Yes\",\"No\"))","v":""}]
[{"$f":"IF(B397=\"Yes\",Table2[[#This Row],[Break Level]],0)","v":0},{"$f":"Table2[[#This Row],[Yes/No]]","v":"No"},null,null,{"$f":"IF($A397=0,\"\",Table2[[#This Row],[PTC DISCIPLINE]])","v":""},{"$f":"IF($A397=0,\"\",Table2[[#This Row],[ELEMENT]])","v":""},{"$f":"IF($A397=0,\"\",Table2[[#This Row],[LG&TSL]])","v":""},{"$f":"IF($A397=0,\"\",Table2[[#This Row],[DFV]])","v":""},{"$f":"IF($A397=0,\"\",Table2[[#This Row],[60%-OTS]])","v":""},{"$f":"IF($A397=0,\"\",Table2[[#This Row],[75%]])","v":""},{"$f":"IF($A397=0,\"\",Table2[[#This Row],[Pre-Final PS&E]])","v":""},{"$f":"IF($A397=0,\"\",Table2[[#This Row],[Final PS&E]])","v":""},{"$f":"IF($A397=0,\"\",'LOD Matrix (DO NOT PRINT)'!M397)","v":""},{"$f":"IF($A397=0,\"\",'LOD Matrix (DO NOT PRINT)'!N397)","v":""},{"$f":"IF($A397=0,\"\",IF('LOD Matrix (DO NOT PRINT)'!P397=TRUE,\"Yes\",\"No\"))","v":""}]
[{"$f":"IF(B398=\"Yes\",Table2[[#This Row],[Break Level]],0)","v":0},{"$f":"Table2[[#This Row],[Yes/No]]","v":"No"},null,null,{"$f":"IF($A398=0,\"\",Table2[[#This Row],[PTC DISCIPLINE]])","v":""},{"$f":"IF($A398=0,\"\",Table2[[#This Row],[ELEMENT]])","v":""},{"$f":"IF($A398=0,\"\",Table2[[#This Row],[LG&TSL]])","v":""},{"$f":"IF($A398=0,\"\",Table2[[#This Row],[DFV]])","v":""},{"$f":"IF($A398=0,\"\",Table2[[#This Row],[60%-OTS]])","v":""},{"$f":"IF($A398=0,\"\",Table2[[#This Row],[75%]])","v":""},{"$f":"IF($A398=0,\"\",Table2[[#This Row],[Pre-Final PS&E]])","v":""},{"$f":"IF($A398=0,\"\",Table2[[#This Row],[Final PS&E]])","v":""},{"$f":"IF($A398=0,\"\",'LOD Matrix (DO NOT PRINT)'!M398)","v":""},{"$f":"IF($A398=0,\"\",'LOD Matrix (DO NOT PRINT)'!N398)","v":""},{"$f":"IF($A398=0,\"\",IF('LOD Matrix (DO NOT PRINT)'!P398=TRUE,\"Yes\",\"No\"))","v":""}]
[{"$f":"IF(B399=\"Yes\",Table2[[#This Row],[Break Level]],0)","v":0},{"$f":"Table2[[#This Row],[Yes/No]]","v":"No"},null,null,{"$f":"IF($A399=0,\"\",Table2[[#This Row],[PTC DISCIPLINE]])","v":""},{"$f":"IF($A399=0,\"\",Table2[[#This Row],[ELEMENT]])","v":""},{"$f":"IF($A399=0,\"\",Table2[[#This Row],[LG&TSL]])","v":""},{"$f":"IF($A399=0,\"\",Table2[[#This Row],[DFV]])","v":""},{"$f":"IF($A399=0,\"\",Table2[[#This Row],[60%-OTS]])","v":""},{"$f":"IF($A399=0,\"\",Table2[[#This Row],[75%]])","v":""},{"$f":"IF($A399=0,\"\",Table2[[#This Row],[Pre-Final PS&E]])","v":""},{"$f":"IF($A399=0,\"\",Table2[[#This Row],[Final PS&E]])","v":""},{"$f":"IF($A399=0,\"\",'LOD Matrix (DO NOT PRINT)'!M399)","v":""},{"$f":"IF($A399=0,\"\",'LOD Matrix (DO NOT PRINT)'!N399)","v":""},{"$f":"IF($A399=0,\"\",IF('LOD Matrix (DO NOT PRINT)'!P399=TRUE,\"Yes\",\"No\"))","v":""}]
[{"$f":"IF(B400=\"Yes\",Table2[[#This Row],[Break Level]],0)","v":0},{"$f":"Table2[[#This Row],[Yes/No]]","v":"No"},null,null,{"$f":"IF($A400=0,\"\",Table2[[#This Row],[PTC DISCIPLINE]])","v":""},{"$f":"IF($A400=0,\"\",Table2[[#This Row],[ELEMENT]])","v":""},{"$f":"IF($A400=0,\"\",Table2[[#This Row],[LG&TSL]])","v":""},{"$f":"IF($A400=0,\"\",Table2[[#This Row],[DFV]])","v":""},{"$f":"IF($A400=0,\"\",Table2[[#This Row],[60%-OTS]])","v":""},{"$f":"IF($A400=0,\"\",Table2[[#This Row],[75%]])","v":""},{"$f":"IF($A400=0,\"\",Table2[[#This Row],[Pre-Final PS&E]])","v":""},{"$f":"IF($A400=0,\"\",Table2[[#This Row],[Final PS&E]])","v":""},{"$f":"IF($A400=0,\"\",'LOD Matrix (DO NOT PRINT)'!M400)","v":""},{"$f":"IF($A400=0,\"\",'LOD Matrix (DO NOT PRINT)'!N400)","v":""},{"$f":"IF($A400=0,\"\",IF('LOD Matrix (DO NOT PRINT)'!P400=TRUE,\"Yes\",\"No\"))","v":""}]
[{"$f":"IF(B401=\"Yes\",Table2[[#This Row],[Break Level]],0)","v":0},{"$f":"Table2[[#This Row],[Yes/No]]","v":"No"},null,null,{"$f":"IF($A401=0,\"\",Table2[[#This Row],[PTC DISCIPLINE]])","v":""},{"$f":"IF($A401=0,\"\",Table2[[#This Row],[ELEMENT]])","v":""},{"$f":"IF($A401=0,\"\",Table2[[#This Row],[LG&TSL]])","v":""},{"$f":"IF($A401=0,\"\",Table2[[#This Row],[DFV]])","v":""},{"$f":"IF($A401=0,\"\",Table2[[#This Row],[60%-OTS]])","v":""},{"$f":"IF($A401=0,\"\",Table2[[#This Row],[75%]])","v":""},{"$f":"IF($A401=0,\"\",Table2[[#This Row],[Pre-Final PS&E]])","v":""},{"$f":"IF($A401=0,\"\",Table2[[#This Row],[Final PS&E]])","v":""},{"$f":"IF($A401=0,\"\",'LOD Matrix (DO NOT PRINT)'!M401)","v":""},{"$f":"IF($A401=0,\"\",'LOD Matrix (DO NOT PRINT)'!N401)","v":""},{"$f":"IF($A401=0,\"\",IF('LOD Matrix (DO NOT PRINT)'!P401=TRUE,\"Yes\",\"No\"))","v":""}]
[{"$f":"IF(B402=\"Yes\",Table2[[#This Row],[Break Level]],0)","v":0},{"$f":"Table2[[#This Row],[Yes/No]]","v":"No"},null,null,{"$f":"IF($A402=0,\"\",Table2[[#This Row],[PTC DISCIPLINE]])","v":""},{"$f":"IF($A402=0,\"\",Table2[[#This Row],[ELEMENT]])","v":""},{"$f":"IF($A402=0,\"\",Table2[[#This Row],[LG&TSL]])","v":""},{"$f":"IF($A402=0,\"\",Table2[[#This Row],[DFV]])","v":""},{"$f":"IF($A402=0,\"\",Table2[[#This Row],[60%-OTS]])","v":""},{"$f":"IF($A402=0,\"\",Table2[[#This Row],[75%]])","v":""},{"$f":"IF($A402=0,\"\",Table2[[#This Row],[Pre-Final PS&E]])","v":""},{"$f":"IF($A402=0,\"\",Table2[[#This Row],[Final PS&E]])","v":""},{"$f":"IF($A402=0,\"\",'LOD Matrix (DO NOT PRINT)'!M402)","v":""},{"$f":"IF($A402=0,\"\",'LOD Matrix (DO NOT PRINT)'!N402)","v":""},{"$f":"IF($A402=0,\"\",IF('LOD Matrix (DO NOT PRINT)'!P402=TRUE,\"Yes\",\"No\"))","v":""}]
[{"$f":"IF(B403=\"Yes\",Table2[[#This Row],[Break Level]],0)","v":0},{"$f":"Table2[[#This Row],[Yes/No]]","v":"No"},null,null,{"$f":"IF($A403=0,\"\",Table2[[#This Row],[PTC DISCIPLINE]])","v":""},{"$f":"IF($A403=0,\"\",Table2[[#This Row],[ELEMENT]])","v":""},{"$f":"IF($A403=0,\"\",Table2[[#This Row],[LG&TSL]])","v":""},{"$f":"IF($A403=0,\"\",Table2[[#This Row],[DFV]])","v":""},{"$f":"IF($A403=0,\"\",Table2[[#This Row],[60%-OTS]])","v":""},{"$f":"IF($A403=0,\"\",Table2[[#This Row],[75%]])","v":""},{"$f":"IF($A403=0,\"\",Table2[[#This Row],[Pre-Final PS&E]])","v":""},{"$f":"IF($A403=0,\"\",Table2[[#This Row],[Final PS&E]])","v":""},{"$f":"IF($A403=0,\"\",'LOD Matrix (DO NOT PRINT)'!M403)","v":""},{"$f":"IF($A403=0,\"\",'LOD Matrix (DO NOT PRINT)'!N403)","v":""},{"$f":"IF($A403=0,\"\",IF('LOD Matrix (DO NOT PRINT)'!P403=TRUE,\"Yes\",\"No\"))","v":""}]
[{"$f":"IF(B404=\"Yes\",Table2[[#This Row],[Break Level]],0)","v":0},{"$f":"Table2[[#This Row],[Yes/No]]","v":"No"},null,null,{"$f":"IF($A404=0,\"\",Table2[[#This Row],[PTC DISCIPLINE]])","v":""},{"$f":"IF($A404=0,\"\",Table2[[#This Row],[ELEMENT]])","v":""},{"$f":"IF($A404=0,\"\",Table2[[#This Row],[LG&TSL]])","v":""},{"$f":"IF($A404=0,\"\",Table2[[#This Row],[DFV]])","v":""},{"$f":"IF($A404=0,\"\",Table2[[#This Row],[60%-OTS]])","v":""},{"$f":"IF($A404=0,\"\",Table2[[#This Row],[75%]])","v":""},{"$f":"IF($A404=0,\"\",Table2[[#This Row],[Pre-Final PS&E]])","v":""},{"$f":"IF($A404=0,\"\",Table2[[#This Row],[Final PS&E]])","v":""},{"$f":"IF($A404=0,\"\",'LOD Matrix (DO NOT PRINT)'!M404)","v":""},{"$f":"IF($A404=0,\"\",'LOD Matrix (DO NOT PRINT)'!N404)","v":""},{"$f":"IF($A404=0,\"\",IF('LOD Matrix (DO NOT PRINT)'!P404=TRUE,\"Yes\",\"No\"))","v":""}]
[{"$f":"IF(B405=\"Yes\",Table2[[#This Row],[Break Level]],0)","v":0},{"$f":"Table2[[#This Row],[Yes/No]]","v":"No"},null,null,{"$f":"IF($A405=0,\"\",Table2[[#This Row],[PTC DISCIPLINE]])","v":""},{"$f":"IF($A405=0,\"\",Table2[[#This Row],[ELEMENT]])","v":""},{"$f":"IF($A405=0,\"\",Table2[[#This Row],[LG&TSL]])","v":""},{"$f":"IF($A405=0,\"\",Table2[[#This Row],[DFV]])","v":""},{"$f":"IF($A405=0,\"\",Table2[[#This Row],[60%-OTS]])","v":""},{"$f":"IF($A405=0,\"\",Table2[[#This Row],[75%]])","v":""},{"$f":"IF($A405=0,\"\",Table2[[#This Row],[Pre-Final PS&E]])","v":""},{"$f":"IF($A405=0,\"\",Table2[[#This Row],[Final PS&E]])","v":""},{"$f":"IF($A405=0,\"\",'LOD Matrix (DO NOT PRINT)'!M405)","v":""},{"$f":"IF($A405=0,\"\",'LOD Matrix (DO NOT PRINT)'!N405)","v":""},{"$f":"IF($A405=0,\"\",IF('LOD Matrix (DO NOT PRINT)'!P405=TRUE,\"Yes\",\"No\"))","v":""}]
[{"$f":"IF(B406=\"Yes\",Table2[[#This Row],[Break Level]],0)","v":0},{"$f":"Table2[[#This Row],[Yes/No]]","v":"No"},null,null,{"$f":"IF($A406=0,\"\",Table2[[#This Row],[PTC DISCIPLINE]])","v":""},{"$f":"IF($A406=0,\"\",Table2[[#This Row],[ELEMENT]])","v":""},{"$f":"IF($A406=0,\"\",Table2[[#This Row],[LG&TSL]])","v":""},{"$f":"IF($A406=0,\"\",Table2[[#This Row],[DFV]])","v":""},{"$f":"IF($A406=0,\"\",Table2[[#This Row],[60%-OTS]])","v":""},{"$f":"IF($A406=0,\"\",Table2[[#This Row],[75%]])","v":""},{"$f":"IF($A406=0,\"\",Table2[[#This Row],[Pre-Final PS&E]])","v":""},{"$f":"IF($A406=0,\"\",Table2[[#This Row],[Final PS&E]])","v":""},{"$f":"IF($A406=0,\"\",'LOD Matrix (DO NOT PRINT)'!M406)","v":""},{"$f":"IF($A406=0,\"\",'LOD Matrix (DO NOT PRINT)'!N406)","v":""},{"$f":"IF($A406=0,\"\",IF('LOD Matrix (DO NOT PRINT)'!P406=TRUE,\"Yes\",\"No\"))","v":""}]
[{"$f":"IF(B407=\"Yes\",Table2[[#This Row],[Break Level]],0)","v":0},{"$f":"Table2[[#This Row],[Yes/No]]","v":"No"},null,null,{"$f":"IF($A407=0,\"\",Table2[[#This Row],[PTC DISCIPLINE]])","v":""},{"$f":"IF($A407=0,\"\",Table2[[#This Row],[ELEMENT]])","v":""},{"$f":"IF($A407=0,\"\",Table2[[#This Row],[LG&TSL]])","v":""},{"$f":"IF($A407=0,\"\",Table2[[#This Row],[DFV]])","v":""},{"$f":"IF($A407=0,\"\",Table2[[#This Row],[60%-OTS]])","v":""},{"$f":"IF($A407=0,\"\",Table2[[#This Row],[75%]])","v":""},{"$f":"IF($A407=0,\"\",Table2[[#This Row],[Pre-Final PS&E]])","v":""},{"$f":"IF($A407=0,\"\",Table2[[#This Row],[Final PS&E]])","v":""},{"$f":"IF($A407=0,\"\",'LOD Matrix (DO NOT PRINT)'!M407)","v":""},{"$f":"IF($A407=0,\"\",'LOD Matrix (DO NOT PRINT)'!N407)","v":""},{"$f":"IF($A407=0,\"\",IF('LOD Matrix (DO NOT PRINT)'!P407=TRUE,\"Yes\",\"No\"))","v":""}]
[{"$f":"IF(B408=\"Yes\",Table2[[#This Row],[Break Level]],0)","v":0},{"$f":"Table2[[#This Row],[Yes/No]]","v":"No"},null,null,{"$f":"IF($A408=0,\"\",Table2[[#This Row],[PTC DISCIPLINE]])","v":""},{"$f":"IF($A408=0,\"\",Table2[[#This Row],[ELEMENT]])","v":""},{"$f":"IF($A408=0,\"\",Table2[[#This Row],[LG&TSL]])","v":""},{"$f":"IF($A408=0,\"\",Table2[[#This Row],[DFV]])","v":""},{"$f":"IF($A408=0,\"\",Table2[[#This Row],[60%-OTS]])","v":""},{"$f":"IF($A408=0,\"\",Table2[[#This Row],[75%]])","v":""},{"$f":"IF($A408=0,\"\",Table2[[#This Row],[Pre-Final PS&E]])","v":""},{"$f":"IF($A408=0,\"\",Table2[[#This Row],[Final PS&E]])","v":""},{"$f":"IF($A408=0,\"\",'LOD Matrix (DO NOT PRINT)'!M408)","v":""},{"$f":"IF($A408=0,\"\",'LOD Matrix (DO NOT PRINT)'!N408)","v":""},{"$f":"IF($A408=0,\"\",IF('LOD Matrix (DO NOT PRINT)'!P408=TRUE,\"Yes\",\"No\"))","v":""}]
[{"$f":"IF(B409=\"Yes\",Table2[[#This Row],[Break Level]],0)","v":0},{"$f":"Table2[[#This Row],[Yes/No]]","v":"No"},null,null,{"$f":"IF($A409=0,\"\",Table2[[#This Row],[PTC DISCIPLINE]])","v":""},{"$f":"IF($A409=0,\"\",Table2[[#This Row],[ELEMENT]])","v":""},{"$f":"IF($A409=0,\"\",Table2[[#This Row],[LG&TSL]])","v":""},{"$f":"IF($A409=0,\"\",Table2[[#This Row],[DFV]])","v":""},{"$f":"IF($A409=0,\"\",Table2[[#This Row],[60%-OTS]])","v":""},{"$f":"IF($A409=0,\"\",Table2[[#This Row],[75%]])","v":""},{"$f":"IF($A409=0,\"\",Table2[[#This Row],[Pre-Final PS&E]])","v":""},{"$f":"IF($A409=0,\"\",Table2[[#This Row],[Final PS&E]])","v":""},{"$f":"IF($A409=0,\"\",'LOD Matrix (DO NOT PRINT)'!M409)","v":""},{"$f":"IF($A409=0,\"\",'LOD Matrix (DO NOT PRINT)'!N409)","v":""},{"$f":"IF($A409=0,\"\",IF('LOD Matrix (DO NOT PRINT)'!P409=TRUE,\"Yes\",\"No\"))","v":""}]
[{"$f":"IF(B410=\"Yes\",Table2[[#This Row],[Break Level]],0)","v":0},{"$f":"Table2[[#This Row],[Yes/No]]","v":"No"},null,null,{"$f":"IF($A410=0,\"\",Table2[[#This Row],[PTC DISCIPLINE]])","v":""},{"$f":"IF($A410=0,\"\",Table2[[#This Row],[ELEMENT]])","v":""},{"$f":"IF($A410=0,\"\",Table2[[#This Row],[LG&TSL]])","v":""},{"$f":"IF($A410=0,\"\",Table2[[#This Row],[DFV]])","v":""},{"$f":"IF($A410=0,\"\",Table2[[#This Row],[60%-OTS]])","v":""},{"$f":"IF($A410=0,\"\",Table2[[#This Row],[75%]])","v":""},{"$f":"IF($A410=0,\"\",Table2[[#This Row],[Pre-Final PS&E]])","v":""},{"$f":"IF($A410=0,\"\",Table2[[#This Row],[Final PS&E]])","v":""},{"$f":"IF($A410=0,\"\",'LOD Matrix (DO NOT PRINT)'!M410)","v":""},{"$f":"IF($A410=0,\"\",'LOD Matrix (DO NOT PRINT)'!N410)","v":""},{"$f":"IF($A410=0,\"\",IF('LOD Matrix (DO NOT PRINT)'!P410=TRUE,\"Yes\",\"No\"))","v":""}]
[{"$f":"IF(B411=\"Yes\",Table2[[#This Row],[Break Level]],0)","v":0},{"$f":"Table2[[#This Row],[Yes/No]]","v":"No"},null,null,{"$f":"IF($A411=0,\"\",Table2[[#This Row],[PTC DISCIPLINE]])","v":""},{"$f":"IF($A411=0,\"\",Table2[[#This Row],[ELEMENT]])","v":""},{"$f":"IF($A411=0,\"\",Table2[[#This Row],[LG&TSL]])","v":""},{"$f":"IF($A411=0,\"\",Table2[[#This Row],[DFV]])","v":""},{"$f":"IF($A411=0,\"\",Table2[[#This Row],[60%-OTS]])","v":""},{"$f":"IF($A411=0,\"\",Table2[[#This Row],[75%]])","v":""},{"$f":"IF($A411=0,\"\",Table2[[#This Row],[Pre-Final PS&E]])","v":""},{"$f":"IF($A411=0,\"\",Table2[[#This Row],[Final PS&E]])","v":""},{"$f":"IF($A411=0,\"\",'LOD Matrix (DO NOT PRINT)'!M411)","v":""},{"$f":"IF($A411=0,\"\",'LOD Matrix (DO NOT PRINT)'!N411)","v":""},{"$f":"IF($A411=0,\"\",IF('LOD Matrix (DO NOT PRINT)'!P411=TRUE,\"Yes\",\"No\"))","v":""}]
[{"$f":"IF(B412=\"Yes\",Table2[[#This Row],[Break Level]],0)","v":0},{"$f":"Table2[[#This Row],[Yes/No]]","v":"No"},null,null,{"$f":"IF($A412=0,\"\",Table2[[#This Row],[PTC DISCIPLINE]])","v":""},{"$f":"IF($A412=0,\"\",Table2[[#This Row],[ELEMENT]])","v":""},{"$f":"IF($A412=0,\"\",Table2[[#This Row],[LG&TSL]])","v":""},{"$f":"IF($A412=0,\"\",Table2[[#This Row],[DFV]])","v":""},{"$f":"IF($A412=0,\"\",Table2[[#This Row],[60%-OTS]])","v":""},{"$f":"IF($A412=0,\"\",Table2[[#This Row],[75%]])","v":""},{"$f":"IF($A412=0,\"\",Table2[[#This Row],[Pre-Final PS&E]])","v":""},{"$f":"IF($A412=0,\"\",Table2[[#This Row],[Final PS&E]])","v":""},{"$f":"IF($A412=0,\"\",'LOD Matrix (DO NOT PRINT)'!M412)","v":""},{"$f":"IF($A412=0,\"\",'LOD Matrix (DO NOT PRINT)'!N412)","v":""},{"$f":"IF($A412=0,\"\",IF('LOD Matrix (DO NOT PRINT)'!P412=TRUE,\"Yes\",\"No\"))","v":""}]
[{"$f":"IF(B413=\"Yes\",Table2[[#This Row],[Break Level]],0)","v":0},{"$f":"Table2[[#This Row],[Yes/No]]","v":"No"},null,null,{"$f":"IF($A413=0,\"\",Table2[[#This Row],[PTC DISCIPLINE]])","v":""},{"$f":"IF($A413=0,\"\",Table2[[#This Row],[ELEMENT]])","v":""},{"$f":"IF($A413=0,\"\",Table2[[#This Row],[LG&TSL]])","v":""},{"$f":"IF($A413=0,\"\",Table2[[#This Row],[DFV]])","v":""},{"$f":"IF($A413=0,\"\",Table2[[#This Row],[60%-OTS]])","v":""},{"$f":"IF($A413=0,\"\",Table2[[#This Row],[75%]])","v":""},{"$f":"IF($A413=0,\"\",Table2[[#This Row],[Pre-Final PS&E]])","v":""},{"$f":"IF($A413=0,\"\",Table2[[#This Row],[Final PS&E]])","v":""},{"$f":"IF($A413=0,\"\",'LOD Matrix (DO NOT PRINT)'!M413)","v":""},{"$f":"IF($A413=0,\"\",'LOD Matrix (DO NOT PRINT)'!N413)","v":""},{"$f":"IF($A413=0,\"\",IF('LOD Matrix (DO NOT PRINT)'!P413=TRUE,\"Yes\",\"No\"))","v":""}]
[{"$f":"IF(B414=\"Yes\",Table2[[#This Row],[Break Level]],0)","v":0},{"$f":"Table2[[#This Row],[Yes/No]]","v":"No"},null,null,{"$f":"IF($A414=0,\"\",Table2[[#This Row],[PTC DISCIPLINE]])","v":""},{"$f":"IF($A414=0,\"\",Table2[[#This Row],[ELEMENT]])","v":""},{"$f":"IF($A414=0,\"\",Table2[[#This Row],[LG&TSL]])","v":""},{"$f":"IF($A414=0,\"\",Table2[[#This Row],[DFV]])","v":""},{"$f":"IF($A414=0,\"\",Table2[[#This Row],[60%-OTS]])","v":""},{"$f":"IF($A414=0,\"\",Table2[[#This Row],[75%]])","v":""},{"$f":"IF($A414=0,\"\",Table2[[#This Row],[Pre-Final PS&E]])","v":""},{"$f":"IF($A414=0,\"\",Table2[[#This Row],[Final PS&E]])","v":""},{"$f":"IF($A414=0,\"\",'LOD Matrix (DO NOT PRINT)'!M414)","v":""},{"$f":"IF($A414=0,\"\",'LOD Matrix (DO NOT PRINT)'!N414)","v":""},{"$f":"IF($A414=0,\"\",IF('LOD Matrix (DO NOT PRINT)'!P414=TRUE,\"Yes\",\"No\"))","v":""}]
[{"$f":"IF(B415=\"Yes\",Table2[[#This Row],[Break Level]],0)","v":0},{"$f":"Table2[[#This Row],[Yes/No]]","v":"No"},null,null,{"$f":"IF($A415=0,\"\",Table2[[#This Row],[PTC DISCIPLINE]])","v":""},{"$f":"IF($A415=0,\"\",Table2[[#This Row],[ELEMENT]])","v":""},{"$f":"IF($A415=0,\"\",Table2[[#This Row],[LG&TSL]])","v":""},{"$f":"IF($A415=0,\"\",Table2[[#This Row],[DFV]])","v":""},{"$f":"IF($A415=0,\"\",Table2[[#This Row],[60%-OTS]])","v":""},{"$f":"IF($A415=0,\"\",Table2[[#This Row],[75%]])","v":""},{"$f":"IF($A415=0,\"\",Table2[[#This Row],[Pre-Final PS&E]])","v":""},{"$f":"IF($A415=0,\"\",Table2[[#This Row],[Final PS&E]])","v":""},{"$f":"IF($A415=0,\"\",'LOD Matrix (DO NOT PRINT)'!M415)","v":""},{"$f":"IF($A415=0,\"\",'LOD Matrix (DO NOT PRINT)'!N415)","v":""},{"$f":"IF($A415=0,\"\",IF('LOD Matrix (DO NOT PRINT)'!P415=TRUE,\"Yes\",\"No\"))","v":""}]
[{"$f":"IF(B416=\"Yes\",Table2[[#This Row],[Break Level]],0)","v":0},{"$f":"Table2[[#This Row],[Yes/No]]","v":"No"},null,null,{"$f":"IF($A416=0,\"\",Table2[[#This Row],[PTC DISCIPLINE]])","v":""},{"$f":"IF($A416=0,\"\",Table2[[#This Row],[ELEMENT]])","v":""},{"$f":"IF($A416=0,\"\",Table2[[#This Row],[LG&TSL]])","v":""},{"$f":"IF($A416=0,\"\",Table2[[#This Row],[DFV]])","v":""},{"$f":"IF($A416=0,\"\",Table2[[#This Row],[60%-OTS]])","v":""},{"$f":"IF($A416=0,\"\",Table2[[#This Row],[75%]])","v":""},{"$f":"IF($A416=0,\"\",Table2[[#This Row],[Pre-Final PS&E]])","v":""},{"$f":"IF($A416=0,\"\",Table2[[#This Row],[Final PS&E]])","v":""},{"$f":"IF($A416=0,\"\",'LOD Matrix (DO NOT PRINT)'!M416)","v":""},{"$f":"IF($A416=0,\"\",'LOD Matrix (DO NOT PRINT)'!N416)","v":""},{"$f":"IF($A416=0,\"\",IF('LOD Matrix (DO NOT PRINT)'!P416=TRUE,\"Yes\",\"No\"))","v":""}]
[{"$f":"IF(B417=\"Yes\",Table2[[#This Row],[Break Level]],0)","v":0},{"$f":"Table2[[#This Row],[Yes/No]]","v":"No"},null,null,{"$f":"IF($A417=0,\"\",Table2[[#This Row],[PTC DISCIPLINE]])","v":""},{"$f":"IF($A417=0,\"\",Table2[[#This Row],[ELEMENT]])","v":""},{"$f":"IF($A417=0,\"\",Table2[[#This Row],[LG&TSL]])","v":""},{"$f":"IF($A417=0,\"\",Table2[[#This Row],[DFV]])","v":""},{"$f":"IF($A417=0,\"\",Table2[[#This Row],[60%-OTS]])","v":""},{"$f":"IF($A417=0,\"\",Table2[[#This Row],[75%]])","v":""},{"$f":"IF($A417=0,\"\",Table2[[#This Row],[Pre-Final PS&E]])","v":""},{"$f":"IF($A417=0,\"\",Table2[[#This Row],[Final PS&E]])","v":""},{"$f":"IF($A417=0,\"\",'LOD Matrix (DO NOT PRINT)'!M417)","v":""},{"$f":"IF($A417=0,\"\",'LOD Matrix (DO NOT PRINT)'!N417)","v":""},{"$f":"IF($A417=0,\"\",IF('LOD Matrix (DO NOT PRINT)'!P417=TRUE,\"Yes\",\"No\"))","v":""}]
[{"$f":"IF(B418=\"Yes\",Table2[[#This Row],[Break Level]],0)","v":0},{"$f":"Table2[[#This Row],[Yes/No]]","v":"No"},null,null,{"$f":"IF($A418=0,\"\",Table2[[#This Row],[PTC DISCIPLINE]])","v":""},{"$f":"IF($A418=0,\"\",Table2[[#This Row],[ELEMENT]])","v":""},{"$f":"IF($A418=0,\"\",Table2[[#This Row],[LG&TSL]])","v":""},{"$f":"IF($A418=0,\"\",Table2[[#This Row],[DFV]])","v":""},{"$f":"IF($A418=0,\"\",Table2[[#This Row],[60%-OTS]])","v":""},{"$f":"IF($A418=0,\"\",Table2[[#This Row],[75%]])","v":""},{"$f":"IF($A418=0,\"\",Table2[[#This Row],[Pre-Final PS&E]])","v":""},{"$f":"IF($A418=0,\"\",Table2[[#This Row],[Final PS&E]])","v":""},{"$f":"IF($A418=0,\"\",'LOD Matrix (DO NOT PRINT)'!M418)","v":""},{"$f":"IF($A418=0,\"\",'LOD Matrix (DO NOT PRINT)'!N418)","v":""},{"$f":"IF($A418=0,\"\",IF('LOD Matrix (DO NOT PRINT)'!P418=TRUE,\"Yes\",\"No\"))","v":""}]
[{"$f":"IF(B419=\"Yes\",Table2[[#This Row],[Break Level]],0)","v":0},{"$f":"Table2[[#This Row],[Yes/No]]","v":"No"},null,null,{"$f":"IF($A419=0,\"\",Table2[[#This Row],[PTC DISCIPLINE]])","v":""},{"$f":"IF($A419=0,\"\",Table2[[#This Row],[ELEMENT]])","v":""},{"$f":"IF($A419=0,\"\",Table2[[#This Row],[LG&TSL]])","v":""},{"$f":"IF($A419=0,\"\",Table2[[#This Row],[DFV]])","v":""},{"$f":"IF($A419=0,\"\",Table2[[#This Row],[60%-OTS]])","v":""},{"$f":"IF($A419=0,\"\",Table2[[#This Row],[75%]])","v":""},{"$f":"IF($A419=0,\"\",Table2[[#This Row],[Pre-Final PS&E]])","v":""},{"$f":"IF($A419=0,\"\",Table2[[#This Row],[Final PS&E]])","v":""},{"$f":"IF($A419=0,\"\",'LOD Matrix (DO NOT PRINT)'!M419)","v":""},{"$f":"IF($A419=0,\"\",'LOD Matrix (DO NOT PRINT)'!N419)","v":""},{"$f":"IF($A419=0,\"\",IF('LOD Matrix (DO NOT PRINT)'!P419=TRUE,\"Yes\",\"No\"))","v":""}]
[{"$f":"IF(B420=\"Yes\",Table2[[#This Row],[Break Level]],0)","v":0},{"$f":"Table2[[#This Row],[Yes/No]]","v":"No"},null,null,{"$f":"IF($A420=0,\"\",Table2[[#This Row],[PTC DISCIPLINE]])","v":""},{"$f":"IF($A420=0,\"\",Table2[[#This Row],[ELEMENT]])","v":""},{"$f":"IF($A420=0,\"\",Table2[[#This Row],[LG&TSL]])","v":""},{"$f":"IF($A420=0,\"\",Table2[[#This Row],[DFV]])","v":""},{"$f":"IF($A420=0,\"\",Table2[[#This Row],[60%-OTS]])","v":""},{"$f":"IF($A420=0,\"\",Table2[[#This Row],[75%]])","v":""},{"$f":"IF($A420=0,\"\",Table2[[#This Row],[Pre-Final PS&E]])","v":""},{"$f":"IF($A420=0,\"\",Table2[[#This Row],[Final PS&E]])","v":""},{"$f":"IF($A420=0,\"\",'LOD Matrix (DO NOT PRINT)'!M420)","v":""},{"$f":"IF($A420=0,\"\",'LOD Matrix (DO NOT PRINT)'!N420)","v":""},{"$f":"IF($A420=0,\"\",IF('LOD Matrix (DO NOT PRINT)'!P420=TRUE,\"Yes\",\"No\"))","v":""}]
[{"$f":"IF(B421=\"Yes\",Table2[[#This Row],[Break Level]],0)","v":0},{"$f":"Table2[[#This Row],[Yes/No]]","v":"No"},null,null,{"$f":"IF($A421=0,\"\",Table2[[#This Row],[PTC DISCIPLINE]])","v":""},{"$f":"IF($A421=0,\"\",Table2[[#This Row],[ELEMENT]])","v":""},{"$f":"IF($A421=0,\"\",Table2[[#This Row],[LG&TSL]])","v":""},{"$f":"IF($A421=0,\"\",Table2[[#This Row],[DFV]])","v":""},{"$f":"IF($A421=0,\"\",Table2[[#This Row],[60%-OTS]])","v":""},{"$f":"IF($A421=0,\"\",Table2[[#This Row],[75%]])","v":""},{"$f":"IF($A421=0,\"\",Table2[[#This Row],[Pre-Final PS&E]])","v":""},{"$f":"IF($A421=0,\"\",Table2[[#This Row],[Final PS&E]])","v":""},{"$f":"IF($A421=0,\"\",'LOD Matrix (DO NOT PRINT)'!M421)","v":""},{"$f":"IF($A421=0,\"\",'LOD Matrix (DO NOT PRINT)'!N421)","v":""},{"$f":"IF($A421=0,\"\",IF('LOD Matrix (DO NOT PRINT)'!P421=TRUE,\"Yes\",\"No\"))","v":""}]
[{"$f":"IF(B422=\"Yes\",Table2[[#This Row],[Break Level]],0)","v":0},{"$f":"Table2[[#This Row],[Yes/No]]","v":"No"},null,null,{"$f":"IF($A422=0,\"\",Table2[[#This Row],[PTC DISCIPLINE]])","v":""},{"$f":"IF($A422=0,\"\",Table2[[#This Row],[ELEMENT]])","v":""},{"$f":"IF($A422=0,\"\",Table2[[#This Row],[LG&TSL]])","v":""},{"$f":"IF($A422=0,\"\",Table2[[#This Row],[DFV]])","v":""},{"$f":"IF($A422=0,\"\",Table2[[#This Row],[60%-OTS]])","v":""},{"$f":"IF($A422=0,\"\",Table2[[#This Row],[75%]])","v":""},{"$f":"IF($A422=0,\"\",Table2[[#This Row],[Pre-Final PS&E]])","v":""},{"$f":"IF($A422=0,\"\",Table2[[#This Row],[Final PS&E]])","v":""},{"$f":"IF($A422=0,\"\",'LOD Matrix (DO NOT PRINT)'!M422)","v":""},{"$f":"IF($A422=0,\"\",'LOD Matrix (DO NOT PRINT)'!N422)","v":""},{"$f":"IF($A422=0,\"\",IF('LOD Matrix (DO NOT PRINT)'!P422=TRUE,\"Yes\",\"No\"))","v":""}]
[{"$f":"IF(B423=\"Yes\",Table2[[#This Row],[Break Level]],0)","v":0},{"$f":"Table2[[#This Row],[Yes/No]]","v":"No"},null,null,{"$f":"IF($A423=0,\"\",Table2[[#This Row],[PTC DISCIPLINE]])","v":""},{"$f":"IF($A423=0,\"\",Table2[[#This Row],[ELEMENT]])","v":""},{"$f":"IF($A423=0,\"\",Table2[[#This Row],[LG&TSL]])","v":""},{"$f":"IF($A423=0,\"\",Table2[[#This Row],[DFV]])","v":""},{"$f":"IF($A423=0,\"\",Table2[[#This Row],[60%-OTS]])","v":""},{"$f":"IF($A423=0,\"\",Table2[[#This Row],[75%]])","v":""},{"$f":"IF($A423=0,\"\",Table2[[#This Row],[Pre-Final PS&E]])","v":""},{"$f":"IF($A423=0,\"\",Table2[[#This Row],[Final PS&E]])","v":""},{"$f":"IF($A423=0,\"\",'LOD Matrix (DO NOT PRINT)'!M423)","v":""},{"$f":"IF($A423=0,\"\",'LOD Matrix (DO NOT PRINT)'!N423)","v":""},{"$f":"IF($A423=0,\"\",IF('LOD Matrix (DO NOT PRINT)'!P423=TRUE,\"Yes\",\"No\"))","v":""}]
[{"$f":"IF(B424=\"Yes\",Table2[[#This Row],[Break Level]],0)","v":0},{"$f":"Table2[[#This Row],[Yes/No]]","v":"No"},null,null,{"$f":"IF($A424=0,\"\",Table2[[#This Row],[PTC DISCIPLINE]])","v":""},{"$f":"IF($A424=0,\"\",Table2[[#This Row],[ELEMENT]])","v":""},{"$f":"IF($A424=0,\"\",Table2[[#This Row],[LG&TSL]])","v":""},{"$f":"IF($A424=0,\"\",Table2[[#This Row],[DFV]])","v":""},{"$f":"IF($A424=0,\"\",Table2[[#This Row],[60%-OTS]])","v":""},{"$f":"IF($A424=0,\"\",Table2[[#This Row],[75%]])","v":""},{"$f":"IF($A424=0,\"\",Table2[[#This Row],[Pre-Final PS&E]])","v":""},{"$f":"IF($A424=0,\"\",Table2[[#This Row],[Final PS&E]])","v":""},{"$f":"IF($A424=0,\"\",'LOD Matrix (DO NOT PRINT)'!M424)","v":""},{"$f":"IF($A424=0,\"\",'LOD Matrix (DO NOT PRINT)'!N424)","v":""},{"$f":"IF($A424=0,\"\",IF('LOD Matrix (DO NOT PRINT)'!P424=TRUE,\"Yes\",\"No\"))","v":""}]
[{"$f":"IF(B425=\"Yes\",Table2[[#This Row],[Break Level]],0)","v":0},{"$f":"Table2[[#This Row],[Yes/No]]","v":"No"},null,null,{"$f":"IF($A425=0,\"\",Table2[[#This Row],[PTC DISCIPLINE]])","v":""},{"$f":"IF($A425=0,\"\",Table2[[#This Row],[ELEMENT]])","v":""},{"$f":"IF($A425=0,\"\",Table2[[#This Row],[LG&TSL]])","v":""},{"$f":"IF($A425=0,\"\",Table2[[#This Row],[DFV]])","v":""},{"$f":"IF($A425=0,\"\",Table2[[#This Row],[60%-OTS]])","v":""},{"$f":"IF($A425=0,\"\",Table2[[#This Row],[75%]])","v":""},{"$f":"IF($A425=0,\"\",Table2[[#This Row],[Pre-Final PS&E]])","v":""},{"$f":"IF($A425=0,\"\",Table2[[#This Row],[Final PS&E]])","v":""},{"$f":"IF($A425=0,\"\",'LOD Matrix (DO NOT PRINT)'!M425)","v":""},{"$f":"IF($A425=0,\"\",'LOD Matrix (DO NOT PRINT)'!N425)","v":""},{"$f":"IF($A425=0,\"\",IF('LOD Matrix (DO NOT PRINT)'!P425=TRUE,\"Yes\",\"No\"))","v":""}]
[{"$f":"IF(B426=\"Yes\",Table2[[#This Row],[Break Level]],0)","v":0},{"$f":"Table2[[#This Row],[Yes/No]]","v":"No"},null,null,{"$f":"IF($A426=0,\"\",Table2[[#This Row],[PTC DISCIPLINE]])","v":""},{"$f":"IF($A426=0,\"\",Table2[[#This Row],[ELEMENT]])","v":""},{"$f":"IF($A426=0,\"\",Table2[[#This Row],[LG&TSL]])","v":""},{"$f":"IF($A426=0,\"\",Table2[[#This Row],[DFV]])","v":""},{"$f":"IF($A426=0,\"\",Table2[[#This Row],[60%-OTS]])","v":""},{"$f":"IF($A426=0,\"\",Table2[[#This Row],[75%]])","v":""},{"$f":"IF($A426=0,\"\",Table2[[#This Row],[Pre-Final PS&E]])","v":""},{"$f":"IF($A426=0,\"\",Table2[[#This Row],[Final PS&E]])","v":""},{"$f":"IF($A426=0,\"\",'LOD Matrix (DO NOT PRINT)'!M426)","v":""},{"$f":"IF($A426=0,\"\",'LOD Matrix (DO NOT PRINT)'!N426)","v":""},{"$f":"IF($A426=0,\"\",IF('LOD Matrix (DO NOT PRINT)'!P426=TRUE,\"Yes\",\"No\"))","v":""}]
[{"$f":"IF(B427=\"Yes\",Table2[[#This Row],[Break Level]],0)","v":0},{"$f":"Table2[[#This Row],[Yes/No]]","v":"No"},null,null,{"$f":"IF($A427=0,\"\",Table2[[#This Row],[PTC DISCIPLINE]])","v":""},{"$f":"IF($A427=0,\"\",Table2[[#This Row],[ELEMENT]])","v":""},{"$f":"IF($A427=0,\"\",Table2[[#This Row],[LG&TSL]])","v":""},{"$f":"IF($A427=0,\"\",Table2[[#This Row],[DFV]])","v":""},{"$f":"IF($A427=0,\"\",Table2[[#This Row],[60%-OTS]])","v":""},{"$f":"IF($A427=0,\"\",Table2[[#This Row],[75%]])","v":""},{"$f":"IF($A427=0,\"\",Table2[[#This Row],[Pre-Final PS&E]])","v":""},{"$f":"IF($A427=0,\"\",Table2[[#This Row],[Final PS&E]])","v":""},{"$f":"IF($A427=0,\"\",'LOD Matrix (DO NOT PRINT)'!M427)","v":""},{"$f":"IF($A427=0,\"\",'LOD Matrix (DO NOT PRINT)'!N427)","v":""},{"$f":"IF($A427=0,\"\",IF('LOD Matrix (DO NOT PRINT)'!P427=TRUE,\"Yes\",\"No\"))","v":""}]
[{"$f":"IF(B428=\"Yes\",Table2[[#This Row],[Break Level]],0)","v":0},{"$f":"Table2[[#This Row],[Yes/No]]","v":"No"},null,null,{"$f":"IF($A428=0,\"\",Table2[[#This Row],[PTC DISCIPLINE]])","v":""},{"$f":"IF($A428=0,\"\",Table2[[#This Row],[ELEMENT]])","v":""},{"$f":"IF($A428=0,\"\",Table2[[#This Row],[LG&TSL]])","v":""},{"$f":"IF($A428=0,\"\",Table2[[#This Row],[DFV]])","v":""},{"$f":"IF($A428=0,\"\",Table2[[#This Row],[60%-OTS]])","v":""},{"$f":"IF($A428=0,\"\",Table2[[#This Row],[75%]])","v":""},{"$f":"IF($A428=0,\"\",Table2[[#This Row],[Pre-Final PS&E]])","v":""},{"$f":"IF($A428=0,\"\",Table2[[#This Row],[Final PS&E]])","v":""},{"$f":"IF($A428=0,\"\",'LOD Matrix (DO NOT PRINT)'!M428)","v":""},{"$f":"IF($A428=0,\"\",'LOD Matrix (DO NOT PRINT)'!N428)","v":""},{"$f":"IF($A428=0,\"\",IF('LOD Matrix (DO NOT PRINT)'!P428=TRUE,\"Yes\",\"No\"))","v":""}]
[{"$f":"IF(B429=\"Yes\",Table2[[#This Row],[Break Level]],0)","v":0},{"$f":"Table2[[#This Row],[Yes/No]]","v":"No"},null,null,{"$f":"IF($A429=0,\"\",Table2[[#This Row],[PTC DISCIPLINE]])","v":""},{"$f":"IF($A429=0,\"\",Table2[[#This Row],[ELEMENT]])","v":""},{"$f":"IF($A429=0,\"\",Table2[[#This Row],[LG&TSL]])","v":""},{"$f":"IF($A429=0,\"\",Table2[[#This Row],[DFV]])","v":""},{"$f":"IF($A429=0,\"\",Table2[[#This Row],[60%-OTS]])","v":""},{"$f":"IF($A429=0,\"\",Table2[[#This Row],[75%]])","v":""},{"$f":"IF($A429=0,\"\",Table2[[#This Row],[Pre-Final PS&E]])","v":""},{"$f":"IF($A429=0,\"\",Table2[[#This Row],[Final PS&E]])","v":""},{"$f":"IF($A429=0,\"\",'LOD Matrix (DO NOT PRINT)'!M429)","v":""},{"$f":"IF($A429=0,\"\",'LOD Matrix (DO NOT PRINT)'!N429)","v":""},{"$f":"IF($A429=0,\"\",IF('LOD Matrix (DO NOT PRINT)'!P429=TRUE,\"Yes\",\"No\"))","v":""}]
[{"$f":"IF(B430=\"Yes\",Table2[[#This Row],[Break Level]],0)","v":0},{"$f":"Table2[[#This Row],[Yes/No]]","v":"No"},null,null,{"$f":"IF($A430=0,\"\",Table2[[#This Row],[PTC DISCIPLINE]])","v":""},{"$f":"IF($A430=0,\"\",Table2[[#This Row],[ELEMENT]])","v":""},{"$f":"IF($A430=0,\"\",Table2[[#This Row],[LG&TSL]])","v":""},{"$f":"IF($A430=0,\"\",Table2[[#This Row],[DFV]])","v":""},{"$f":"IF($A430=0,\"\",Table2[[#This Row],[60%-OTS]])","v":""},{"$f":"IF($A430=0,\"\",Table2[[#This Row],[75%]])","v":""},{"$f":"IF($A430=0,\"\",Table2[[#This Row],[Pre-Final PS&E]])","v":""},{"$f":"IF($A430=0,\"\",Table2[[#This Row],[Final PS&E]])","v":""},{"$f":"IF($A430=0,\"\",'LOD Matrix (DO NOT PRINT)'!M430)","v":""},{"$f":"IF($A430=0,\"\",'LOD Matrix (DO NOT PRINT)'!N430)","v":""},{"$f":"IF($A430=0,\"\",IF('LOD Matrix (DO NOT PRINT)'!P430=TRUE,\"Yes\",\"No\"))","v":""}]
[{"$f":"IF(B431=\"Yes\",Table2[[#This Row],[Break Level]],0)","v":0},{"$f":"Table2[[#This Row],[Yes/No]]","v":"No"},null,null,{"$f":"IF($A431=0,\"\",Table2[[#This Row],[PTC DISCIPLINE]])","v":""},{"$f":"IF($A431=0,\"\",Table2[[#This Row],[ELEMENT]])","v":""},{"$f":"IF($A431=0,\"\",Table2[[#This Row],[LG&TSL]])","v":""},{"$f":"IF($A431=0,\"\",Table2[[#This Row],[DFV]])","v":""},{"$f":"IF($A431=0,\"\",Table2[[#This Row],[60%-OTS]])","v":""},{"$f":"IF($A431=0,\"\",Table2[[#This Row],[75%]])","v":""},{"$f":"IF($A431=0,\"\",Table2[[#This Row],[Pre-Final PS&E]])","v":""},{"$f":"IF($A431=0,\"\",Table2[[#This Row],[Final PS&E]])","v":""},{"$f":"IF($A431=0,\"\",'LOD Matrix (DO NOT PRINT)'!M431)","v":""},{"$f":"IF($A431=0,\"\",'LOD Matrix (DO NOT PRINT)'!N431)","v":""},{"$f":"IF($A431=0,\"\",IF('LOD Matrix (DO NOT PRINT)'!P431=TRUE,\"Yes\",\"No\"))","v":""}]
[{"$f":"IF(B432=\"Yes\",Table2[[#This Row],[Break Level]],0)","v":0},{"$f":"Table2[[#This Row],[Yes/No]]","v":"No"},null,null,{"$f":"IF($A432=0,\"\",Table2[[#This Row],[PTC DISCIPLINE]])","v":""},{"$f":"IF($A432=0,\"\",Table2[[#This Row],[ELEMENT]])","v":""},{"$f":"IF($A432=0,\"\",Table2[[#This Row],[LG&TSL]])","v":""},{"$f":"IF($A432=0,\"\",Table2[[#This Row],[DFV]])","v":""},{"$f":"IF($A432=0,\"\",Table2[[#This Row],[60%-OTS]])","v":""},{"$f":"IF($A432=0,\"\",Table2[[#This Row],[75%]])","v":""},{"$f":"IF($A432=0,\"\",Table2[[#This Row],[Pre-Final PS&E]])","v":""},{"$f":"IF($A432=0,\"\",Table2[[#This Row],[Final PS&E]])","v":""},{"$f":"IF($A432=0,\"\",'LOD Matrix (DO NOT PRINT)'!M432)","v":""},{"$f":"IF($A432=0,\"\",'LOD Matrix (DO NOT PRINT)'!N432)","v":""},{"$f":"IF($A432=0,\"\",IF('LOD Matrix (DO NOT PRINT)'!P432=TRUE,\"Yes\",\"No\"))","v":""}]
[{"$f":"IF(B433=\"Yes\",Table2[[#This Row],[Break Level]],0)","v":0},{"$f":"Table2[[#This Row],[Yes/No]]","v":"No"},null,null,{"$f":"IF($A433=0,\"\",Table2[[#This Row],[PTC DISCIPLINE]])","v":""},{"$f":"IF($A433=0,\"\",Table2[[#This Row],[ELEMENT]])","v":""},{"$f":"IF($A433=0,\"\",Table2[[#This Row],[LG&TSL]])","v":""},{"$f":"IF($A433=0,\"\",Table2[[#This Row],[DFV]])","v":""},{"$f":"IF($A433=0,\"\",Table2[[#This Row],[60%-OTS]])","v":""},{"$f":"IF($A433=0,\"\",Table2[[#This Row],[75%]])","v":""},{"$f":"IF($A433=0,\"\",Table2[[#This Row],[Pre-Final PS&E]])","v":""},{"$f":"IF($A433=0,\"\",Table2[[#This Row],[Final PS&E]])","v":""},{"$f":"IF($A433=0,\"\",'LOD Matrix (DO NOT PRINT)'!M433)","v":""},{"$f":"IF($A433=0,\"\",'LOD Matrix (DO NOT PRINT)'!N433)","v":""},{"$f":"IF($A433=0,\"\",IF('LOD Matrix (DO NOT PRINT)'!P433=TRUE,\"Yes\",\"No\"))","v":""}]
[{"$f":"IF(B434=\"Yes\",Table2[[#This Row],[Break Level]],0)","v":0},{"$f":"Table2[[#This Row],[Yes/No]]","v":"No"},null,null,{"$f":"IF($A434=0,\"\",Table2[[#This Row],[PTC DISCIPLINE]])","v":""},{"$f":"IF($A434=0,\"\",Table2[[#This Row],[ELEMENT]])","v":""},{"$f":"IF($A434=0,\"\",Table2[[#This Row],[LG&TSL]])","v":""},{"$f":"IF($A434=0,\"\",Table2[[#This Row],[DFV]])","v":""},{"$f":"IF($A434=0,\"\",Table2[[#This Row],[60%-OTS]])","v":""},{"$f":"IF($A434=0,\"\",Table2[[#This Row],[75%]])","v":""},{"$f":"IF($A434=0,\"\",Table2[[#This Row],[Pre-Final PS&E]])","v":""},{"$f":"IF($A434=0,\"\",Table2[[#This Row],[Final PS&E]])","v":""},{"$f":"IF($A434=0,\"\",'LOD Matrix (DO NOT PRINT)'!M434)","v":""},{"$f":"IF($A434=0,\"\",'LOD Matrix (DO NOT PRINT)'!N434)","v":""},{"$f":"IF($A434=0,\"\",IF('LOD Matrix (DO NOT PRINT)'!P434=TRUE,\"Yes\",\"No\"))","v":""}]
[{"$f":"IF(B435=\"Yes\",Table2[[#This Row],[Break Level]],0)","v":0},{"$f":"Table2[[#This Row],[Yes/No]]","v":"No"},null,null,{"$f":"IF($A435=0,\"\",Table2[[#This Row],[PTC DISCIPLINE]])","v":""},{"$f":"IF($A435=0,\"\",Table2[[#This Row],[ELEMENT]])","v":""},{"$f":"IF($A435=0,\"\",Table2[[#This Row],[LG&TSL]])","v":""},{"$f":"IF($A435=0,\"\",Table2[[#This Row],[DFV]])","v":""},{"$f":"IF($A435=0,\"\",Table2[[#This Row],[60%-OTS]])","v":""},{"$f":"IF($A435=0,\"\",Table2[[#This Row],[75%]])","v":""},{"$f":"IF($A435=0,\"\",Table2[[#This Row],[Pre-Final PS&E]])","v":""},{"$f":"IF($A435=0,\"\",Table2[[#This Row],[Final PS&E]])","v":""},{"$f":"IF($A435=0,\"\",'LOD Matrix (DO NOT PRINT)'!M435)","v":""},{"$f":"IF($A435=0,\"\",'LOD Matrix (DO NOT PRINT)'!N435)","v":""},{"$f":"IF($A435=0,\"\",IF('LOD Matrix (DO NOT PRINT)'!P435=TRUE,\"Yes\",\"No\"))","v":""}]
[{"$f":"IF(B436=\"Yes\",Table2[[#This Row],[Break Level]],0)","v":0},{"$f":"Table2[[#This Row],[Yes/No]]","v":"No"},null,null,{"$f":"IF($A436=0,\"\",Table2[[#This Row],[PTC DISCIPLINE]])","v":""},{"$f":"IF($A436=0,\"\",Table2[[#This Row],[ELEMENT]])","v":""},{"$f":"IF($A436=0,\"\",Table2[[#This Row],[LG&TSL]])","v":""},{"$f":"IF($A436=0,\"\",Table2[[#This Row],[DFV]])","v":""},{"$f":"IF($A436=0,\"\",Table2[[#This Row],[60%-OTS]])","v":""},{"$f":"IF($A436=0,\"\",Table2[[#This Row],[75%]])","v":""},{"$f":"IF($A436=0,\"\",Table2[[#This Row],[Pre-Final PS&E]])","v":""},{"$f":"IF($A436=0,\"\",Table2[[#This Row],[Final PS&E]])","v":""},{"$f":"IF($A436=0,\"\",'LOD Matrix (DO NOT PRINT)'!M436)","v":""},{"$f":"IF($A436=0,\"\",'LOD Matrix (DO NOT PRINT)'!N436)","v":""},{"$f":"IF($A436=0,\"\",IF('LOD Matrix (DO NOT PRINT)'!P436=TRUE,\"Yes\",\"No\"))","v":""}]
[{"$f":"IF(B437=\"Yes\",Table2[[#This Row],[Break Level]],0)","v":0},{"$f":"Table2[[#This Row],[Yes/No]]","v":"No"},null,null,{"$f":"IF($A437=0,\"\",Table2[[#This Row],[PTC DISCIPLINE]])","v":""},{"$f":"IF($A437=0,\"\",Table2[[#This Row],[ELEMENT]])","v":""},{"$f":"IF($A437=0,\"\",Table2[[#This Row],[LG&TSL]])","v":""},{"$f":"IF($A437=0,\"\",Table2[[#This Row],[DFV]])","v":""},{"$f":"IF($A437=0,\"\",Table2[[#This Row],[60%-OTS]])","v":""},{"$f":"IF($A437=0,\"\",Table2[[#This Row],[75%]])","v":""},{"$f":"IF($A437=0,\"\",Table2[[#This Row],[Pre-Final PS&E]])","v":""},{"$f":"IF($A437=0,\"\",Table2[[#This Row],[Final PS&E]])","v":""},{"$f":"IF($A437=0,\"\",'LOD Matrix (DO NOT PRINT)'!M437)","v":""},{"$f":"IF($A437=0,\"\",'LOD Matrix (DO NOT PRINT)'!N437)","v":""},{"$f":"IF($A437=0,\"\",IF('LOD Matrix (DO NOT PRINT)'!P437=TRUE,\"Yes\",\"No\"))","v":""}]
[{"$f":"IF(B438=\"Yes\",Table2[[#This Row],[Break Level]],0)","v":0},{"$f":"Table2[[#This Row],[Yes/No]]","v":"No"},null,null,{"$f":"IF($A438=0,\"\",Table2[[#This Row],[PTC DISCIPLINE]])","v":""},{"$f":"IF($A438=0,\"\",Table2[[#This Row],[ELEMENT]])","v":""},{"$f":"IF($A438=0,\"\",Table2[[#This Row],[LG&TSL]])","v":""},{"$f":"IF($A438=0,\"\",Table2[[#This Row],[DFV]])","v":""},{"$f":"IF($A438=0,\"\",Table2[[#This Row],[60%-OTS]])","v":""},{"$f":"IF($A438=0,\"\",Table2[[#This Row],[75%]])","v":""},{"$f":"IF($A438=0,\"\",Table2[[#This Row],[Pre-Final PS&E]])","v":""},{"$f":"IF($A438=0,\"\",Table2[[#This Row],[Final PS&E]])","v":""},{"$f":"IF($A438=0,\"\",'LOD Matrix (DO NOT PRINT)'!M438)","v":""},{"$f":"IF($A438=0,\"\",'LOD Matrix (DO NOT PRINT)'!N438)","v":""},{"$f":"IF($A438=0,\"\",IF('LOD Matrix (DO NOT PRINT)'!P438=TRUE,\"Yes\",\"No\"))","v":""}]
[{"$f":"IF(B439=\"Yes\",Table2[[#This Row],[Break Level]],0)","v":0},{"$f":"Table2[[#This Row],[Yes/No]]","v":"No"},null,null,{"$f":"IF($A439=0,\"\",Table2[[#This Row],[PTC DISCIPLINE]])","v":""},{"$f":"IF($A439=0,\"\",Table2[[#This Row],[ELEMENT]])","v":""},{"$f":"IF($A439=0,\"\",Table2[[#This Row],[LG&TSL]])","v":""},{"$f":"IF($A439=0,\"\",Table2[[#This Row],[DFV]])","v":""},{"$f":"IF($A439=0,\"\",Table2[[#This Row],[60%-OTS]])","v":""},{"$f":"IF($A439=0,\"\",Table2[[#This Row],[75%]])","v":""},{"$f":"IF($A439=0,\"\",Table2[[#This Row],[Pre-Final PS&E]])","v":""},{"$f":"IF($A439=0,\"\",Table2[[#This Row],[Final PS&E]])","v":""},{"$f":"IF($A439=0,\"\",'LOD Matrix (DO NOT PRINT)'!M439)","v":""},{"$f":"IF($A439=0,\"\",'LOD Matrix (DO NOT PRINT)'!N439)","v":""},{"$f":"IF($A439=0,\"\",IF('LOD Matrix (DO NOT PRINT)'!P439=TRUE,\"Yes\",\"No\"))","v":""}]
[{"$f":"IF(B440=\"Yes\",Table2[[#This Row],[Break Level]],0)","v":0},{"$f":"Table2[[#This Row],[Yes/No]]","v":"No"},null,null,{"$f":"IF($A440=0,\"\",Table2[[#This Row],[PTC DISCIPLINE]])","v":""},{"$f":"IF($A440=0,\"\",Table2[[#This Row],[ELEMENT]])","v":""},{"$f":"IF($A440=0,\"\",Table2[[#This Row],[LG&TSL]])","v":""},{"$f":"IF($A440=0,\"\",Table2[[#This Row],[DFV]])","v":""},{"$f":"IF($A440=0,\"\",Table2[[#This Row],[60%-OTS]])","v":""},{"$f":"IF($A440=0,\"\",Table2[[#This Row],[75%]])","v":""},{"$f":"IF($A440=0,\"\",Table2[[#This Row],[Pre-Final PS&E]])","v":""},{"$f":"IF($A440=0,\"\",Table2[[#This Row],[Final PS&E]])","v":""},{"$f":"IF($A440=0,\"\",'LOD Matrix (DO NOT PRINT)'!M440)","v":""},{"$f":"IF($A440=0,\"\",'LOD Matrix (DO NOT PRINT)'!N440)","v":""},{"$f":"IF($A440=0,\"\",IF('LOD Matrix (DO NOT PRINT)'!P440=TRUE,\"Yes\",\"No\"))","v":""}]
[{"$f":"IF(B441=\"Yes\",Table2[[#This Row],[Break Level]],0)","v":0},{"$f":"Table2[[#This Row],[Yes/No]]","v":"No"},null,null,{"$f":"IF($A441=0,\"\",Table2[[#This Row],[PTC DISCIPLINE]])","v":""},{"$f":"IF($A441=0,\"\",Table2[[#This Row],[ELEMENT]])","v":""},{"$f":"IF($A441=0,\"\",Table2[[#This Row],[LG&TSL]])","v":""},{"$f":"IF($A441=0,\"\",Table2[[#This Row],[DFV]])","v":""},{"$f":"IF($A441=0,\"\",Table2[[#This Row],[60%-OTS]])","v":""},{"$f":"IF($A441=0,\"\",Table2[[#This Row],[75%]])","v":""},{"$f":"IF($A441=0,\"\",Table2[[#This Row],[Pre-Final PS&E]])","v":""},{"$f":"IF($A441=0,\"\",Table2[[#This Row],[Final PS&E]])","v":""},{"$f":"IF($A441=0,\"\",'LOD Matrix (DO NOT PRINT)'!M441)","v":""},{"$f":"IF($A441=0,\"\",'LOD Matrix (DO NOT PRINT)'!N441)","v":""},{"$f":"IF($A441=0,\"\",IF('LOD Matrix (DO NOT PRINT)'!P441=TRUE,\"Yes\",\"No\"))","v":""}]
[{"$f":"IF(B442=\"Yes\",Table2[[#This Row],[Break Level]],0)","v":0},{"$f":"Table2[[#This Row],[Yes/No]]","v":"No"},null,null,{"$f":"IF($A442=0,\"\",Table2[[#This Row],[PTC DISCIPLINE]])","v":""},{"$f":"IF($A442=0,\"\",Table2[[#This Row],[ELEMENT]])","v":""},{"$f":"IF($A442=0,\"\",Table2[[#This Row],[LG&TSL]])","v":""},{"$f":"IF($A442=0,\"\",Table2[[#This Row],[DFV]])","v":""},{"$f":"IF($A442=0,\"\",Table2[[#This Row],[60%-OTS]])","v":""},{"$f":"IF($A442=0,\"\",Table2[[#This Row],[75%]])","v":""},{"$f":"IF($A442=0,\"\",Table2[[#This Row],[Pre-Final PS&E]])","v":""},{"$f":"IF($A442=0,\"\",Table2[[#This Row],[Final PS&E]])","v":""},{"$f":"IF($A442=0,\"\",'LOD Matrix (DO NOT PRINT)'!M442)","v":""},{"$f":"IF($A442=0,\"\",'LOD Matrix (DO NOT PRINT)'!N442)","v":""},{"$f":"IF($A442=0,\"\",IF('LOD Matrix (DO NOT PRINT)'!P442=TRUE,\"Yes\",\"No\"))","v":""}]
[{"$f":"IF(B443=\"Yes\",Table2[[#This Row],[Break Level]],0)","v":0},{"$f":"Table2[[#This Row],[Yes/No]]","v":"No"},null,null,{"$f":"IF($A443=0,\"\",Table2[[#This Row],[PTC DISCIPLINE]])","v":""},{"$f":"IF($A443=0,\"\",Table2[[#This Row],[ELEMENT]])","v":""},{"$f":"IF($A443=0,\"\",Table2[[#This Row],[LG&TSL]])","v":""},{"$f":"IF($A443=0,\"\",Table2[[#This Row],[DFV]])","v":""},{"$f":"IF($A443=0,\"\",Table2[[#This Row],[60%-OTS]])","v":""},{"$f":"IF($A443=0,\"\",Table2[[#This Row],[75%]])","v":""},{"$f":"IF($A443=0,\"\",Table2[[#This Row],[Pre-Final PS&E]])","v":""},{"$f":"IF($A443=0,\"\",Table2[[#This Row],[Final PS&E]])","v":""},{"$f":"IF($A443=0,\"\",'LOD Matrix (DO NOT PRINT)'!M443)","v":""},{"$f":"IF($A443=0,\"\",'LOD Matrix (DO NOT PRINT)'!N443)","v":""},{"$f":"IF($A443=0,\"\",IF('LOD Matrix (DO NOT PRINT)'!P443=TRUE,\"Yes\",\"No\"))","v":""}]
[{"$f":"IF(B444=\"Yes\",Table2[[#This Row],[Break Level]],0)","v":0},{"$f":"Table2[[#This Row],[Yes/No]]","v":"No"},null,null,{"$f":"IF($A444=0,\"\",Table2[[#This Row],[PTC DISCIPLINE]])","v":""},{"$f":"IF($A444=0,\"\",Table2[[#This Row],[ELEMENT]])","v":""},{"$f":"IF($A444=0,\"\",Table2[[#This Row],[LG&TSL]])","v":""},{"$f":"IF($A444=0,\"\",Table2[[#This Row],[DFV]])","v":""},{"$f":"IF($A444=0,\"\",Table2[[#This Row],[60%-OTS]])","v":""},{"$f":"IF($A444=0,\"\",Table2[[#This Row],[75%]])","v":""},{"$f":"IF($A444=0,\"\",Table2[[#This Row],[Pre-Final PS&E]])","v":""},{"$f":"IF($A444=0,\"\",Table2[[#This Row],[Final PS&E]])","v":""},{"$f":"IF($A444=0,\"\",'LOD Matrix (DO NOT PRINT)'!M444)","v":""},{"$f":"IF($A444=0,\"\",'LOD Matrix (DO NOT PRINT)'!N444)","v":""},{"$f":"IF($A444=0,\"\",IF('LOD Matrix (DO NOT PRINT)'!P444=TRUE,\"Yes\",\"No\"))","v":""}]
[{"$f":"IF(B445=\"Yes\",Table2[[#This Row],[Break Level]],0)","v":0},{"$f":"Table2[[#This Row],[Yes/No]]","v":"No"},null,null,{"$f":"IF($A445=0,\"\",Table2[[#This Row],[PTC DISCIPLINE]])","v":""},{"$f":"IF($A445=0,\"\",Table2[[#This Row],[ELEMENT]])","v":""},{"$f":"IF($A445=0,\"\",Table2[[#This Row],[LG&TSL]])","v":""},{"$f":"IF($A445=0,\"\",Table2[[#This Row],[DFV]])","v":""},{"$f":"IF($A445=0,\"\",Table2[[#This Row],[60%-OTS]])","v":""},{"$f":"IF($A445=0,\"\",Table2[[#This Row],[75%]])","v":""},{"$f":"IF($A445=0,\"\",Table2[[#This Row],[Pre-Final PS&E]])","v":""},{"$f":"IF($A445=0,\"\",Table2[[#This Row],[Final PS&E]])","v":""},{"$f":"IF($A445=0,\"\",'LOD Matrix (DO NOT PRINT)'!M445)","v":""},{"$f":"IF($A445=0,\"\",'LOD Matrix (DO NOT PRINT)'!N445)","v":""},{"$f":"IF($A445=0,\"\",IF('LOD Matrix (DO NOT PRINT)'!P445=TRUE,\"Yes\",\"No\"))","v":""}]
[{"$f":"IF(B446=\"Yes\",Table2[[#This Row],[Break Level]],0)","v":0},{"$f":"Table2[[#This Row],[Yes/No]]","v":"No"},null,null,{"$f":"IF($A446=0,\"\",Table2[[#This Row],[PTC DISCIPLINE]])","v":""},{"$f":"IF($A446=0,\"\",Table2[[#This Row],[ELEMENT]])","v":""},{"$f":"IF($A446=0,\"\",Table2[[#This Row],[LG&TSL]])","v":""},{"$f":"IF($A446=0,\"\",Table2[[#This Row],[DFV]])","v":""},{"$f":"IF($A446=0,\"\",Table2[[#This Row],[60%-OTS]])","v":""},{"$f":"IF($A446=0,\"\",Table2[[#This Row],[75%]])","v":""},{"$f":"IF($A446=0,\"\",Table2[[#This Row],[Pre-Final PS&E]])","v":""},{"$f":"IF($A446=0,\"\",Table2[[#This Row],[Final PS&E]])","v":""},{"$f":"IF($A446=0,\"\",'LOD Matrix (DO NOT PRINT)'!M446)","v":""},{"$f":"IF($A446=0,\"\",'LOD Matrix (DO NOT PRINT)'!N446)","v":""},{"$f":"IF($A446=0,\"\",IF('LOD Matrix (DO NOT PRINT)'!P446=TRUE,\"Yes\",\"No\"))","v":""}]
[{"$f":"IF(B447=\"Yes\",Table2[[#This Row],[Break Level]],0)","v":0},{"$f":"Table2[[#This Row],[Yes/No]]","v":"No"},null,null,{"$f":"IF($A447=0,\"\",Table2[[#This Row],[PTC DISCIPLINE]])","v":""},{"$f":"IF($A447=0,\"\",Table2[[#This Row],[ELEMENT]])","v":""},{"$f":"IF($A447=0,\"\",Table2[[#This Row],[LG&TSL]])","v":""},{"$f":"IF($A447=0,\"\",Table2[[#This Row],[DFV]])","v":""},{"$f":"IF($A447=0,\"\",Table2[[#This Row],[60%-OTS]])","v":""},{"$f":"IF($A447=0,\"\",Table2[[#This Row],[75%]])","v":""},{"$f":"IF($A447=0,\"\",Table2[[#This Row],[Pre-Final PS&E]])","v":""},{"$f":"IF($A447=0,\"\",Table2[[#This Row],[Final PS&E]])","v":""},{"$f":"IF($A447=0,\"\",'LOD Matrix (DO NOT PRINT)'!M447)","v":""},{"$f":"IF($A447=0,\"\",'LOD Matrix (DO NOT PRINT)'!N447)","v":""},{"$f":"IF($A447=0,\"\",IF('LOD Matrix (DO NOT PRINT)'!P447=TRUE,\"Yes\",\"No\"))","v":""}]
[{"$f":"IF(B448=\"Yes\",Table2[[#This Row],[Break Level]],0)","v":0},{"$f":"Table2[[#This Row],[Yes/No]]","v":"No"},null,null,{"$f":"IF($A448=0,\"\",Table2[[#This Row],[PTC DISCIPLINE]])","v":""},{"$f":"IF($A448=0,\"\",Table2[[#This Row],[ELEMENT]])","v":""},{"$f":"IF($A448=0,\"\",Table2[[#This Row],[LG&TSL]])","v":""},{"$f":"IF($A448=0,\"\",Table2[[#This Row],[DFV]])","v":""},{"$f":"IF($A448=0,\"\",Table2[[#This Row],[60%-OTS]])","v":""},{"$f":"IF($A448=0,\"\",Table2[[#This Row],[75%]])","v":""},{"$f":"IF($A448=0,\"\",Table2[[#This Row],[Pre-Final PS&E]])","v":""},{"$f":"IF($A448=0,\"\",Table2[[#This Row],[Final PS&E]])","v":""},{"$f":"IF($A448=0,\"\",'LOD Matrix (DO NOT PRINT)'!M448)","v":""},{"$f":"IF($A448=0,\"\",'LOD Matrix (DO NOT PRINT)'!N448)","v":""},{"$f":"IF($A448=0,\"\",IF('LOD Matrix (DO NOT PRINT)'!P448=TRUE,\"Yes\",\"No\"))","v":""}]
[{"$f":"IF(B449=\"Yes\",Table2[[#This Row],[Break Level]],0)","v":0},{"$f":"Table2[[#This Row],[Yes/No]]","v":"No"},null,null,{"$f":"IF($A449=0,\"\",Table2[[#This Row],[PTC DISCIPLINE]])","v":""},{"$f":"IF($A449=0,\"\",Table2[[#This Row],[ELEMENT]])","v":""},{"$f":"IF($A449=0,\"\",Table2[[#This Row],[LG&TSL]])","v":""},{"$f":"IF($A449=0,\"\",Table2[[#This Row],[DFV]])","v":""},{"$f":"IF($A449=0,\"\",Table2[[#This Row],[60%-OTS]])","v":""},{"$f":"IF($A449=0,\"\",Table2[[#This Row],[75%]])","v":""},{"$f":"IF($A449=0,\"\",Table2[[#This Row],[Pre-Final PS&E]])","v":""},{"$f":"IF($A449=0,\"\",Table2[[#This Row],[Final PS&E]])","v":""},{"$f":"IF($A449=0,\"\",'LOD Matrix (DO NOT PRINT)'!M449)","v":""},{"$f":"IF($A449=0,\"\",'LOD Matrix (DO NOT PRINT)'!N449)","v":""},{"$f":"IF($A449=0,\"\",IF('LOD Matrix (DO NOT PRINT)'!P449=TRUE,\"Yes\",\"No\"))","v":""}]
[{"$f":"IF(B450=\"Yes\",Table2[[#This Row],[Break Level]],0)","v":0},{"$f":"Table2[[#This Row],[Yes/No]]","v":"No"},null,null,{"$f":"IF($A450=0,\"\",Table2[[#This Row],[PTC DISCIPLINE]])","v":""},{"$f":"IF($A450=0,\"\",Table2[[#This Row],[ELEMENT]])","v":""},{"$f":"IF($A450=0,\"\",Table2[[#This Row],[LG&TSL]])","v":""},{"$f":"IF($A450=0,\"\",Table2[[#This Row],[DFV]])","v":""},{"$f":"IF($A450=0,\"\",Table2[[#This Row],[60%-OTS]])","v":""},{"$f":"IF($A450=0,\"\",Table2[[#This Row],[75%]])","v":""},{"$f":"IF($A450=0,\"\",Table2[[#This Row],[Pre-Final PS&E]])","v":""},{"$f":"IF($A450=0,\"\",Table2[[#This Row],[Final PS&E]])","v":""},{"$f":"IF($A450=0,\"\",'LOD Matrix (DO NOT PRINT)'!M450)","v":""},{"$f":"IF($A450=0,\"\",'LOD Matrix (DO NOT PRINT)'!N450)","v":""},{"$f":"IF($A450=0,\"\",IF('LOD Matrix (DO NOT PRINT)'!P450=TRUE,\"Yes\",\"No\"))","v":""}]
[{"$f":"IF(B451=\"Yes\",Table2[[#This Row],[Break Level]],0)","v":0},{"$f":"Table2[[#This Row],[Yes/No]]","v":"No"},null,null,{"$f":"IF($A451=0,\"\",Table2[[#This Row],[PTC DISCIPLINE]])","v":""},{"$f":"IF($A451=0,\"\",Table2[[#This Row],[ELEMENT]])","v":""},{"$f":"IF($A451=0,\"\",Table2[[#This Row],[LG&TSL]])","v":""},{"$f":"IF($A451=0,\"\",Table2[[#This Row],[DFV]])","v":""},{"$f":"IF($A451=0,\"\",Table2[[#This Row],[60%-OTS]])","v":""},{"$f":"IF($A451=0,\"\",Table2[[#This Row],[75%]])","v":""},{"$f":"IF($A451=0,\"\",Table2[[#This Row],[Pre-Final PS&E]])","v":""},{"$f":"IF($A451=0,\"\",Table2[[#This Row],[Final PS&E]])","v":""},{"$f":"IF($A451=0,\"\",'LOD Matrix (DO NOT PRINT)'!M451)","v":""},{"$f":"IF($A451=0,\"\",'LOD Matrix (DO NOT PRINT)'!N451)","v":""},{"$f":"IF($A451=0,\"\",IF('LOD Matrix (DO NOT PRINT)'!P451=TRUE,\"Yes\",\"No\"))","v":""}]
[{"$f":"IF(B452=\"Yes\",Table2[[#This Row],[Break Level]],0)","v":0},{"$f":"Table2[[#This Row],[Yes/No]]","v":"No"},null,null,{"$f":"IF($A452=0,\"\",Table2[[#This Row],[PTC DISCIPLINE]])","v":""},{"$f":"IF($A452=0,\"\",Table2[[#This Row],[ELEMENT]])","v":""},{"$f":"IF($A452=0,\"\",Table2[[#This Row],[LG&TSL]])","v":""},{"$f":"IF($A452=0,\"\",Table2[[#This Row],[DFV]])","v":""},{"$f":"IF($A452=0,\"\",Table2[[#This Row],[60%-OTS]])","v":""},{"$f":"IF($A452=0,\"\",Table2[[#This Row],[75%]])","v":""},{"$f":"IF($A452=0,\"\",Table2[[#This Row],[Pre-Final PS&E]])","v":""},{"$f":"IF($A452=0,\"\",Table2[[#This Row],[Final PS&E]])","v":""},{"$f":"IF($A452=0,\"\",'LOD Matrix (DO NOT PRINT)'!M452)","v":""},{"$f":"IF($A452=0,\"\",'LOD Matrix (DO NOT PRINT)'!N452)","v":""},{"$f":"IF($A452=0,\"\",IF('LOD Matrix (DO NOT PRINT)'!P452=TRUE,\"Yes\",\"No\"))","v":""}]
[{"$f":"IF(B453=\"Yes\",Table2[[#This Row],[Break Level]],0)","v":0},{"$f":"Table2[[#This Row],[Yes/No]]","v":"No"},null,null,{"$f":"IF($A453=0,\"\",Table2[[#This Row],[PTC DISCIPLINE]])","v":""},{"$f":"IF($A453=0,\"\",Table2[[#This Row],[ELEMENT]])","v":""},{"$f":"IF($A453=0,\"\",Table2[[#This Row],[LG&TSL]])","v":""},{"$f":"IF($A453=0,\"\",Table2[[#This Row],[DFV]])","v":""},{"$f":"IF($A453=0,\"\",Table2[[#This Row],[60%-OTS]])","v":""},{"$f":"IF($A453=0,\"\",Table2[[#This Row],[75%]])","v":""},{"$f":"IF($A453=0,\"\",Table2[[#This Row],[Pre-Final PS&E]])","v":""},{"$f":"IF($A453=0,\"\",Table2[[#This Row],[Final PS&E]])","v":""},{"$f":"IF($A453=0,\"\",'LOD Matrix (DO NOT PRINT)'!M453)","v":""},{"$f":"IF($A453=0,\"\",'LOD Matrix (DO NOT PRINT)'!N453)","v":""},{"$f":"IF($A453=0,\"\",IF('LOD Matrix (DO NOT PRINT)'!P453=TRUE,\"Yes\",\"No\"))","v":""}]
[{"$f":"IF(B454=\"Yes\",Table2[[#This Row],[Break Level]],0)","v":0},{"$f":"Table2[[#This Row],[Yes/No]]","v":"No"},null,null,{"$f":"IF($A454=0,\"\",Table2[[#This Row],[PTC DISCIPLINE]])","v":""},{"$f":"IF($A454=0,\"\",Table2[[#This Row],[ELEMENT]])","v":""},{"$f":"IF($A454=0,\"\",Table2[[#This Row],[LG&TSL]])","v":""},{"$f":"IF($A454=0,\"\",Table2[[#This Row],[DFV]])","v":""},{"$f":"IF($A454=0,\"\",Table2[[#This Row],[60%-OTS]])","v":""},{"$f":"IF($A454=0,\"\",Table2[[#This Row],[75%]])","v":""},{"$f":"IF($A454=0,\"\",Table2[[#This Row],[Pre-Final PS&E]])","v":""},{"$f":"IF($A454=0,\"\",Table2[[#This Row],[Final PS&E]])","v":""},{"$f":"IF($A454=0,\"\",'LOD Matrix (DO NOT PRINT)'!M454)","v":""},{"$f":"IF($A454=0,\"\",'LOD Matrix (DO NOT PRINT)'!N454)","v":""},{"$f":"IF($A454=0,\"\",IF('LOD Matrix (DO NOT PRINT)'!P454=TRUE,\"Yes\",\"No\"))","v":""}]
[{"$f":"IF(B455=\"Yes\",Table2[[#This Row],[Break Level]],0)","v":0},{"$f":"Table2[[#This Row],[Yes/No]]","v":"No"},null,null,{"$f":"IF($A455=0,\"\",Table2[[#This Row],[PTC DISCIPLINE]])","v":""},{"$f":"IF($A455=0,\"\",Table2[[#This Row],[ELEMENT]])","v":""},{"$f":"IF($A455=0,\"\",Table2[[#This Row],[LG&TSL]])","v":""},{"$f":"IF($A455=0,\"\",Table2[[#This Row],[DFV]])","v":""},{"$f":"IF($A455=0,\"\",Table2[[#This Row],[60%-OTS]])","v":""},{"$f":"IF($A455=0,\"\",Table2[[#This Row],[75%]])","v":""},{"$f":"IF($A455=0,\"\",Table2[[#This Row],[Pre-Final PS&E]])","v":""},{"$f":"IF($A455=0,\"\",Table2[[#This Row],[Final PS&E]])","v":""},{"$f":"IF($A455=0,\"\",'LOD Matrix (DO NOT PRINT)'!M455)","v":""},{"$f":"IF($A455=0,\"\",'LOD Matrix (DO NOT PRINT)'!N455)","v":""},{"$f":"IF($A455=0,\"\",IF('LOD Matrix (DO NOT PRINT)'!P455=TRUE,\"Yes\",\"No\"))","v":""}]
[{"$f":"IF(B456=\"Yes\",Table2[[#This Row],[Break Level]],0)","v":0},{"$f":"Table2[[#This Row],[Yes/No]]","v":"No"},null,null,{"$f":"IF($A456=0,\"\",Table2[[#This Row],[PTC DISCIPLINE]])","v":""},{"$f":"IF($A456=0,\"\",Table2[[#This Row],[ELEMENT]])","v":""},{"$f":"IF($A456=0,\"\",Table2[[#This Row],[LG&TSL]])","v":""},{"$f":"IF($A456=0,\"\",Table2[[#This Row],[DFV]])","v":""},{"$f":"IF($A456=0,\"\",Table2[[#This Row],[60%-OTS]])","v":""},{"$f":"IF($A456=0,\"\",Table2[[#This Row],[75%]])","v":""},{"$f":"IF($A456=0,\"\",Table2[[#This Row],[Pre-Final PS&E]])","v":""},{"$f":"IF($A456=0,\"\",Table2[[#This Row],[Final PS&E]])","v":""},{"$f":"IF($A456=0,\"\",'LOD Matrix (DO NOT PRINT)'!M456)","v":""},{"$f":"IF($A456=0,\"\",'LOD Matrix (DO NOT PRINT)'!N456)","v":""},{"$f":"IF($A456=0,\"\",IF('LOD Matrix (DO NOT PRINT)'!P456=TRUE,\"Yes\",\"No\"))","v":""}]
[{"$f":"IF(B457=\"Yes\",Table2[[#This Row],[Break Level]],0)","v":0},{"$f":"Table2[[#This Row],[Yes/No]]","v":"No"},null,null,{"$f":"IF($A457=0,\"\",Table2[[#This Row],[PTC DISCIPLINE]])","v":""},{"$f":"IF($A457=0,\"\",Table2[[#This Row],[ELEMENT]])","v":""},{"$f":"IF($A457=0,\"\",Table2[[#This Row],[LG&TSL]])","v":""},{"$f":"IF($A457=0,\"\",Table2[[#This Row],[DFV]])","v":""},{"$f":"IF($A457=0,\"\",Table2[[#This Row],[60%-OTS]])","v":""},{"$f":"IF($A457=0,\"\",Table2[[#This Row],[75%]])","v":""},{"$f":"IF($A457=0,\"\",Table2[[#This Row],[Pre-Final PS&E]])","v":""},{"$f":"IF($A457=0,\"\",Table2[[#This Row],[Final PS&E]])","v":""},{"$f":"IF($A457=0,\"\",'LOD Matrix (DO NOT PRINT)'!M457)","v":""},{"$f":"IF($A457=0,\"\",'LOD Matrix (DO NOT PRINT)'!N457)","v":""},{"$f":"IF($A457=0,\"\",IF('LOD Matrix (DO NOT PRINT)'!P457=TRUE,\"Yes\",\"No\"))","v":""}]
[{"$f":"IF(B458=\"Yes\",Table2[[#This Row],[Break Level]],0)","v":0},{"$f":"Table2[[#This Row],[Yes/No]]","v":"No"},null,null,{"$f":"IF($A458=0,\"\",Table2[[#This Row],[PTC DISCIPLINE]])","v":""},{"$f":"IF($A458=0,\"\",Table2[[#This Row],[ELEMENT]])","v":""},{"$f":"IF($A458=0,\"\",Table2[[#This Row],[LG&TSL]])","v":""},{"$f":"IF($A458=0,\"\",Table2[[#This Row],[DFV]])","v":""},{"$f":"IF($A458=0,\"\",Table2[[#This Row],[60%-OTS]])","v":""},{"$f":"IF($A458=0,\"\",Table2[[#This Row],[75%]])","v":""},{"$f":"IF($A458=0,\"\",Table2[[#This Row],[Pre-Final PS&E]])","v":""},{"$f":"IF($A458=0,\"\",Table2[[#This Row],[Final PS&E]])","v":""},{"$f":"IF($A458=0,\"\",'LOD Matrix (DO NOT PRINT)'!M458)","v":""},{"$f":"IF($A458=0,\"\",'LOD Matrix (DO NOT PRINT)'!N458)","v":""},{"$f":"IF($A458=0,\"\",IF('LOD Matrix (DO NOT PRINT)'!P458=TRUE,\"Yes\",\"No\"))","v":""}]
[{"$f":"IF(B459=\"Yes\",Table2[[#This Row],[Break Level]],0)","v":0},{"$f":"Table2[[#This Row],[Yes/No]]","v":"No"},null,null,{"$f":"IF($A459=0,\"\",Table2[[#This Row],[PTC DISCIPLINE]])","v":""},{"$f":"IF($A459=0,\"\",Table2[[#This Row],[ELEMENT]])","v":""},{"$f":"IF($A459=0,\"\",Table2[[#This Row],[LG&TSL]])","v":""},{"$f":"IF($A459=0,\"\",Table2[[#This Row],[DFV]])","v":""},{"$f":"IF($A459=0,\"\",Table2[[#This Row],[60%-OTS]])","v":""},{"$f":"IF($A459=0,\"\",Table2[[#This Row],[75%]])","v":""},{"$f":"IF($A459=0,\"\",Table2[[#This Row],[Pre-Final PS&E]])","v":""},{"$f":"IF($A459=0,\"\",Table2[[#This Row],[Final PS&E]])","v":""},{"$f":"IF($A459=0,\"\",'LOD Matrix (DO NOT PRINT)'!M459)","v":""},{"$f":"IF($A459=0,\"\",'LOD Matrix (DO NOT PRINT)'!N459)","v":""},{"$f":"IF($A459=0,\"\",IF('LOD Matrix (DO NOT PRINT)'!P459=TRUE,\"Yes\",\"No\"))","v":""}]
[{"$f":"IF(B460=\"Yes\",Table2[[#This Row],[Break Level]],0)","v":0},{"$f":"Table2[[#This Row],[Yes/No]]","v":"No"},null,null,{"$f":"IF($A460=0,\"\",Table2[[#This Row],[PTC DISCIPLINE]])","v":""},{"$f":"IF($A460=0,\"\",Table2[[#This Row],[ELEMENT]])","v":""},{"$f":"IF($A460=0,\"\",Table2[[#This Row],[LG&TSL]])","v":""},{"$f":"IF($A460=0,\"\",Table2[[#This Row],[DFV]])","v":""},{"$f":"IF($A460=0,\"\",Table2[[#This Row],[60%-OTS]])","v":""},{"$f":"IF($A460=0,\"\",Table2[[#This Row],[75%]])","v":""},{"$f":"IF($A460=0,\"\",Table2[[#This Row],[Pre-Final PS&E]])","v":""},{"$f":"IF($A460=0,\"\",Table2[[#This Row],[Final PS&E]])","v":""},{"$f":"IF($A460=0,\"\",'LOD Matrix (DO NOT PRINT)'!M460)","v":""},{"$f":"IF($A460=0,\"\",'LOD Matrix (DO NOT PRINT)'!N460)","v":""},{"$f":"IF($A460=0,\"\",IF('LOD Matrix (DO NOT PRINT)'!P460=TRUE,\"Yes\",\"No\"))","v":""}]
[{"$f":"IF(B461=\"Yes\",Table2[[#This Row],[Break Level]],0)","v":0},{"$f":"Table2[[#This Row],[Yes/No]]","v":"No"},null,null,{"$f":"IF($A461=0,\"\",Table2[[#This Row],[PTC DISCIPLINE]])","v":""},{"$f":"IF($A461=0,\"\",Table2[[#This Row],[ELEMENT]])","v":""},{"$f":"IF($A461=0,\"\",Table2[[#This Row],[LG&TSL]])","v":""},{"$f":"IF($A461=0,\"\",Table2[[#This Row],[DFV]])","v":""},{"$f":"IF($A461=0,\"\",Table2[[#This Row],[60%-OTS]])","v":""},{"$f":"IF($A461=0,\"\",Table2[[#This Row],[75%]])","v":""},{"$f":"IF($A461=0,\"\",Table2[[#This Row],[Pre-Final PS&E]])","v":""},{"$f":"IF($A461=0,\"\",Table2[[#This Row],[Final PS&E]])","v":""},{"$f":"IF($A461=0,\"\",'LOD Matrix (DO NOT PRINT)'!M461)","v":""},{"$f":"IF($A461=0,\"\",'LOD Matrix (DO NOT PRINT)'!N461)","v":""},{"$f":"IF($A461=0,\"\",IF('LOD Matrix (DO NOT PRINT)'!P461=TRUE,\"Yes\",\"No\"))","v":""}]
[{"$f":"IF(B462=\"Yes\",Table2[[#This Row],[Break Level]],0)","v":0},{"$f":"Table2[[#This Row],[Yes/No]]","v":"No"},null,null,{"$f":"IF($A462=0,\"\",Table2[[#This Row],[PTC DISCIPLINE]])","v":""},{"$f":"IF($A462=0,\"\",Table2[[#This Row],[ELEMENT]])","v":""},{"$f":"IF($A462=0,\"\",Table2[[#This Row],[LG&TSL]])","v":""},{"$f":"IF($A462=0,\"\",Table2[[#This Row],[DFV]])","v":""},{"$f":"IF($A462=0,\"\",Table2[[#This Row],[60%-OTS]])","v":""},{"$f":"IF($A462=0,\"\",Table2[[#This Row],[75%]])","v":""},{"$f":"IF($A462=0,\"\",Table2[[#This Row],[Pre-Final PS&E]])","v":""},{"$f":"IF($A462=0,\"\",Table2[[#This Row],[Final PS&E]])","v":""},{"$f":"IF($A462=0,\"\",'LOD Matrix (DO NOT PRINT)'!M462)","v":""},{"$f":"IF($A462=0,\"\",'LOD Matrix (DO NOT PRINT)'!N462)","v":""},{"$f":"IF($A462=0,\"\",IF('LOD Matrix (DO NOT PRINT)'!P462=TRUE,\"Yes\",\"No\"))","v":""}]
[{"$f":"IF(B463=\"Yes\",Table2[[#This Row],[Break Level]],0)","v":0},{"$f":"Table2[[#This Row],[Yes/No]]","v":"No"},null,null,{"$f":"IF($A463=0,\"\",Table2[[#This Row],[PTC DISCIPLINE]])","v":""},{"$f":"IF($A463=0,\"\",Table2[[#This Row],[ELEMENT]])","v":""},{"$f":"IF($A463=0,\"\",Table2[[#This Row],[LG&TSL]])","v":""},{"$f":"IF($A463=0,\"\",Table2[[#This Row],[DFV]])","v":""},{"$f":"IF($A463=0,\"\",Table2[[#This Row],[60%-OTS]])","v":""},{"$f":"IF($A463=0,\"\",Table2[[#This Row],[75%]])","v":""},{"$f":"IF($A463=0,\"\",Table2[[#This Row],[Pre-Final PS&E]])","v":""},{"$f":"IF($A463=0,\"\",Table2[[#This Row],[Final PS&E]])","v":""},{"$f":"IF($A463=0,\"\",'LOD Matrix (DO NOT PRINT)'!M463)","v":""},{"$f":"IF($A463=0,\"\",'LOD Matrix (DO NOT PRINT)'!N463)","v":""},{"$f":"IF($A463=0,\"\",IF('LOD Matrix (DO NOT PRINT)'!P463=TRUE,\"Yes\",\"No\"))","v":""}]
[{"$f":"IF(B464=\"Yes\",Table2[[#This Row],[Break Level]],0)","v":0},{"$f":"Table2[[#This Row],[Yes/No]]","v":"No"},null,null,{"$f":"IF($A464=0,\"\",Table2[[#This Row],[PTC DISCIPLINE]])","v":""},{"$f":"IF($A464=0,\"\",Table2[[#This Row],[ELEMENT]])","v":""},{"$f":"IF($A464=0,\"\",Table2[[#This Row],[LG&TSL]])","v":""},{"$f":"IF($A464=0,\"\",Table2[[#This Row],[DFV]])","v":""},{"$f":"IF($A464=0,\"\",Table2[[#This Row],[60%-OTS]])","v":""},{"$f":"IF($A464=0,\"\",Table2[[#This Row],[75%]])","v":""},{"$f":"IF($A464=0,\"\",Table2[[#This Row],[Pre-Final PS&E]])","v":""},{"$f":"IF($A464=0,\"\",Table2[[#This Row],[Final PS&E]])","v":""},{"$f":"IF($A464=0,\"\",'LOD Matrix (DO NOT PRINT)'!M464)","v":""},{"$f":"IF($A464=0,\"\",'LOD Matrix (DO NOT PRINT)'!N464)","v":""},{"$f":"IF($A464=0,\"\",IF('LOD Matrix (DO NOT PRINT)'!P464=TRUE,\"Yes\",\"No\"))","v":""}]
[{"$f":"IF(B465=\"Yes\",Table2[[#This Row],[Break Level]],0)","v":0},{"$f":"Table2[[#This Row],[Yes/No]]","v":"No"},null,null,{"$f":"IF($A465=0,\"\",Table2[[#This Row],[PTC DISCIPLINE]])","v":""},{"$f":"IF($A465=0,\"\",Table2[[#This Row],[ELEMENT]])","v":""},{"$f":"IF($A465=0,\"\",Table2[[#This Row],[LG&TSL]])","v":""},{"$f":"IF($A465=0,\"\",Table2[[#This Row],[DFV]])","v":""},{"$f":"IF($A465=0,\"\",Table2[[#This Row],[60%-OTS]])","v":""},{"$f":"IF($A465=0,\"\",Table2[[#This Row],[75%]])","v":""},{"$f":"IF($A465=0,\"\",Table2[[#This Row],[Pre-Final PS&E]])","v":""},{"$f":"IF($A465=0,\"\",Table2[[#This Row],[Final PS&E]])","v":""},{"$f":"IF($A465=0,\"\",'LOD Matrix (DO NOT PRINT)'!M465)","v":""},{"$f":"IF($A465=0,\"\",'LOD Matrix (DO NOT PRINT)'!N465)","v":""},{"$f":"IF($A465=0,\"\",IF('LOD Matrix (DO NOT PRINT)'!P465=TRUE,\"Yes\",\"No\"))","v":""}]
[{"$f":"IF(B466=\"Yes\",Table2[[#This Row],[Break Level]],0)","v":0},{"$f":"Table2[[#This Row],[Yes/No]]","v":"No"},null,null,{"$f":"IF($A466=0,\"\",Table2[[#This Row],[PTC DISCIPLINE]])","v":""},{"$f":"IF($A466=0,\"\",Table2[[#This Row],[ELEMENT]])","v":""},{"$f":"IF($A466=0,\"\",Table2[[#This Row],[LG&TSL]])","v":""},{"$f":"IF($A466=0,\"\",Table2[[#This Row],[DFV]])","v":""},{"$f":"IF($A466=0,\"\",Table2[[#This Row],[60%-OTS]])","v":""},{"$f":"IF($A466=0,\"\",Table2[[#This Row],[75%]])","v":""},{"$f":"IF($A466=0,\"\",Table2[[#This Row],[Pre-Final PS&E]])","v":""},{"$f":"IF($A466=0,\"\",Table2[[#This Row],[Final PS&E]])","v":""},{"$f":"IF($A466=0,\"\",'LOD Matrix (DO NOT PRINT)'!M466)","v":""},{"$f":"IF($A466=0,\"\",'LOD Matrix (DO NOT PRINT)'!N466)","v":""},{"$f":"IF($A466=0,\"\",IF('LOD Matrix (DO NOT PRINT)'!P466=TRUE,\"Yes\",\"No\"))","v":""}]
[{"$f":"IF(B467=\"Yes\",Table2[[#This Row],[Break Level]],0)","v":0},{"$f":"Table2[[#This Row],[Yes/No]]","v":"No"},null,null,{"$f":"IF($A467=0,\"\",Table2[[#This Row],[PTC DISCIPLINE]])","v":""},{"$f":"IF($A467=0,\"\",Table2[[#This Row],[ELEMENT]])","v":""},{"$f":"IF($A467=0,\"\",Table2[[#This Row],[LG&TSL]])","v":""},{"$f":"IF($A467=0,\"\",Table2[[#This Row],[DFV]])","v":""},{"$f":"IF($A467=0,\"\",Table2[[#This Row],[60%-OTS]])","v":""},{"$f":"IF($A467=0,\"\",Table2[[#This Row],[75%]])","v":""},{"$f":"IF($A467=0,\"\",Table2[[#This Row],[Pre-Final PS&E]])","v":""},{"$f":"IF($A467=0,\"\",Table2[[#This Row],[Final PS&E]])","v":""},{"$f":"IF($A467=0,\"\",'LOD Matrix (DO NOT PRINT)'!M467)","v":""},{"$f":"IF($A467=0,\"\",'LOD Matrix (DO NOT PRINT)'!N467)","v":""},{"$f":"IF($A467=0,\"\",IF('LOD Matrix (DO NOT PRINT)'!P467=TRUE,\"Yes\",\"No\"))","v":""}]
[{"$f":"IF(B468=\"Yes\",Table2[[#This Row],[Break Level]],0)","v":0},{"$f":"Table2[[#This Row],[Yes/No]]","v":"No"},null,null,{"$f":"IF($A468=0,\"\",Table2[[#This Row],[PTC DISCIPLINE]])","v":""},{"$f":"IF($A468=0,\"\",Table2[[#This Row],[ELEMENT]])","v":""},{"$f":"IF($A468=0,\"\",Table2[[#This Row],[LG&TSL]])","v":""},{"$f":"IF($A468=0,\"\",Table2[[#This Row],[DFV]])","v":""},{"$f":"IF($A468=0,\"\",Table2[[#This Row],[60%-OTS]])","v":""},{"$f":"IF($A468=0,\"\",Table2[[#This Row],[75%]])","v":""},{"$f":"IF($A468=0,\"\",Table2[[#This Row],[Pre-Final PS&E]])","v":""},{"$f":"IF($A468=0,\"\",Table2[[#This Row],[Final PS&E]])","v":""},{"$f":"IF($A468=0,\"\",'LOD Matrix (DO NOT PRINT)'!M468)","v":""},{"$f":"IF($A468=0,\"\",'LOD Matrix (DO NOT PRINT)'!N468)","v":""},{"$f":"IF($A468=0,\"\",IF('LOD Matrix (DO NOT PRINT)'!P468=TRUE,\"Yes\",\"No\"))","v":""}]
[{"$f":"IF(B469=\"Yes\",Table2[[#This Row],[Break Level]],0)","v":0},{"$f":"Table2[[#This Row],[Yes/No]]","v":"No"},null,null,{"$f":"IF($A469=0,\"\",Table2[[#This Row],[PTC DISCIPLINE]])","v":""},{"$f":"IF($A469=0,\"\",Table2[[#This Row],[ELEMENT]])","v":""},{"$f":"IF($A469=0,\"\",Table2[[#This Row],[LG&TSL]])","v":""},{"$f":"IF($A469=0,\"\",Table2[[#This Row],[DFV]])","v":""},{"$f":"IF($A469=0,\"\",Table2[[#This Row],[60%-OTS]])","v":""},{"$f":"IF($A469=0,\"\",Table2[[#This Row],[75%]])","v":""},{"$f":"IF($A469=0,\"\",Table2[[#This Row],[Pre-Final PS&E]])","v":""},{"$f":"IF($A469=0,\"\",Table2[[#This Row],[Final PS&E]])","v":""},{"$f":"IF($A469=0,\"\",'LOD Matrix (DO NOT PRINT)'!M469)","v":""},{"$f":"IF($A469=0,\"\",'LOD Matrix (DO NOT PRINT)'!N469)","v":""},{"$f":"IF($A469=0,\"\",IF('LOD Matrix (DO NOT PRINT)'!P469=TRUE,\"Yes\",\"No\"))","v":""}]
[{"$f":"IF(B470=\"Yes\",Table2[[#This Row],[Break Level]],0)","v":0},{"$f":"Table2[[#This Row],[Yes/No]]","v":"No"},null,null,{"$f":"IF($A470=0,\"\",Table2[[#This Row],[PTC DISCIPLINE]])","v":""},{"$f":"IF($A470=0,\"\",Table2[[#This Row],[ELEMENT]])","v":""},{"$f":"IF($A470=0,\"\",Table2[[#This Row],[LG&TSL]])","v":""},{"$f":"IF($A470=0,\"\",Table2[[#This Row],[DFV]])","v":""},{"$f":"IF($A470=0,\"\",Table2[[#This Row],[60%-OTS]])","v":""},{"$f":"IF($A470=0,\"\",Table2[[#This Row],[75%]])","v":""},{"$f":"IF($A470=0,\"\",Table2[[#This Row],[Pre-Final PS&E]])","v":""},{"$f":"IF($A470=0,\"\",Table2[[#This Row],[Final PS&E]])","v":""},{"$f":"IF($A470=0,\"\",'LOD Matrix (DO NOT PRINT)'!M470)","v":""},{"$f":"IF($A470=0,\"\",'LOD Matrix (DO NOT PRINT)'!N470)","v":""},{"$f":"IF($A470=0,\"\",IF('LOD Matrix (DO NOT PRINT)'!P470=TRUE,\"Yes\",\"No\"))","v":""}]
[{"$f":"IF(B471=\"Yes\",Table2[[#This Row],[Break Level]],0)","v":0},{"$f":"Table2[[#This Row],[Yes/No]]","v":"No"},null,null,{"$f":"IF($A471=0,\"\",Table2[[#This Row],[PTC DISCIPLINE]])","v":""},{"$f":"IF($A471=0,\"\",Table2[[#This Row],[ELEMENT]])","v":""},{"$f":"IF($A471=0,\"\",Table2[[#This Row],[LG&TSL]])","v":""},{"$f":"IF($A471=0,\"\",Table2[[#This Row],[DFV]])","v":""},{"$f":"IF($A471=0,\"\",Table2[[#This Row],[60%-OTS]])","v":""},{"$f":"IF($A471=0,\"\",Table2[[#This Row],[75%]])","v":""},{"$f":"IF($A471=0,\"\",Table2[[#This Row],[Pre-Final PS&E]])","v":""},{"$f":"IF($A471=0,\"\",Table2[[#This Row],[Final PS&E]])","v":""},{"$f":"IF($A471=0,\"\",'LOD Matrix (DO NOT PRINT)'!M471)","v":""},{"$f":"IF($A471=0,\"\",'LOD Matrix (DO NOT PRINT)'!N471)","v":""},{"$f":"IF($A471=0,\"\",IF('LOD Matrix (DO NOT PRINT)'!P471=TRUE,\"Yes\",\"No\"))","v":""}]
[{"$f":"IF(B472=\"Yes\",Table2[[#This Row],[Break Level]],0)","v":0},{"$f":"Table2[[#This Row],[Yes/No]]","v":"No"},null,null,{"$f":"IF($A472=0,\"\",Table2[[#This Row],[PTC DISCIPLINE]])","v":""},{"$f":"IF($A472=0,\"\",Table2[[#This Row],[ELEMENT]])","v":""},{"$f":"IF($A472=0,\"\",Table2[[#This Row],[LG&TSL]])","v":""},{"$f":"IF($A472=0,\"\",Table2[[#This Row],[DFV]])","v":""},{"$f":"IF($A472=0,\"\",Table2[[#This Row],[60%-OTS]])","v":""},{"$f":"IF($A472=0,\"\",Table2[[#This Row],[75%]])","v":""},{"$f":"IF($A472=0,\"\",Table2[[#This Row],[Pre-Final PS&E]])","v":""},{"$f":"IF($A472=0,\"\",Table2[[#This Row],[Final PS&E]])","v":""},{"$f":"IF($A472=0,\"\",'LOD Matrix (DO NOT PRINT)'!M472)","v":""},{"$f":"IF($A472=0,\"\",'LOD Matrix (DO NOT PRINT)'!N472)","v":""},{"$f":"IF($A472=0,\"\",IF('LOD Matrix (DO NOT PRINT)'!P472=TRUE,\"Yes\",\"No\"))","v":""}]
[{"$f":"IF(B473=\"Yes\",Table2[[#This Row],[Break Level]],0)","v":0},{"$f":"Table2[[#This Row],[Yes/No]]","v":"No"},null,null,{"$f":"IF($A473=0,\"\",Table2[[#This Row],[PTC DISCIPLINE]])","v":""},{"$f":"IF($A473=0,\"\",Table2[[#This Row],[ELEMENT]])","v":""},{"$f":"IF($A473=0,\"\",Table2[[#This Row],[LG&TSL]])","v":""},{"$f":"IF($A473=0,\"\",Table2[[#This Row],[DFV]])","v":""},{"$f":"IF($A473=0,\"\",Table2[[#This Row],[60%-OTS]])","v":""},{"$f":"IF($A473=0,\"\",Table2[[#This Row],[75%]])","v":""},{"$f":"IF($A473=0,\"\",Table2[[#This Row],[Pre-Final PS&E]])","v":""},{"$f":"IF($A473=0,\"\",Table2[[#This Row],[Final PS&E]])","v":""},{"$f":"IF($A473=0,\"\",'LOD Matrix (DO NOT PRINT)'!M473)","v":""},{"$f":"IF($A473=0,\"\",'LOD Matrix (DO NOT PRINT)'!N473)","v":""},{"$f":"IF($A473=0,\"\",IF('LOD Matrix (DO NOT PRINT)'!P473=TRUE,\"Yes\",\"No\"))","v":""}]
[{"$f":"IF(B474=\"Yes\",Table2[[#This Row],[Break Level]],0)","v":0},{"$f":"Table2[[#This Row],[Yes/No]]","v":"No"},null,null,{"$f":"IF($A474=0,\"\",Table2[[#This Row],[PTC DISCIPLINE]])","v":""},{"$f":"IF($A474=0,\"\",Table2[[#This Row],[ELEMENT]])","v":""},{"$f":"IF($A474=0,\"\",Table2[[#This Row],[LG&TSL]])","v":""},{"$f":"IF($A474=0,\"\",Table2[[#This Row],[DFV]])","v":""},{"$f":"IF($A474=0,\"\",Table2[[#This Row],[60%-OTS]])","v":""},{"$f":"IF($A474=0,\"\",Table2[[#This Row],[75%]])","v":""},{"$f":"IF($A474=0,\"\",Table2[[#This Row],[Pre-Final PS&E]])","v":""},{"$f":"IF($A474=0,\"\",Table2[[#This Row],[Final PS&E]])","v":""},{"$f":"IF($A474=0,\"\",'LOD Matrix (DO NOT PRINT)'!M474)","v":""},{"$f":"IF($A474=0,\"\",'LOD Matrix (DO NOT PRINT)'!N474)","v":""},{"$f":"IF($A474=0,\"\",IF('LOD Matrix (DO NOT PRINT)'!P474=TRUE,\"Yes\",\"No\"))","v":""}]
[{"$f":"IF(B475=\"Yes\",Table2[[#This Row],[Break Level]],0)","v":0},{"$f":"Table2[[#This Row],[Yes/No]]","v":"No"},null,null,{"$f":"IF($A475=0,\"\",Table2[[#This Row],[PTC DISCIPLINE]])","v":""},{"$f":"IF($A475=0,\"\",Table2[[#This Row],[ELEMENT]])","v":""},{"$f":"IF($A475=0,\"\",Table2[[#This Row],[LG&TSL]])","v":""},{"$f":"IF($A475=0,\"\",Table2[[#This Row],[DFV]])","v":""},{"$f":"IF($A475=0,\"\",Table2[[#This Row],[60%-OTS]])","v":""},{"$f":"IF($A475=0,\"\",Table2[[#This Row],[75%]])","v":""},{"$f":"IF($A475=0,\"\",Table2[[#This Row],[Pre-Final PS&E]])","v":""},{"$f":"IF($A475=0,\"\",Table2[[#This Row],[Final PS&E]])","v":""},{"$f":"IF($A475=0,\"\",'LOD Matrix (DO NOT PRINT)'!M475)","v":""},{"$f":"IF($A475=0,\"\",'LOD Matrix (DO NOT PRINT)'!N475)","v":""},{"$f":"IF($A475=0,\"\",IF('LOD Matrix (DO NOT PRINT)'!P475=TRUE,\"Yes\",\"No\"))","v":""}]
[{"$f":"IF(B476=\"Yes\",Table2[[#This Row],[Break Level]],0)","v":0},{"$f":"Table2[[#This Row],[Yes/No]]","v":"No"},null,null,{"$f":"IF($A476=0,\"\",Table2[[#This Row],[PTC DISCIPLINE]])","v":""},{"$f":"IF($A476=0,\"\",Table2[[#This Row],[ELEMENT]])","v":""},{"$f":"IF($A476=0,\"\",Table2[[#This Row],[LG&TSL]])","v":""},{"$f":"IF($A476=0,\"\",Table2[[#This Row],[DFV]])","v":""},{"$f":"IF($A476=0,\"\",Table2[[#This Row],[60%-OTS]])","v":""},{"$f":"IF($A476=0,\"\",Table2[[#This Row],[75%]])","v":""},{"$f":"IF($A476=0,\"\",Table2[[#This Row],[Pre-Final PS&E]])","v":""},{"$f":"IF($A476=0,\"\",Table2[[#This Row],[Final PS&E]])","v":""},{"$f":"IF($A476=0,\"\",'LOD Matrix (DO NOT PRINT)'!M476)","v":""},{"$f":"IF($A476=0,\"\",'LOD Matrix (DO NOT PRINT)'!N476)","v":""},{"$f":"IF($A476=0,\"\",IF('LOD Matrix (DO NOT PRINT)'!P476=TRUE,\"Yes\",\"No\"))","v":""}]
[{"$f":"IF(B477=\"Yes\",Table2[[#This Row],[Break Level]],0)","v":0},{"$f":"Table2[[#This Row],[Yes/No]]","v":"No"},null,null,{"$f":"IF($A477=0,\"\",Table2[[#This Row],[PTC DISCIPLINE]])","v":""},{"$f":"IF($A477=0,\"\",Table2[[#This Row],[ELEMENT]])","v":""},{"$f":"IF($A477=0,\"\",Table2[[#This Row],[LG&TSL]])","v":""},{"$f":"IF($A477=0,\"\",Table2[[#This Row],[DFV]])","v":""},{"$f":"IF($A477=0,\"\",Table2[[#This Row],[60%-OTS]])","v":""},{"$f":"IF($A477=0,\"\",Table2[[#This Row],[75%]])","v":""},{"$f":"IF($A477=0,\"\",Table2[[#This Row],[Pre-Final PS&E]])","v":""},{"$f":"IF($A477=0,\"\",Table2[[#This Row],[Final PS&E]])","v":""},{"$f":"IF($A477=0,\"\",'LOD Matrix (DO NOT PRINT)'!M477)","v":""},{"$f":"IF($A477=0,\"\",'LOD Matrix (DO NOT PRINT)'!N477)","v":""},{"$f":"IF($A477=0,\"\",IF('LOD Matrix (DO NOT PRINT)'!P477=TRUE,\"Yes\",\"No\"))","v":""}]
[{"$f":"IF(B478=\"Yes\",Table2[[#This Row],[Break Level]],0)","v":0},{"$f":"Table2[[#This Row],[Yes/No]]","v":"No"},null,null,{"$f":"IF($A478=0,\"\",Table2[[#This Row],[PTC DISCIPLINE]])","v":""},{"$f":"IF($A478=0,\"\",Table2[[#This Row],[ELEMENT]])","v":""},{"$f":"IF($A478=0,\"\",Table2[[#This Row],[LG&TSL]])","v":""},{"$f":"IF($A478=0,\"\",Table2[[#This Row],[DFV]])","v":""},{"$f":"IF($A478=0,\"\",Table2[[#This Row],[60%-OTS]])","v":""},{"$f":"IF($A478=0,\"\",Table2[[#This Row],[75%]])","v":""},{"$f":"IF($A478=0,\"\",Table2[[#This Row],[Pre-Final PS&E]])","v":""},{"$f":"IF($A478=0,\"\",Table2[[#This Row],[Final PS&E]])","v":""},{"$f":"IF($A478=0,\"\",'LOD Matrix (DO NOT PRINT)'!M478)","v":""},{"$f":"IF($A478=0,\"\",'LOD Matrix (DO NOT PRINT)'!N478)","v":""},{"$f":"IF($A478=0,\"\",IF('LOD Matrix (DO NOT PRINT)'!P478=TRUE,\"Yes\",\"No\"))","v":""}]
[{"$f":"IF(B479=\"Yes\",Table2[[#This Row],[Break Level]],0)","v":0},{"$f":"Table2[[#This Row],[Yes/No]]","v":"No"},null,null,{"$f":"IF($A479=0,\"\",Table2[[#This Row],[PTC DISCIPLINE]])","v":""},{"$f":"IF($A479=0,\"\",Table2[[#This Row],[ELEMENT]])","v":""},{"$f":"IF($A479=0,\"\",Table2[[#This Row],[LG&TSL]])","v":""},{"$f":"IF($A479=0,\"\",Table2[[#This Row],[DFV]])","v":""},{"$f":"IF($A479=0,\"\",Table2[[#This Row],[60%-OTS]])","v":""},{"$f":"IF($A479=0,\"\",Table2[[#This Row],[75%]])","v":""},{"$f":"IF($A479=0,\"\",Table2[[#This Row],[Pre-Final PS&E]])","v":""},{"$f":"IF($A479=0,\"\",Table2[[#This Row],[Final PS&E]])","v":""},{"$f":"IF($A479=0,\"\",'LOD Matrix (DO NOT PRINT)'!M479)","v":""},{"$f":"IF($A479=0,\"\",'LOD Matrix (DO NOT PRINT)'!N479)","v":""},{"$f":"IF($A479=0,\"\",IF('LOD Matrix (DO NOT PRINT)'!P479=TRUE,\"Yes\",\"No\"))","v":""}]
[{"$f":"IF(B480=\"Yes\",Table2[[#This Row],[Break Level]],0)","v":0},{"$f":"Table2[[#This Row],[Yes/No]]","v":"No"},null,null,{"$f":"IF($A480=0,\"\",Table2[[#This Row],[PTC DISCIPLINE]])","v":""},{"$f":"IF($A480=0,\"\",Table2[[#This Row],[ELEMENT]])","v":""},{"$f":"IF($A480=0,\"\",Table2[[#This Row],[LG&TSL]])","v":""},{"$f":"IF($A480=0,\"\",Table2[[#This Row],[DFV]])","v":""},{"$f":"IF($A480=0,\"\",Table2[[#This Row],[60%-OTS]])","v":""},{"$f":"IF($A480=0,\"\",Table2[[#This Row],[75%]])","v":""},{"$f":"IF($A480=0,\"\",Table2[[#This Row],[Pre-Final PS&E]])","v":""},{"$f":"IF($A480=0,\"\",Table2[[#This Row],[Final PS&E]])","v":""},{"$f":"IF($A480=0,\"\",'LOD Matrix (DO NOT PRINT)'!M480)","v":""},{"$f":"IF($A480=0,\"\",'LOD Matrix (DO NOT PRINT)'!N480)","v":""},{"$f":"IF($A480=0,\"\",IF('LOD Matrix (DO NOT PRINT)'!P480=TRUE,\"Yes\",\"No\"))","v":""}]
[{"$f":"IF(B481=\"Yes\",Table2[[#This Row],[Break Level]],0)","v":0},{"$f":"Table2[[#This Row],[Yes/No]]","v":"No"},null,null,{"$f":"IF($A481=0,\"\",Table2[[#This Row],[PTC DISCIPLINE]])","v":""},{"$f":"IF($A481=0,\"\",Table2[[#This Row],[ELEMENT]])","v":""},{"$f":"IF($A481=0,\"\",Table2[[#This Row],[LG&TSL]])","v":""},{"$f":"IF($A481=0,\"\",Table2[[#This Row],[DFV]])","v":""},{"$f":"IF($A481=0,\"\",Table2[[#This Row],[60%-OTS]])","v":""},{"$f":"IF($A481=0,\"\",Table2[[#This Row],[75%]])","v":""},{"$f":"IF($A481=0,\"\",Table2[[#This Row],[Pre-Final PS&E]])","v":""},{"$f":"IF($A481=0,\"\",Table2[[#This Row],[Final PS&E]])","v":""},{"$f":"IF($A481=0,\"\",'LOD Matrix (DO NOT PRINT)'!M481)","v":""},{"$f":"IF($A481=0,\"\",'LOD Matrix (DO NOT PRINT)'!N481)","v":""},{"$f":"IF($A481=0,\"\",IF('LOD Matrix (DO NOT PRINT)'!P481=TRUE,\"Yes\",\"No\"))","v":""}]
[{"$f":"IF(B482=\"Yes\",Table2[[#This Row],[Break Level]],0)","v":0},{"$f":"Table2[[#This Row],[Yes/No]]","v":"No"},null,null,{"$f":"IF($A482=0,\"\",Table2[[#This Row],[PTC DISCIPLINE]])","v":""},{"$f":"IF($A482=0,\"\",Table2[[#This Row],[ELEMENT]])","v":""},{"$f":"IF($A482=0,\"\",Table2[[#This Row],[LG&TSL]])","v":""},{"$f":"IF($A482=0,\"\",Table2[[#This Row],[DFV]])","v":""},{"$f":"IF($A482=0,\"\",Table2[[#This Row],[60%-OTS]])","v":""},{"$f":"IF($A482=0,\"\",Table2[[#This Row],[75%]])","v":""},{"$f":"IF($A482=0,\"\",Table2[[#This Row],[Pre-Final PS&E]])","v":""},{"$f":"IF($A482=0,\"\",Table2[[#This Row],[Final PS&E]])","v":""},{"$f":"IF($A482=0,\"\",'LOD Matrix (DO NOT PRINT)'!M482)","v":""},{"$f":"IF($A482=0,\"\",'LOD Matrix (DO NOT PRINT)'!N482)","v":""},{"$f":"IF($A482=0,\"\",IF('LOD Matrix (DO NOT PRINT)'!P482=TRUE,\"Yes\",\"No\"))","v":""}]
[{"$f":"IF(B483=\"Yes\",Table2[[#This Row],[Break Level]],0)","v":0},{"$f":"Table2[[#This Row],[Yes/No]]","v":"No"},null,null,{"$f":"IF($A483=0,\"\",Table2[[#This Row],[PTC DISCIPLINE]])","v":""},{"$f":"IF($A483=0,\"\",Table2[[#This Row],[ELEMENT]])","v":""},{"$f":"IF($A483=0,\"\",Table2[[#This Row],[LG&TSL]])","v":""},{"$f":"IF($A483=0,\"\",Table2[[#This Row],[DFV]])","v":""},{"$f":"IF($A483=0,\"\",Table2[[#This Row],[60%-OTS]])","v":""},{"$f":"IF($A483=0,\"\",Table2[[#This Row],[75%]])","v":""},{"$f":"IF($A483=0,\"\",Table2[[#This Row],[Pre-Final PS&E]])","v":""},{"$f":"IF($A483=0,\"\",Table2[[#This Row],[Final PS&E]])","v":""},{"$f":"IF($A483=0,\"\",'LOD Matrix (DO NOT PRINT)'!M483)","v":""},{"$f":"IF($A483=0,\"\",'LOD Matrix (DO NOT PRINT)'!N483)","v":""},{"$f":"IF($A483=0,\"\",IF('LOD Matrix (DO NOT PRINT)'!P483=TRUE,\"Yes\",\"No\"))","v":""}]
[{"$f":"IF(B484=\"Yes\",Table2[[#This Row],[Break Level]],0)","v":0},{"$f":"Table2[[#This Row],[Yes/No]]","v":"No"},null,null,{"$f":"IF($A484=0,\"\",Table2[[#This Row],[PTC DISCIPLINE]])","v":""},{"$f":"IF($A484=0,\"\",Table2[[#This Row],[ELEMENT]])","v":""},{"$f":"IF($A484=0,\"\",Table2[[#This Row],[LG&TSL]])","v":""},{"$f":"IF($A484=0,\"\",Table2[[#This Row],[DFV]])","v":""},{"$f":"IF($A484=0,\"\",Table2[[#This Row],[60%-OTS]])","v":""},{"$f":"IF($A484=0,\"\",Table2[[#This Row],[75%]])","v":""},{"$f":"IF($A484=0,\"\",Table2[[#This Row],[Pre-Final PS&E]])","v":""},{"$f":"IF($A484=0,\"\",Table2[[#This Row],[Final PS&E]])","v":""},{"$f":"IF($A484=0,\"\",'LOD Matrix (DO NOT PRINT)'!M484)","v":""},{"$f":"IF($A484=0,\"\",'LOD Matrix (DO NOT PRINT)'!N484)","v":""},{"$f":"IF($A484=0,\"\",IF('LOD Matrix (DO NOT PRINT)'!P484=TRUE,\"Yes\",\"No\"))","v":""}]
[{"$f":"IF(B485=\"Yes\",Table2[[#This Row],[Break Level]],0)","v":0},{"$f":"Table2[[#This Row],[Yes/No]]","v":"No"},null,null,{"$f":"IF($A485=0,\"\",Table2[[#This Row],[PTC DISCIPLINE]])","v":""},{"$f":"IF($A485=0,\"\",Table2[[#This Row],[ELEMENT]])","v":""},{"$f":"IF($A485=0,\"\",Table2[[#This Row],[LG&TSL]])","v":""},{"$f":"IF($A485=0,\"\",Table2[[#This Row],[DFV]])","v":""},{"$f":"IF($A485=0,\"\",Table2[[#This Row],[60%-OTS]])","v":""},{"$f":"IF($A485=0,\"\",Table2[[#This Row],[75%]])","v":""},{"$f":"IF($A485=0,\"\",Table2[[#This Row],[Pre-Final PS&E]])","v":""},{"$f":"IF($A485=0,\"\",Table2[[#This Row],[Final PS&E]])","v":""},{"$f":"IF($A485=0,\"\",'LOD Matrix (DO NOT PRINT)'!M485)","v":""},{"$f":"IF($A485=0,\"\",'LOD Matrix (DO NOT PRINT)'!N485)","v":""},{"$f":"IF($A485=0,\"\",IF('LOD Matrix (DO NOT PRINT)'!P485=TRUE,\"Yes\",\"No\"))","v":""}]
[{"$f":"IF(B486=\"Yes\",Table2[[#This Row],[Break Level]],0)","v":0},{"$f":"Table2[[#This Row],[Yes/No]]","v":"No"},null,null,{"$f":"IF($A486=0,\"\",Table2[[#This Row],[PTC DISCIPLINE]])","v":""},{"$f":"IF($A486=0,\"\",Table2[[#This Row],[ELEMENT]])","v":""},{"$f":"IF($A486=0,\"\",Table2[[#This Row],[LG&TSL]])","v":""},{"$f":"IF($A486=0,\"\",Table2[[#This Row],[DFV]])","v":""},{"$f":"IF($A486=0,\"\",Table2[[#This Row],[60%-OTS]])","v":""},{"$f":"IF($A486=0,\"\",Table2[[#This Row],[75%]])","v":""},{"$f":"IF($A486=0,\"\",Table2[[#This Row],[Pre-Final PS&E]])","v":""},{"$f":"IF($A486=0,\"\",Table2[[#This Row],[Final PS&E]])","v":""},{"$f":"IF($A486=0,\"\",'LOD Matrix (DO NOT PRINT)'!M486)","v":""},{"$f":"IF($A486=0,\"\",'LOD Matrix (DO NOT PRINT)'!N486)","v":""},{"$f":"IF($A486=0,\"\",IF('LOD Matrix (DO NOT PRINT)'!P486=TRUE,\"Yes\",\"No\"))","v":""}]
[{"$f":"IF(B487=\"Yes\",Table2[[#This Row],[Break Level]],0)","v":0},{"$f":"Table2[[#This Row],[Yes/No]]","v":"No"},null,null,{"$f":"IF($A487=0,\"\",Table2[[#This Row],[PTC DISCIPLINE]])","v":""},{"$f":"IF($A487=0,\"\",Table2[[#This Row],[ELEMENT]])","v":""},{"$f":"IF($A487=0,\"\",Table2[[#This Row],[LG&TSL]])","v":""},{"$f":"IF($A487=0,\"\",Table2[[#This Row],[DFV]])","v":""},{"$f":"IF($A487=0,\"\",Table2[[#This Row],[60%-OTS]])","v":""},{"$f":"IF($A487=0,\"\",Table2[[#This Row],[75%]])","v":""},{"$f":"IF($A487=0,\"\",Table2[[#This Row],[Pre-Final PS&E]])","v":""},{"$f":"IF($A487=0,\"\",Table2[[#This Row],[Final PS&E]])","v":""},{"$f":"IF($A487=0,\"\",'LOD Matrix (DO NOT PRINT)'!M487)","v":""},{"$f":"IF($A487=0,\"\",'LOD Matrix (DO NOT PRINT)'!N487)","v":""},{"$f":"IF($A487=0,\"\",IF('LOD Matrix (DO NOT PRINT)'!P487=TRUE,\"Yes\",\"No\"))","v":""}]
[{"$f":"IF(B488=\"Yes\",Table2[[#This Row],[Break Level]],0)","v":0},{"$f":"Table2[[#This Row],[Yes/No]]","v":"No"},null,null,{"$f":"IF($A488=0,\"\",Table2[[#This Row],[PTC DISCIPLINE]])","v":""},{"$f":"IF($A488=0,\"\",Table2[[#This Row],[ELEMENT]])","v":""},{"$f":"IF($A488=0,\"\",Table2[[#This Row],[LG&TSL]])","v":""},{"$f":"IF($A488=0,\"\",Table2[[#This Row],[DFV]])","v":""},{"$f":"IF($A488=0,\"\",Table2[[#This Row],[60%-OTS]])","v":""},{"$f":"IF($A488=0,\"\",Table2[[#This Row],[75%]])","v":""},{"$f":"IF($A488=0,\"\",Table2[[#This Row],[Pre-Final PS&E]])","v":""},{"$f":"IF($A488=0,\"\",Table2[[#This Row],[Final PS&E]])","v":""},{"$f":"IF($A488=0,\"\",'LOD Matrix (DO NOT PRINT)'!M488)","v":""},{"$f":"IF($A488=0,\"\",'LOD Matrix (DO NOT PRINT)'!N488)","v":""},{"$f":"IF($A488=0,\"\",IF('LOD Matrix (DO NOT PRINT)'!P488=TRUE,\"Yes\",\"No\"))","v":""}]
[{"$f":"IF(B489=\"Yes\",Table2[[#This Row],[Break Level]],0)","v":0},{"$f":"Table2[[#This Row],[Yes/No]]","v":"No"},null,null,{"$f":"IF($A489=0,\"\",Table2[[#This Row],[PTC DISCIPLINE]])","v":""},{"$f":"IF($A489=0,\"\",Table2[[#This Row],[ELEMENT]])","v":""},{"$f":"IF($A489=0,\"\",Table2[[#This Row],[LG&TSL]])","v":""},{"$f":"IF($A489=0,\"\",Table2[[#This Row],[DFV]])","v":""},{"$f":"IF($A489=0,\"\",Table2[[#This Row],[60%-OTS]])","v":""},{"$f":"IF($A489=0,\"\",Table2[[#This Row],[75%]])","v":""},{"$f":"IF($A489=0,\"\",Table2[[#This Row],[Pre-Final PS&E]])","v":""},{"$f":"IF($A489=0,\"\",Table2[[#This Row],[Final PS&E]])","v":""},{"$f":"IF($A489=0,\"\",'LOD Matrix (DO NOT PRINT)'!M489)","v":""},{"$f":"IF($A489=0,\"\",'LOD Matrix (DO NOT PRINT)'!N489)","v":""},{"$f":"IF($A489=0,\"\",IF('LOD Matrix (DO NOT PRINT)'!P489=TRUE,\"Yes\",\"No\"))","v":""}]
[{"$f":"IF(B490=\"Yes\",Table2[[#This Row],[Break Level]],0)","v":0},{"$f":"Table2[[#This Row],[Yes/No]]","v":"No"},null,null,{"$f":"IF($A490=0,\"\",Table2[[#This Row],[PTC DISCIPLINE]])","v":""},{"$f":"IF($A490=0,\"\",Table2[[#This Row],[ELEMENT]])","v":""},{"$f":"IF($A490=0,\"\",Table2[[#This Row],[LG&TSL]])","v":""},{"$f":"IF($A490=0,\"\",Table2[[#This Row],[DFV]])","v":""},{"$f":"IF($A490=0,\"\",Table2[[#This Row],[60%-OTS]])","v":""},{"$f":"IF($A490=0,\"\",Table2[[#This Row],[75%]])","v":""},{"$f":"IF($A490=0,\"\",Table2[[#This Row],[Pre-Final PS&E]])","v":""},{"$f":"IF($A490=0,\"\",Table2[[#This Row],[Final PS&E]])","v":""},{"$f":"IF($A490=0,\"\",'LOD Matrix (DO NOT PRINT)'!M490)","v":""},{"$f":"IF($A490=0,\"\",'LOD Matrix (DO NOT PRINT)'!N490)","v":""},{"$f":"IF($A490=0,\"\",IF('LOD Matrix (DO NOT PRINT)'!P490=TRUE,\"Yes\",\"No\"))","v":""}]
[{"$f":"IF(B491=\"Yes\",Table2[[#This Row],[Break Level]],0)","v":0},{"$f":"Table2[[#This Row],[Yes/No]]","v":"No"},null,null,{"$f":"IF($A491=0,\"\",Table2[[#This Row],[PTC DISCIPLINE]])","v":""},{"$f":"IF($A491=0,\"\",Table2[[#This Row],[ELEMENT]])","v":""},{"$f":"IF($A491=0,\"\",Table2[[#This Row],[LG&TSL]])","v":""},{"$f":"IF($A491=0,\"\",Table2[[#This Row],[DFV]])","v":""},{"$f":"IF($A491=0,\"\",Table2[[#This Row],[60%-OTS]])","v":""},{"$f":"IF($A491=0,\"\",Table2[[#This Row],[75%]])","v":""},{"$f":"IF($A491=0,\"\",Table2[[#This Row],[Pre-Final PS&E]])","v":""},{"$f":"IF($A491=0,\"\",Table2[[#This Row],[Final PS&E]])","v":""},{"$f":"IF($A491=0,\"\",'LOD Matrix (DO NOT PRINT)'!M491)","v":""},{"$f":"IF($A491=0,\"\",'LOD Matrix (DO NOT PRINT)'!N491)","v":""},{"$f":"IF($A491=0,\"\",IF('LOD Matrix (DO NOT PRINT)'!P491=TRUE,\"Yes\",\"No\"))","v":""}]
[{"$f":"IF(B492=\"Yes\",Table2[[#This Row],[Break Level]],0)","v":0},{"$f":"Table2[[#This Row],[Yes/No]]","v":"No"},null,null,{"$f":"IF($A492=0,\"\",Table2[[#This Row],[PTC DISCIPLINE]])","v":""},{"$f":"IF($A492=0,\"\",Table2[[#This Row],[ELEMENT]])","v":""},{"$f":"IF($A492=0,\"\",Table2[[#This Row],[LG&TSL]])","v":""},{"$f":"IF($A492=0,\"\",Table2[[#This Row],[DFV]])","v":""},{"$f":"IF($A492=0,\"\",Table2[[#This Row],[60%-OTS]])","v":""},{"$f":"IF($A492=0,\"\",Table2[[#This Row],[75%]])","v":""},{"$f":"IF($A492=0,\"\",Table2[[#This Row],[Pre-Final PS&E]])","v":""},{"$f":"IF($A492=0,\"\",Table2[[#This Row],[Final PS&E]])","v":""},{"$f":"IF($A492=0,\"\",'LOD Matrix (DO NOT PRINT)'!M492)","v":""},{"$f":"IF($A492=0,\"\",'LOD Matrix (DO NOT PRINT)'!N492)","v":""},{"$f":"IF($A492=0,\"\",IF('LOD Matrix (DO NOT PRINT)'!P492=TRUE,\"Yes\",\"No\"))","v":""}]
[{"$f":"IF(B493=\"Yes\",Table2[[#This Row],[Break Level]],0)","v":0},{"$f":"Table2[[#This Row],[Yes/No]]","v":"No"},null,null,{"$f":"IF($A493=0,\"\",Table2[[#This Row],[PTC DISCIPLINE]])","v":""},{"$f":"IF($A493=0,\"\",Table2[[#This Row],[ELEMENT]])","v":""},{"$f":"IF($A493=0,\"\",Table2[[#This Row],[LG&TSL]])","v":""},{"$f":"IF($A493=0,\"\",Table2[[#This Row],[DFV]])","v":""},{"$f":"IF($A493=0,\"\",Table2[[#This Row],[60%-OTS]])","v":""},{"$f":"IF($A493=0,\"\",Table2[[#This Row],[75%]])","v":""},{"$f":"IF($A493=0,\"\",Table2[[#This Row],[Pre-Final PS&E]])","v":""},{"$f":"IF($A493=0,\"\",Table2[[#This Row],[Final PS&E]])","v":""},{"$f":"IF($A493=0,\"\",'LOD Matrix (DO NOT PRINT)'!M493)","v":""},{"$f":"IF($A493=0,\"\",'LOD Matrix (DO NOT PRINT)'!N493)","v":""},{"$f":"IF($A493=0,\"\",IF('LOD Matrix (DO NOT PRINT)'!P493=TRUE,\"Yes\",\"No\"))","v":""}]
[{"$f":"IF(B494=\"Yes\",Table2[[#This Row],[Break Level]],0)","v":0},{"$f":"Table2[[#This Row],[Yes/No]]","v":"No"},null,null,{"$f":"IF($A494=0,\"\",Table2[[#This Row],[PTC DISCIPLINE]])","v":""},{"$f":"IF($A494=0,\"\",Table2[[#This Row],[ELEMENT]])","v":""},{"$f":"IF($A494=0,\"\",Table2[[#This Row],[LG&TSL]])","v":""},{"$f":"IF($A494=0,\"\",Table2[[#This Row],[DFV]])","v":""},{"$f":"IF($A494=0,\"\",Table2[[#This Row],[60%-OTS]])","v":""},{"$f":"IF($A494=0,\"\",Table2[[#This Row],[75%]])","v":""},{"$f":"IF($A494=0,\"\",Table2[[#This Row],[Pre-Final PS&E]])","v":""},{"$f":"IF($A494=0,\"\",Table2[[#This Row],[Final PS&E]])","v":""},{"$f":"IF($A494=0,\"\",'LOD Matrix (DO NOT PRINT)'!M494)","v":""},{"$f":"IF($A494=0,\"\",'LOD Matrix (DO NOT PRINT)'!N494)","v":""},{"$f":"IF($A494=0,\"\",IF('LOD Matrix (DO NOT PRINT)'!P494=TRUE,\"Yes\",\"No\"))","v":""}]
[{"$f":"IF(B495=\"Yes\",Table2[[#This Row],[Break Level]],0)","v":0},{"$f":"Table2[[#This Row],[Yes/No]]","v":"No"},null,null,{"$f":"IF($A495=0,\"\",Table2[[#This Row],[PTC DISCIPLINE]])","v":""},{"$f":"IF($A495=0,\"\",Table2[[#This Row],[ELEMENT]])","v":""},{"$f":"IF($A495=0,\"\",Table2[[#This Row],[LG&TSL]])","v":""},{"$f":"IF($A495=0,\"\",Table2[[#This Row],[DFV]])","v":""},{"$f":"IF($A495=0,\"\",Table2[[#This Row],[60%-OTS]])","v":""},{"$f":"IF($A495=0,\"\",Table2[[#This Row],[75%]])","v":""},{"$f":"IF($A495=0,\"\",Table2[[#This Row],[Pre-Final PS&E]])","v":""},{"$f":"IF($A495=0,\"\",Table2[[#This Row],[Final PS&E]])","v":""},{"$f":"IF($A495=0,\"\",'LOD Matrix (DO NOT PRINT)'!M495)","v":""},{"$f":"IF($A495=0,\"\",'LOD Matrix (DO NOT PRINT)'!N495)","v":""},{"$f":"IF($A495=0,\"\",IF('LOD Matrix (DO NOT PRINT)'!P495=TRUE,\"Yes\",\"No\"))","v":""}]
[{"$f":"IF(B496=\"Yes\",Table2[[#This Row],[Break Level]],0)","v":0},{"$f":"Table2[[#This Row],[Yes/No]]","v":"No"},null,null,{"$f":"IF($A496=0,\"\",Table2[[#This Row],[PTC DISCIPLINE]])","v":""},{"$f":"IF($A496=0,\"\",Table2[[#This Row],[ELEMENT]])","v":""},{"$f":"IF($A496=0,\"\",Table2[[#This Row],[LG&TSL]])","v":""},{"$f":"IF($A496=0,\"\",Table2[[#This Row],[DFV]])","v":""},{"$f":"IF($A496=0,\"\",Table2[[#This Row],[60%-OTS]])","v":""},{"$f":"IF($A496=0,\"\",Table2[[#This Row],[75%]])","v":""},{"$f":"IF($A496=0,\"\",Table2[[#This Row],[Pre-Final PS&E]])","v":""},{"$f":"IF($A496=0,\"\",Table2[[#This Row],[Final PS&E]])","v":""},{"$f":"IF($A496=0,\"\",'LOD Matrix (DO NOT PRINT)'!M496)","v":""},{"$f":"IF($A496=0,\"\",'LOD Matrix (DO NOT PRINT)'!N496)","v":""},{"$f":"IF($A496=0,\"\",IF('LOD Matrix (DO NOT PRINT)'!P496=TRUE,\"Yes\",\"No\"))","v":""}]
[{"$f":"IF(B497=\"Yes\",Table2[[#This Row],[Break Level]],0)","v":0},{"$f":"Table2[[#This Row],[Yes/No]]","v":"No"},null,null,{"$f":"IF($A497=0,\"\",Table2[[#This Row],[PTC DISCIPLINE]])","v":""},{"$f":"IF($A497=0,\"\",Table2[[#This Row],[ELEMENT]])","v":""},{"$f":"IF($A497=0,\"\",Table2[[#This Row],[LG&TSL]])","v":""},{"$f":"IF($A497=0,\"\",Table2[[#This Row],[DFV]])","v":""},{"$f":"IF($A497=0,\"\",Table2[[#This Row],[60%-OTS]])","v":""},{"$f":"IF($A497=0,\"\",Table2[[#This Row],[75%]])","v":""},{"$f":"IF($A497=0,\"\",Table2[[#This Row],[Pre-Final PS&E]])","v":""},{"$f":"IF($A497=0,\"\",Table2[[#This Row],[Final PS&E]])","v":""},{"$f":"IF($A497=0,\"\",'LOD Matrix (DO NOT PRINT)'!M497)","v":""},{"$f":"IF($A497=0,\"\",'LOD Matrix (DO NOT PRINT)'!N497)","v":""},{"$f":"IF($A497=0,\"\",IF('LOD Matrix (DO NOT PRINT)'!P497=TRUE,\"Yes\",\"No\"))","v":""}]
[{"$f":"IF(B498=\"Yes\",Table2[[#This Row],[Break Level]],0)","v":0},{"$f":"Table2[[#This Row],[Yes/No]]","v":"No"},null,null,{"$f":"IF($A498=0,\"\",Table2[[#This Row],[PTC DISCIPLINE]])","v":""},{"$f":"IF($A498=0,\"\",Table2[[#This Row],[ELEMENT]])","v":""},{"$f":"IF($A498=0,\"\",Table2[[#This Row],[LG&TSL]])","v":""},{"$f":"IF($A498=0,\"\",Table2[[#This Row],[DFV]])","v":""},{"$f":"IF($A498=0,\"\",Table2[[#This Row],[60%-OTS]])","v":""},{"$f":"IF($A498=0,\"\",Table2[[#This Row],[75%]])","v":""},{"$f":"IF($A498=0,\"\",Table2[[#This Row],[Pre-Final PS&E]])","v":""},{"$f":"IF($A498=0,\"\",Table2[[#This Row],[Final PS&E]])","v":""},{"$f":"IF($A498=0,\"\",'LOD Matrix (DO NOT PRINT)'!M498)","v":""},{"$f":"IF($A498=0,\"\",'LOD Matrix (DO NOT PRINT)'!N498)","v":""},{"$f":"IF($A498=0,\"\",IF('LOD Matrix (DO NOT PRINT)'!P498=TRUE,\"Yes\",\"No\"))","v":""}]
[{"$f":"IF(B499=\"Yes\",Table2[[#This Row],[Break Level]],0)","v":0},{"$f":"Table2[[#This Row],[Yes/No]]","v":"No"},null,null,{"$f":"IF($A499=0,\"\",Table2[[#This Row],[PTC DISCIPLINE]])","v":""},{"$f":"IF($A499=0,\"\",Table2[[#This Row],[ELEMENT]])","v":""},{"$f":"IF($A499=0,\"\",Table2[[#This Row],[LG&TSL]])","v":""},{"$f":"IF($A499=0,\"\",Table2[[#This Row],[DFV]])","v":""},{"$f":"IF($A499=0,\"\",Table2[[#This Row],[60%-OTS]])","v":""},{"$f":"IF($A499=0,\"\",Table2[[#This Row],[75%]])","v":""},{"$f":"IF($A499=0,\"\",Table2[[#This Row],[Pre-Final PS&E]])","v":""},{"$f":"IF($A499=0,\"\",Table2[[#This Row],[Final PS&E]])","v":""},{"$f":"IF($A499=0,\"\",'LOD Matrix (DO NOT PRINT)'!M499)","v":""},{"$f":"IF($A499=0,\"\",'LOD Matrix (DO NOT PRINT)'!N499)","v":""},{"$f":"IF($A499=0,\"\",IF('LOD Matrix (DO NOT PRINT)'!P499=TRUE,\"Yes\",\"No\"))","v":""}]
[{"$f":"IF(B500=\"Yes\",Table2[[#This Row],[Break Level]],0)","v":0},{"$f":"Table2[[#This Row],[Yes/No]]","v":"No"},null,null,{"$f":"IF($A500=0,\"\",Table2[[#This Row],[PTC DISCIPLINE]])","v":""},{"$f":"IF($A500=0,\"\",Table2[[#This Row],[ELEMENT]])","v":""},{"$f":"IF($A500=0,\"\",Table2[[#This Row],[LG&TSL]])","v":""},{"$f":"IF($A500=0,\"\",Table2[[#This Row],[DFV]])","v":""},{"$f":"IF($A500=0,\"\",Table2[[#This Row],[60%-OTS]])","v":""},{"$f":"IF($A500=0,\"\",Table2[[#This Row],[75%]])","v":""},{"$f":"IF($A500=0,\"\",Table2[[#This Row],[Pre-Final PS&E]])","v":""},{"$f":"IF($A500=0,\"\",Table2[[#This Row],[Final PS&E]])","v":""},{"$f":"IF($A500=0,\"\",'LOD Matrix (DO NOT PRINT)'!M500)","v":""},{"$f":"IF($A500=0,\"\",'LOD Matrix (DO NOT PRINT)'!N500)","v":""},{"$f":"IF($A500=0,\"\",IF('LOD Matrix (DO NOT PRINT)'!P500=TRUE,\"Yes\",\"No\"))","v":""}]
[{"$f":"IF(B501=\"Yes\",Table2[[#This Row],[Break Level]],0)","v":0},{"$f":"Table2[[#This Row],[Yes/No]]","v":"No"},null,null,{"$f":"IF($A501=0,\"\",Table2[[#This Row],[PTC DISCIPLINE]])","v":""},{"$f":"IF($A501=0,\"\",Table2[[#This Row],[ELEMENT]])","v":""},{"$f":"IF($A501=0,\"\",Table2[[#This Row],[LG&TSL]])","v":""},{"$f":"IF($A501=0,\"\",Table2[[#This Row],[DFV]])","v":""},{"$f":"IF($A501=0,\"\",Table2[[#This Row],[60%-OTS]])","v":""},{"$f":"IF($A501=0,\"\",Table2[[#This Row],[75%]])","v":""},{"$f":"IF($A501=0,\"\",Table2[[#This Row],[Pre-Final PS&E]])","v":""},{"$f":"IF($A501=0,\"\",Table2[[#This Row],[Final PS&E]])","v":""},{"$f":"IF($A501=0,\"\",'LOD Matrix (DO NOT PRINT)'!M501)","v":""},{"$f":"IF($A501=0,\"\",'LOD Matrix (DO NOT PRINT)'!N501)","v":""},{"$f":"IF($A501=0,\"\",IF('LOD Matrix (DO NOT PRINT)'!P501=TRUE,\"Yes\",\"No\"))","v":""}]
[{"$f":"IF(B502=\"Yes\",Table2[[#This Row],[Break Level]],0)","v":0},{"$f":"Table2[[#This Row],[Yes/No]]","v":"No"},null,null,{"$f":"IF($A502=0,\"\",Table2[[#This Row],[PTC DISCIPLINE]])","v":""},{"$f":"IF($A502=0,\"\",Table2[[#This Row],[ELEMENT]])","v":""},{"$f":"IF($A502=0,\"\",Table2[[#This Row],[LG&TSL]])","v":""},{"$f":"IF($A502=0,\"\",Table2[[#This Row],[DFV]])","v":""},{"$f":"IF($A502=0,\"\",Table2[[#This Row],[60%-OTS]])","v":""},{"$f":"IF($A502=0,\"\",Table2[[#This Row],[75%]])","v":""},{"$f":"IF($A502=0,\"\",Table2[[#This Row],[Pre-Final PS&E]])","v":""},{"$f":"IF($A502=0,\"\",Table2[[#This Row],[Final PS&E]])","v":""},{"$f":"IF($A502=0,\"\",'LOD Matrix (DO NOT PRINT)'!M502)","v":""},{"$f":"IF($A502=0,\"\",'LOD Matrix (DO NOT PRINT)'!N502)","v":""},{"$f":"IF($A502=0,\"\",IF('LOD Matrix (DO NOT PRINT)'!P502=TRUE,\"Yes\",\"No\"))","v":""}]
[{"$f":"IF(B503=\"Yes\",Table2[[#This Row],[Break Level]],0)","v":0},{"$f":"Table2[[#This Row],[Yes/No]]","v":"No"},null,null,{"$f":"IF($A503=0,\"\",Table2[[#This Row],[PTC DISCIPLINE]])","v":""},{"$f":"IF($A503=0,\"\",Table2[[#This Row],[ELEMENT]])","v":""},{"$f":"IF($A503=0,\"\",Table2[[#This Row],[LG&TSL]])","v":""},{"$f":"IF($A503=0,\"\",Table2[[#This Row],[DFV]])","v":""},{"$f":"IF($A503=0,\"\",Table2[[#This Row],[60%-OTS]])","v":""},{"$f":"IF($A503=0,\"\",Table2[[#This Row],[75%]])","v":""},{"$f":"IF($A503=0,\"\",Table2[[#This Row],[Pre-Final PS&E]])","v":""},{"$f":"IF($A503=0,\"\",Table2[[#This Row],[Final PS&E]])","v":""},{"$f":"IF($A503=0,\"\",'LOD Matrix (DO NOT PRINT)'!M503)","v":""},{"$f":"IF($A503=0,\"\",'LOD Matrix (DO NOT PRINT)'!N503)","v":""},{"$f":"IF($A503=0,\"\",IF('LOD Matrix (DO NOT PRINT)'!P503=TRUE,\"Yes\",\"No\"))","v":""}]
[{"$f":"IF(B504=\"Yes\",Table2[[#This Row],[Break Level]],0)","v":0},{"$f":"Table2[[#This Row],[Yes/No]]","v":"No"},null,null,{"$f":"IF($A504=0,\"\",Table2[[#This Row],[PTC DISCIPLINE]])","v":""},{"$f":"IF($A504=0,\"\",Table2[[#This Row],[ELEMENT]])","v":""},{"$f":"IF($A504=0,\"\",Table2[[#This Row],[LG&TSL]])","v":""},{"$f":"IF($A504=0,\"\",Table2[[#This Row],[DFV]])","v":""},{"$f":"IF($A504=0,\"\",Table2[[#This Row],[60%-OTS]])","v":""},{"$f":"IF($A504=0,\"\",Table2[[#This Row],[75%]])","v":""},{"$f":"IF($A504=0,\"\",Table2[[#This Row],[Pre-Final PS&E]])","v":""},{"$f":"IF($A504=0,\"\",Table2[[#This Row],[Final PS&E]])","v":""},{"$f":"IF($A504=0,\"\",'LOD Matrix (DO NOT PRINT)'!M504)","v":""},{"$f":"IF($A504=0,\"\",'LOD Matrix (DO NOT PRINT)'!N504)","v":""},{"$f":"IF($A504=0,\"\",IF('LOD Matrix (DO NOT PRINT)'!P504=TRUE,\"Yes\",\"No\"))","v":""}]
[{"$f":"IF(B505=\"Yes\",Table2[[#This Row],[Break Level]],0)","v":0},{"$f":"Table2[[#This Row],[Yes/No]]","v":"No"},null,null,{"$f":"IF($A505=0,\"\",Table2[[#This Row],[PTC DISCIPLINE]])","v":""},{"$f":"IF($A505=0,\"\",Table2[[#This Row],[ELEMENT]])","v":""},{"$f":"IF($A505=0,\"\",Table2[[#This Row],[LG&TSL]])","v":""},{"$f":"IF($A505=0,\"\",Table2[[#This Row],[DFV]])","v":""},{"$f":"IF($A505=0,\"\",Table2[[#This Row],[60%-OTS]])","v":""},{"$f":"IF($A505=0,\"\",Table2[[#This Row],[75%]])","v":""},{"$f":"IF($A505=0,\"\",Table2[[#This Row],[Pre-Final PS&E]])","v":""},{"$f":"IF($A505=0,\"\",Table2[[#This Row],[Final PS&E]])","v":""},{"$f":"IF($A505=0,\"\",'LOD Matrix (DO NOT PRINT)'!M505)","v":""},{"$f":"IF($A505=0,\"\",'LOD Matrix (DO NOT PRINT)'!N505)","v":""},{"$f":"IF($A505=0,\"\",IF('LOD Matrix (DO NOT PRINT)'!P505=TRUE,\"Yes\",\"No\"))","v":""}]
[{"$f":"IF(B506=\"Yes\",Table2[[#This Row],[Break Level]],0)","v":0},{"$f":"Table2[[#This Row],[Yes/No]]","v":"No"},null,null,{"$f":"IF($A506=0,\"\",Table2[[#This Row],[PTC DISCIPLINE]])","v":""},{"$f":"IF($A506=0,\"\",Table2[[#This Row],[ELEMENT]])","v":""},{"$f":"IF($A506=0,\"\",Table2[[#This Row],[LG&TSL]])","v":""},{"$f":"IF($A506=0,\"\",Table2[[#This Row],[DFV]])","v":""},{"$f":"IF($A506=0,\"\",Table2[[#This Row],[60%-OTS]])","v":""},{"$f":"IF($A506=0,\"\",Table2[[#This Row],[75%]])","v":""},{"$f":"IF($A506=0,\"\",Table2[[#This Row],[Pre-Final PS&E]])","v":""},{"$f":"IF($A506=0,\"\",Table2[[#This Row],[Final PS&E]])","v":""},{"$f":"IF($A506=0,\"\",'LOD Matrix (DO NOT PRINT)'!M506)","v":""},{"$f":"IF($A506=0,\"\",'LOD Matrix (DO NOT PRINT)'!N506)","v":""},{"$f":"IF($A506=0,\"\",IF('LOD Matrix (DO NOT PRINT)'!P506=TRUE,\"Yes\",\"No\"))","v":""}]
[{"$f":"IF(B507=\"Yes\",Table2[[#This Row],[Break Level]],0)","v":0},{"$f":"Table2[[#This Row],[Yes/No]]","v":"No"},null,null,{"$f":"IF($A507=0,\"\",Table2[[#This Row],[PTC DISCIPLINE]])","v":""},{"$f":"IF($A507=0,\"\",Table2[[#This Row],[ELEMENT]])","v":""},{"$f":"IF($A507=0,\"\",Table2[[#This Row],[LG&TSL]])","v":""},{"$f":"IF($A507=0,\"\",Table2[[#This Row],[DFV]])","v":""},{"$f":"IF($A507=0,\"\",Table2[[#This Row],[60%-OTS]])","v":""},{"$f":"IF($A507=0,\"\",Table2[[#This Row],[75%]])","v":""},{"$f":"IF($A507=0,\"\",Table2[[#This Row],[Pre-Final PS&E]])","v":""},{"$f":"IF($A507=0,\"\",Table2[[#This Row],[Final PS&E]])","v":""},{"$f":"IF($A507=0,\"\",'LOD Matrix (DO NOT PRINT)'!M507)","v":""},{"$f":"IF($A507=0,\"\",'LOD Matrix (DO NOT PRINT)'!N507)","v":""},{"$f":"IF($A507=0,\"\",IF('LOD Matrix (DO NOT PRINT)'!P507=TRUE,\"Yes\",\"No\"))","v":""}]
[{"$f":"IF(B508=\"Yes\",Table2[[#This Row],[Break Level]],0)","v":0},{"$f":"Table2[[#This Row],[Yes/No]]","v":"No"},null,null,{"$f":"IF($A508=0,\"\",Table2[[#This Row],[PTC DISCIPLINE]])","v":""},{"$f":"IF($A508=0,\"\",Table2[[#This Row],[ELEMENT]])","v":""},{"$f":"IF($A508=0,\"\",Table2[[#This Row],[LG&TSL]])","v":""},{"$f":"IF($A508=0,\"\",Table2[[#This Row],[DFV]])","v":""},{"$f":"IF($A508=0,\"\",Table2[[#This Row],[60%-OTS]])","v":""},{"$f":"IF($A508=0,\"\",Table2[[#This Row],[75%]])","v":""},{"$f":"IF($A508=0,\"\",Table2[[#This Row],[Pre-Final PS&E]])","v":""},{"$f":"IF($A508=0,\"\",Table2[[#This Row],[Final PS&E]])","v":""},{"$f":"IF($A508=0,\"\",'LOD Matrix (DO NOT PRINT)'!M508)","v":""},{"$f":"IF($A508=0,\"\",'LOD Matrix (DO NOT PRINT)'!N508)","v":""},{"$f":"IF($A508=0,\"\",IF('LOD Matrix (DO NOT PRINT)'!P508=TRUE,\"Yes\",\"No\"))","v":""}]
[{"$f":"IF(B509=\"Yes\",Table2[[#This Row],[Break Level]],0)","v":0},{"$f":"Table2[[#This Row],[Yes/No]]","v":"No"},null,null,{"$f":"IF($A509=0,\"\",Table2[[#This Row],[PTC DISCIPLINE]])","v":""},{"$f":"IF($A509=0,\"\",Table2[[#This Row],[ELEMENT]])","v":""},{"$f":"IF($A509=0,\"\",Table2[[#This Row],[LG&TSL]])","v":""},{"$f":"IF($A509=0,\"\",Table2[[#This Row],[DFV]])","v":""},{"$f":"IF($A509=0,\"\",Table2[[#This Row],[60%-OTS]])","v":""},{"$f":"IF($A509=0,\"\",Table2[[#This Row],[75%]])","v":""},{"$f":"IF($A509=0,\"\",Table2[[#This Row],[Pre-Final PS&E]])","v":""},{"$f":"IF($A509=0,\"\",Table2[[#This Row],[Final PS&E]])","v":""},{"$f":"IF($A509=0,\"\",'LOD Matrix (DO NOT PRINT)'!M509)","v":""},{"$f":"IF($A509=0,\"\",'LOD Matrix (DO NOT PRINT)'!N509)","v":""},{"$f":"IF($A509=0,\"\",IF('LOD Matrix (DO NOT PRINT)'!P509=TRUE,\"Yes\",\"No\"))","v":""}]
[{"$f":"IF(B510=\"Yes\",Table2[[#This Row],[Break Level]],0)","v":0},{"$f":"Table2[[#This Row],[Yes/No]]","v":"No"},null,null,{"$f":"IF($A510=0,\"\",Table2[[#This Row],[PTC DISCIPLINE]])","v":""},{"$f":"IF($A510=0,\"\",Table2[[#This Row],[ELEMENT]])","v":""},{"$f":"IF($A510=0,\"\",Table2[[#This Row],[LG&TSL]])","v":""},{"$f":"IF($A510=0,\"\",Table2[[#This Row],[DFV]])","v":""},{"$f":"IF($A510=0,\"\",Table2[[#This Row],[60%-OTS]])","v":""},{"$f":"IF($A510=0,\"\",Table2[[#This Row],[75%]])","v":""},{"$f":"IF($A510=0,\"\",Table2[[#This Row],[Pre-Final PS&E]])","v":""},{"$f":"IF($A510=0,\"\",Table2[[#This Row],[Final PS&E]])","v":""},{"$f":"IF($A510=0,\"\",'LOD Matrix (DO NOT PRINT)'!M510)","v":""},{"$f":"IF($A510=0,\"\",'LOD Matrix (DO NOT PRINT)'!N510)","v":""},{"$f":"IF($A510=0,\"\",IF('LOD Matrix (DO NOT PRINT)'!P510=TRUE,\"Yes\",\"No\"))","v":""}]
[{"$f":"IF(B511=\"Yes\",Table2[[#This Row],[Break Level]],0)","v":0},{"$f":"Table2[[#This Row],[Yes/No]]","v":"No"},null,null,{"$f":"IF($A511=0,\"\",Table2[[#This Row],[PTC DISCIPLINE]])","v":""},{"$f":"IF($A511=0,\"\",Table2[[#This Row],[ELEMENT]])","v":""},{"$f":"IF($A511=0,\"\",Table2[[#This Row],[LG&TSL]])","v":""},{"$f":"IF($A511=0,\"\",Table2[[#This Row],[DFV]])","v":""},{"$f":"IF($A511=0,\"\",Table2[[#This Row],[60%-OTS]])","v":""},{"$f":"IF($A511=0,\"\",Table2[[#This Row],[75%]])","v":""},{"$f":"IF($A511=0,\"\",Table2[[#This Row],[Pre-Final PS&E]])","v":""},{"$f":"IF($A511=0,\"\",Table2[[#This Row],[Final PS&E]])","v":""},{"$f":"IF($A511=0,\"\",'LOD Matrix (DO NOT PRINT)'!M511)","v":""},{"$f":"IF($A511=0,\"\",'LOD Matrix (DO NOT PRINT)'!N511)","v":""},{"$f":"IF($A511=0,\"\",IF('LOD Matrix (DO NOT PRINT)'!P511=TRUE,\"Yes\",\"No\"))","v":""}]
[{"$f":"IF(B512=\"Yes\",Table2[[#This Row],[Break Level]],0)","v":0},{"$f":"Table2[[#This Row],[Yes/No]]","v":"No"},null,null,{"$f":"IF($A512=0,\"\",Table2[[#This Row],[PTC DISCIPLINE]])","v":""},{"$f":"IF($A512=0,\"\",Table2[[#This Row],[ELEMENT]])","v":""},{"$f":"IF($A512=0,\"\",Table2[[#This Row],[LG&TSL]])","v":""},{"$f":"IF($A512=0,\"\",Table2[[#This Row],[DFV]])","v":""},{"$f":"IF($A512=0,\"\",Table2[[#This Row],[60%-OTS]])","v":""},{"$f":"IF($A512=0,\"\",Table2[[#This Row],[75%]])","v":""},{"$f":"IF($A512=0,\"\",Table2[[#This Row],[Pre-Final PS&E]])","v":""},{"$f":"IF($A512=0,\"\",Table2[[#This Row],[Final PS&E]])","v":""},{"$f":"IF($A512=0,\"\",'LOD Matrix (DO NOT PRINT)'!M512)","v":""},{"$f":"IF($A512=0,\"\",'LOD Matrix (DO NOT PRINT)'!N512)","v":""},{"$f":"IF($A512=0,\"\",IF('LOD Matrix (DO NOT PRINT)'!P512=TRUE,\"Yes\",\"No\"))","v":""}]
[{"$f":"IF(B513=\"Yes\",Table2[[#This Row],[Break Level]],0)","v":0},{"$f":"Table2[[#This Row],[Yes/No]]","v":"No"},null,null,{"$f":"IF($A513=0,\"\",Table2[[#This Row],[PTC DISCIPLINE]])","v":""},{"$f":"IF($A513=0,\"\",Table2[[#This Row],[ELEMENT]])","v":""},{"$f":"IF($A513=0,\"\",Table2[[#This Row],[LG&TSL]])","v":""},{"$f":"IF($A513=0,\"\",Table2[[#This Row],[DFV]])","v":""},{"$f":"IF($A513=0,\"\",Table2[[#This Row],[60%-OTS]])","v":""},{"$f":"IF($A513=0,\"\",Table2[[#This Row],[75%]])","v":""},{"$f":"IF($A513=0,\"\",Table2[[#This Row],[Pre-Final PS&E]])","v":""},{"$f":"IF($A513=0,\"\",Table2[[#This Row],[Final PS&E]])","v":""},{"$f":"IF($A513=0,\"\",'LOD Matrix (DO NOT PRINT)'!M513)","v":""},{"$f":"IF($A513=0,\"\",'LOD Matrix (DO NOT PRINT)'!N513)","v":""},{"$f":"IF($A513=0,\"\",IF('LOD Matrix (DO NOT PRINT)'!P513=TRUE,\"Yes\",\"No\"))","v":""}]
[{"$f":"IF(B514=\"Yes\",Table2[[#This Row],[Break Level]],0)","v":0},{"$f":"Table2[[#This Row],[Yes/No]]","v":"No"},null,null,{"$f":"IF($A514=0,\"\",Table2[[#This Row],[PTC DISCIPLINE]])","v":""},{"$f":"IF($A514=0,\"\",Table2[[#This Row],[ELEMENT]])","v":""},{"$f":"IF($A514=0,\"\",Table2[[#This Row],[LG&TSL]])","v":""},{"$f":"IF($A514=0,\"\",Table2[[#This Row],[DFV]])","v":""},{"$f":"IF($A514=0,\"\",Table2[[#This Row],[60%-OTS]])","v":""},{"$f":"IF($A514=0,\"\",Table2[[#This Row],[75%]])","v":""},{"$f":"IF($A514=0,\"\",Table2[[#This Row],[Pre-Final PS&E]])","v":""},{"$f":"IF($A514=0,\"\",Table2[[#This Row],[Final PS&E]])","v":""},{"$f":"IF($A514=0,\"\",'LOD Matrix (DO NOT PRINT)'!M514)","v":""},{"$f":"IF($A514=0,\"\",'LOD Matrix (DO NOT PRINT)'!N514)","v":""},{"$f":"IF($A514=0,\"\",IF('LOD Matrix (DO NOT PRINT)'!P514=TRUE,\"Yes\",\"No\"))","v":""}]
[{"$f":"IF(B515=\"Yes\",Table2[[#This Row],[Break Level]],0)","v":0},{"$f":"Table2[[#This Row],[Yes/No]]","v":"No"},null,null,{"$f":"IF($A515=0,\"\",Table2[[#This Row],[PTC DISCIPLINE]])","v":""},{"$f":"IF($A515=0,\"\",Table2[[#This Row],[ELEMENT]])","v":""},{"$f":"IF($A515=0,\"\",Table2[[#This Row],[LG&TSL]])","v":""},{"$f":"IF($A515=0,\"\",Table2[[#This Row],[DFV]])","v":""},{"$f":"IF($A515=0,\"\",Table2[[#This Row],[60%-OTS]])","v":""},{"$f":"IF($A515=0,\"\",Table2[[#This Row],[75%]])","v":""},{"$f":"IF($A515=0,\"\",Table2[[#This Row],[Pre-Final PS&E]])","v":""},{"$f":"IF($A515=0,\"\",Table2[[#This Row],[Final PS&E]])","v":""},{"$f":"IF($A515=0,\"\",'LOD Matrix (DO NOT PRINT)'!M515)","v":""},{"$f":"IF($A515=0,\"\",'LOD Matrix (DO NOT PRINT)'!N515)","v":""},{"$f":"IF($A515=0,\"\",IF('LOD Matrix (DO NOT PRINT)'!P515=TRUE,\"Yes\",\"No\"))","v":""}]
[{"$f":"IF(B516=\"Yes\",Table2[[#This Row],[Break Level]],0)","v":0},{"$f":"Table2[[#This Row],[Yes/No]]","v":"No"},null,null,{"$f":"IF($A516=0,\"\",Table2[[#This Row],[PTC DISCIPLINE]])","v":""},{"$f":"IF($A516=0,\"\",Table2[[#This Row],[ELEMENT]])","v":""},{"$f":"IF($A516=0,\"\",Table2[[#This Row],[LG&TSL]])","v":""},{"$f":"IF($A516=0,\"\",Table2[[#This Row],[DFV]])","v":""},{"$f":"IF($A516=0,\"\",Table2[[#This Row],[60%-OTS]])","v":""},{"$f":"IF($A516=0,\"\",Table2[[#This Row],[75%]])","v":""},{"$f":"IF($A516=0,\"\",Table2[[#This Row],[Pre-Final PS&E]])","v":""},{"$f":"IF($A516=0,\"\",Table2[[#This Row],[Final PS&E]])","v":""},{"$f":"IF($A516=0,\"\",'LOD Matrix (DO NOT PRINT)'!M516)","v":""},{"$f":"IF($A516=0,\"\",'LOD Matrix (DO NOT PRINT)'!N516)","v":""},{"$f":"IF($A516=0,\"\",IF('LOD Matrix (DO NOT PRINT)'!P516=TRUE,\"Yes\",\"No\"))","v":""}]
[{"$f":"IF(B517=\"Yes\",Table2[[#This Row],[Break Level]],0)","v":0},{"$f":"Table2[[#This Row],[Yes/No]]","v":"No"},null,null,{"$f":"IF($A517=0,\"\",Table2[[#This Row],[PTC DISCIPLINE]])","v":""},{"$f":"IF($A517=0,\"\",Table2[[#This Row],[ELEMENT]])","v":""},{"$f":"IF($A517=0,\"\",Table2[[#This Row],[LG&TSL]])","v":""},{"$f":"IF($A517=0,\"\",Table2[[#This Row],[DFV]])","v":""},{"$f":"IF($A517=0,\"\",Table2[[#This Row],[60%-OTS]])","v":""},{"$f":"IF($A517=0,\"\",Table2[[#This Row],[75%]])","v":""},{"$f":"IF($A517=0,\"\",Table2[[#This Row],[Pre-Final PS&E]])","v":""},{"$f":"IF($A517=0,\"\",Table2[[#This Row],[Final PS&E]])","v":""},{"$f":"IF($A517=0,\"\",'LOD Matrix (DO NOT PRINT)'!M517)","v":""},{"$f":"IF($A517=0,\"\",'LOD Matrix (DO NOT PRINT)'!N517)","v":""},{"$f":"IF($A517=0,\"\",IF('LOD Matrix (DO NOT PRINT)'!P517=TRUE,\"Yes\",\"No\"))","v":""}]
[{"$f":"IF(B518=\"Yes\",Table2[[#This Row],[Break Level]],0)","v":0},{"$f":"Table2[[#This Row],[Yes/No]]","v":"No"},null,null,{"$f":"IF($A518=0,\"\",Table2[[#This Row],[PTC DISCIPLINE]])","v":""},{"$f":"IF($A518=0,\"\",Table2[[#This Row],[ELEMENT]])","v":""},{"$f":"IF($A518=0,\"\",Table2[[#This Row],[LG&TSL]])","v":""},{"$f":"IF($A518=0,\"\",Table2[[#This Row],[DFV]])","v":""},{"$f":"IF($A518=0,\"\",Table2[[#This Row],[60%-OTS]])","v":""},{"$f":"IF($A518=0,\"\",Table2[[#This Row],[75%]])","v":""},{"$f":"IF($A518=0,\"\",Table2[[#This Row],[Pre-Final PS&E]])","v":""},{"$f":"IF($A518=0,\"\",Table2[[#This Row],[Final PS&E]])","v":""},{"$f":"IF($A518=0,\"\",'LOD Matrix (DO NOT PRINT)'!M518)","v":""},{"$f":"IF($A518=0,\"\",'LOD Matrix (DO NOT PRINT)'!N518)","v":""},{"$f":"IF($A518=0,\"\",IF('LOD Matrix (DO NOT PRINT)'!P518=TRUE,\"Yes\",\"No\"))","v":""}]
[{"$f":"IF(B519=\"Yes\",Table2[[#This Row],[Break Level]],0)","v":0},{"$f":"Table2[[#This Row],[Yes/No]]","v":"No"},null,null,{"$f":"IF($A519=0,\"\",Table2[[#This Row],[PTC DISCIPLINE]])","v":""},{"$f":"IF($A519=0,\"\",Table2[[#This Row],[ELEMENT]])","v":""},{"$f":"IF($A519=0,\"\",Table2[[#This Row],[LG&TSL]])","v":""},{"$f":"IF($A519=0,\"\",Table2[[#This Row],[DFV]])","v":""},{"$f":"IF($A519=0,\"\",Table2[[#This Row],[60%-OTS]])","v":""},{"$f":"IF($A519=0,\"\",Table2[[#This Row],[75%]])","v":""},{"$f":"IF($A519=0,\"\",Table2[[#This Row],[Pre-Final PS&E]])","v":""},{"$f":"IF($A519=0,\"\",Table2[[#This Row],[Final PS&E]])","v":""},{"$f":"IF($A519=0,\"\",'LOD Matrix (DO NOT PRINT)'!M519)","v":""},{"$f":"IF($A519=0,\"\",'LOD Matrix (DO NOT PRINT)'!N519)","v":""},{"$f":"IF($A519=0,\"\",IF('LOD Matrix (DO NOT PRINT)'!P519=TRUE,\"Yes\",\"No\"))","v":""}]
[{"$f":"IF(B520=\"Yes\",Table2[[#This Row],[Break Level]],0)","v":0},{"$f":"Table2[[#This Row],[Yes/No]]","v":"No"},null,null,{"$f":"IF($A520=0,\"\",Table2[[#This Row],[PTC DISCIPLINE]])","v":""},{"$f":"IF($A520=0,\"\",Table2[[#This Row],[ELEMENT]])","v":""},{"$f":"IF($A520=0,\"\",Table2[[#This Row],[LG&TSL]])","v":""},{"$f":"IF($A520=0,\"\",Table2[[#This Row],[DFV]])","v":""},{"$f":"IF($A520=0,\"\",Table2[[#This Row],[60%-OTS]])","v":""},{"$f":"IF($A520=0,\"\",Table2[[#This Row],[75%]])","v":""},{"$f":"IF($A520=0,\"\",Table2[[#This Row],[Pre-Final PS&E]])","v":""},{"$f":"IF($A520=0,\"\",Table2[[#This Row],[Final PS&E]])","v":""},{"$f":"IF($A520=0,\"\",'LOD Matrix (DO NOT PRINT)'!M520)","v":""},{"$f":"IF($A520=0,\"\",'LOD Matrix (DO NOT PRINT)'!N520)","v":""},{"$f":"IF($A520=0,\"\",IF('LOD Matrix (DO NOT PRINT)'!P520=TRUE,\"Yes\",\"No\"))","v":""}]
[{"$f":"IF(B521=\"Yes\",Table2[[#This Row],[Break Level]],0)","v":0},{"$f":"Table2[[#This Row],[Yes/No]]","v":"No"},null,null,{"$f":"IF($A521=0,\"\",Table2[[#This Row],[PTC DISCIPLINE]])","v":""},{"$f":"IF($A521=0,\"\",Table2[[#This Row],[ELEMENT]])","v":""},{"$f":"IF($A521=0,\"\",Table2[[#This Row],[LG&TSL]])","v":""},{"$f":"IF($A521=0,\"\",Table2[[#This Row],[DFV]])","v":""},{"$f":"IF($A521=0,\"\",Table2[[#This Row],[60%-OTS]])","v":""},{"$f":"IF($A521=0,\"\",Table2[[#This Row],[75%]])","v":""},{"$f":"IF($A521=0,\"\",Table2[[#This Row],[Pre-Final PS&E]])","v":""},{"$f":"IF($A521=0,\"\",Table2[[#This Row],[Final PS&E]])","v":""},{"$f":"IF($A521=0,\"\",'LOD Matrix (DO NOT PRINT)'!M521)","v":""},{"$f":"IF($A521=0,\"\",'LOD Matrix (DO NOT PRINT)'!N521)","v":""},{"$f":"IF($A521=0,\"\",IF('LOD Matrix (DO NOT PRINT)'!P521=TRUE,\"Yes\",\"No\"))","v":""}]
[{"$f":"IF(B522=\"Yes\",Table2[[#This Row],[Break Level]],0)","v":0},{"$f":"Table2[[#This Row],[Yes/No]]","v":"No"},null,null,{"$f":"IF($A522=0,\"\",Table2[[#This Row],[PTC DISCIPLINE]])","v":""},{"$f":"IF($A522=0,\"\",Table2[[#This Row],[ELEMENT]])","v":""},{"$f":"IF($A522=0,\"\",Table2[[#This Row],[LG&TSL]])","v":""},{"$f":"IF($A522=0,\"\",Table2[[#This Row],[DFV]])","v":""},{"$f":"IF($A522=0,\"\",Table2[[#This Row],[60%-OTS]])","v":""},{"$f":"IF($A522=0,\"\",Table2[[#This Row],[75%]])","v":""},{"$f":"IF($A522=0,\"\",Table2[[#This Row],[Pre-Final PS&E]])","v":""},{"$f":"IF($A522=0,\"\",Table2[[#This Row],[Final PS&E]])","v":""},{"$f":"IF($A522=0,\"\",'LOD Matrix (DO NOT PRINT)'!M522)","v":""},{"$f":"IF($A522=0,\"\",'LOD Matrix (DO NOT PRINT)'!N522)","v":""},{"$f":"IF($A522=0,\"\",IF('LOD Matrix (DO NOT PRINT)'!P522=TRUE,\"Yes\",\"No\"))","v":""}]
[{"$f":"IF(B523=\"Yes\",Table2[[#This Row],[Break Level]],0)","v":0},{"$f":"Table2[[#This Row],[Yes/No]]","v":"No"},null,null,{"$f":"IF($A523=0,\"\",Table2[[#This Row],[PTC DISCIPLINE]])","v":""},{"$f":"IF($A523=0,\"\",Table2[[#This Row],[ELEMENT]])","v":""},{"$f":"IF($A523=0,\"\",Table2[[#This Row],[LG&TSL]])","v":""},{"$f":"IF($A523=0,\"\",Table2[[#This Row],[DFV]])","v":""},{"$f":"IF($A523=0,\"\",Table2[[#This Row],[60%-OTS]])","v":""},{"$f":"IF($A523=0,\"\",Table2[[#This Row],[75%]])","v":""},{"$f":"IF($A523=0,\"\",Table2[[#This Row],[Pre-Final PS&E]])","v":""},{"$f":"IF($A523=0,\"\",Table2[[#This Row],[Final PS&E]])","v":""},{"$f":"IF($A523=0,\"\",'LOD Matrix (DO NOT PRINT)'!M523)","v":""},{"$f":"IF($A523=0,\"\",'LOD Matrix (DO NOT PRINT)'!N523)","v":""},{"$f":"IF($A523=0,\"\",IF('LOD Matrix (DO NOT PRINT)'!P523=TRUE,\"Yes\",\"No\"))","v":""}]
[{"$f":"IF(B524=\"Yes\",Table2[[#This Row],[Break Level]],0)","v":0},{"$f":"Table2[[#This Row],[Yes/No]]","v":"No"},null,null,{"$f":"IF($A524=0,\"\",Table2[[#This Row],[PTC DISCIPLINE]])","v":""},{"$f":"IF($A524=0,\"\",Table2[[#This Row],[ELEMENT]])","v":""},{"$f":"IF($A524=0,\"\",Table2[[#This Row],[LG&TSL]])","v":""},{"$f":"IF($A524=0,\"\",Table2[[#This Row],[DFV]])","v":""},{"$f":"IF($A524=0,\"\",Table2[[#This Row],[60%-OTS]])","v":""},{"$f":"IF($A524=0,\"\",Table2[[#This Row],[75%]])","v":""},{"$f":"IF($A524=0,\"\",Table2[[#This Row],[Pre-Final PS&E]])","v":""},{"$f":"IF($A524=0,\"\",Table2[[#This Row],[Final PS&E]])","v":""},{"$f":"IF($A524=0,\"\",'LOD Matrix (DO NOT PRINT)'!M524)","v":""},{"$f":"IF($A524=0,\"\",'LOD Matrix (DO NOT PRINT)'!N524)","v":""},{"$f":"IF($A524=0,\"\",IF('LOD Matrix (DO NOT PRINT)'!P524=TRUE,\"Yes\",\"No\"))","v":""}]
[{"$f":"IF(B525=\"Yes\",Table2[[#This Row],[Break Level]],0)","v":0},{"$f":"Table2[[#This Row],[Yes/No]]","v":"No"},null,null,{"$f":"IF($A525=0,\"\",Table2[[#This Row],[PTC DISCIPLINE]])","v":""},{"$f":"IF($A525=0,\"\",Table2[[#This Row],[ELEMENT]])","v":""},{"$f":"IF($A525=0,\"\",Table2[[#This Row],[LG&TSL]])","v":""},{"$f":"IF($A525=0,\"\",Table2[[#This Row],[DFV]])","v":""},{"$f":"IF($A525=0,\"\",Table2[[#This Row],[60%-OTS]])","v":""},{"$f":"IF($A525=0,\"\",Table2[[#This Row],[75%]])","v":""},{"$f":"IF($A525=0,\"\",Table2[[#This Row],[Pre-Final PS&E]])","v":""},{"$f":"IF($A525=0,\"\",Table2[[#This Row],[Final PS&E]])","v":""},{"$f":"IF($A525=0,\"\",'LOD Matrix (DO NOT PRINT)'!M525)","v":""},{"$f":"IF($A525=0,\"\",'LOD Matrix (DO NOT PRINT)'!N525)","v":""},{"$f":"IF($A525=0,\"\",IF('LOD Matrix (DO NOT PRINT)'!P525=TRUE,\"Yes\",\"No\"))","v":""}]
[{"$f":"IF(B526=\"Yes\",Table2[[#This Row],[Break Level]],0)","v":0},{"$f":"Table2[[#This Row],[Yes/No]]","v":"No"},null,null,{"$f":"IF($A526=0,\"\",Table2[[#This Row],[PTC DISCIPLINE]])","v":""},{"$f":"IF($A526=0,\"\",Table2[[#This Row],[ELEMENT]])","v":""},{"$f":"IF($A526=0,\"\",Table2[[#This Row],[LG&TSL]])","v":""},{"$f":"IF($A526=0,\"\",Table2[[#This Row],[DFV]])","v":""},{"$f":"IF($A526=0,\"\",Table2[[#This Row],[60%-OTS]])","v":""},{"$f":"IF($A526=0,\"\",Table2[[#This Row],[75%]])","v":""},{"$f":"IF($A526=0,\"\",Table2[[#This Row],[Pre-Final PS&E]])","v":""},{"$f":"IF($A526=0,\"\",Table2[[#This Row],[Final PS&E]])","v":""},{"$f":"IF($A526=0,\"\",'LOD Matrix (DO NOT PRINT)'!M526)","v":""},{"$f":"IF($A526=0,\"\",'LOD Matrix (DO NOT PRINT)'!N526)","v":""},{"$f":"IF($A526=0,\"\",IF('LOD Matrix (DO NOT PRINT)'!P526=TRUE,\"Yes\",\"No\"))","v":""}]
[{"$f":"IF(B527=\"Yes\",Table2[[#This Row],[Break Level]],0)","v":0},{"$f":"Table2[[#This Row],[Yes/No]]","v":"No"},null,null,{"$f":"IF($A527=0,\"\",Table2[[#This Row],[PTC DISCIPLINE]])","v":""},{"$f":"IF($A527=0,\"\",Table2[[#This Row],[ELEMENT]])","v":""},{"$f":"IF($A527=0,\"\",Table2[[#This Row],[LG&TSL]])","v":""},{"$f":"IF($A527=0,\"\",Table2[[#This Row],[DFV]])","v":""},{"$f":"IF($A527=0,\"\",Table2[[#This Row],[60%-OTS]])","v":""},{"$f":"IF($A527=0,\"\",Table2[[#This Row],[75%]])","v":""},{"$f":"IF($A527=0,\"\",Table2[[#This Row],[Pre-Final PS&E]])","v":""},{"$f":"IF($A527=0,\"\",Table2[[#This Row],[Final PS&E]])","v":""},{"$f":"IF($A527=0,\"\",'LOD Matrix (DO NOT PRINT)'!M527)","v":""},{"$f":"IF($A527=0,\"\",'LOD Matrix (DO NOT PRINT)'!N527)","v":""},{"$f":"IF($A527=0,\"\",IF('LOD Matrix (DO NOT PRINT)'!P527=TRUE,\"Yes\",\"No\"))","v":""}]
[{"$f":"IF(B528=\"Yes\",Table2[[#This Row],[Break Level]],0)","v":0},{"$f":"Table2[[#This Row],[Yes/No]]","v":"No"},null,null,{"$f":"IF($A528=0,\"\",Table2[[#This Row],[PTC DISCIPLINE]])","v":""},{"$f":"IF($A528=0,\"\",Table2[[#This Row],[ELEMENT]])","v":""},{"$f":"IF($A528=0,\"\",Table2[[#This Row],[LG&TSL]])","v":""},{"$f":"IF($A528=0,\"\",Table2[[#This Row],[DFV]])","v":""},{"$f":"IF($A528=0,\"\",Table2[[#This Row],[60%-OTS]])","v":""},{"$f":"IF($A528=0,\"\",Table2[[#This Row],[75%]])","v":""},{"$f":"IF($A528=0,\"\",Table2[[#This Row],[Pre-Final PS&E]])","v":""},{"$f":"IF($A528=0,\"\",Table2[[#This Row],[Final PS&E]])","v":""},{"$f":"IF($A528=0,\"\",'LOD Matrix (DO NOT PRINT)'!M528)","v":""},{"$f":"IF($A528=0,\"\",'LOD Matrix (DO NOT PRINT)'!N528)","v":""},{"$f":"IF($A528=0,\"\",IF('LOD Matrix (DO NOT PRINT)'!P528=TRUE,\"Yes\",\"No\"))","v":""}]
[{"$f":"IF(B529=\"Yes\",Table2[[#This Row],[Break Level]],0)","v":0},{"$f":"Table2[[#This Row],[Yes/No]]","v":"No"},null,null,{"$f":"IF($A529=0,\"\",Table2[[#This Row],[PTC DISCIPLINE]])","v":""},{"$f":"IF($A529=0,\"\",Table2[[#This Row],[ELEMENT]])","v":""},{"$f":"IF($A529=0,\"\",Table2[[#This Row],[LG&TSL]])","v":""},{"$f":"IF($A529=0,\"\",Table2[[#This Row],[DFV]])","v":""},{"$f":"IF($A529=0,\"\",Table2[[#This Row],[60%-OTS]])","v":""},{"$f":"IF($A529=0,\"\",Table2[[#This Row],[75%]])","v":""},{"$f":"IF($A529=0,\"\",Table2[[#This Row],[Pre-Final PS&E]])","v":""},{"$f":"IF($A529=0,\"\",Table2[[#This Row],[Final PS&E]])","v":""},{"$f":"IF($A529=0,\"\",'LOD Matrix (DO NOT PRINT)'!M529)","v":""},{"$f":"IF($A529=0,\"\",'LOD Matrix (DO NOT PRINT)'!N529)","v":""},{"$f":"IF($A529=0,\"\",IF('LOD Matrix (DO NOT PRINT)'!P529=TRUE,\"Yes\",\"No\"))","v":""}]
[{"$f":"IF(B530=\"Yes\",Table2[[#This Row],[Break Level]],0)","v":0},{"$f":"Table2[[#This Row],[Yes/No]]","v":"No"},null,null,{"$f":"IF($A530=0,\"\",Table2[[#This Row],[PTC DISCIPLINE]])","v":""},{"$f":"IF($A530=0,\"\",Table2[[#This Row],[ELEMENT]])","v":""},{"$f":"IF($A530=0,\"\",Table2[[#This Row],[LG&TSL]])","v":""},{"$f":"IF($A530=0,\"\",Table2[[#This Row],[DFV]])","v":""},{"$f":"IF($A530=0,\"\",Table2[[#This Row],[60%-OTS]])","v":""},{"$f":"IF($A530=0,\"\",Table2[[#This Row],[75%]])","v":""},{"$f":"IF($A530=0,\"\",Table2[[#This Row],[Pre-Final PS&E]])","v":""},{"$f":"IF($A530=0,\"\",Table2[[#This Row],[Final PS&E]])","v":""},{"$f":"IF($A530=0,\"\",'LOD Matrix (DO NOT PRINT)'!M530)","v":""},{"$f":"IF($A530=0,\"\",'LOD Matrix (DO NOT PRINT)'!N530)","v":""},{"$f":"IF($A530=0,\"\",IF('LOD Matrix (DO NOT PRINT)'!P530=TRUE,\"Yes\",\"No\"))","v":""}]
[{"$f":"IF(B531=\"Yes\",Table2[[#This Row],[Break Level]],0)","v":0},{"$f":"Table2[[#This Row],[Yes/No]]","v":"No"},null,null,{"$f":"IF($A531=0,\"\",Table2[[#This Row],[PTC DISCIPLINE]])","v":""},{"$f":"IF($A531=0,\"\",Table2[[#This Row],[ELEMENT]])","v":""},{"$f":"IF($A531=0,\"\",Table2[[#This Row],[LG&TSL]])","v":""},{"$f":"IF($A531=0,\"\",Table2[[#This Row],[DFV]])","v":""},{"$f":"IF($A531=0,\"\",Table2[[#This Row],[60%-OTS]])","v":""},{"$f":"IF($A531=0,\"\",Table2[[#This Row],[75%]])","v":""},{"$f":"IF($A531=0,\"\",Table2[[#This Row],[Pre-Final PS&E]])","v":""},{"$f":"IF($A531=0,\"\",Table2[[#This Row],[Final PS&E]])","v":""},{"$f":"IF($A531=0,\"\",'LOD Matrix (DO NOT PRINT)'!M531)","v":""},{"$f":"IF($A531=0,\"\",'LOD Matrix (DO NOT PRINT)'!N531)","v":""},{"$f":"IF($A531=0,\"\",IF('LOD Matrix (DO NOT PRINT)'!P531=TRUE,\"Yes\",\"No\"))","v":""}]
[{"$f":"IF(B532=\"Yes\",Table2[[#This Row],[Break Level]],0)","v":0},{"$f":"Table2[[#This Row],[Yes/No]]","v":"No"},null,null,{"$f":"IF($A532=0,\"\",Table2[[#This Row],[PTC DISCIPLINE]])","v":""},{"$f":"IF($A532=0,\"\",Table2[[#This Row],[ELEMENT]])","v":""},{"$f":"IF($A532=0,\"\",Table2[[#This Row],[LG&TSL]])","v":""},{"$f":"IF($A532=0,\"\",Table2[[#This Row],[DFV]])","v":""},{"$f":"IF($A532=0,\"\",Table2[[#This Row],[60%-OTS]])","v":""},{"$f":"IF($A532=0,\"\",Table2[[#This Row],[75%]])","v":""},{"$f":"IF($A532=0,\"\",Table2[[#This Row],[Pre-Final PS&E]])","v":""},{"$f":"IF($A532=0,\"\",Table2[[#This Row],[Final PS&E]])","v":""},{"$f":"IF($A532=0,\"\",'LOD Matrix (DO NOT PRINT)'!M532)","v":""},{"$f":"IF($A532=0,\"\",'LOD Matrix (DO NOT PRINT)'!N532)","v":""},{"$f":"IF($A532=0,\"\",IF('LOD Matrix (DO NOT PRINT)'!P532=TRUE,\"Yes\",\"No\"))","v":""}]
[{"$f":"IF(B533=\"Yes\",Table2[[#This Row],[Break Level]],0)","v":0},{"$f":"Table2[[#This Row],[Yes/No]]","v":"No"},null,null,{"$f":"IF($A533=0,\"\",Table2[[#This Row],[PTC DISCIPLINE]])","v":""},{"$f":"IF($A533=0,\"\",Table2[[#This Row],[ELEMENT]])","v":""},{"$f":"IF($A533=0,\"\",Table2[[#This Row],[LG&TSL]])","v":""},{"$f":"IF($A533=0,\"\",Table2[[#This Row],[DFV]])","v":""},{"$f":"IF($A533=0,\"\",Table2[[#This Row],[60%-OTS]])","v":""},{"$f":"IF($A533=0,\"\",Table2[[#This Row],[75%]])","v":""},{"$f":"IF($A533=0,\"\",Table2[[#This Row],[Pre-Final PS&E]])","v":""},{"$f":"IF($A533=0,\"\",Table2[[#This Row],[Final PS&E]])","v":""},{"$f":"IF($A533=0,\"\",'LOD Matrix (DO NOT PRINT)'!M533)","v":""},{"$f":"IF($A533=0,\"\",'LOD Matrix (DO NOT PRINT)'!N533)","v":""},{"$f":"IF($A533=0,\"\",IF('LOD Matrix (DO NOT PRINT)'!P533=TRUE,\"Yes\",\"No\"))","v":""}]
[{"$f":"IF(B534=\"Yes\",Table2[[#This Row],[Break Level]],0)","v":0},{"$f":"Table2[[#This Row],[Yes/No]]","v":"No"},null,null,{"$f":"IF($A534=0,\"\",Table2[[#This Row],[PTC DISCIPLINE]])","v":""},{"$f":"IF($A534=0,\"\",Table2[[#This Row],[ELEMENT]])","v":""},{"$f":"IF($A534=0,\"\",Table2[[#This Row],[LG&TSL]])","v":""},{"$f":"IF($A534=0,\"\",Table2[[#This Row],[DFV]])","v":""},{"$f":"IF($A534=0,\"\",Table2[[#This Row],[60%-OTS]])","v":""},{"$f":"IF($A534=0,\"\",Table2[[#This Row],[75%]])","v":""},{"$f":"IF($A534=0,\"\",Table2[[#This Row],[Pre-Final PS&E]])","v":""},{"$f":"IF($A534=0,\"\",Table2[[#This Row],[Final PS&E]])","v":""},{"$f":"IF($A534=0,\"\",'LOD Matrix (DO NOT PRINT)'!M534)","v":""},{"$f":"IF($A534=0,\"\",'LOD Matrix (DO NOT PRINT)'!N534)","v":""},{"$f":"IF($A534=0,\"\",IF('LOD Matrix (DO NOT PRINT)'!P534=TRUE,\"Yes\",\"No\"))","v":""}]
[{"$f":"IF(B535=\"Yes\",Table2[[#This Row],[Break Level]],0)","v":0},{"$f":"Table2[[#This Row],[Yes/No]]","v":"No"},null,null,{"$f":"IF($A535=0,\"\",Table2[[#This Row],[PTC DISCIPLINE]])","v":""},{"$f":"IF($A535=0,\"\",Table2[[#This Row],[ELEMENT]])","v":""},{"$f":"IF($A535=0,\"\",Table2[[#This Row],[LG&TSL]])","v":""},{"$f":"IF($A535=0,\"\",Table2[[#This Row],[DFV]])","v":""},{"$f":"IF($A535=0,\"\",Table2[[#This Row],[60%-OTS]])","v":""},{"$f":"IF($A535=0,\"\",Table2[[#This Row],[75%]])","v":""},{"$f":"IF($A535=0,\"\",Table2[[#This Row],[Pre-Final PS&E]])","v":""},{"$f":"IF($A535=0,\"\",Table2[[#This Row],[Final PS&E]])","v":""},{"$f":"IF($A535=0,\"\",'LOD Matrix (DO NOT PRINT)'!M535)","v":""},{"$f":"IF($A535=0,\"\",'LOD Matrix (DO NOT PRINT)'!N535)","v":""},{"$f":"IF($A535=0,\"\",IF('LOD Matrix (DO NOT PRINT)'!P535=TRUE,\"Yes\",\"No\"))","v":""}]
[{"$f":"IF(B536=\"Yes\",Table2[[#This Row],[Break Level]],0)","v":0},{"$f":"Table2[[#This Row],[Yes/No]]","v":"No"},null,null,{"$f":"IF($A536=0,\"\",Table2[[#This Row],[PTC DISCIPLINE]])","v":""},{"$f":"IF($A536=0,\"\",Table2[[#This Row],[ELEMENT]])","v":""},{"$f":"IF($A536=0,\"\",Table2[[#This Row],[LG&TSL]])","v":""},{"$f":"IF($A536=0,\"\",Table2[[#This Row],[DFV]])","v":""},{"$f":"IF($A536=0,\"\",Table2[[#This Row],[60%-OTS]])","v":""},{"$f":"IF($A536=0,\"\",Table2[[#This Row],[75%]])","v":""},{"$f":"IF($A536=0,\"\",Table2[[#This Row],[Pre-Final PS&E]])","v":""},{"$f":"IF($A536=0,\"\",Table2[[#This Row],[Final PS&E]])","v":""},{"$f":"IF($A536=0,\"\",'LOD Matrix (DO NOT PRINT)'!M536)","v":""},{"$f":"IF($A536=0,\"\",'LOD Matrix (DO NOT PRINT)'!N536)","v":""},{"$f":"IF($A536=0,\"\",IF('LOD Matrix (DO NOT PRINT)'!P536=TRUE,\"Yes\",\"No\"))","v":""}]
[{"$f":"IF(B537=\"Yes\",Table2[[#This Row],[Break Level]],0)","v":0},{"$f":"Table2[[#This Row],[Yes/No]]","v":"No"},null,null,{"$f":"IF($A537=0,\"\",Table2[[#This Row],[PTC DISCIPLINE]])","v":""},{"$f":"IF($A537=0,\"\",Table2[[#This Row],[ELEMENT]])","v":""},{"$f":"IF($A537=0,\"\",Table2[[#This Row],[LG&TSL]])","v":""},{"$f":"IF($A537=0,\"\",Table2[[#This Row],[DFV]])","v":""},{"$f":"IF($A537=0,\"\",Table2[[#This Row],[60%-OTS]])","v":""},{"$f":"IF($A537=0,\"\",Table2[[#This Row],[75%]])","v":""},{"$f":"IF($A537=0,\"\",Table2[[#This Row],[Pre-Final PS&E]])","v":""},{"$f":"IF($A537=0,\"\",Table2[[#This Row],[Final PS&E]])","v":""},{"$f":"IF($A537=0,\"\",'LOD Matrix (DO NOT PRINT)'!M537)","v":""},{"$f":"IF($A537=0,\"\",'LOD Matrix (DO NOT PRINT)'!N537)","v":""},{"$f":"IF($A537=0,\"\",IF('LOD Matrix (DO NOT PRINT)'!P537=TRUE,\"Yes\",\"No\"))","v":""}]
[{"$f":"IF(B538=\"Yes\",Table2[[#This Row],[Break Level]],0)","v":0},{"$f":"Table2[[#This Row],[Yes/No]]","v":"No"},null,null,{"$f":"IF($A538=0,\"\",Table2[[#This Row],[PTC DISCIPLINE]])","v":""},{"$f":"IF($A538=0,\"\",Table2[[#This Row],[ELEMENT]])","v":""},{"$f":"IF($A538=0,\"\",Table2[[#This Row],[LG&TSL]])","v":""},{"$f":"IF($A538=0,\"\",Table2[[#This Row],[DFV]])","v":""},{"$f":"IF($A538=0,\"\",Table2[[#This Row],[60%-OTS]])","v":""},{"$f":"IF($A538=0,\"\",Table2[[#This Row],[75%]])","v":""},{"$f":"IF($A538=0,\"\",Table2[[#This Row],[Pre-Final PS&E]])","v":""},{"$f":"IF($A538=0,\"\",Table2[[#This Row],[Final PS&E]])","v":""},{"$f":"IF($A538=0,\"\",'LOD Matrix (DO NOT PRINT)'!M538)","v":""},{"$f":"IF($A538=0,\"\",'LOD Matrix (DO NOT PRINT)'!N538)","v":""},{"$f":"IF($A538=0,\"\",IF('LOD Matrix (DO NOT PRINT)'!P538=TRUE,\"Yes\",\"No\"))","v":""}]
[{"$f":"IF(B539=\"Yes\",Table2[[#This Row],[Break Level]],0)","v":0},{"$f":"Table2[[#This Row],[Yes/No]]","v":"No"},null,null,{"$f":"IF($A539=0,\"\",Table2[[#This Row],[PTC DISCIPLINE]])","v":""},{"$f":"IF($A539=0,\"\",Table2[[#This Row],[ELEMENT]])","v":""},{"$f":"IF($A539=0,\"\",Table2[[#This Row],[LG&TSL]])","v":""},{"$f":"IF($A539=0,\"\",Table2[[#This Row],[DFV]])","v":""},{"$f":"IF($A539=0,\"\",Table2[[#This Row],[60%-OTS]])","v":""},{"$f":"IF($A539=0,\"\",Table2[[#This Row],[75%]])","v":""},{"$f":"IF($A539=0,\"\",Table2[[#This Row],[Pre-Final PS&E]])","v":""},{"$f":"IF($A539=0,\"\",Table2[[#This Row],[Final PS&E]])","v":""},{"$f":"IF($A539=0,\"\",'LOD Matrix (DO NOT PRINT)'!M539)","v":""},{"$f":"IF($A539=0,\"\",'LOD Matrix (DO NOT PRINT)'!N539)","v":""},{"$f":"IF($A539=0,\"\",IF('LOD Matrix (DO NOT PRINT)'!P539=TRUE,\"Yes\",\"No\"))","v":""}]
[{"$f":"IF(B540=\"Yes\",Table2[[#This Row],[Break Level]],0)","v":0},{"$f":"Table2[[#This Row],[Yes/No]]","v":"No"},null,null,{"$f":"IF($A540=0,\"\",Table2[[#This Row],[PTC DISCIPLINE]])","v":""},{"$f":"IF($A540=0,\"\",Table2[[#This Row],[ELEMENT]])","v":""},{"$f":"IF($A540=0,\"\",Table2[[#This Row],[LG&TSL]])","v":""},{"$f":"IF($A540=0,\"\",Table2[[#This Row],[DFV]])","v":""},{"$f":"IF($A540=0,\"\",Table2[[#This Row],[60%-OTS]])","v":""},{"$f":"IF($A540=0,\"\",Table2[[#This Row],[75%]])","v":""},{"$f":"IF($A540=0,\"\",Table2[[#This Row],[Pre-Final PS&E]])","v":""},{"$f":"IF($A540=0,\"\",Table2[[#This Row],[Final PS&E]])","v":""},{"$f":"IF($A540=0,\"\",'LOD Matrix (DO NOT PRINT)'!M540)","v":""},{"$f":"IF($A540=0,\"\",'LOD Matrix (DO NOT PRINT)'!N540)","v":""},{"$f":"IF($A540=0,\"\",IF('LOD Matrix (DO NOT PRINT)'!P540=TRUE,\"Yes\",\"No\"))","v":""}]
[{"$f":"IF(B541=\"Yes\",Table2[[#This Row],[Break Level]],0)","v":0},{"$f":"Table2[[#This Row],[Yes/No]]","v":"No"},null,null,{"$f":"IF($A541=0,\"\",Table2[[#This Row],[PTC DISCIPLINE]])","v":""},{"$f":"IF($A541=0,\"\",Table2[[#This Row],[ELEMENT]])","v":""},{"$f":"IF($A541=0,\"\",Table2[[#This Row],[LG&TSL]])","v":""},{"$f":"IF($A541=0,\"\",Table2[[#This Row],[DFV]])","v":""},{"$f":"IF($A541=0,\"\",Table2[[#This Row],[60%-OTS]])","v":""},{"$f":"IF($A541=0,\"\",Table2[[#This Row],[75%]])","v":""},{"$f":"IF($A541=0,\"\",Table2[[#This Row],[Pre-Final PS&E]])","v":""},{"$f":"IF($A541=0,\"\",Table2[[#This Row],[Final PS&E]])","v":""},{"$f":"IF($A541=0,\"\",'LOD Matrix (DO NOT PRINT)'!M541)","v":""},{"$f":"IF($A541=0,\"\",'LOD Matrix (DO NOT PRINT)'!N541)","v":""},{"$f":"IF($A541=0,\"\",IF('LOD Matrix (DO NOT PRINT)'!P541=TRUE,\"Yes\",\"No\"))","v":""}]
[{"$f":"IF(B542=\"Yes\",Table2[[#This Row],[Break Level]],0)","v":0},{"$f":"Table2[[#This Row],[Yes/No]]","v":"No"},null,null,{"$f":"IF($A542=0,\"\",Table2[[#This Row],[PTC DISCIPLINE]])","v":""},{"$f":"IF($A542=0,\"\",Table2[[#This Row],[ELEMENT]])","v":""},{"$f":"IF($A542=0,\"\",Table2[[#This Row],[LG&TSL]])","v":""},{"$f":"IF($A542=0,\"\",Table2[[#This Row],[DFV]])","v":""},{"$f":"IF($A542=0,\"\",Table2[[#This Row],[60%-OTS]])","v":""},{"$f":"IF($A542=0,\"\",Table2[[#This Row],[75%]])","v":""},{"$f":"IF($A542=0,\"\",Table2[[#This Row],[Pre-Final PS&E]])","v":""},{"$f":"IF($A542=0,\"\",Table2[[#This Row],[Final PS&E]])","v":""},{"$f":"IF($A542=0,\"\",'LOD Matrix (DO NOT PRINT)'!M542)","v":""},{"$f":"IF($A542=0,\"\",'LOD Matrix (DO NOT PRINT)'!N542)","v":""},{"$f":"IF($A542=0,\"\",IF('LOD Matrix (DO NOT PRINT)'!P542=TRUE,\"Yes\",\"No\"))","v":""}]
[{"$f":"IF(B543=\"Yes\",Table2[[#This Row],[Break Level]],0)","v":0},{"$f":"Table2[[#This Row],[Yes/No]]","v":"No"},null,null,{"$f":"IF($A543=0,\"\",Table2[[#This Row],[PTC DISCIPLINE]])","v":""},{"$f":"IF($A543=0,\"\",Table2[[#This Row],[ELEMENT]])","v":""},{"$f":"IF($A543=0,\"\",Table2[[#This Row],[LG&TSL]])","v":""},{"$f":"IF($A543=0,\"\",Table2[[#This Row],[DFV]])","v":""},{"$f":"IF($A543=0,\"\",Table2[[#This Row],[60%-OTS]])","v":""},{"$f":"IF($A543=0,\"\",Table2[[#This Row],[75%]])","v":""},{"$f":"IF($A543=0,\"\",Table2[[#This Row],[Pre-Final PS&E]])","v":""},{"$f":"IF($A543=0,\"\",Table2[[#This Row],[Final PS&E]])","v":""},{"$f":"IF($A543=0,\"\",'LOD Matrix (DO NOT PRINT)'!M543)","v":""},{"$f":"IF($A543=0,\"\",'LOD Matrix (DO NOT PRINT)'!N543)","v":""},{"$f":"IF($A543=0,\"\",IF('LOD Matrix (DO NOT PRINT)'!P543=TRUE,\"Yes\",\"No\"))","v":""}]
[{"$f":"IF(B544=\"Yes\",Table2[[#This Row],[Break Level]],0)","v":0},{"$f":"Table2[[#This Row],[Yes/No]]","v":"No"},null,null,{"$f":"IF($A544=0,\"\",Table2[[#This Row],[PTC DISCIPLINE]])","v":""},{"$f":"IF($A544=0,\"\",Table2[[#This Row],[ELEMENT]])","v":""},{"$f":"IF($A544=0,\"\",Table2[[#This Row],[LG&TSL]])","v":""},{"$f":"IF($A544=0,\"\",Table2[[#This Row],[DFV]])","v":""},{"$f":"IF($A544=0,\"\",Table2[[#This Row],[60%-OTS]])","v":""},{"$f":"IF($A544=0,\"\",Table2[[#This Row],[75%]])","v":""},{"$f":"IF($A544=0,\"\",Table2[[#This Row],[Pre-Final PS&E]])","v":""},{"$f":"IF($A544=0,\"\",Table2[[#This Row],[Final PS&E]])","v":""},{"$f":"IF($A544=0,\"\",'LOD Matrix (DO NOT PRINT)'!M544)","v":""},{"$f":"IF($A544=0,\"\",'LOD Matrix (DO NOT PRINT)'!N544)","v":""},{"$f":"IF($A544=0,\"\",IF('LOD Matrix (DO NOT PRINT)'!P544=TRUE,\"Yes\",\"No\"))","v":""}]
[{"$f":"IF(B545=\"Yes\",Table2[[#This Row],[Break Level]],0)","v":0},{"$f":"Table2[[#This Row],[Yes/No]]","v":"No"},null,null,{"$f":"IF($A545=0,\"\",Table2[[#This Row],[PTC DISCIPLINE]])","v":""},{"$f":"IF($A545=0,\"\",Table2[[#This Row],[ELEMENT]])","v":""},{"$f":"IF($A545=0,\"\",Table2[[#This Row],[LG&TSL]])","v":""},{"$f":"IF($A545=0,\"\",Table2[[#This Row],[DFV]])","v":""},{"$f":"IF($A545=0,\"\",Table2[[#This Row],[60%-OTS]])","v":""},{"$f":"IF($A545=0,\"\",Table2[[#This Row],[75%]])","v":""},{"$f":"IF($A545=0,\"\",Table2[[#This Row],[Pre-Final PS&E]])","v":""},{"$f":"IF($A545=0,\"\",Table2[[#This Row],[Final PS&E]])","v":""},{"$f":"IF($A545=0,\"\",'LOD Matrix (DO NOT PRINT)'!M545)","v":""},{"$f":"IF($A545=0,\"\",'LOD Matrix (DO NOT PRINT)'!N545)","v":""},{"$f":"IF($A545=0,\"\",IF('LOD Matrix (DO NOT PRINT)'!P545=TRUE,\"Yes\",\"No\"))","v":""}]
[{"$f":"IF(B546=\"Yes\",Table2[[#This Row],[Break Level]],0)","v":0},{"$f":"Table2[[#This Row],[Yes/No]]","v":"No"},null,null,{"$f":"IF($A546=0,\"\",Table2[[#This Row],[PTC DISCIPLINE]])","v":""},{"$f":"IF($A546=0,\"\",Table2[[#This Row],[ELEMENT]])","v":""},{"$f":"IF($A546=0,\"\",Table2[[#This Row],[LG&TSL]])","v":""},{"$f":"IF($A546=0,\"\",Table2[[#This Row],[DFV]])","v":""},{"$f":"IF($A546=0,\"\",Table2[[#This Row],[60%-OTS]])","v":""},{"$f":"IF($A546=0,\"\",Table2[[#This Row],[75%]])","v":""},{"$f":"IF($A546=0,\"\",Table2[[#This Row],[Pre-Final PS&E]])","v":""},{"$f":"IF($A546=0,\"\",Table2[[#This Row],[Final PS&E]])","v":""},{"$f":"IF($A546=0,\"\",'LOD Matrix (DO NOT PRINT)'!M546)","v":""},{"$f":"IF($A546=0,\"\",'LOD Matrix (DO NOT PRINT)'!N546)","v":""},{"$f":"IF($A546=0,\"\",IF('LOD Matrix (DO NOT PRINT)'!P546=TRUE,\"Yes\",\"No\"))","v":""}]
[{"$f":"IF(B547=\"Yes\",Table2[[#This Row],[Break Level]],0)","v":0},{"$f":"Table2[[#This Row],[Yes/No]]","v":"No"},null,null,{"$f":"IF($A547=0,\"\",Table2[[#This Row],[PTC DISCIPLINE]])","v":""},{"$f":"IF($A547=0,\"\",Table2[[#This Row],[ELEMENT]])","v":""},{"$f":"IF($A547=0,\"\",Table2[[#This Row],[LG&TSL]])","v":""},{"$f":"IF($A547=0,\"\",Table2[[#This Row],[DFV]])","v":""},{"$f":"IF($A547=0,\"\",Table2[[#This Row],[60%-OTS]])","v":""},{"$f":"IF($A547=0,\"\",Table2[[#This Row],[75%]])","v":""},{"$f":"IF($A547=0,\"\",Table2[[#This Row],[Pre-Final PS&E]])","v":""},{"$f":"IF($A547=0,\"\",Table2[[#This Row],[Final PS&E]])","v":""},{"$f":"IF($A547=0,\"\",'LOD Matrix (DO NOT PRINT)'!M547)","v":""},{"$f":"IF($A547=0,\"\",'LOD Matrix (DO NOT PRINT)'!N547)","v":""},{"$f":"IF($A547=0,\"\",IF('LOD Matrix (DO NOT PRINT)'!P547=TRUE,\"Yes\",\"No\"))","v":""}]
[{"$f":"IF(B548=\"Yes\",Table2[[#This Row],[Break Level]],0)","v":0},{"$f":"Table2[[#This Row],[Yes/No]]","v":"No"},null,null,{"$f":"IF($A548=0,\"\",Table2[[#This Row],[PTC DISCIPLINE]])","v":""},{"$f":"IF($A548=0,\"\",Table2[[#This Row],[ELEMENT]])","v":""},{"$f":"IF($A548=0,\"\",Table2[[#This Row],[LG&TSL]])","v":""},{"$f":"IF($A548=0,\"\",Table2[[#This Row],[DFV]])","v":""},{"$f":"IF($A548=0,\"\",Table2[[#This Row],[60%-OTS]])","v":""},{"$f":"IF($A548=0,\"\",Table2[[#This Row],[75%]])","v":""},{"$f":"IF($A548=0,\"\",Table2[[#This Row],[Pre-Final PS&E]])","v":""},{"$f":"IF($A548=0,\"\",Table2[[#This Row],[Final PS&E]])","v":""},{"$f":"IF($A548=0,\"\",'LOD Matrix (DO NOT PRINT)'!M548)","v":""},{"$f":"IF($A548=0,\"\",'LOD Matrix (DO NOT PRINT)'!N548)","v":""},{"$f":"IF($A548=0,\"\",IF('LOD Matrix (DO NOT PRINT)'!P548=TRUE,\"Yes\",\"No\"))","v":""}]
[{"$f":"IF(B549=\"Yes\",Table2[[#This Row],[Break Level]],0)","v":0},{"$f":"Table2[[#This Row],[Yes/No]]","v":"No"},null,null,{"$f":"IF($A549=0,\"\",Table2[[#This Row],[PTC DISCIPLINE]])","v":""},{"$f":"IF($A549=0,\"\",Table2[[#This Row],[ELEMENT]])","v":""},{"$f":"IF($A549=0,\"\",Table2[[#This Row],[LG&TSL]])","v":""},{"$f":"IF($A549=0,\"\",Table2[[#This Row],[DFV]])","v":""},{"$f":"IF($A549=0,\"\",Table2[[#This Row],[60%-OTS]])","v":""},{"$f":"IF($A549=0,\"\",Table2[[#This Row],[75%]])","v":""},{"$f":"IF($A549=0,\"\",Table2[[#This Row],[Pre-Final PS&E]])","v":""},{"$f":"IF($A549=0,\"\",Table2[[#This Row],[Final PS&E]])","v":""},{"$f":"IF($A549=0,\"\",'LOD Matrix (DO NOT PRINT)'!M549)","v":""},{"$f":"IF($A549=0,\"\",'LOD Matrix (DO NOT PRINT)'!N549)","v":""},{"$f":"IF($A549=0,\"\",IF('LOD Matrix (DO NOT PRINT)'!P549=TRUE,\"Yes\",\"No\"))","v":""}]
[{"$f":"IF(B550=\"Yes\",Table2[[#This Row],[Break Level]],0)","v":0},{"$f":"Table2[[#This Row],[Yes/No]]","v":"No"},null,null,{"$f":"IF($A550=0,\"\",Table2[[#This Row],[PTC DISCIPLINE]])","v":""},{"$f":"IF($A550=0,\"\",Table2[[#This Row],[ELEMENT]])","v":""},{"$f":"IF($A550=0,\"\",Table2[[#This Row],[LG&TSL]])","v":""},{"$f":"IF($A550=0,\"\",Table2[[#This Row],[DFV]])","v":""},{"$f":"IF($A550=0,\"\",Table2[[#This Row],[60%-OTS]])","v":""},{"$f":"IF($A550=0,\"\",Table2[[#This Row],[75%]])","v":""},{"$f":"IF($A550=0,\"\",Table2[[#This Row],[Pre-Final PS&E]])","v":""},{"$f":"IF($A550=0,\"\",Table2[[#This Row],[Final PS&E]])","v":""},{"$f":"IF($A550=0,\"\",'LOD Matrix (DO NOT PRINT)'!M550)","v":""},{"$f":"IF($A550=0,\"\",'LOD Matrix (DO NOT PRINT)'!N550)","v":""},{"$f":"IF($A550=0,\"\",IF('LOD Matrix (DO NOT PRINT)'!P550=TRUE,\"Yes\",\"No\"))","v":""}]
[{"$f":"IF(B551=\"Yes\",Table2[[#This Row],[Break Level]],0)","v":0},{"$f":"Table2[[#This Row],[Yes/No]]","v":"No"},null,null,{"$f":"IF($A551=0,\"\",Table2[[#This Row],[PTC DISCIPLINE]])","v":""},{"$f":"IF($A551=0,\"\",Table2[[#This Row],[ELEMENT]])","v":""},{"$f":"IF($A551=0,\"\",Table2[[#This Row],[LG&TSL]])","v":""},{"$f":"IF($A551=0,\"\",Table2[[#This Row],[DFV]])","v":""},{"$f":"IF($A551=0,\"\",Table2[[#This Row],[60%-OTS]])","v":""},{"$f":"IF($A551=0,\"\",Table2[[#This Row],[75%]])","v":""},{"$f":"IF($A551=0,\"\",Table2[[#This Row],[Pre-Final PS&E]])","v":""},{"$f":"IF($A551=0,\"\",Table2[[#This Row],[Final PS&E]])","v":""},{"$f":"IF($A551=0,\"\",'LOD Matrix (DO NOT PRINT)'!M551)","v":""},{"$f":"IF($A551=0,\"\",'LOD Matrix (DO NOT PRINT)'!N551)","v":""},{"$f":"IF($A551=0,\"\",IF('LOD Matrix (DO NOT PRINT)'!P551=TRUE,\"Yes\",\"No\"))","v":""}]
[{"$f":"IF(B552=\"Yes\",Table2[[#This Row],[Break Level]],0)","v":0},{"$f":"Table2[[#This Row],[Yes/No]]","v":"No"},null,null,{"$f":"IF($A552=0,\"\",Table2[[#This Row],[PTC DISCIPLINE]])","v":""},{"$f":"IF($A552=0,\"\",Table2[[#This Row],[ELEMENT]])","v":""},{"$f":"IF($A552=0,\"\",Table2[[#This Row],[LG&TSL]])","v":""},{"$f":"IF($A552=0,\"\",Table2[[#This Row],[DFV]])","v":""},{"$f":"IF($A552=0,\"\",Table2[[#This Row],[60%-OTS]])","v":""},{"$f":"IF($A552=0,\"\",Table2[[#This Row],[75%]])","v":""},{"$f":"IF($A552=0,\"\",Table2[[#This Row],[Pre-Final PS&E]])","v":""},{"$f":"IF($A552=0,\"\",Table2[[#This Row],[Final PS&E]])","v":""},{"$f":"IF($A552=0,\"\",'LOD Matrix (DO NOT PRINT)'!M552)","v":""},{"$f":"IF($A552=0,\"\",'LOD Matrix (DO NOT PRINT)'!N552)","v":""},{"$f":"IF($A552=0,\"\",IF('LOD Matrix (DO NOT PRINT)'!P552=TRUE,\"Yes\",\"No\"))","v":""}]
[{"$f":"IF(B553=\"Yes\",Table2[[#This Row],[Break Level]],0)","v":0},{"$f":"Table2[[#This Row],[Yes/No]]","v":"No"},null,null,{"$f":"IF($A553=0,\"\",Table2[[#This Row],[PTC DISCIPLINE]])","v":""},{"$f":"IF($A553=0,\"\",Table2[[#This Row],[ELEMENT]])","v":""},{"$f":"IF($A553=0,\"\",Table2[[#This Row],[LG&TSL]])","v":""},{"$f":"IF($A553=0,\"\",Table2[[#This Row],[DFV]])","v":""},{"$f":"IF($A553=0,\"\",Table2[[#This Row],[60%-OTS]])","v":""},{"$f":"IF($A553=0,\"\",Table2[[#This Row],[75%]])","v":""},{"$f":"IF($A553=0,\"\",Table2[[#This Row],[Pre-Final PS&E]])","v":""},{"$f":"IF($A553=0,\"\",Table2[[#This Row],[Final PS&E]])","v":""},{"$f":"IF($A553=0,\"\",'LOD Matrix (DO NOT PRINT)'!M553)","v":""},{"$f":"IF($A553=0,\"\",'LOD Matrix (DO NOT PRINT)'!N553)","v":""},{"$f":"IF($A553=0,\"\",IF('LOD Matrix (DO NOT PRINT)'!P553=TRUE,\"Yes\",\"No\"))","v":""}]
[{"$f":"IF(B554=\"Yes\",Table2[[#This Row],[Break Level]],0)","v":0},{"$f":"Table2[[#This Row],[Yes/No]]","v":"No"},null,null,{"$f":"IF($A554=0,\"\",Table2[[#This Row],[PTC DISCIPLINE]])","v":""},{"$f":"IF($A554=0,\"\",Table2[[#This Row],[ELEMENT]])","v":""},{"$f":"IF($A554=0,\"\",Table2[[#This Row],[LG&TSL]])","v":""},{"$f":"IF($A554=0,\"\",Table2[[#This Row],[DFV]])","v":""},{"$f":"IF($A554=0,\"\",Table2[[#This Row],[60%-OTS]])","v":""},{"$f":"IF($A554=0,\"\",Table2[[#This Row],[75%]])","v":""},{"$f":"IF($A554=0,\"\",Table2[[#This Row],[Pre-Final PS&E]])","v":""},{"$f":"IF($A554=0,\"\",Table2[[#This Row],[Final PS&E]])","v":""},{"$f":"IF($A554=0,\"\",'LOD Matrix (DO NOT PRINT)'!M554)","v":""},{"$f":"IF($A554=0,\"\",'LOD Matrix (DO NOT PRINT)'!N554)","v":""},{"$f":"IF($A554=0,\"\",IF('LOD Matrix (DO NOT PRINT)'!P554=TRUE,\"Yes\",\"No\"))","v":""}]
[{"$f":"IF(B555=\"Yes\",Table2[[#This Row],[Break Level]],0)","v":0},{"$f":"Table2[[#This Row],[Yes/No]]","v":"No"},null,null,{"$f":"IF($A555=0,\"\",Table2[[#This Row],[PTC DISCIPLINE]])","v":""},{"$f":"IF($A555=0,\"\",Table2[[#This Row],[ELEMENT]])","v":""},{"$f":"IF($A555=0,\"\",Table2[[#This Row],[LG&TSL]])","v":""},{"$f":"IF($A555=0,\"\",Table2[[#This Row],[DFV]])","v":""},{"$f":"IF($A555=0,\"\",Table2[[#This Row],[60%-OTS]])","v":""},{"$f":"IF($A555=0,\"\",Table2[[#This Row],[75%]])","v":""},{"$f":"IF($A555=0,\"\",Table2[[#This Row],[Pre-Final PS&E]])","v":""},{"$f":"IF($A555=0,\"\",Table2[[#This Row],[Final PS&E]])","v":""},{"$f":"IF($A555=0,\"\",'LOD Matrix (DO NOT PRINT)'!M555)","v":""},{"$f":"IF($A555=0,\"\",'LOD Matrix (DO NOT PRINT)'!N555)","v":""},{"$f":"IF($A555=0,\"\",IF('LOD Matrix (DO NOT PRINT)'!P555=TRUE,\"Yes\",\"No\"))","v":""}]
[{"$f":"IF(B556=\"Yes\",Table2[[#This Row],[Break Level]],0)","v":0},{"$f":"Table2[[#This Row],[Yes/No]]","v":"No"},null,null,{"$f":"IF($A556=0,\"\",Table2[[#This Row],[PTC DISCIPLINE]])","v":""},{"$f":"IF($A556=0,\"\",Table2[[#This Row],[ELEMENT]])","v":""},{"$f":"IF($A556=0,\"\",Table2[[#This Row],[LG&TSL]])","v":""},{"$f":"IF($A556=0,\"\",Table2[[#This Row],[DFV]])","v":""},{"$f":"IF($A556=0,\"\",Table2[[#This Row],[60%-OTS]])","v":""},{"$f":"IF($A556=0,\"\",Table2[[#This Row],[75%]])","v":""},{"$f":"IF($A556=0,\"\",Table2[[#This Row],[Pre-Final PS&E]])","v":""},{"$f":"IF($A556=0,\"\",Table2[[#This Row],[Final PS&E]])","v":""},{"$f":"IF($A556=0,\"\",'LOD Matrix (DO NOT PRINT)'!M556)","v":""},{"$f":"IF($A556=0,\"\",'LOD Matrix (DO NOT PRINT)'!N556)","v":""},{"$f":"IF($A556=0,\"\",IF('LOD Matrix (DO NOT PRINT)'!P556=TRUE,\"Yes\",\"No\"))","v":""}]
[{"$f":"IF(B557=\"Yes\",Table2[[#This Row],[Break Level]],0)","v":0},{"$f":"Table2[[#This Row],[Yes/No]]","v":"No"},null,null,{"$f":"IF($A557=0,\"\",Table2[[#This Row],[PTC DISCIPLINE]])","v":""},{"$f":"IF($A557=0,\"\",Table2[[#This Row],[ELEMENT]])","v":""},{"$f":"IF($A557=0,\"\",Table2[[#This Row],[LG&TSL]])","v":""},{"$f":"IF($A557=0,\"\",Table2[[#This Row],[DFV]])","v":""},{"$f":"IF($A557=0,\"\",Table2[[#This Row],[60%-OTS]])","v":""},{"$f":"IF($A557=0,\"\",Table2[[#This Row],[75%]])","v":""},{"$f":"IF($A557=0,\"\",Table2[[#This Row],[Pre-Final PS&E]])","v":""},{"$f":"IF($A557=0,\"\",Table2[[#This Row],[Final PS&E]])","v":""},{"$f":"IF($A557=0,\"\",'LOD Matrix (DO NOT PRINT)'!M557)","v":""},{"$f":"IF($A557=0,\"\",'LOD Matrix (DO NOT PRINT)'!N557)","v":""},{"$f":"IF($A557=0,\"\",IF('LOD Matrix (DO NOT PRINT)'!P557=TRUE,\"Yes\",\"No\"))","v":""}]
[{"$f":"IF(B558=\"Yes\",Table2[[#This Row],[Break Level]],0)","v":0},{"$f":"Table2[[#This Row],[Yes/No]]","v":"No"},null,null,{"$f":"IF($A558=0,\"\",Table2[[#This Row],[PTC DISCIPLINE]])","v":""},{"$f":"IF($A558=0,\"\",Table2[[#This Row],[ELEMENT]])","v":""},{"$f":"IF($A558=0,\"\",Table2[[#This Row],[LG&TSL]])","v":""},{"$f":"IF($A558=0,\"\",Table2[[#This Row],[DFV]])","v":""},{"$f":"IF($A558=0,\"\",Table2[[#This Row],[60%-OTS]])","v":""},{"$f":"IF($A558=0,\"\",Table2[[#This Row],[75%]])","v":""},{"$f":"IF($A558=0,\"\",Table2[[#This Row],[Pre-Final PS&E]])","v":""},{"$f":"IF($A558=0,\"\",Table2[[#This Row],[Final PS&E]])","v":""},{"$f":"IF($A558=0,\"\",'LOD Matrix (DO NOT PRINT)'!M558)","v":""},{"$f":"IF($A558=0,\"\",'LOD Matrix (DO NOT PRINT)'!N558)","v":""},{"$f":"IF($A558=0,\"\",IF('LOD Matrix (DO NOT PRINT)'!P558=TRUE,\"Yes\",\"No\"))","v":""}]
[{"$f":"IF(B559=\"Yes\",Table2[[#This Row],[Break Level]],0)","v":0},{"$f":"Table2[[#This Row],[Yes/No]]","v":"No"},null,null,{"$f":"IF($A559=0,\"\",Table2[[#This Row],[PTC DISCIPLINE]])","v":""},{"$f":"IF($A559=0,\"\",Table2[[#This Row],[ELEMENT]])","v":""},{"$f":"IF($A559=0,\"\",Table2[[#This Row],[LG&TSL]])","v":""},{"$f":"IF($A559=0,\"\",Table2[[#This Row],[DFV]])","v":""},{"$f":"IF($A559=0,\"\",Table2[[#This Row],[60%-OTS]])","v":""},{"$f":"IF($A559=0,\"\",Table2[[#This Row],[75%]])","v":""},{"$f":"IF($A559=0,\"\",Table2[[#This Row],[Pre-Final PS&E]])","v":""},{"$f":"IF($A559=0,\"\",Table2[[#This Row],[Final PS&E]])","v":""},{"$f":"IF($A559=0,\"\",'LOD Matrix (DO NOT PRINT)'!M559)","v":""},{"$f":"IF($A559=0,\"\",'LOD Matrix (DO NOT PRINT)'!N559)","v":""},{"$f":"IF($A559=0,\"\",IF('LOD Matrix (DO NOT PRINT)'!P559=TRUE,\"Yes\",\"No\"))","v":""}]
[{"$f":"IF(B560=\"Yes\",Table2[[#This Row],[Break Level]],0)","v":0},{"$f":"Table2[[#This Row],[Yes/No]]","v":"No"},null,null,{"$f":"IF($A560=0,\"\",Table2[[#This Row],[PTC DISCIPLINE]])","v":""},{"$f":"IF($A560=0,\"\",Table2[[#This Row],[ELEMENT]])","v":""},{"$f":"IF($A560=0,\"\",Table2[[#This Row],[LG&TSL]])","v":""},{"$f":"IF($A560=0,\"\",Table2[[#This Row],[DFV]])","v":""},{"$f":"IF($A560=0,\"\",Table2[[#This Row],[60%-OTS]])","v":""},{"$f":"IF($A560=0,\"\",Table2[[#This Row],[75%]])","v":""},{"$f":"IF($A560=0,\"\",Table2[[#This Row],[Pre-Final PS&E]])","v":""},{"$f":"IF($A560=0,\"\",Table2[[#This Row],[Final PS&E]])","v":""},{"$f":"IF($A560=0,\"\",'LOD Matrix (DO NOT PRINT)'!M560)","v":""},{"$f":"IF($A560=0,\"\",'LOD Matrix (DO NOT PRINT)'!N560)","v":""},{"$f":"IF($A560=0,\"\",IF('LOD Matrix (DO NOT PRINT)'!P560=TRUE,\"Yes\",\"No\"))","v":""}]
[{"$f":"IF(B561=\"Yes\",Table2[[#This Row],[Break Level]],0)","v":0},{"$f":"Table2[[#This Row],[Yes/No]]","v":"No"},null,null,{"$f":"IF($A561=0,\"\",Table2[[#This Row],[PTC DISCIPLINE]])","v":""},{"$f":"IF($A561=0,\"\",Table2[[#This Row],[ELEMENT]])","v":""},{"$f":"IF($A561=0,\"\",Table2[[#This Row],[LG&TSL]])","v":""},{"$f":"IF($A561=0,\"\",Table2[[#This Row],[DFV]])","v":""},{"$f":"IF($A561=0,\"\",Table2[[#This Row],[60%-OTS]])","v":""},{"$f":"IF($A561=0,\"\",Table2[[#This Row],[75%]])","v":""},{"$f":"IF($A561=0,\"\",Table2[[#This Row],[Pre-Final PS&E]])","v":""},{"$f":"IF($A561=0,\"\",Table2[[#This Row],[Final PS&E]])","v":""},{"$f":"IF($A561=0,\"\",'LOD Matrix (DO NOT PRINT)'!M561)","v":""},{"$f":"IF($A561=0,\"\",'LOD Matrix (DO NOT PRINT)'!N561)","v":""},{"$f":"IF($A561=0,\"\",IF('LOD Matrix (DO NOT PRINT)'!P561=TRUE,\"Yes\",\"No\"))","v":""}]
[{"$f":"IF(B562=\"Yes\",Table2[[#This Row],[Break Level]],0)","v":0},{"$f":"Table2[[#This Row],[Yes/No]]","v":"No"},null,null,{"$f":"IF($A562=0,\"\",Table2[[#This Row],[PTC DISCIPLINE]])","v":""},{"$f":"IF($A562=0,\"\",Table2[[#This Row],[ELEMENT]])","v":""},{"$f":"IF($A562=0,\"\",Table2[[#This Row],[LG&TSL]])","v":""},{"$f":"IF($A562=0,\"\",Table2[[#This Row],[DFV]])","v":""},{"$f":"IF($A562=0,\"\",Table2[[#This Row],[60%-OTS]])","v":""},{"$f":"IF($A562=0,\"\",Table2[[#This Row],[75%]])","v":""},{"$f":"IF($A562=0,\"\",Table2[[#This Row],[Pre-Final PS&E]])","v":""},{"$f":"IF($A562=0,\"\",Table2[[#This Row],[Final PS&E]])","v":""},{"$f":"IF($A562=0,\"\",'LOD Matrix (DO NOT PRINT)'!M562)","v":""},{"$f":"IF($A562=0,\"\",'LOD Matrix (DO NOT PRINT)'!N562)","v":""},{"$f":"IF($A562=0,\"\",IF('LOD Matrix (DO NOT PRINT)'!P562=TRUE,\"Yes\",\"No\"))","v":""}]
[{"$f":"IF(B563=\"Yes\",Table2[[#This Row],[Break Level]],0)","v":0},{"$f":"Table2[[#This Row],[Yes/No]]","v":"No"},null,null,{"$f":"IF($A563=0,\"\",Table2[[#This Row],[PTC DISCIPLINE]])","v":""},{"$f":"IF($A563=0,\"\",Table2[[#This Row],[ELEMENT]])","v":""},{"$f":"IF($A563=0,\"\",Table2[[#This Row],[LG&TSL]])","v":""},{"$f":"IF($A563=0,\"\",Table2[[#This Row],[DFV]])","v":""},{"$f":"IF($A563=0,\"\",Table2[[#This Row],[60%-OTS]])","v":""},{"$f":"IF($A563=0,\"\",Table2[[#This Row],[75%]])","v":""},{"$f":"IF($A563=0,\"\",Table2[[#This Row],[Pre-Final PS&E]])","v":""},{"$f":"IF($A563=0,\"\",Table2[[#This Row],[Final PS&E]])","v":""},{"$f":"IF($A563=0,\"\",'LOD Matrix (DO NOT PRINT)'!M563)","v":""},{"$f":"IF($A563=0,\"\",'LOD Matrix (DO NOT PRINT)'!N563)","v":""},{"$f":"IF($A563=0,\"\",IF('LOD Matrix (DO NOT PRINT)'!P563=TRUE,\"Yes\",\"No\"))","v":""}]
[{"$f":"IF(B564=\"Yes\",Table2[[#This Row],[Break Level]],0)","v":0},{"$f":"Table2[[#This Row],[Yes/No]]","v":"No"},null,null,{"$f":"IF($A564=0,\"\",Table2[[#This Row],[PTC DISCIPLINE]])","v":""},{"$f":"IF($A564=0,\"\",Table2[[#This Row],[ELEMENT]])","v":""},{"$f":"IF($A564=0,\"\",Table2[[#This Row],[LG&TSL]])","v":""},{"$f":"IF($A564=0,\"\",Table2[[#This Row],[DFV]])","v":""},{"$f":"IF($A564=0,\"\",Table2[[#This Row],[60%-OTS]])","v":""},{"$f":"IF($A564=0,\"\",Table2[[#This Row],[75%]])","v":""},{"$f":"IF($A564=0,\"\",Table2[[#This Row],[Pre-Final PS&E]])","v":""},{"$f":"IF($A564=0,\"\",Table2[[#This Row],[Final PS&E]])","v":""},{"$f":"IF($A564=0,\"\",'LOD Matrix (DO NOT PRINT)'!M564)","v":""},{"$f":"IF($A564=0,\"\",'LOD Matrix (DO NOT PRINT)'!N564)","v":""},{"$f":"IF($A564=0,\"\",IF('LOD Matrix (DO NOT PRINT)'!P564=TRUE,\"Yes\",\"No\"))","v":""}]
[{"$f":"IF(B565=\"Yes\",Table2[[#This Row],[Break Level]],0)","v":0},{"$f":"Table2[[#This Row],[Yes/No]]","v":"No"},null,null,{"$f":"IF($A565=0,\"\",Table2[[#This Row],[PTC DISCIPLINE]])","v":""},{"$f":"IF($A565=0,\"\",Table2[[#This Row],[ELEMENT]])","v":""},{"$f":"IF($A565=0,\"\",Table2[[#This Row],[LG&TSL]])","v":""},{"$f":"IF($A565=0,\"\",Table2[[#This Row],[DFV]])","v":""},{"$f":"IF($A565=0,\"\",Table2[[#This Row],[60%-OTS]])","v":""},{"$f":"IF($A565=0,\"\",Table2[[#This Row],[75%]])","v":""},{"$f":"IF($A565=0,\"\",Table2[[#This Row],[Pre-Final PS&E]])","v":""},{"$f":"IF($A565=0,\"\",Table2[[#This Row],[Final PS&E]])","v":""},{"$f":"IF($A565=0,\"\",'LOD Matrix (DO NOT PRINT)'!M565)","v":""},{"$f":"IF($A565=0,\"\",'LOD Matrix (DO NOT PRINT)'!N565)","v":""},{"$f":"IF($A565=0,\"\",IF('LOD Matrix (DO NOT PRINT)'!P565=TRUE,\"Yes\",\"No\"))","v":""}]
[{"$f":"IF(B566=\"Yes\",Table2[[#This Row],[Break Level]],0)","v":0},{"$f":"Table2[[#This Row],[Yes/No]]","v":"No"},null,null,{"$f":"IF($A566=0,\"\",Table2[[#This Row],[PTC DISCIPLINE]])","v":""},{"$f":"IF($A566=0,\"\",Table2[[#This Row],[ELEMENT]])","v":""},{"$f":"IF($A566=0,\"\",Table2[[#This Row],[LG&TSL]])","v":""},{"$f":"IF($A566=0,\"\",Table2[[#This Row],[DFV]])","v":""},{"$f":"IF($A566=0,\"\",Table2[[#This Row],[60%-OTS]])","v":""},{"$f":"IF($A566=0,\"\",Table2[[#This Row],[75%]])","v":""},{"$f":"IF($A566=0,\"\",Table2[[#This Row],[Pre-Final PS&E]])","v":""},{"$f":"IF($A566=0,\"\",Table2[[#This Row],[Final PS&E]])","v":""},{"$f":"IF($A566=0,\"\",'LOD Matrix (DO NOT PRINT)'!M566)","v":""},{"$f":"IF($A566=0,\"\",'LOD Matrix (DO NOT PRINT)'!N566)","v":""},{"$f":"IF($A566=0,\"\",IF('LOD Matrix (DO NOT PRINT)'!P566=TRUE,\"Yes\",\"No\"))","v":""}]
[{"$f":"IF(B567=\"Yes\",Table2[[#This Row],[Break Level]],0)","v":0},{"$f":"Table2[[#This Row],[Yes/No]]","v":"No"},null,null,{"$f":"IF($A567=0,\"\",Table2[[#This Row],[PTC DISCIPLINE]])","v":""},{"$f":"IF($A567=0,\"\",Table2[[#This Row],[ELEMENT]])","v":""},{"$f":"IF($A567=0,\"\",Table2[[#This Row],[LG&TSL]])","v":""},{"$f":"IF($A567=0,\"\",Table2[[#This Row],[DFV]])","v":""},{"$f":"IF($A567=0,\"\",Table2[[#This Row],[60%-OTS]])","v":""},{"$f":"IF($A567=0,\"\",Table2[[#This Row],[75%]])","v":""},{"$f":"IF($A567=0,\"\",Table2[[#This Row],[Pre-Final PS&E]])","v":""},{"$f":"IF($A567=0,\"\",Table2[[#This Row],[Final PS&E]])","v":""},{"$f":"IF($A567=0,\"\",'LOD Matrix (DO NOT PRINT)'!M567)","v":""},{"$f":"IF($A567=0,\"\",'LOD Matrix (DO NOT PRINT)'!N567)","v":""},{"$f":"IF($A567=0,\"\",IF('LOD Matrix (DO NOT PRINT)'!P567=TRUE,\"Yes\",\"No\"))","v":""}]
[{"$f":"IF(B568=\"Yes\",Table2[[#This Row],[Break Level]],0)","v":0},{"$f":"Table2[[#This Row],[Yes/No]]","v":"No"},null,null,{"$f":"IF($A568=0,\"\",Table2[[#This Row],[PTC DISCIPLINE]])","v":""},{"$f":"IF($A568=0,\"\",Table2[[#This Row],[ELEMENT]])","v":""},{"$f":"IF($A568=0,\"\",Table2[[#This Row],[LG&TSL]])","v":""},{"$f":"IF($A568=0,\"\",Table2[[#This Row],[DFV]])","v":""},{"$f":"IF($A568=0,\"\",Table2[[#This Row],[60%-OTS]])","v":""},{"$f":"IF($A568=0,\"\",Table2[[#This Row],[75%]])","v":""},{"$f":"IF($A568=0,\"\",Table2[[#This Row],[Pre-Final PS&E]])","v":""},{"$f":"IF($A568=0,\"\",Table2[[#This Row],[Final PS&E]])","v":""},{"$f":"IF($A568=0,\"\",'LOD Matrix (DO NOT PRINT)'!M568)","v":""},{"$f":"IF($A568=0,\"\",'LOD Matrix (DO NOT PRINT)'!N568)","v":""},{"$f":"IF($A568=0,\"\",IF('LOD Matrix (DO NOT PRINT)'!P568=TRUE,\"Yes\",\"No\"))","v":""}]
[{"$f":"IF(B569=\"Yes\",Table2[[#This Row],[Break Level]],0)","v":0},{"$f":"Table2[[#This Row],[Yes/No]]","v":"No"},null,null,{"$f":"IF($A569=0,\"\",Table2[[#This Row],[PTC DISCIPLINE]])","v":""},{"$f":"IF($A569=0,\"\",Table2[[#This Row],[ELEMENT]])","v":""},{"$f":"IF($A569=0,\"\",Table2[[#This Row],[LG&TSL]])","v":""},{"$f":"IF($A569=0,\"\",Table2[[#This Row],[DFV]])","v":""},{"$f":"IF($A569=0,\"\",Table2[[#This Row],[60%-OTS]])","v":""},{"$f":"IF($A569=0,\"\",Table2[[#This Row],[75%]])","v":""},{"$f":"IF($A569=0,\"\",Table2[[#This Row],[Pre-Final PS&E]])","v":""},{"$f":"IF($A569=0,\"\",Table2[[#This Row],[Final PS&E]])","v":""},{"$f":"IF($A569=0,\"\",'LOD Matrix (DO NOT PRINT)'!M569)","v":""},{"$f":"IF($A569=0,\"\",'LOD Matrix (DO NOT PRINT)'!N569)","v":""},{"$f":"IF($A569=0,\"\",IF('LOD Matrix (DO NOT PRINT)'!P569=TRUE,\"Yes\",\"No\"))","v":""}]
[{"$f":"IF(B570=\"Yes\",Table2[[#This Row],[Break Level]],0)","v":0},{"$f":"Table2[[#This Row],[Yes/No]]","v":"No"},null,null,{"$f":"IF($A570=0,\"\",Table2[[#This Row],[PTC DISCIPLINE]])","v":""},{"$f":"IF($A570=0,\"\",Table2[[#This Row],[ELEMENT]])","v":""},{"$f":"IF($A570=0,\"\",Table2[[#This Row],[LG&TSL]])","v":""},{"$f":"IF($A570=0,\"\",Table2[[#This Row],[DFV]])","v":""},{"$f":"IF($A570=0,\"\",Table2[[#This Row],[60%-OTS]])","v":""},{"$f":"IF($A570=0,\"\",Table2[[#This Row],[75%]])","v":""},{"$f":"IF($A570=0,\"\",Table2[[#This Row],[Pre-Final PS&E]])","v":""},{"$f":"IF($A570=0,\"\",Table2[[#This Row],[Final PS&E]])","v":""},{"$f":"IF($A570=0,\"\",'LOD Matrix (DO NOT PRINT)'!M570)","v":""},{"$f":"IF($A570=0,\"\",'LOD Matrix (DO NOT PRINT)'!N570)","v":""},{"$f":"IF($A570=0,\"\",IF('LOD Matrix (DO NOT PRINT)'!P570=TRUE,\"Yes\",\"No\"))","v":""}]
[{"$f":"IF(B571=\"Yes\",Table2[[#This Row],[Break Level]],0)","v":0},{"$f":"Table2[[#This Row],[Yes/No]]","v":"No"},null,null,{"$f":"IF($A571=0,\"\",Table2[[#This Row],[PTC DISCIPLINE]])","v":""},{"$f":"IF($A571=0,\"\",Table2[[#This Row],[ELEMENT]])","v":""},{"$f":"IF($A571=0,\"\",Table2[[#This Row],[LG&TSL]])","v":""},{"$f":"IF($A571=0,\"\",Table2[[#This Row],[DFV]])","v":""},{"$f":"IF($A571=0,\"\",Table2[[#This Row],[60%-OTS]])","v":""},{"$f":"IF($A571=0,\"\",Table2[[#This Row],[75%]])","v":""},{"$f":"IF($A571=0,\"\",Table2[[#This Row],[Pre-Final PS&E]])","v":""},{"$f":"IF($A571=0,\"\",Table2[[#This Row],[Final PS&E]])","v":""},{"$f":"IF($A571=0,\"\",'LOD Matrix (DO NOT PRINT)'!M571)","v":""},{"$f":"IF($A571=0,\"\",'LOD Matrix (DO NOT PRINT)'!N571)","v":""},{"$f":"IF($A571=0,\"\",IF('LOD Matrix (DO NOT PRINT)'!P571=TRUE,\"Yes\",\"No\"))","v":""}]
[{"$f":"IF(B572=\"Yes\",Table2[[#This Row],[Break Level]],0)","v":0},{"$f":"Table2[[#This Row],[Yes/No]]","v":"No"},null,null,{"$f":"IF($A572=0,\"\",Table2[[#This Row],[PTC DISCIPLINE]])","v":""},{"$f":"IF($A572=0,\"\",Table2[[#This Row],[ELEMENT]])","v":""},{"$f":"IF($A572=0,\"\",Table2[[#This Row],[LG&TSL]])","v":""},{"$f":"IF($A572=0,\"\",Table2[[#This Row],[DFV]])","v":""},{"$f":"IF($A572=0,\"\",Table2[[#This Row],[60%-OTS]])","v":""},{"$f":"IF($A572=0,\"\",Table2[[#This Row],[75%]])","v":""},{"$f":"IF($A572=0,\"\",Table2[[#This Row],[Pre-Final PS&E]])","v":""},{"$f":"IF($A572=0,\"\",Table2[[#This Row],[Final PS&E]])","v":""},{"$f":"IF($A572=0,\"\",'LOD Matrix (DO NOT PRINT)'!M572)","v":""},{"$f":"IF($A572=0,\"\",'LOD Matrix (DO NOT PRINT)'!N572)","v":""},{"$f":"IF($A572=0,\"\",IF('LOD Matrix (DO NOT PRINT)'!P572=TRUE,\"Yes\",\"No\"))","v":""}]
[{"$f":"IF(B573=\"Yes\",Table2[[#This Row],[Break Level]],0)","v":0},{"$f":"Table2[[#This Row],[Yes/No]]","v":"No"},null,null,{"$f":"IF($A573=0,\"\",Table2[[#This Row],[PTC DISCIPLINE]])","v":""},{"$f":"IF($A573=0,\"\",Table2[[#This Row],[ELEMENT]])","v":""},{"$f":"IF($A573=0,\"\",Table2[[#This Row],[LG&TSL]])","v":""},{"$f":"IF($A573=0,\"\",Table2[[#This Row],[DFV]])","v":""},{"$f":"IF($A573=0,\"\",Table2[[#This Row],[60%-OTS]])","v":""},{"$f":"IF($A573=0,\"\",Table2[[#This Row],[75%]])","v":""},{"$f":"IF($A573=0,\"\",Table2[[#This Row],[Pre-Final PS&E]])","v":""},{"$f":"IF($A573=0,\"\",Table2[[#This Row],[Final PS&E]])","v":""},{"$f":"IF($A573=0,\"\",'LOD Matrix (DO NOT PRINT)'!M573)","v":""},{"$f":"IF($A573=0,\"\",'LOD Matrix (DO NOT PRINT)'!N573)","v":""},{"$f":"IF($A573=0,\"\",IF('LOD Matrix (DO NOT PRINT)'!P573=TRUE,\"Yes\",\"No\"))","v":""}]
[{"$f":"IF(B574=\"Yes\",Table2[[#This Row],[Break Level]],0)","v":0},{"$f":"Table2[[#This Row],[Yes/No]]","v":"No"},null,null,{"$f":"IF($A574=0,\"\",Table2[[#This Row],[PTC DISCIPLINE]])","v":""},{"$f":"IF($A574=0,\"\",Table2[[#This Row],[ELEMENT]])","v":""},{"$f":"IF($A574=0,\"\",Table2[[#This Row],[LG&TSL]])","v":""},{"$f":"IF($A574=0,\"\",Table2[[#This Row],[DFV]])","v":""},{"$f":"IF($A574=0,\"\",Table2[[#This Row],[60%-OTS]])","v":""},{"$f":"IF($A574=0,\"\",Table2[[#This Row],[75%]])","v":""},{"$f":"IF($A574=0,\"\",Table2[[#This Row],[Pre-Final PS&E]])","v":""},{"$f":"IF($A574=0,\"\",Table2[[#This Row],[Final PS&E]])","v":""},{"$f":"IF($A574=0,\"\",'LOD Matrix (DO NOT PRINT)'!M574)","v":""},{"$f":"IF($A574=0,\"\",'LOD Matrix (DO NOT PRINT)'!N574)","v":""},{"$f":"IF($A574=0,\"\",IF('LOD Matrix (DO NOT PRINT)'!P574=TRUE,\"Yes\",\"No\"))","v":""}]
[{"$f":"IF(B575=\"Yes\",Table2[[#This Row],[Break Level]],0)","v":0},{"$f":"Table2[[#This Row],[Yes/No]]","v":"No"},null,null,{"$f":"IF($A575=0,\"\",Table2[[#This Row],[PTC DISCIPLINE]])","v":""},{"$f":"IF($A575=0,\"\",Table2[[#This Row],[ELEMENT]])","v":""},{"$f":"IF($A575=0,\"\",Table2[[#This Row],[LG&TSL]])","v":""},{"$f":"IF($A575=0,\"\",Table2[[#This Row],[DFV]])","v":""},{"$f":"IF($A575=0,\"\",Table2[[#This Row],[60%-OTS]])","v":""},{"$f":"IF($A575=0,\"\",Table2[[#This Row],[75%]])","v":""},{"$f":"IF($A575=0,\"\",Table2[[#This Row],[Pre-Final PS&E]])","v":""},{"$f":"IF($A575=0,\"\",Table2[[#This Row],[Final PS&E]])","v":""},{"$f":"IF($A575=0,\"\",'LOD Matrix (DO NOT PRINT)'!M575)","v":""},{"$f":"IF($A575=0,\"\",'LOD Matrix (DO NOT PRINT)'!N575)","v":""},{"$f":"IF($A575=0,\"\",IF('LOD Matrix (DO NOT PRINT)'!P575=TRUE,\"Yes\",\"No\"))","v":""}]
[{"$f":"IF(B576=\"Yes\",Table2[[#This Row],[Break Level]],0)","v":0},{"$f":"Table2[[#This Row],[Yes/No]]","v":"No"},null,null,{"$f":"IF($A576=0,\"\",Table2[[#This Row],[PTC DISCIPLINE]])","v":""},{"$f":"IF($A576=0,\"\",Table2[[#This Row],[ELEMENT]])","v":""},{"$f":"IF($A576=0,\"\",Table2[[#This Row],[LG&TSL]])","v":""},{"$f":"IF($A576=0,\"\",Table2[[#This Row],[DFV]])","v":""},{"$f":"IF($A576=0,\"\",Table2[[#This Row],[60%-OTS]])","v":""},{"$f":"IF($A576=0,\"\",Table2[[#This Row],[75%]])","v":""},{"$f":"IF($A576=0,\"\",Table2[[#This Row],[Pre-Final PS&E]])","v":""},{"$f":"IF($A576=0,\"\",Table2[[#This Row],[Final PS&E]])","v":""},{"$f":"IF($A576=0,\"\",'LOD Matrix (DO NOT PRINT)'!M576)","v":""},{"$f":"IF($A576=0,\"\",'LOD Matrix (DO NOT PRINT)'!N576)","v":""},{"$f":"IF($A576=0,\"\",IF('LOD Matrix (DO NOT PRINT)'!P576=TRUE,\"Yes\",\"No\"))","v":""}]
[{"$f":"IF(B577=\"Yes\",Table2[[#This Row],[Break Level]],0)","v":0},{"$f":"Table2[[#This Row],[Yes/No]]","v":"No"},null,null,{"$f":"IF($A577=0,\"\",Table2[[#This Row],[PTC DISCIPLINE]])","v":""},{"$f":"IF($A577=0,\"\",Table2[[#This Row],[ELEMENT]])","v":""},{"$f":"IF($A577=0,\"\",Table2[[#This Row],[LG&TSL]])","v":""},{"$f":"IF($A577=0,\"\",Table2[[#This Row],[DFV]])","v":""},{"$f":"IF($A577=0,\"\",Table2[[#This Row],[60%-OTS]])","v":""},{"$f":"IF($A577=0,\"\",Table2[[#This Row],[75%]])","v":""},{"$f":"IF($A577=0,\"\",Table2[[#This Row],[Pre-Final PS&E]])","v":""},{"$f":"IF($A577=0,\"\",Table2[[#This Row],[Final PS&E]])","v":""},{"$f":"IF($A577=0,\"\",'LOD Matrix (DO NOT PRINT)'!M577)","v":""},{"$f":"IF($A577=0,\"\",'LOD Matrix (DO NOT PRINT)'!N577)","v":""},{"$f":"IF($A577=0,\"\",IF('LOD Matrix (DO NOT PRINT)'!P577=TRUE,\"Yes\",\"No\"))","v":""}]
[{"$f":"IF(B578=\"Yes\",Table2[[#This Row],[Break Level]],0)","v":0},{"$f":"Table2[[#This Row],[Yes/No]]","v":"No"},null,null,{"$f":"IF($A578=0,\"\",Table2[[#This Row],[PTC DISCIPLINE]])","v":""},{"$f":"IF($A578=0,\"\",Table2[[#This Row],[ELEMENT]])","v":""},{"$f":"IF($A578=0,\"\",Table2[[#This Row],[LG&TSL]])","v":""},{"$f":"IF($A578=0,\"\",Table2[[#This Row],[DFV]])","v":""},{"$f":"IF($A578=0,\"\",Table2[[#This Row],[60%-OTS]])","v":""},{"$f":"IF($A578=0,\"\",Table2[[#This Row],[75%]])","v":""},{"$f":"IF($A578=0,\"\",Table2[[#This Row],[Pre-Final PS&E]])","v":""},{"$f":"IF($A578=0,\"\",Table2[[#This Row],[Final PS&E]])","v":""},{"$f":"IF($A578=0,\"\",'LOD Matrix (DO NOT PRINT)'!M578)","v":""},{"$f":"IF($A578=0,\"\",'LOD Matrix (DO NOT PRINT)'!N578)","v":""},{"$f":"IF($A578=0,\"\",IF('LOD Matrix (DO NOT PRINT)'!P578=TRUE,\"Yes\",\"No\"))","v":""}]
[{"$f":"IF(B579=\"Yes\",Table2[[#This Row],[Break Level]],0)","v":0},{"$f":"Table2[[#This Row],[Yes/No]]","v":"No"},null,null,{"$f":"IF($A579=0,\"\",Table2[[#This Row],[PTC DISCIPLINE]])","v":""},{"$f":"IF($A579=0,\"\",Table2[[#This Row],[ELEMENT]])","v":""},{"$f":"IF($A579=0,\"\",Table2[[#This Row],[LG&TSL]])","v":""},{"$f":"IF($A579=0,\"\",Table2[[#This Row],[DFV]])","v":""},{"$f":"IF($A579=0,\"\",Table2[[#This Row],[60%-OTS]])","v":""},{"$f":"IF($A579=0,\"\",Table2[[#This Row],[75%]])","v":""},{"$f":"IF($A579=0,\"\",Table2[[#This Row],[Pre-Final PS&E]])","v":""},{"$f":"IF($A579=0,\"\",Table2[[#This Row],[Final PS&E]])","v":""},{"$f":"IF($A579=0,\"\",'LOD Matrix (DO NOT PRINT)'!M579)","v":""},{"$f":"IF($A579=0,\"\",'LOD Matrix (DO NOT PRINT)'!N579)","v":""},{"$f":"IF($A579=0,\"\",IF('LOD Matrix (DO NOT PRINT)'!P579=TRUE,\"Yes\",\"No\"))","v":""}]
[{"$f":"IF(B580=\"Yes\",Table2[[#This Row],[Break Level]],0)","v":0},{"$f":"Table2[[#This Row],[Yes/No]]","v":"No"},null,null,{"$f":"IF($A580=0,\"\",Table2[[#This Row],[PTC DISCIPLINE]])","v":""},{"$f":"IF($A580=0,\"\",Table2[[#This Row],[ELEMENT]])","v":""},{"$f":"IF($A580=0,\"\",Table2[[#This Row],[LG&TSL]])","v":""},{"$f":"IF($A580=0,\"\",Table2[[#This Row],[DFV]])","v":""},{"$f":"IF($A580=0,\"\",Table2[[#This Row],[60%-OTS]])","v":""},{"$f":"IF($A580=0,\"\",Table2[[#This Row],[75%]])","v":""},{"$f":"IF($A580=0,\"\",Table2[[#This Row],[Pre-Final PS&E]])","v":""},{"$f":"IF($A580=0,\"\",Table2[[#This Row],[Final PS&E]])","v":""},{"$f":"IF($A580=0,\"\",'LOD Matrix (DO NOT PRINT)'!M580)","v":""},{"$f":"IF($A580=0,\"\",'LOD Matrix (DO NOT PRINT)'!N580)","v":""},{"$f":"IF($A580=0,\"\",IF('LOD Matrix (DO NOT PRINT)'!P580=TRUE,\"Yes\",\"No\"))","v":""}]
[{"$f":"IF(B581=\"Yes\",Table2[[#This Row],[Break Level]],0)","v":0},{"$f":"Table2[[#This Row],[Yes/No]]","v":"No"},null,null,{"$f":"IF($A581=0,\"\",Table2[[#This Row],[PTC DISCIPLINE]])","v":""},{"$f":"IF($A581=0,\"\",Table2[[#This Row],[ELEMENT]])","v":""},{"$f":"IF($A581=0,\"\",Table2[[#This Row],[LG&TSL]])","v":""},{"$f":"IF($A581=0,\"\",Table2[[#This Row],[DFV]])","v":""},{"$f":"IF($A581=0,\"\",Table2[[#This Row],[60%-OTS]])","v":""},{"$f":"IF($A581=0,\"\",Table2[[#This Row],[75%]])","v":""},{"$f":"IF($A581=0,\"\",Table2[[#This Row],[Pre-Final PS&E]])","v":""},{"$f":"IF($A581=0,\"\",Table2[[#This Row],[Final PS&E]])","v":""},{"$f":"IF($A581=0,\"\",'LOD Matrix (DO NOT PRINT)'!M581)","v":""},{"$f":"IF($A581=0,\"\",'LOD Matrix (DO NOT PRINT)'!N581)","v":""},{"$f":"IF($A581=0,\"\",IF('LOD Matrix (DO NOT PRINT)'!P581=TRUE,\"Yes\",\"No\"))","v":""}]
[{"$f":"IF(B582=\"Yes\",Table2[[#This Row],[Break Level]],0)","v":0},{"$f":"Table2[[#This Row],[Yes/No]]","v":"No"},null,null,{"$f":"IF($A582=0,\"\",Table2[[#This Row],[PTC DISCIPLINE]])","v":""},{"$f":"IF($A582=0,\"\",Table2[[#This Row],[ELEMENT]])","v":""},{"$f":"IF($A582=0,\"\",Table2[[#This Row],[LG&TSL]])","v":""},{"$f":"IF($A582=0,\"\",Table2[[#This Row],[DFV]])","v":""},{"$f":"IF($A582=0,\"\",Table2[[#This Row],[60%-OTS]])","v":""},{"$f":"IF($A582=0,\"\",Table2[[#This Row],[75%]])","v":""},{"$f":"IF($A582=0,\"\",Table2[[#This Row],[Pre-Final PS&E]])","v":""},{"$f":"IF($A582=0,\"\",Table2[[#This Row],[Final PS&E]])","v":""},{"$f":"IF($A582=0,\"\",'LOD Matrix (DO NOT PRINT)'!M582)","v":""},{"$f":"IF($A582=0,\"\",'LOD Matrix (DO NOT PRINT)'!N582)","v":""},{"$f":"IF($A582=0,\"\",IF('LOD Matrix (DO NOT PRINT)'!P582=TRUE,\"Yes\",\"No\"))","v":""}]
[{"$f":"IF(B583=\"Yes\",Table2[[#This Row],[Break Level]],0)","v":0},{"$f":"Table2[[#This Row],[Yes/No]]","v":"No"},null,null,{"$f":"IF($A583=0,\"\",Table2[[#This Row],[PTC DISCIPLINE]])","v":""},{"$f":"IF($A583=0,\"\",Table2[[#This Row],[ELEMENT]])","v":""},{"$f":"IF($A583=0,\"\",Table2[[#This Row],[LG&TSL]])","v":""},{"$f":"IF($A583=0,\"\",Table2[[#This Row],[DFV]])","v":""},{"$f":"IF($A583=0,\"\",Table2[[#This Row],[60%-OTS]])","v":""},{"$f":"IF($A583=0,\"\",Table2[[#This Row],[75%]])","v":""},{"$f":"IF($A583=0,\"\",Table2[[#This Row],[Pre-Final PS&E]])","v":""},{"$f":"IF($A583=0,\"\",Table2[[#This Row],[Final PS&E]])","v":""},{"$f":"IF($A583=0,\"\",'LOD Matrix (DO NOT PRINT)'!M583)","v":""},{"$f":"IF($A583=0,\"\",'LOD Matrix (DO NOT PRINT)'!N583)","v":""},{"$f":"IF($A583=0,\"\",IF('LOD Matrix (DO NOT PRINT)'!P583=TRUE,\"Yes\",\"No\"))","v":""}]
[{"$f":"IF(B584=\"Yes\",Table2[[#This Row],[Break Level]],0)","v":0},{"$f":"Table2[[#This Row],[Yes/No]]","v":"No"},null,null,{"$f":"IF($A584=0,\"\",Table2[[#This Row],[PTC DISCIPLINE]])","v":""},{"$f":"IF($A584=0,\"\",Table2[[#This Row],[ELEMENT]])","v":""},{"$f":"IF($A584=0,\"\",Table2[[#This Row],[LG&TSL]])","v":""},{"$f":"IF($A584=0,\"\",Table2[[#This Row],[DFV]])","v":""},{"$f":"IF($A584=0,\"\",Table2[[#This Row],[60%-OTS]])","v":""},{"$f":"IF($A584=0,\"\",Table2[[#This Row],[75%]])","v":""},{"$f":"IF($A584=0,\"\",Table2[[#This Row],[Pre-Final PS&E]])","v":""},{"$f":"IF($A584=0,\"\",Table2[[#This Row],[Final PS&E]])","v":""},{"$f":"IF($A584=0,\"\",'LOD Matrix (DO NOT PRINT)'!M584)","v":""},{"$f":"IF($A584=0,\"\",'LOD Matrix (DO NOT PRINT)'!N584)","v":""},{"$f":"IF($A584=0,\"\",IF('LOD Matrix (DO NOT PRINT)'!P584=TRUE,\"Yes\",\"No\"))","v":""}]
[{"$f":"IF(B585=\"Yes\",Table2[[#This Row],[Break Level]],0)","v":0},{"$f":"Table2[[#This Row],[Yes/No]]","v":"No"},null,null,{"$f":"IF($A585=0,\"\",Table2[[#This Row],[PTC DISCIPLINE]])","v":""},{"$f":"IF($A585=0,\"\",Table2[[#This Row],[ELEMENT]])","v":""},{"$f":"IF($A585=0,\"\",Table2[[#This Row],[LG&TSL]])","v":""},{"$f":"IF($A585=0,\"\",Table2[[#This Row],[DFV]])","v":""},{"$f":"IF($A585=0,\"\",Table2[[#This Row],[60%-OTS]])","v":""},{"$f":"IF($A585=0,\"\",Table2[[#This Row],[75%]])","v":""},{"$f":"IF($A585=0,\"\",Table2[[#This Row],[Pre-Final PS&E]])","v":""},{"$f":"IF($A585=0,\"\",Table2[[#This Row],[Final PS&E]])","v":""},{"$f":"IF($A585=0,\"\",'LOD Matrix (DO NOT PRINT)'!M585)","v":""},{"$f":"IF($A585=0,\"\",'LOD Matrix (DO NOT PRINT)'!N585)","v":""},{"$f":"IF($A585=0,\"\",IF('LOD Matrix (DO NOT PRINT)'!P585=TRUE,\"Yes\",\"No\"))","v":""}]
[{"$f":"IF(B586=\"Yes\",Table2[[#This Row],[Break Level]],0)","v":0},{"$f":"Table2[[#This Row],[Yes/No]]","v":"No"},null,null,{"$f":"IF($A586=0,\"\",Table2[[#This Row],[PTC DISCIPLINE]])","v":""},{"$f":"IF($A586=0,\"\",Table2[[#This Row],[ELEMENT]])","v":""},{"$f":"IF($A586=0,\"\",Table2[[#This Row],[LG&TSL]])","v":""},{"$f":"IF($A586=0,\"\",Table2[[#This Row],[DFV]])","v":""},{"$f":"IF($A586=0,\"\",Table2[[#This Row],[60%-OTS]])","v":""},{"$f":"IF($A586=0,\"\",Table2[[#This Row],[75%]])","v":""},{"$f":"IF($A586=0,\"\",Table2[[#This Row],[Pre-Final PS&E]])","v":""},{"$f":"IF($A586=0,\"\",Table2[[#This Row],[Final PS&E]])","v":""},{"$f":"IF($A586=0,\"\",'LOD Matrix (DO NOT PRINT)'!M586)","v":""},{"$f":"IF($A586=0,\"\",'LOD Matrix (DO NOT PRINT)'!N586)","v":""},{"$f":"IF($A586=0,\"\",IF('LOD Matrix (DO NOT PRINT)'!P586=TRUE,\"Yes\",\"No\"))","v":""}]
[{"$f":"IF(B587=\"Yes\",Table2[[#This Row],[Break Level]],0)","v":0},{"$f":"Table2[[#This Row],[Yes/No]]","v":"No"},null,null,{"$f":"IF($A587=0,\"\",Table2[[#This Row],[PTC DISCIPLINE]])","v":""},{"$f":"IF($A587=0,\"\",Table2[[#This Row],[ELEMENT]])","v":""},{"$f":"IF($A587=0,\"\",Table2[[#This Row],[LG&TSL]])","v":""},{"$f":"IF($A587=0,\"\",Table2[[#This Row],[DFV]])","v":""},{"$f":"IF($A587=0,\"\",Table2[[#This Row],[60%-OTS]])","v":""},{"$f":"IF($A587=0,\"\",Table2[[#This Row],[75%]])","v":""},{"$f":"IF($A587=0,\"\",Table2[[#This Row],[Pre-Final PS&E]])","v":""},{"$f":"IF($A587=0,\"\",Table2[[#This Row],[Final PS&E]])","v":""},{"$f":"IF($A587=0,\"\",'LOD Matrix (DO NOT PRINT)'!M587)","v":""},{"$f":"IF($A587=0,\"\",'LOD Matrix (DO NOT PRINT)'!N587)","v":""},{"$f":"IF($A587=0,\"\",IF('LOD Matrix (DO NOT PRINT)'!P587=TRUE,\"Yes\",\"No\"))","v":""}]
[{"$f":"IF(B588=\"Yes\",Table2[[#This Row],[Break Level]],0)","v":0},{"$f":"Table2[[#This Row],[Yes/No]]","v":"No"},null,null,{"$f":"IF($A588=0,\"\",Table2[[#This Row],[PTC DISCIPLINE]])","v":""},{"$f":"IF($A588=0,\"\",Table2[[#This Row],[ELEMENT]])","v":""},{"$f":"IF($A588=0,\"\",Table2[[#This Row],[LG&TSL]])","v":""},{"$f":"IF($A588=0,\"\",Table2[[#This Row],[DFV]])","v":""},{"$f":"IF($A588=0,\"\",Table2[[#This Row],[60%-OTS]])","v":""},{"$f":"IF($A588=0,\"\",Table2[[#This Row],[75%]])","v":""},{"$f":"IF($A588=0,\"\",Table2[[#This Row],[Pre-Final PS&E]])","v":""},{"$f":"IF($A588=0,\"\",Table2[[#This Row],[Final PS&E]])","v":""},{"$f":"IF($A588=0,\"\",'LOD Matrix (DO NOT PRINT)'!M588)","v":""},{"$f":"IF($A588=0,\"\",'LOD Matrix (DO NOT PRINT)'!N588)","v":""},{"$f":"IF($A588=0,\"\",IF('LOD Matrix (DO NOT PRINT)'!P588=TRUE,\"Yes\",\"No\"))","v":""}]
[{"$f":"IF(B589=\"Yes\",Table2[[#This Row],[Break Level]],0)","v":0},{"$f":"Table2[[#This Row],[Yes/No]]","v":"No"},null,null,{"$f":"IF($A589=0,\"\",Table2[[#This Row],[PTC DISCIPLINE]])","v":""},{"$f":"IF($A589=0,\"\",Table2[[#This Row],[ELEMENT]])","v":""},{"$f":"IF($A589=0,\"\",Table2[[#This Row],[LG&TSL]])","v":""},{"$f":"IF($A589=0,\"\",Table2[[#This Row],[DFV]])","v":""},{"$f":"IF($A589=0,\"\",Table2[[#This Row],[60%-OTS]])","v":""},{"$f":"IF($A589=0,\"\",Table2[[#This Row],[75%]])","v":""},{"$f":"IF($A589=0,\"\",Table2[[#This Row],[Pre-Final PS&E]])","v":""},{"$f":"IF($A589=0,\"\",Table2[[#This Row],[Final PS&E]])","v":""},{"$f":"IF($A589=0,\"\",'LOD Matrix (DO NOT PRINT)'!M589)","v":""},{"$f":"IF($A589=0,\"\",'LOD Matrix (DO NOT PRINT)'!N589)","v":""},{"$f":"IF($A589=0,\"\",IF('LOD Matrix (DO NOT PRINT)'!P589=TRUE,\"Yes\",\"No\"))","v":""}]
[{"$f":"IF(B590=\"Yes\",Table2[[#This Row],[Break Level]],0)","v":0},{"$f":"Table2[[#This Row],[Yes/No]]","v":"No"},null,null,{"$f":"IF($A590=0,\"\",Table2[[#This Row],[PTC DISCIPLINE]])","v":""},{"$f":"IF($A590=0,\"\",Table2[[#This Row],[ELEMENT]])","v":""},{"$f":"IF($A590=0,\"\",Table2[[#This Row],[LG&TSL]])","v":""},{"$f":"IF($A590=0,\"\",Table2[[#This Row],[DFV]])","v":""},{"$f":"IF($A590=0,\"\",Table2[[#This Row],[60%-OTS]])","v":""},{"$f":"IF($A590=0,\"\",Table2[[#This Row],[75%]])","v":""},{"$f":"IF($A590=0,\"\",Table2[[#This Row],[Pre-Final PS&E]])","v":""},{"$f":"IF($A590=0,\"\",Table2[[#This Row],[Final PS&E]])","v":""},{"$f":"IF($A590=0,\"\",'LOD Matrix (DO NOT PRINT)'!M590)","v":""},{"$f":"IF($A590=0,\"\",'LOD Matrix (DO NOT PRINT)'!N590)","v":""},{"$f":"IF($A590=0,\"\",IF('LOD Matrix (DO NOT PRINT)'!P590=TRUE,\"Yes\",\"No\"))","v":""}]
[{"$f":"IF(B591=\"Yes\",Table2[[#This Row],[Break Level]],0)","v":0},{"$f":"Table2[[#This Row],[Yes/No]]","v":"No"},null,null,{"$f":"IF($A591=0,\"\",Table2[[#This Row],[PTC DISCIPLINE]])","v":""},{"$f":"IF($A591=0,\"\",Table2[[#This Row],[ELEMENT]])","v":""},{"$f":"IF($A591=0,\"\",Table2[[#This Row],[LG&TSL]])","v":""},{"$f":"IF($A591=0,\"\",Table2[[#This Row],[DFV]])","v":""},{"$f":"IF($A591=0,\"\",Table2[[#This Row],[60%-OTS]])","v":""},{"$f":"IF($A591=0,\"\",Table2[[#This Row],[75%]])","v":""},{"$f":"IF($A591=0,\"\",Table2[[#This Row],[Pre-Final PS&E]])","v":""},{"$f":"IF($A591=0,\"\",Table2[[#This Row],[Final PS&E]])","v":""},{"$f":"IF($A591=0,\"\",'LOD Matrix (DO NOT PRINT)'!M591)","v":""},{"$f":"IF($A591=0,\"\",'LOD Matrix (DO NOT PRINT)'!N591)","v":""},{"$f":"IF($A591=0,\"\",IF('LOD Matrix (DO NOT PRINT)'!P591=TRUE,\"Yes\",\"No\"))","v":""}]
[{"$f":"IF(B592=\"Yes\",Table2[[#This Row],[Break Level]],0)","v":0},{"$f":"Table2[[#This Row],[Yes/No]]","v":"No"},null,null,{"$f":"IF($A592=0,\"\",Table2[[#This Row],[PTC DISCIPLINE]])","v":""},{"$f":"IF($A592=0,\"\",Table2[[#This Row],[ELEMENT]])","v":""},{"$f":"IF($A592=0,\"\",Table2[[#This Row],[LG&TSL]])","v":""},{"$f":"IF($A592=0,\"\",Table2[[#This Row],[DFV]])","v":""},{"$f":"IF($A592=0,\"\",Table2[[#This Row],[60%-OTS]])","v":""},{"$f":"IF($A592=0,\"\",Table2[[#This Row],[75%]])","v":""},{"$f":"IF($A592=0,\"\",Table2[[#This Row],[Pre-Final PS&E]])","v":""},{"$f":"IF($A592=0,\"\",Table2[[#This Row],[Final PS&E]])","v":""},{"$f":"IF($A592=0,\"\",'LOD Matrix (DO NOT PRINT)'!M592)","v":""},{"$f":"IF($A592=0,\"\",'LOD Matrix (DO NOT PRINT)'!N592)","v":""},{"$f":"IF($A592=0,\"\",IF('LOD Matrix (DO NOT PRINT)'!P592=TRUE,\"Yes\",\"No\"))","v":""}]
[{"$f":"IF(B593=\"Yes\",Table2[[#This Row],[Break Level]],0)","v":0},{"$f":"Table2[[#This Row],[Yes/No]]","v":"No"},null,null,{"$f":"IF($A593=0,\"\",Table2[[#This Row],[PTC DISCIPLINE]])","v":""},{"$f":"IF($A593=0,\"\",Table2[[#This Row],[ELEMENT]])","v":""},{"$f":"IF($A593=0,\"\",Table2[[#This Row],[LG&TSL]])","v":""},{"$f":"IF($A593=0,\"\",Table2[[#This Row],[DFV]])","v":""},{"$f":"IF($A593=0,\"\",Table2[[#This Row],[60%-OTS]])","v":""},{"$f":"IF($A593=0,\"\",Table2[[#This Row],[75%]])","v":""},{"$f":"IF($A593=0,\"\",Table2[[#This Row],[Pre-Final PS&E]])","v":""},{"$f":"IF($A593=0,\"\",Table2[[#This Row],[Final PS&E]])","v":""},{"$f":"IF($A593=0,\"\",'LOD Matrix (DO NOT PRINT)'!M593)","v":""},{"$f":"IF($A593=0,\"\",'LOD Matrix (DO NOT PRINT)'!N593)","v":""},{"$f":"IF($A593=0,\"\",IF('LOD Matrix (DO NOT PRINT)'!P593=TRUE,\"Yes\",\"No\"))","v":""}]
[{"$f":"IF(B594=\"Yes\",Table2[[#This Row],[Break Level]],0)","v":0},{"$f":"Table2[[#This Row],[Yes/No]]","v":"No"},null,null,{"$f":"IF($A594=0,\"\",Table2[[#This Row],[PTC DISCIPLINE]])","v":""},{"$f":"IF($A594=0,\"\",Table2[[#This Row],[ELEMENT]])","v":""},{"$f":"IF($A594=0,\"\",Table2[[#This Row],[LG&TSL]])","v":""},{"$f":"IF($A594=0,\"\",Table2[[#This Row],[DFV]])","v":""},{"$f":"IF($A594=0,\"\",Table2[[#This Row],[60%-OTS]])","v":""},{"$f":"IF($A594=0,\"\",Table2[[#This Row],[75%]])","v":""},{"$f":"IF($A594=0,\"\",Table2[[#This Row],[Pre-Final PS&E]])","v":""},{"$f":"IF($A594=0,\"\",Table2[[#This Row],[Final PS&E]])","v":""},{"$f":"IF($A594=0,\"\",'LOD Matrix (DO NOT PRINT)'!M594)","v":""},{"$f":"IF($A594=0,\"\",'LOD Matrix (DO NOT PRINT)'!N594)","v":""},{"$f":"IF($A594=0,\"\",IF('LOD Matrix (DO NOT PRINT)'!P594=TRUE,\"Yes\",\"No\"))","v":""}]
[{"$f":"IF(B595=\"Yes\",Table2[[#This Row],[Break Level]],0)","v":0},{"$f":"Table2[[#This Row],[Yes/No]]","v":"No"},null,null,{"$f":"IF($A595=0,\"\",Table2[[#This Row],[PTC DISCIPLINE]])","v":""},{"$f":"IF($A595=0,\"\",Table2[[#This Row],[ELEMENT]])","v":""},{"$f":"IF($A595=0,\"\",Table2[[#This Row],[LG&TSL]])","v":""},{"$f":"IF($A595=0,\"\",Table2[[#This Row],[DFV]])","v":""},{"$f":"IF($A595=0,\"\",Table2[[#This Row],[60%-OTS]])","v":""},{"$f":"IF($A595=0,\"\",Table2[[#This Row],[75%]])","v":""},{"$f":"IF($A595=0,\"\",Table2[[#This Row],[Pre-Final PS&E]])","v":""},{"$f":"IF($A595=0,\"\",Table2[[#This Row],[Final PS&E]])","v":""},{"$f":"IF($A595=0,\"\",'LOD Matrix (DO NOT PRINT)'!M595)","v":""},{"$f":"IF($A595=0,\"\",'LOD Matrix (DO NOT PRINT)'!N595)","v":""},{"$f":"IF($A595=0,\"\",IF('LOD Matrix (DO NOT PRINT)'!P595=TRUE,\"Yes\",\"No\"))","v":""}]
[{"$f":"IF(B596=\"Yes\",Table2[[#This Row],[Break Level]],0)","v":0},{"$f":"Table2[[#This Row],[Yes/No]]","v":"No"},null,null,{"$f":"IF($A596=0,\"\",Table2[[#This Row],[PTC DISCIPLINE]])","v":""},{"$f":"IF($A596=0,\"\",Table2[[#This Row],[ELEMENT]])","v":""},{"$f":"IF($A596=0,\"\",Table2[[#This Row],[LG&TSL]])","v":""},{"$f":"IF($A596=0,\"\",Table2[[#This Row],[DFV]])","v":""},{"$f":"IF($A596=0,\"\",Table2[[#This Row],[60%-OTS]])","v":""},{"$f":"IF($A596=0,\"\",Table2[[#This Row],[75%]])","v":""},{"$f":"IF($A596=0,\"\",Table2[[#This Row],[Pre-Final PS&E]])","v":""},{"$f":"IF($A596=0,\"\",Table2[[#This Row],[Final PS&E]])","v":""},{"$f":"IF($A596=0,\"\",'LOD Matrix (DO NOT PRINT)'!M596)","v":""},{"$f":"IF($A596=0,\"\",'LOD Matrix (DO NOT PRINT)'!N596)","v":""},{"$f":"IF($A596=0,\"\",IF('LOD Matrix (DO NOT PRINT)'!P596=TRUE,\"Yes\",\"No\"))","v":""}]
[{"$f":"IF(B597=\"Yes\",Table2[[#This Row],[Break Level]],0)","v":0},{"$f":"Table2[[#This Row],[Yes/No]]","v":"No"},null,null,{"$f":"IF($A597=0,\"\",Table2[[#This Row],[PTC DISCIPLINE]])","v":""},{"$f":"IF($A597=0,\"\",Table2[[#This Row],[ELEMENT]])","v":""},{"$f":"IF($A597=0,\"\",Table2[[#This Row],[LG&TSL]])","v":""},{"$f":"IF($A597=0,\"\",Table2[[#This Row],[DFV]])","v":""},{"$f":"IF($A597=0,\"\",Table2[[#This Row],[60%-OTS]])","v":""},{"$f":"IF($A597=0,\"\",Table2[[#This Row],[75%]])","v":""},{"$f":"IF($A597=0,\"\",Table2[[#This Row],[Pre-Final PS&E]])","v":""},{"$f":"IF($A597=0,\"\",Table2[[#This Row],[Final PS&E]])","v":""},{"$f":"IF($A597=0,\"\",'LOD Matrix (DO NOT PRINT)'!M597)","v":""},{"$f":"IF($A597=0,\"\",'LOD Matrix (DO NOT PRINT)'!N597)","v":""},{"$f":"IF($A597=0,\"\",IF('LOD Matrix (DO NOT PRINT)'!P597=TRUE,\"Yes\",\"No\"))","v":""}]
[{"$f":"IF(B598=\"Yes\",Table2[[#This Row],[Break Level]],0)","v":0},{"$f":"Table2[[#This Row],[Yes/No]]","v":"No"},null,null,{"$f":"IF($A598=0,\"\",Table2[[#This Row],[PTC DISCIPLINE]])","v":""},{"$f":"IF($A598=0,\"\",Table2[[#This Row],[ELEMENT]])","v":""},{"$f":"IF($A598=0,\"\",Table2[[#This Row],[LG&TSL]])","v":""},{"$f":"IF($A598=0,\"\",Table2[[#This Row],[DFV]])","v":""},{"$f":"IF($A598=0,\"\",Table2[[#This Row],[60%-OTS]])","v":""},{"$f":"IF($A598=0,\"\",Table2[[#This Row],[75%]])","v":""},{"$f":"IF($A598=0,\"\",Table2[[#This Row],[Pre-Final PS&E]])","v":""},{"$f":"IF($A598=0,\"\",Table2[[#This Row],[Final PS&E]])","v":""},{"$f":"IF($A598=0,\"\",'LOD Matrix (DO NOT PRINT)'!M598)","v":""},{"$f":"IF($A598=0,\"\",'LOD Matrix (DO NOT PRINT)'!N598)","v":""},{"$f":"IF($A598=0,\"\",IF('LOD Matrix (DO NOT PRINT)'!P598=TRUE,\"Yes\",\"No\"))","v":""}]
[{"$f":"IF(B599=\"Yes\",Table2[[#This Row],[Break Level]],0)","v":0},{"$f":"Table2[[#This Row],[Yes/No]]","v":"No"},null,null,{"$f":"IF($A599=0,\"\",Table2[[#This Row],[PTC DISCIPLINE]])","v":""},{"$f":"IF($A599=0,\"\",Table2[[#This Row],[ELEMENT]])","v":""},{"$f":"IF($A599=0,\"\",Table2[[#This Row],[LG&TSL]])","v":""},{"$f":"IF($A599=0,\"\",Table2[[#This Row],[DFV]])","v":""},{"$f":"IF($A599=0,\"\",Table2[[#This Row],[60%-OTS]])","v":""},{"$f":"IF($A599=0,\"\",Table2[[#This Row],[75%]])","v":""},{"$f":"IF($A599=0,\"\",Table2[[#This Row],[Pre-Final PS&E]])","v":""},{"$f":"IF($A599=0,\"\",Table2[[#This Row],[Final PS&E]])","v":""},{"$f":"IF($A599=0,\"\",'LOD Matrix (DO NOT PRINT)'!M599)","v":""},{"$f":"IF($A599=0,\"\",'LOD Matrix (DO NOT PRINT)'!N599)","v":""},{"$f":"IF($A599=0,\"\",IF('LOD Matrix (DO NOT PRINT)'!P599=TRUE,\"Yes\",\"No\"))","v":""}]
[{"$f":"IF(B600=\"Yes\",Table2[[#This Row],[Break Level]],0)","v":0},{"$f":"Table2[[#This Row],[Yes/No]]","v":"No"},null,null,{"$f":"IF($A600=0,\"\",Table2[[#This Row],[PTC DISCIPLINE]])","v":""},{"$f":"IF($A600=0,\"\",Table2[[#This Row],[ELEMENT]])","v":""},{"$f":"IF($A600=0,\"\",Table2[[#This Row],[LG&TSL]])","v":""},{"$f":"IF($A600=0,\"\",Table2[[#This Row],[DFV]])","v":""},{"$f":"IF($A600=0,\"\",Table2[[#This Row],[60%-OTS]])","v":""},{"$f":"IF($A600=0,\"\",Table2[[#This Row],[75%]])","v":""},{"$f":"IF($A600=0,\"\",Table2[[#This Row],[Pre-Final PS&E]])","v":""},{"$f":"IF($A600=0,\"\",Table2[[#This Row],[Final PS&E]])","v":""},{"$f":"IF($A600=0,\"\",'LOD Matrix (DO NOT PRINT)'!M600)","v":""},{"$f":"IF($A600=0,\"\",'LOD Matrix (DO NOT PRINT)'!N600)","v":""},{"$f":"IF($A600=0,\"\",IF('LOD Matrix (DO NOT PRINT)'!P600=TRUE,\"Yes\",\"No\"))","v":""}]
[{"$f":"IF(B601=\"Yes\",Table2[[#This Row],[Break Level]],0)","v":0},{"$f":"Table2[[#This Row],[Yes/No]]","v":"No"},null,null,{"$f":"IF($A601=0,\"\",Table2[[#This Row],[PTC DISCIPLINE]])","v":""},{"$f":"IF($A601=0,\"\",Table2[[#This Row],[ELEMENT]])","v":""},{"$f":"IF($A601=0,\"\",Table2[[#This Row],[LG&TSL]])","v":""},{"$f":"IF($A601=0,\"\",Table2[[#This Row],[DFV]])","v":""},{"$f":"IF($A601=0,\"\",Table2[[#This Row],[60%-OTS]])","v":""},{"$f":"IF($A601=0,\"\",Table2[[#This Row],[75%]])","v":""},{"$f":"IF($A601=0,\"\",Table2[[#This Row],[Pre-Final PS&E]])","v":""},{"$f":"IF($A601=0,\"\",Table2[[#This Row],[Final PS&E]])","v":""},{"$f":"IF($A601=0,\"\",'LOD Matrix (DO NOT PRINT)'!M601)","v":""},{"$f":"IF($A601=0,\"\",'LOD Matrix (DO NOT PRINT)'!N601)","v":""},{"$f":"IF($A601=0,\"\",IF('LOD Matrix (DO NOT PRINT)'!P601=TRUE,\"Yes\",\"No\"))","v":""}]
[{"$f":"IF(B602=\"Yes\",Table2[[#This Row],[Break Level]],0)","v":0},{"$f":"Table2[[#This Row],[Yes/No]]","v":"No"},null,null,{"$f":"IF($A602=0,\"\",Table2[[#This Row],[PTC DISCIPLINE]])","v":""},{"$f":"IF($A602=0,\"\",Table2[[#This Row],[ELEMENT]])","v":""},{"$f":"IF($A602=0,\"\",Table2[[#This Row],[LG&TSL]])","v":""},{"$f":"IF($A602=0,\"\",Table2[[#This Row],[DFV]])","v":""},{"$f":"IF($A602=0,\"\",Table2[[#This Row],[60%-OTS]])","v":""},{"$f":"IF($A602=0,\"\",Table2[[#This Row],[75%]])","v":""},{"$f":"IF($A602=0,\"\",Table2[[#This Row],[Pre-Final PS&E]])","v":""},{"$f":"IF($A602=0,\"\",Table2[[#This Row],[Final PS&E]])","v":""},{"$f":"IF($A602=0,\"\",'LOD Matrix (DO NOT PRINT)'!M602)","v":""},{"$f":"IF($A602=0,\"\",'LOD Matrix (DO NOT PRINT)'!N602)","v":""},{"$f":"IF($A602=0,\"\",IF('LOD Matrix (DO NOT PRINT)'!P602=TRUE,\"Yes\",\"No\"))","v":""}]
[{"$f":"IF(B603=\"Yes\",Table2[[#This Row],[Break Level]],0)","v":0},{"$f":"Table2[[#This Row],[Yes/No]]","v":"No"},null,null,{"$f":"IF($A603=0,\"\",Table2[[#This Row],[PTC DISCIPLINE]])","v":""},{"$f":"IF($A603=0,\"\",Table2[[#This Row],[ELEMENT]])","v":""},{"$f":"IF($A603=0,\"\",Table2[[#This Row],[LG&TSL]])","v":""},{"$f":"IF($A603=0,\"\",Table2[[#This Row],[DFV]])","v":""},{"$f":"IF($A603=0,\"\",Table2[[#This Row],[60%-OTS]])","v":""},{"$f":"IF($A603=0,\"\",Table2[[#This Row],[75%]])","v":""},{"$f":"IF($A603=0,\"\",Table2[[#This Row],[Pre-Final PS&E]])","v":""},{"$f":"IF($A603=0,\"\",Table2[[#This Row],[Final PS&E]])","v":""},{"$f":"IF($A603=0,\"\",'LOD Matrix (DO NOT PRINT)'!M603)","v":""},{"$f":"IF($A603=0,\"\",'LOD Matrix (DO NOT PRINT)'!N603)","v":""},{"$f":"IF($A603=0,\"\",IF('LOD Matrix (DO NOT PRINT)'!P603=TRUE,\"Yes\",\"No\"))","v":""}]
[{"$f":"IF(B604=\"Yes\",Table2[[#This Row],[Break Level]],0)","v":0},{"$f":"Table2[[#This Row],[Yes/No]]","v":"No"},null,null,{"$f":"IF($A604=0,\"\",Table2[[#This Row],[PTC DISCIPLINE]])","v":""},{"$f":"IF($A604=0,\"\",Table2[[#This Row],[ELEMENT]])","v":""},{"$f":"IF($A604=0,\"\",Table2[[#This Row],[LG&TSL]])","v":""},{"$f":"IF($A604=0,\"\",Table2[[#This Row],[DFV]])","v":""},{"$f":"IF($A604=0,\"\",Table2[[#This Row],[60%-OTS]])","v":""},{"$f":"IF($A604=0,\"\",Table2[[#This Row],[75%]])","v":""},{"$f":"IF($A604=0,\"\",Table2[[#This Row],[Pre-Final PS&E]])","v":""},{"$f":"IF($A604=0,\"\",Table2[[#This Row],[Final PS&E]])","v":""},{"$f":"IF($A604=0,\"\",'LOD Matrix (DO NOT PRINT)'!M604)","v":""},{"$f":"IF($A604=0,\"\",'LOD Matrix (DO NOT PRINT)'!N604)","v":""},{"$f":"IF($A604=0,\"\",IF('LOD Matrix (DO NOT PRINT)'!P604=TRUE,\"Yes\",\"No\"))","v":""}]
[{"$f":"IF(B605=\"Yes\",Table2[[#This Row],[Break Level]],0)","v":0},{"$f":"Table2[[#This Row],[Yes/No]]","v":"No"},null,null,{"$f":"IF($A605=0,\"\",Table2[[#This Row],[PTC DISCIPLINE]])","v":""},{"$f":"IF($A605=0,\"\",Table2[[#This Row],[ELEMENT]])","v":""},{"$f":"IF($A605=0,\"\",Table2[[#This Row],[LG&TSL]])","v":""},{"$f":"IF($A605=0,\"\",Table2[[#This Row],[DFV]])","v":""},{"$f":"IF($A605=0,\"\",Table2[[#This Row],[60%-OTS]])","v":""},{"$f":"IF($A605=0,\"\",Table2[[#This Row],[75%]])","v":""},{"$f":"IF($A605=0,\"\",Table2[[#This Row],[Pre-Final PS&E]])","v":""},{"$f":"IF($A605=0,\"\",Table2[[#This Row],[Final PS&E]])","v":""},{"$f":"IF($A605=0,\"\",'LOD Matrix (DO NOT PRINT)'!M605)","v":""},{"$f":"IF($A605=0,\"\",'LOD Matrix (DO NOT PRINT)'!N605)","v":""},{"$f":"IF($A605=0,\"\",IF('LOD Matrix (DO NOT PRINT)'!P605=TRUE,\"Yes\",\"No\"))","v":""}]
[{"$f":"IF(B606=\"Yes\",Table2[[#This Row],[Break Level]],0)","v":0},{"$f":"Table2[[#This Row],[Yes/No]]","v":"No"},null,null,{"$f":"IF($A606=0,\"\",Table2[[#This Row],[PTC DISCIPLINE]])","v":""},{"$f":"IF($A606=0,\"\",Table2[[#This Row],[ELEMENT]])","v":""},{"$f":"IF($A606=0,\"\",Table2[[#This Row],[LG&TSL]])","v":""},{"$f":"IF($A606=0,\"\",Table2[[#This Row],[DFV]])","v":""},{"$f":"IF($A606=0,\"\",Table2[[#This Row],[60%-OTS]])","v":""},{"$f":"IF($A606=0,\"\",Table2[[#This Row],[75%]])","v":""},{"$f":"IF($A606=0,\"\",Table2[[#This Row],[Pre-Final PS&E]])","v":""},{"$f":"IF($A606=0,\"\",Table2[[#This Row],[Final PS&E]])","v":""},{"$f":"IF($A606=0,\"\",'LOD Matrix (DO NOT PRINT)'!M606)","v":""},{"$f":"IF($A606=0,\"\",'LOD Matrix (DO NOT PRINT)'!N606)","v":""},{"$f":"IF($A606=0,\"\",IF('LOD Matrix (DO NOT PRINT)'!P606=TRUE,\"Yes\",\"No\"))","v":""}]
[{"$f":"IF(B607=\"Yes\",Table2[[#This Row],[Break Level]],0)","v":0},{"$f":"Table2[[#This Row],[Yes/No]]","v":"No"},null,null,{"$f":"IF($A607=0,\"\",Table2[[#This Row],[PTC DISCIPLINE]])","v":""},{"$f":"IF($A607=0,\"\",Table2[[#This Row],[ELEMENT]])","v":""},{"$f":"IF($A607=0,\"\",Table2[[#This Row],[LG&TSL]])","v":""},{"$f":"IF($A607=0,\"\",Table2[[#This Row],[DFV]])","v":""},{"$f":"IF($A607=0,\"\",Table2[[#This Row],[60%-OTS]])","v":""},{"$f":"IF($A607=0,\"\",Table2[[#This Row],[75%]])","v":""},{"$f":"IF($A607=0,\"\",Table2[[#This Row],[Pre-Final PS&E]])","v":""},{"$f":"IF($A607=0,\"\",Table2[[#This Row],[Final PS&E]])","v":""},{"$f":"IF($A607=0,\"\",'LOD Matrix (DO NOT PRINT)'!M607)","v":""},{"$f":"IF($A607=0,\"\",'LOD Matrix (DO NOT PRINT)'!N607)","v":""},{"$f":"IF($A607=0,\"\",IF('LOD Matrix (DO NOT PRINT)'!P607=TRUE,\"Yes\",\"No\"))","v":""}]
[{"$f":"IF(B608=\"Yes\",Table2[[#This Row],[Break Level]],0)","v":0},{"$f":"Table2[[#This Row],[Yes/No]]","v":"No"},null,null,{"$f":"IF($A608=0,\"\",Table2[[#This Row],[PTC DISCIPLINE]])","v":""},{"$f":"IF($A608=0,\"\",Table2[[#This Row],[ELEMENT]])","v":""},{"$f":"IF($A608=0,\"\",Table2[[#This Row],[LG&TSL]])","v":""},{"$f":"IF($A608=0,\"\",Table2[[#This Row],[DFV]])","v":""},{"$f":"IF($A608=0,\"\",Table2[[#This Row],[60%-OTS]])","v":""},{"$f":"IF($A608=0,\"\",Table2[[#This Row],[75%]])","v":""},{"$f":"IF($A608=0,\"\",Table2[[#This Row],[Pre-Final PS&E]])","v":""},{"$f":"IF($A608=0,\"\",Table2[[#This Row],[Final PS&E]])","v":""},{"$f":"IF($A608=0,\"\",'LOD Matrix (DO NOT PRINT)'!M608)","v":""},{"$f":"IF($A608=0,\"\",'LOD Matrix (DO NOT PRINT)'!N608)","v":""},{"$f":"IF($A608=0,\"\",IF('LOD Matrix (DO NOT PRINT)'!P608=TRUE,\"Yes\",\"No\"))","v":""}]
[{"$f":"IF(B609=\"Yes\",Table2[[#This Row],[Break Level]],0)","v":0},{"$f":"Table2[[#This Row],[Yes/No]]","v":"No"},null,null,{"$f":"IF($A609=0,\"\",Table2[[#This Row],[PTC DISCIPLINE]])","v":""},{"$f":"IF($A609=0,\"\",Table2[[#This Row],[ELEMENT]])","v":""},{"$f":"IF($A609=0,\"\",Table2[[#This Row],[LG&TSL]])","v":""},{"$f":"IF($A609=0,\"\",Table2[[#This Row],[DFV]])","v":""},{"$f":"IF($A609=0,\"\",Table2[[#This Row],[60%-OTS]])","v":""},{"$f":"IF($A609=0,\"\",Table2[[#This Row],[75%]])","v":""},{"$f":"IF($A609=0,\"\",Table2[[#This Row],[Pre-Final PS&E]])","v":""},{"$f":"IF($A609=0,\"\",Table2[[#This Row],[Final PS&E]])","v":""},{"$f":"IF($A609=0,\"\",'LOD Matrix (DO NOT PRINT)'!M609)","v":""},{"$f":"IF($A609=0,\"\",'LOD Matrix (DO NOT PRINT)'!N609)","v":""},{"$f":"IF($A609=0,\"\",IF('LOD Matrix (DO NOT PRINT)'!P609=TRUE,\"Yes\",\"No\"))","v":""}]
[{"$f":"IF(B610=\"Yes\",Table2[[#This Row],[Break Level]],0)","v":0},{"$f":"Table2[[#This Row],[Yes/No]]","v":"No"},null,null,{"$f":"IF($A610=0,\"\",Table2[[#This Row],[PTC DISCIPLINE]])","v":""},{"$f":"IF($A610=0,\"\",Table2[[#This Row],[ELEMENT]])","v":""},{"$f":"IF($A610=0,\"\",Table2[[#This Row],[LG&TSL]])","v":""},{"$f":"IF($A610=0,\"\",Table2[[#This Row],[DFV]])","v":""},{"$f":"IF($A610=0,\"\",Table2[[#This Row],[60%-OTS]])","v":""},{"$f":"IF($A610=0,\"\",Table2[[#This Row],[75%]])","v":""},{"$f":"IF($A610=0,\"\",Table2[[#This Row],[Pre-Final PS&E]])","v":""},{"$f":"IF($A610=0,\"\",Table2[[#This Row],[Final PS&E]])","v":""},{"$f":"IF($A610=0,\"\",'LOD Matrix (DO NOT PRINT)'!M610)","v":""},{"$f":"IF($A610=0,\"\",'LOD Matrix (DO NOT PRINT)'!N610)","v":""},{"$f":"IF($A610=0,\"\",IF('LOD Matrix (DO NOT PRINT)'!P610=TRUE,\"Yes\",\"No\"))","v":""}]
[{"$f":"IF(B611=\"Yes\",Table2[[#This Row],[Break Level]],0)","v":0},{"$f":"Table2[[#This Row],[Yes/No]]","v":"No"},null,null,{"$f":"IF($A611=0,\"\",Table2[[#This Row],[PTC DISCIPLINE]])","v":""},{"$f":"IF($A611=0,\"\",Table2[[#This Row],[ELEMENT]])","v":""},{"$f":"IF($A611=0,\"\",Table2[[#This Row],[LG&TSL]])","v":""},{"$f":"IF($A611=0,\"\",Table2[[#This Row],[DFV]])","v":""},{"$f":"IF($A611=0,\"\",Table2[[#This Row],[60%-OTS]])","v":""},{"$f":"IF($A611=0,\"\",Table2[[#This Row],[75%]])","v":""},{"$f":"IF($A611=0,\"\",Table2[[#This Row],[Pre-Final PS&E]])","v":""},{"$f":"IF($A611=0,\"\",Table2[[#This Row],[Final PS&E]])","v":""},{"$f":"IF($A611=0,\"\",'LOD Matrix (DO NOT PRINT)'!M611)","v":""},{"$f":"IF($A611=0,\"\",'LOD Matrix (DO NOT PRINT)'!N611)","v":""},{"$f":"IF($A611=0,\"\",IF('LOD Matrix (DO NOT PRINT)'!P611=TRUE,\"Yes\",\"No\"))","v":""}]
[{"$f":"IF(B612=\"Yes\",Table2[[#This Row],[Break Level]],0)","v":0},{"$f":"Table2[[#This Row],[Yes/No]]","v":"No"},null,null,{"$f":"IF($A612=0,\"\",Table2[[#This Row],[PTC DISCIPLINE]])","v":""},{"$f":"IF($A612=0,\"\",Table2[[#This Row],[ELEMENT]])","v":""},{"$f":"IF($A612=0,\"\",Table2[[#This Row],[LG&TSL]])","v":""},{"$f":"IF($A612=0,\"\",Table2[[#This Row],[DFV]])","v":""},{"$f":"IF($A612=0,\"\",Table2[[#This Row],[60%-OTS]])","v":""},{"$f":"IF($A612=0,\"\",Table2[[#This Row],[75%]])","v":""},{"$f":"IF($A612=0,\"\",Table2[[#This Row],[Pre-Final PS&E]])","v":""},{"$f":"IF($A612=0,\"\",Table2[[#This Row],[Final PS&E]])","v":""},{"$f":"IF($A612=0,\"\",'LOD Matrix (DO NOT PRINT)'!M612)","v":""},{"$f":"IF($A612=0,\"\",'LOD Matrix (DO NOT PRINT)'!N612)","v":""},{"$f":"IF($A612=0,\"\",IF('LOD Matrix (DO NOT PRINT)'!P612=TRUE,\"Yes\",\"No\"))","v":""}]
[{"$f":"IF(B613=\"Yes\",Table2[[#This Row],[Break Level]],0)","v":0},{"$f":"Table2[[#This Row],[Yes/No]]","v":"No"},null,null,{"$f":"IF($A613=0,\"\",Table2[[#This Row],[PTC DISCIPLINE]])","v":""},{"$f":"IF($A613=0,\"\",Table2[[#This Row],[ELEMENT]])","v":""},{"$f":"IF($A613=0,\"\",Table2[[#This Row],[LG&TSL]])","v":""},{"$f":"IF($A613=0,\"\",Table2[[#This Row],[DFV]])","v":""},{"$f":"IF($A613=0,\"\",Table2[[#This Row],[60%-OTS]])","v":""},{"$f":"IF($A613=0,\"\",Table2[[#This Row],[75%]])","v":""},{"$f":"IF($A613=0,\"\",Table2[[#This Row],[Pre-Final PS&E]])","v":""},{"$f":"IF($A613=0,\"\",Table2[[#This Row],[Final PS&E]])","v":""},{"$f":"IF($A613=0,\"\",'LOD Matrix (DO NOT PRINT)'!M613)","v":""},{"$f":"IF($A613=0,\"\",'LOD Matrix (DO NOT PRINT)'!N613)","v":""},{"$f":"IF($A613=0,\"\",IF('LOD Matrix (DO NOT PRINT)'!P613=TRUE,\"Yes\",\"No\"))","v":""}]
[{"$f":"IF(B614=\"Yes\",Table2[[#This Row],[Break Level]],0)","v":0},{"$f":"Table2[[#This Row],[Yes/No]]","v":"No"},null,null,{"$f":"IF($A614=0,\"\",Table2[[#This Row],[PTC DISCIPLINE]])","v":""},{"$f":"IF($A614=0,\"\",Table2[[#This Row],[ELEMENT]])","v":""},{"$f":"IF($A614=0,\"\",Table2[[#This Row],[LG&TSL]])","v":""},{"$f":"IF($A614=0,\"\",Table2[[#This Row],[DFV]])","v":""},{"$f":"IF($A614=0,\"\",Table2[[#This Row],[60%-OTS]])","v":""},{"$f":"IF($A614=0,\"\",Table2[[#This Row],[75%]])","v":""},{"$f":"IF($A614=0,\"\",Table2[[#This Row],[Pre-Final PS&E]])","v":""},{"$f":"IF($A614=0,\"\",Table2[[#This Row],[Final PS&E]])","v":""},{"$f":"IF($A614=0,\"\",'LOD Matrix (DO NOT PRINT)'!M614)","v":""},{"$f":"IF($A614=0,\"\",'LOD Matrix (DO NOT PRINT)'!N614)","v":""},{"$f":"IF($A614=0,\"\",IF('LOD Matrix (DO NOT PRINT)'!P614=TRUE,\"Yes\",\"No\"))","v":""}]
[{"$f":"IF(B615=\"Yes\",Table2[[#This Row],[Break Level]],0)","v":0},{"$f":"Table2[[#This Row],[Yes/No]]","v":"No"},null,null,{"$f":"IF($A615=0,\"\",Table2[[#This Row],[PTC DISCIPLINE]])","v":""},{"$f":"IF($A615=0,\"\",Table2[[#This Row],[ELEMENT]])","v":""},{"$f":"IF($A615=0,\"\",Table2[[#This Row],[LG&TSL]])","v":""},{"$f":"IF($A615=0,\"\",Table2[[#This Row],[DFV]])","v":""},{"$f":"IF($A615=0,\"\",Table2[[#This Row],[60%-OTS]])","v":""},{"$f":"IF($A615=0,\"\",Table2[[#This Row],[75%]])","v":""},{"$f":"IF($A615=0,\"\",Table2[[#This Row],[Pre-Final PS&E]])","v":""},{"$f":"IF($A615=0,\"\",Table2[[#This Row],[Final PS&E]])","v":""},{"$f":"IF($A615=0,\"\",'LOD Matrix (DO NOT PRINT)'!M615)","v":""},{"$f":"IF($A615=0,\"\",'LOD Matrix (DO NOT PRINT)'!N615)","v":""},{"$f":"IF($A615=0,\"\",IF('LOD Matrix (DO NOT PRINT)'!P615=TRUE,\"Yes\",\"No\"))","v":""}]
[{"$f":"IF(B616=\"Yes\",Table2[[#This Row],[Break Level]],0)","v":0},{"$f":"Table2[[#This Row],[Yes/No]]","v":"No"},null,null,{"$f":"IF($A616=0,\"\",Table2[[#This Row],[PTC DISCIPLINE]])","v":""},{"$f":"IF($A616=0,\"\",Table2[[#This Row],[ELEMENT]])","v":""},{"$f":"IF($A616=0,\"\",Table2[[#This Row],[LG&TSL]])","v":""},{"$f":"IF($A616=0,\"\",Table2[[#This Row],[DFV]])","v":""},{"$f":"IF($A616=0,\"\",Table2[[#This Row],[60%-OTS]])","v":""},{"$f":"IF($A616=0,\"\",Table2[[#This Row],[75%]])","v":""},{"$f":"IF($A616=0,\"\",Table2[[#This Row],[Pre-Final PS&E]])","v":""},{"$f":"IF($A616=0,\"\",Table2[[#This Row],[Final PS&E]])","v":""},{"$f":"IF($A616=0,\"\",'LOD Matrix (DO NOT PRINT)'!M616)","v":""},{"$f":"IF($A616=0,\"\",'LOD Matrix (DO NOT PRINT)'!N616)","v":""},{"$f":"IF($A616=0,\"\",IF('LOD Matrix (DO NOT PRINT)'!P616=TRUE,\"Yes\",\"No\"))","v":""}]
[{"$f":"IF(B617=\"Yes\",Table2[[#This Row],[Break Level]],0)","v":0},{"$f":"Table2[[#This Row],[Yes/No]]","v":"No"},null,null,{"$f":"IF($A617=0,\"\",Table2[[#This Row],[PTC DISCIPLINE]])","v":""},{"$f":"IF($A617=0,\"\",Table2[[#This Row],[ELEMENT]])","v":""},{"$f":"IF($A617=0,\"\",Table2[[#This Row],[LG&TSL]])","v":""},{"$f":"IF($A617=0,\"\",Table2[[#This Row],[DFV]])","v":""},{"$f":"IF($A617=0,\"\",Table2[[#This Row],[60%-OTS]])","v":""},{"$f":"IF($A617=0,\"\",Table2[[#This Row],[75%]])","v":""},{"$f":"IF($A617=0,\"\",Table2[[#This Row],[Pre-Final PS&E]])","v":""},{"$f":"IF($A617=0,\"\",Table2[[#This Row],[Final PS&E]])","v":""},{"$f":"IF($A617=0,\"\",'LOD Matrix (DO NOT PRINT)'!M617)","v":""},{"$f":"IF($A617=0,\"\",'LOD Matrix (DO NOT PRINT)'!N617)","v":""},{"$f":"IF($A617=0,\"\",IF('LOD Matrix (DO NOT PRINT)'!P617=TRUE,\"Yes\",\"No\"))","v":""}]
[{"$f":"IF(B618=\"Yes\",Table2[[#This Row],[Break Level]],0)","v":0},{"$f":"Table2[[#This Row],[Yes/No]]","v":"No"},null,null,{"$f":"IF($A618=0,\"\",Table2[[#This Row],[PTC DISCIPLINE]])","v":""},{"$f":"IF($A618=0,\"\",Table2[[#This Row],[ELEMENT]])","v":""},{"$f":"IF($A618=0,\"\",Table2[[#This Row],[LG&TSL]])","v":""},{"$f":"IF($A618=0,\"\",Table2[[#This Row],[DFV]])","v":""},{"$f":"IF($A618=0,\"\",Table2[[#This Row],[60%-OTS]])","v":""},{"$f":"IF($A618=0,\"\",Table2[[#This Row],[75%]])","v":""},{"$f":"IF($A618=0,\"\",Table2[[#This Row],[Pre-Final PS&E]])","v":""},{"$f":"IF($A618=0,\"\",Table2[[#This Row],[Final PS&E]])","v":""},{"$f":"IF($A618=0,\"\",'LOD Matrix (DO NOT PRINT)'!M618)","v":""},{"$f":"IF($A618=0,\"\",'LOD Matrix (DO NOT PRINT)'!N618)","v":""},{"$f":"IF($A618=0,\"\",IF('LOD Matrix (DO NOT PRINT)'!P618=TRUE,\"Yes\",\"No\"))","v":""}]
[{"$f":"IF(B619=\"Yes\",Table2[[#This Row],[Break Level]],0)","v":0},{"$f":"Table2[[#This Row],[Yes/No]]","v":"No"},null,null,{"$f":"IF($A619=0,\"\",Table2[[#This Row],[PTC DISCIPLINE]])","v":""},{"$f":"IF($A619=0,\"\",Table2[[#This Row],[ELEMENT]])","v":""},{"$f":"IF($A619=0,\"\",Table2[[#This Row],[LG&TSL]])","v":""},{"$f":"IF($A619=0,\"\",Table2[[#This Row],[DFV]])","v":""},{"$f":"IF($A619=0,\"\",Table2[[#This Row],[60%-OTS]])","v":""},{"$f":"IF($A619=0,\"\",Table2[[#This Row],[75%]])","v":""},{"$f":"IF($A619=0,\"\",Table2[[#This Row],[Pre-Final PS&E]])","v":""},{"$f":"IF($A619=0,\"\",Table2[[#This Row],[Final PS&E]])","v":""},{"$f":"IF($A619=0,\"\",'LOD Matrix (DO NOT PRINT)'!M619)","v":""},{"$f":"IF($A619=0,\"\",'LOD Matrix (DO NOT PRINT)'!N619)","v":""},{"$f":"IF($A619=0,\"\",IF('LOD Matrix (DO NOT PRINT)'!P619=TRUE,\"Yes\",\"No\"))","v":""}]
[{"$f":"IF(B620=\"Yes\",Table2[[#This Row],[Break Level]],0)","v":0},{"$f":"Table2[[#This Row],[Yes/No]]","v":"No"},null,null,{"$f":"IF($A620=0,\"\",Table2[[#This Row],[PTC DISCIPLINE]])","v":""},{"$f":"IF($A620=0,\"\",Table2[[#This Row],[ELEMENT]])","v":""},{"$f":"IF($A620=0,\"\",Table2[[#This Row],[LG&TSL]])","v":""},{"$f":"IF($A620=0,\"\",Table2[[#This Row],[DFV]])","v":""},{"$f":"IF($A620=0,\"\",Table2[[#This Row],[60%-OTS]])","v":""},{"$f":"IF($A620=0,\"\",Table2[[#This Row],[75%]])","v":""},{"$f":"IF($A620=0,\"\",Table2[[#This Row],[Pre-Final PS&E]])","v":""},{"$f":"IF($A620=0,\"\",Table2[[#This Row],[Final PS&E]])","v":""},{"$f":"IF($A620=0,\"\",'LOD Matrix (DO NOT PRINT)'!M620)","v":""},{"$f":"IF($A620=0,\"\",'LOD Matrix (DO NOT PRINT)'!N620)","v":""},{"$f":"IF($A620=0,\"\",IF('LOD Matrix (DO NOT PRINT)'!P620=TRUE,\"Yes\",\"No\"))","v":""}]
[{"$f":"IF(B621=\"Yes\",Table2[[#This Row],[Break Level]],0)","v":0},{"$f":"Table2[[#This Row],[Yes/No]]","v":"No"},null,null,{"$f":"IF($A621=0,\"\",Table2[[#This Row],[PTC DISCIPLINE]])","v":""},{"$f":"IF($A621=0,\"\",Table2[[#This Row],[ELEMENT]])","v":""},{"$f":"IF($A621=0,\"\",Table2[[#This Row],[LG&TSL]])","v":""},{"$f":"IF($A621=0,\"\",Table2[[#This Row],[DFV]])","v":""},{"$f":"IF($A621=0,\"\",Table2[[#This Row],[60%-OTS]])","v":""},{"$f":"IF($A621=0,\"\",Table2[[#This Row],[75%]])","v":""},{"$f":"IF($A621=0,\"\",Table2[[#This Row],[Pre-Final PS&E]])","v":""},{"$f":"IF($A621=0,\"\",Table2[[#This Row],[Final PS&E]])","v":""},{"$f":"IF($A621=0,\"\",'LOD Matrix (DO NOT PRINT)'!M621)","v":""},{"$f":"IF($A621=0,\"\",'LOD Matrix (DO NOT PRINT)'!N621)","v":""},{"$f":"IF($A621=0,\"\",IF('LOD Matrix (DO NOT PRINT)'!P621=TRUE,\"Yes\",\"No\"))","v":""}]
[{"$f":"IF(B622=\"Yes\",Table2[[#This Row],[Break Level]],0)","v":0},{"$f":"Table2[[#This Row],[Yes/No]]","v":"No"},null,null,{"$f":"IF($A622=0,\"\",Table2[[#This Row],[PTC DISCIPLINE]])","v":""},{"$f":"IF($A622=0,\"\",Table2[[#This Row],[ELEMENT]])","v":""},{"$f":"IF($A622=0,\"\",Table2[[#This Row],[LG&TSL]])","v":""},{"$f":"IF($A622=0,\"\",Table2[[#This Row],[DFV]])","v":""},{"$f":"IF($A622=0,\"\",Table2[[#This Row],[60%-OTS]])","v":""},{"$f":"IF($A622=0,\"\",Table2[[#This Row],[75%]])","v":""},{"$f":"IF($A622=0,\"\",Table2[[#This Row],[Pre-Final PS&E]])","v":""},{"$f":"IF($A622=0,\"\",Table2[[#This Row],[Final PS&E]])","v":""},{"$f":"IF($A622=0,\"\",'LOD Matrix (DO NOT PRINT)'!M622)","v":""},{"$f":"IF($A622=0,\"\",'LOD Matrix (DO NOT PRINT)'!N622)","v":""},{"$f":"IF($A622=0,\"\",IF('LOD Matrix (DO NOT PRINT)'!P622=TRUE,\"Yes\",\"No\"))","v":""}]
[{"$f":"IF(B623=\"Yes\",Table2[[#This Row],[Break Level]],0)","v":0},{"$f":"Table2[[#This Row],[Yes/No]]","v":"No"},null,null,{"$f":"IF($A623=0,\"\",Table2[[#This Row],[PTC DISCIPLINE]])","v":""},{"$f":"IF($A623=0,\"\",Table2[[#This Row],[ELEMENT]])","v":""},{"$f":"IF($A623=0,\"\",Table2[[#This Row],[LG&TSL]])","v":""},{"$f":"IF($A623=0,\"\",Table2[[#This Row],[DFV]])","v":""},{"$f":"IF($A623=0,\"\",Table2[[#This Row],[60%-OTS]])","v":""},{"$f":"IF($A623=0,\"\",Table2[[#This Row],[75%]])","v":""},{"$f":"IF($A623=0,\"\",Table2[[#This Row],[Pre-Final PS&E]])","v":""},{"$f":"IF($A623=0,\"\",Table2[[#This Row],[Final PS&E]])","v":""},{"$f":"IF($A623=0,\"\",'LOD Matrix (DO NOT PRINT)'!M623)","v":""},{"$f":"IF($A623=0,\"\",'LOD Matrix (DO NOT PRINT)'!N623)","v":""},{"$f":"IF($A623=0,\"\",IF('LOD Matrix (DO NOT PRINT)'!P623=TRUE,\"Yes\",\"No\"))","v":""}]
[{"$f":"IF(B624=\"Yes\",Table2[[#This Row],[Break Level]],0)","v":0},{"$f":"Table2[[#This Row],[Yes/No]]","v":"No"},null,null,{"$f":"IF($A624=0,\"\",Table2[[#This Row],[PTC DISCIPLINE]])","v":""},{"$f":"IF($A624=0,\"\",Table2[[#This Row],[ELEMENT]])","v":""},{"$f":"IF($A624=0,\"\",Table2[[#This Row],[LG&TSL]])","v":""},{"$f":"IF($A624=0,\"\",Table2[[#This Row],[DFV]])","v":""},{"$f":"IF($A624=0,\"\",Table2[[#This Row],[60%-OTS]])","v":""},{"$f":"IF($A624=0,\"\",Table2[[#This Row],[75%]])","v":""},{"$f":"IF($A624=0,\"\",Table2[[#This Row],[Pre-Final PS&E]])","v":""},{"$f":"IF($A624=0,\"\",Table2[[#This Row],[Final PS&E]])","v":""},{"$f":"IF($A624=0,\"\",'LOD Matrix (DO NOT PRINT)'!M624)","v":""},{"$f":"IF($A624=0,\"\",'LOD Matrix (DO NOT PRINT)'!N624)","v":""},{"$f":"IF($A624=0,\"\",IF('LOD Matrix (DO NOT PRINT)'!P624=TRUE,\"Yes\",\"No\"))","v":""}]
[{"$f":"IF(B625=\"Yes\",Table2[[#This Row],[Break Level]],0)","v":0},{"$f":"Table2[[#This Row],[Yes/No]]","v":"No"},null,null,{"$f":"IF($A625=0,\"\",Table2[[#This Row],[PTC DISCIPLINE]])","v":""},{"$f":"IF($A625=0,\"\",Table2[[#This Row],[ELEMENT]])","v":""},{"$f":"IF($A625=0,\"\",Table2[[#This Row],[LG&TSL]])","v":""},{"$f":"IF($A625=0,\"\",Table2[[#This Row],[DFV]])","v":""},{"$f":"IF($A625=0,\"\",Table2[[#This Row],[60%-OTS]])","v":""},{"$f":"IF($A625=0,\"\",Table2[[#This Row],[75%]])","v":""},{"$f":"IF($A625=0,\"\",Table2[[#This Row],[Pre-Final PS&E]])","v":""},{"$f":"IF($A625=0,\"\",Table2[[#This Row],[Final PS&E]])","v":""},{"$f":"IF($A625=0,\"\",'LOD Matrix (DO NOT PRINT)'!M625)","v":""},{"$f":"IF($A625=0,\"\",'LOD Matrix (DO NOT PRINT)'!N625)","v":""},{"$f":"IF($A625=0,\"\",IF('LOD Matrix (DO NOT PRINT)'!P625=TRUE,\"Yes\",\"No\"))","v":""}]
[{"$f":"IF(B626=\"Yes\",Table2[[#This Row],[Break Level]],0)","v":0},{"$f":"Table2[[#This Row],[Yes/No]]","v":"No"},null,null,{"$f":"IF($A626=0,\"\",Table2[[#This Row],[PTC DISCIPLINE]])","v":""},{"$f":"IF($A626=0,\"\",Table2[[#This Row],[ELEMENT]])","v":""},{"$f":"IF($A626=0,\"\",Table2[[#This Row],[LG&TSL]])","v":""},{"$f":"IF($A626=0,\"\",Table2[[#This Row],[DFV]])","v":""},{"$f":"IF($A626=0,\"\",Table2[[#This Row],[60%-OTS]])","v":""},{"$f":"IF($A626=0,\"\",Table2[[#This Row],[75%]])","v":""},{"$f":"IF($A626=0,\"\",Table2[[#This Row],[Pre-Final PS&E]])","v":""},{"$f":"IF($A626=0,\"\",Table2[[#This Row],[Final PS&E]])","v":""},{"$f":"IF($A626=0,\"\",'LOD Matrix (DO NOT PRINT)'!M626)","v":""},{"$f":"IF($A626=0,\"\",'LOD Matrix (DO NOT PRINT)'!N626)","v":""},{"$f":"IF($A626=0,\"\",IF('LOD Matrix (DO NOT PRINT)'!P626=TRUE,\"Yes\",\"No\"))","v":""}]
[{"$f":"IF(B627=\"Yes\",Table2[[#This Row],[Break Level]],0)","v":0},{"$f":"Table2[[#This Row],[Yes/No]]","v":"No"},null,null,{"$f":"IF($A627=0,\"\",Table2[[#This Row],[PTC DISCIPLINE]])","v":""},{"$f":"IF($A627=0,\"\",Table2[[#This Row],[ELEMENT]])","v":""},{"$f":"IF($A627=0,\"\",Table2[[#This Row],[LG&TSL]])","v":""},{"$f":"IF($A627=0,\"\",Table2[[#This Row],[DFV]])","v":""},{"$f":"IF($A627=0,\"\",Table2[[#This Row],[60%-OTS]])","v":""},{"$f":"IF($A627=0,\"\",Table2[[#This Row],[75%]])","v":""},{"$f":"IF($A627=0,\"\",Table2[[#This Row],[Pre-Final PS&E]])","v":""},{"$f":"IF($A627=0,\"\",Table2[[#This Row],[Final PS&E]])","v":""},{"$f":"IF($A627=0,\"\",'LOD Matrix (DO NOT PRINT)'!M627)","v":""},{"$f":"IF($A627=0,\"\",'LOD Matrix (DO NOT PRINT)'!N627)","v":""},{"$f":"IF($A627=0,\"\",IF('LOD Matrix (DO NOT PRINT)'!P627=TRUE,\"Yes\",\"No\"))","v":""}]
[{"$f":"IF(B628=\"Yes\",Table2[[#This Row],[Break Level]],0)","v":0},{"$f":"Table2[[#This Row],[Yes/No]]","v":"No"},null,null,{"$f":"IF($A628=0,\"\",Table2[[#This Row],[PTC DISCIPLINE]])","v":""},{"$f":"IF($A628=0,\"\",Table2[[#This Row],[ELEMENT]])","v":""},{"$f":"IF($A628=0,\"\",Table2[[#This Row],[LG&TSL]])","v":""},{"$f":"IF($A628=0,\"\",Table2[[#This Row],[DFV]])","v":""},{"$f":"IF($A628=0,\"\",Table2[[#This Row],[60%-OTS]])","v":""},{"$f":"IF($A628=0,\"\",Table2[[#This Row],[75%]])","v":""},{"$f":"IF($A628=0,\"\",Table2[[#This Row],[Pre-Final PS&E]])","v":""},{"$f":"IF($A628=0,\"\",Table2[[#This Row],[Final PS&E]])","v":""},{"$f":"IF($A628=0,\"\",'LOD Matrix (DO NOT PRINT)'!M628)","v":""},{"$f":"IF($A628=0,\"\",'LOD Matrix (DO NOT PRINT)'!N628)","v":""},{"$f":"IF($A628=0,\"\",IF('LOD Matrix (DO NOT PRINT)'!P628=TRUE,\"Yes\",\"No\"))","v":""}]
[{"$f":"IF(B629=\"Yes\",Table2[[#This Row],[Break Level]],0)","v":0},{"$f":"Table2[[#This Row],[Yes/No]]","v":"No"},null,null,{"$f":"IF($A629=0,\"\",Table2[[#This Row],[PTC DISCIPLINE]])","v":""},{"$f":"IF($A629=0,\"\",Table2[[#This Row],[ELEMENT]])","v":""},{"$f":"IF($A629=0,\"\",Table2[[#This Row],[LG&TSL]])","v":""},{"$f":"IF($A629=0,\"\",Table2[[#This Row],[DFV]])","v":""},{"$f":"IF($A629=0,\"\",Table2[[#This Row],[60%-OTS]])","v":""},{"$f":"IF($A629=0,\"\",Table2[[#This Row],[75%]])","v":""},{"$f":"IF($A629=0,\"\",Table2[[#This Row],[Pre-Final PS&E]])","v":""},{"$f":"IF($A629=0,\"\",Table2[[#This Row],[Final PS&E]])","v":""},{"$f":"IF($A629=0,\"\",'LOD Matrix (DO NOT PRINT)'!M629)","v":""},{"$f":"IF($A629=0,\"\",'LOD Matrix (DO NOT PRINT)'!N629)","v":""},{"$f":"IF($A629=0,\"\",IF('LOD Matrix (DO NOT PRINT)'!P629=TRUE,\"Yes\",\"No\"))","v":""}]
[{"$f":"IF(B630=\"Yes\",Table2[[#This Row],[Break Level]],0)","v":0},{"$f":"Table2[[#This Row],[Yes/No]]","v":"No"},null,null,{"$f":"IF($A630=0,\"\",Table2[[#This Row],[PTC DISCIPLINE]])","v":""},{"$f":"IF($A630=0,\"\",Table2[[#This Row],[ELEMENT]])","v":""},{"$f":"IF($A630=0,\"\",Table2[[#This Row],[LG&TSL]])","v":""},{"$f":"IF($A630=0,\"\",Table2[[#This Row],[DFV]])","v":""},{"$f":"IF($A630=0,\"\",Table2[[#This Row],[60%-OTS]])","v":""},{"$f":"IF($A630=0,\"\",Table2[[#This Row],[75%]])","v":""},{"$f":"IF($A630=0,\"\",Table2[[#This Row],[Pre-Final PS&E]])","v":""},{"$f":"IF($A630=0,\"\",Table2[[#This Row],[Final PS&E]])","v":""},{"$f":"IF($A630=0,\"\",'LOD Matrix (DO NOT PRINT)'!M630)","v":""},{"$f":"IF($A630=0,\"\",'LOD Matrix (DO NOT PRINT)'!N630)","v":""},{"$f":"IF($A630=0,\"\",IF('LOD Matrix (DO NOT PRINT)'!P630=TRUE,\"Yes\",\"No\"))","v":""}]
[{"$f":"IF(B631=\"Yes\",Table2[[#This Row],[Break Level]],0)","v":0},{"$f":"Table2[[#This Row],[Yes/No]]","v":"No"},null,null,{"$f":"IF($A631=0,\"\",Table2[[#This Row],[PTC DISCIPLINE]])","v":""},{"$f":"IF($A631=0,\"\",Table2[[#This Row],[ELEMENT]])","v":""},{"$f":"IF($A631=0,\"\",Table2[[#This Row],[LG&TSL]])","v":""},{"$f":"IF($A631=0,\"\",Table2[[#This Row],[DFV]])","v":""},{"$f":"IF($A631=0,\"\",Table2[[#This Row],[60%-OTS]])","v":""},{"$f":"IF($A631=0,\"\",Table2[[#This Row],[75%]])","v":""},{"$f":"IF($A631=0,\"\",Table2[[#This Row],[Pre-Final PS&E]])","v":""},{"$f":"IF($A631=0,\"\",Table2[[#This Row],[Final PS&E]])","v":""},{"$f":"IF($A631=0,\"\",'LOD Matrix (DO NOT PRINT)'!M631)","v":""},{"$f":"IF($A631=0,\"\",'LOD Matrix (DO NOT PRINT)'!N631)","v":""},{"$f":"IF($A631=0,\"\",IF('LOD Matrix (DO NOT PRINT)'!P631=TRUE,\"Yes\",\"No\"))","v":""}]
[{"$f":"IF(B632=\"Yes\",Table2[[#This Row],[Break Level]],0)","v":0},{"$f":"Table2[[#This Row],[Yes/No]]","v":"No"},null,null,{"$f":"IF($A632=0,\"\",Table2[[#This Row],[PTC DISCIPLINE]])","v":""},{"$f":"IF($A632=0,\"\",Table2[[#This Row],[ELEMENT]])","v":""},{"$f":"IF($A632=0,\"\",Table2[[#This Row],[LG&TSL]])","v":""},{"$f":"IF($A632=0,\"\",Table2[[#This Row],[DFV]])","v":""},{"$f":"IF($A632=0,\"\",Table2[[#This Row],[60%-OTS]])","v":""},{"$f":"IF($A632=0,\"\",Table2[[#This Row],[75%]])","v":""},{"$f":"IF($A632=0,\"\",Table2[[#This Row],[Pre-Final PS&E]])","v":""},{"$f":"IF($A632=0,\"\",Table2[[#This Row],[Final PS&E]])","v":""},{"$f":"IF($A632=0,\"\",'LOD Matrix (DO NOT PRINT)'!M632)","v":""},{"$f":"IF($A632=0,\"\",'LOD Matrix (DO NOT PRINT)'!N632)","v":""},{"$f":"IF($A632=0,\"\",IF('LOD Matrix (DO NOT PRINT)'!P632=TRUE,\"Yes\",\"No\"))","v":""}]
[{"$f":"IF(B633=\"Yes\",Table2[[#This Row],[Break Level]],0)","v":0},{"$f":"Table2[[#This Row],[Yes/No]]","v":"No"},null,null,{"$f":"IF($A633=0,\"\",Table2[[#This Row],[PTC DISCIPLINE]])","v":""},{"$f":"IF($A633=0,\"\",Table2[[#This Row],[ELEMENT]])","v":""},{"$f":"IF($A633=0,\"\",Table2[[#This Row],[LG&TSL]])","v":""},{"$f":"IF($A633=0,\"\",Table2[[#This Row],[DFV]])","v":""},{"$f":"IF($A633=0,\"\",Table2[[#This Row],[60%-OTS]])","v":""},{"$f":"IF($A633=0,\"\",Table2[[#This Row],[75%]])","v":""},{"$f":"IF($A633=0,\"\",Table2[[#This Row],[Pre-Final PS&E]])","v":""},{"$f":"IF($A633=0,\"\",Table2[[#This Row],[Final PS&E]])","v":""},{"$f":"IF($A633=0,\"\",'LOD Matrix (DO NOT PRINT)'!M633)","v":""},{"$f":"IF($A633=0,\"\",'LOD Matrix (DO NOT PRINT)'!N633)","v":""},{"$f":"IF($A633=0,\"\",IF('LOD Matrix (DO NOT PRINT)'!P633=TRUE,\"Yes\",\"No\"))","v":""}]
[{"$f":"IF(B634=\"Yes\",Table2[[#This Row],[Break Level]],0)","v":0},{"$f":"Table2[[#This Row],[Yes/No]]","v":"No"},null,null,{"$f":"IF($A634=0,\"\",Table2[[#This Row],[PTC DISCIPLINE]])","v":""},{"$f":"IF($A634=0,\"\",Table2[[#This Row],[ELEMENT]])","v":""},{"$f":"IF($A634=0,\"\",Table2[[#This Row],[LG&TSL]])","v":""},{"$f":"IF($A634=0,\"\",Table2[[#This Row],[DFV]])","v":""},{"$f":"IF($A634=0,\"\",Table2[[#This Row],[60%-OTS]])","v":""},{"$f":"IF($A634=0,\"\",Table2[[#This Row],[75%]])","v":""},{"$f":"IF($A634=0,\"\",Table2[[#This Row],[Pre-Final PS&E]])","v":""},{"$f":"IF($A634=0,\"\",Table2[[#This Row],[Final PS&E]])","v":""},{"$f":"IF($A634=0,\"\",'LOD Matrix (DO NOT PRINT)'!M634)","v":""},{"$f":"IF($A634=0,\"\",'LOD Matrix (DO NOT PRINT)'!N634)","v":""},{"$f":"IF($A634=0,\"\",IF('LOD Matrix (DO NOT PRINT)'!P634=TRUE,\"Yes\",\"No\"))","v":""}]
[{"$f":"IF(B635=\"Yes\",Table2[[#This Row],[Break Level]],0)","v":0},{"$f":"Table2[[#This Row],[Yes/No]]","v":"No"},null,null,{"$f":"IF($A635=0,\"\",Table2[[#This Row],[PTC DISCIPLINE]])","v":""},{"$f":"IF($A635=0,\"\",Table2[[#This Row],[ELEMENT]])","v":""},{"$f":"IF($A635=0,\"\",Table2[[#This Row],[LG&TSL]])","v":""},{"$f":"IF($A635=0,\"\",Table2[[#This Row],[DFV]])","v":""},{"$f":"IF($A635=0,\"\",Table2[[#This Row],[60%-OTS]])","v":""},{"$f":"IF($A635=0,\"\",Table2[[#This Row],[75%]])","v":""},{"$f":"IF($A635=0,\"\",Table2[[#This Row],[Pre-Final PS&E]])","v":""},{"$f":"IF($A635=0,\"\",Table2[[#This Row],[Final PS&E]])","v":""},{"$f":"IF($A635=0,\"\",'LOD Matrix (DO NOT PRINT)'!M635)","v":""},{"$f":"IF($A635=0,\"\",'LOD Matrix (DO NOT PRINT)'!N635)","v":""},{"$f":"IF($A635=0,\"\",IF('LOD Matrix (DO NOT PRINT)'!P635=TRUE,\"Yes\",\"No\"))","v":""}]
[{"$f":"IF(B636=\"Yes\",Table2[[#This Row],[Break Level]],0)","v":0},{"$f":"Table2[[#This Row],[Yes/No]]","v":"No"},null,null,{"$f":"IF($A636=0,\"\",Table2[[#This Row],[PTC DISCIPLINE]])","v":""},{"$f":"IF($A636=0,\"\",Table2[[#This Row],[ELEMENT]])","v":""},{"$f":"IF($A636=0,\"\",Table2[[#This Row],[LG&TSL]])","v":""},{"$f":"IF($A636=0,\"\",Table2[[#This Row],[DFV]])","v":""},{"$f":"IF($A636=0,\"\",Table2[[#This Row],[60%-OTS]])","v":""},{"$f":"IF($A636=0,\"\",Table2[[#This Row],[75%]])","v":""},{"$f":"IF($A636=0,\"\",Table2[[#This Row],[Pre-Final PS&E]])","v":""},{"$f":"IF($A636=0,\"\",Table2[[#This Row],[Final PS&E]])","v":""},{"$f":"IF($A636=0,\"\",'LOD Matrix (DO NOT PRINT)'!M636)","v":""},{"$f":"IF($A636=0,\"\",'LOD Matrix (DO NOT PRINT)'!N636)","v":""},{"$f":"IF($A636=0,\"\",IF('LOD Matrix (DO NOT PRINT)'!P636=TRUE,\"Yes\",\"No\"))","v":""}]
[{"$f":"IF(B637=\"Yes\",Table2[[#This Row],[Break Level]],0)","v":0},{"$f":"Table2[[#This Row],[Yes/No]]","v":"No"},null,null,{"$f":"IF($A637=0,\"\",Table2[[#This Row],[PTC DISCIPLINE]])","v":""},{"$f":"IF($A637=0,\"\",Table2[[#This Row],[ELEMENT]])","v":""},{"$f":"IF($A637=0,\"\",Table2[[#This Row],[LG&TSL]])","v":""},{"$f":"IF($A637=0,\"\",Table2[[#This Row],[DFV]])","v":""},{"$f":"IF($A637=0,\"\",Table2[[#This Row],[60%-OTS]])","v":""},{"$f":"IF($A637=0,\"\",Table2[[#This Row],[75%]])","v":""},{"$f":"IF($A637=0,\"\",Table2[[#This Row],[Pre-Final PS&E]])","v":""},{"$f":"IF($A637=0,\"\",Table2[[#This Row],[Final PS&E]])","v":""},{"$f":"IF($A637=0,\"\",'LOD Matrix (DO NOT PRINT)'!M637)","v":""},{"$f":"IF($A637=0,\"\",'LOD Matrix (DO NOT PRINT)'!N637)","v":""},{"$f":"IF($A637=0,\"\",IF('LOD Matrix (DO NOT PRINT)'!P637=TRUE,\"Yes\",\"No\"))","v":""}]
[{"$f":"IF(B638=\"Yes\",Table2[[#This Row],[Break Level]],0)","v":0},{"$f":"Table2[[#This Row],[Yes/No]]","v":"No"},null,null,{"$f":"IF($A638=0,\"\",Table2[[#This Row],[PTC DISCIPLINE]])","v":""},{"$f":"IF($A638=0,\"\",Table2[[#This Row],[ELEMENT]])","v":""},{"$f":"IF($A638=0,\"\",Table2[[#This Row],[LG&TSL]])","v":""},{"$f":"IF($A638=0,\"\",Table2[[#This Row],[DFV]])","v":""},{"$f":"IF($A638=0,\"\",Table2[[#This Row],[60%-OTS]])","v":""},{"$f":"IF($A638=0,\"\",Table2[[#This Row],[75%]])","v":""},{"$f":"IF($A638=0,\"\",Table2[[#This Row],[Pre-Final PS&E]])","v":""},{"$f":"IF($A638=0,\"\",Table2[[#This Row],[Final PS&E]])","v":""},{"$f":"IF($A638=0,\"\",'LOD Matrix (DO NOT PRINT)'!M638)","v":""},{"$f":"IF($A638=0,\"\",'LOD Matrix (DO NOT PRINT)'!N638)","v":""},{"$f":"IF($A638=0,\"\",IF('LOD Matrix (DO NOT PRINT)'!P638=TRUE,\"Yes\",\"No\"))","v":""}]
[{"$f":"IF(B639=\"Yes\",Table2[[#This Row],[Break Level]],0)","v":0},{"$f":"Table2[[#This Row],[Yes/No]]","v":"No"},null,null,{"$f":"IF($A639=0,\"\",Table2[[#This Row],[PTC DISCIPLINE]])","v":""},{"$f":"IF($A639=0,\"\",Table2[[#This Row],[ELEMENT]])","v":""},{"$f":"IF($A639=0,\"\",Table2[[#This Row],[LG&TSL]])","v":""},{"$f":"IF($A639=0,\"\",Table2[[#This Row],[DFV]])","v":""},{"$f":"IF($A639=0,\"\",Table2[[#This Row],[60%-OTS]])","v":""},{"$f":"IF($A639=0,\"\",Table2[[#This Row],[75%]])","v":""},{"$f":"IF($A639=0,\"\",Table2[[#This Row],[Pre-Final PS&E]])","v":""},{"$f":"IF($A639=0,\"\",Table2[[#This Row],[Final PS&E]])","v":""},{"$f":"IF($A639=0,\"\",'LOD Matrix (DO NOT PRINT)'!M639)","v":""},{"$f":"IF($A639=0,\"\",'LOD Matrix (DO NOT PRINT)'!N639)","v":""},{"$f":"IF($A639=0,\"\",IF('LOD Matrix (DO NOT PRINT)'!P639=TRUE,\"Yes\",\"No\"))","v":""}]
[{"$f":"IF(B640=\"Yes\",Table2[[#This Row],[Break Level]],0)","v":0},{"$f":"Table2[[#This Row],[Yes/No]]","v":"No"},null,null,{"$f":"IF($A640=0,\"\",Table2[[#This Row],[PTC DISCIPLINE]])","v":""},{"$f":"IF($A640=0,\"\",Table2[[#This Row],[ELEMENT]])","v":""},{"$f":"IF($A640=0,\"\",Table2[[#This Row],[LG&TSL]])","v":""},{"$f":"IF($A640=0,\"\",Table2[[#This Row],[DFV]])","v":""},{"$f":"IF($A640=0,\"\",Table2[[#This Row],[60%-OTS]])","v":""},{"$f":"IF($A640=0,\"\",Table2[[#This Row],[75%]])","v":""},{"$f":"IF($A640=0,\"\",Table2[[#This Row],[Pre-Final PS&E]])","v":""},{"$f":"IF($A640=0,\"\",Table2[[#This Row],[Final PS&E]])","v":""},{"$f":"IF($A640=0,\"\",'LOD Matrix (DO NOT PRINT)'!M640)","v":""},{"$f":"IF($A640=0,\"\",'LOD Matrix (DO NOT PRINT)'!N640)","v":""},{"$f":"IF($A640=0,\"\",IF('LOD Matrix (DO NOT PRINT)'!P640=TRUE,\"Yes\",\"No\"))","v":""}]
[{"$f":"IF(B641=\"Yes\",Table2[[#This Row],[Break Level]],0)","v":0},{"$f":"Table2[[#This Row],[Yes/No]]","v":"No"},null,null,{"$f":"IF($A641=0,\"\",Table2[[#This Row],[PTC DISCIPLINE]])","v":""},{"$f":"IF($A641=0,\"\",Table2[[#This Row],[ELEMENT]])","v":""},{"$f":"IF($A641=0,\"\",Table2[[#This Row],[LG&TSL]])","v":""},{"$f":"IF($A641=0,\"\",Table2[[#This Row],[DFV]])","v":""},{"$f":"IF($A641=0,\"\",Table2[[#This Row],[60%-OTS]])","v":""},{"$f":"IF($A641=0,\"\",Table2[[#This Row],[75%]])","v":""},{"$f":"IF($A641=0,\"\",Table2[[#This Row],[Pre-Final PS&E]])","v":""},{"$f":"IF($A641=0,\"\",Table2[[#This Row],[Final PS&E]])","v":""},{"$f":"IF($A641=0,\"\",'LOD Matrix (DO NOT PRINT)'!M641)","v":""},{"$f":"IF($A641=0,\"\",'LOD Matrix (DO NOT PRINT)'!N641)","v":""},{"$f":"IF($A641=0,\"\",IF('LOD Matrix (DO NOT PRINT)'!P641=TRUE,\"Yes\",\"No\"))","v":""}]
[{"$f":"IF(B642=\"Yes\",Table2[[#This Row],[Break Level]],0)","v":0},{"$f":"Table2[[#This Row],[Yes/No]]","v":"No"},null,null,{"$f":"IF($A642=0,\"\",Table2[[#This Row],[PTC DISCIPLINE]])","v":""},{"$f":"IF($A642=0,\"\",Table2[[#This Row],[ELEMENT]])","v":""},{"$f":"IF($A642=0,\"\",Table2[[#This Row],[LG&TSL]])","v":""},{"$f":"IF($A642=0,\"\",Table2[[#This Row],[DFV]])","v":""},{"$f":"IF($A642=0,\"\",Table2[[#This Row],[60%-OTS]])","v":""},{"$f":"IF($A642=0,\"\",Table2[[#This Row],[75%]])","v":""},{"$f":"IF($A642=0,\"\",Table2[[#This Row],[Pre-Final PS&E]])","v":""},{"$f":"IF($A642=0,\"\",Table2[[#This Row],[Final PS&E]])","v":""},{"$f":"IF($A642=0,\"\",'LOD Matrix (DO NOT PRINT)'!M642)","v":""},{"$f":"IF($A642=0,\"\",'LOD Matrix (DO NOT PRINT)'!N642)","v":""},{"$f":"IF($A642=0,\"\",IF('LOD Matrix (DO NOT PRINT)'!P642=TRUE,\"Yes\",\"No\"))","v":""}]
[{"$f":"IF(B643=\"Yes\",Table2[[#This Row],[Break Level]],0)","v":0},{"$f":"Table2[[#This Row],[Yes/No]]","v":"No"},null,null,{"$f":"IF($A643=0,\"\",Table2[[#This Row],[PTC DISCIPLINE]])","v":""},{"$f":"IF($A643=0,\"\",Table2[[#This Row],[ELEMENT]])","v":""},{"$f":"IF($A643=0,\"\",Table2[[#This Row],[LG&TSL]])","v":""},{"$f":"IF($A643=0,\"\",Table2[[#This Row],[DFV]])","v":""},{"$f":"IF($A643=0,\"\",Table2[[#This Row],[60%-OTS]])","v":""},{"$f":"IF($A643=0,\"\",Table2[[#This Row],[75%]])","v":""},{"$f":"IF($A643=0,\"\",Table2[[#This Row],[Pre-Final PS&E]])","v":""},{"$f":"IF($A643=0,\"\",Table2[[#This Row],[Final PS&E]])","v":""},{"$f":"IF($A643=0,\"\",'LOD Matrix (DO NOT PRINT)'!M643)","v":""},{"$f":"IF($A643=0,\"\",'LOD Matrix (DO NOT PRINT)'!N643)","v":""},{"$f":"IF($A643=0,\"\",IF('LOD Matrix (DO NOT PRINT)'!P643=TRUE,\"Yes\",\"No\"))","v":""}]
[{"$f":"IF(B644=\"Yes\",Table2[[#This Row],[Break Level]],0)","v":0},{"$f":"Table2[[#This Row],[Yes/No]]","v":"No"},null,null,{"$f":"IF($A644=0,\"\",Table2[[#This Row],[PTC DISCIPLINE]])","v":""},{"$f":"IF($A644=0,\"\",Table2[[#This Row],[ELEMENT]])","v":""},{"$f":"IF($A644=0,\"\",Table2[[#This Row],[LG&TSL]])","v":""},{"$f":"IF($A644=0,\"\",Table2[[#This Row],[DFV]])","v":""},{"$f":"IF($A644=0,\"\",Table2[[#This Row],[60%-OTS]])","v":""},{"$f":"IF($A644=0,\"\",Table2[[#This Row],[75%]])","v":""},{"$f":"IF($A644=0,\"\",Table2[[#This Row],[Pre-Final PS&E]])","v":""},{"$f":"IF($A644=0,\"\",Table2[[#This Row],[Final PS&E]])","v":""},{"$f":"IF($A644=0,\"\",'LOD Matrix (DO NOT PRINT)'!M644)","v":""},{"$f":"IF($A644=0,\"\",'LOD Matrix (DO NOT PRINT)'!N644)","v":""},{"$f":"IF($A644=0,\"\",IF('LOD Matrix (DO NOT PRINT)'!P644=TRUE,\"Yes\",\"No\"))","v":""}]
[{"$f":"IF(B645=\"Yes\",Table2[[#This Row],[Break Level]],0)","v":0},{"$f":"Table2[[#This Row],[Yes/No]]","v":"No"},null,null,{"$f":"IF($A645=0,\"\",Table2[[#This Row],[PTC DISCIPLINE]])","v":""},{"$f":"IF($A645=0,\"\",Table2[[#This Row],[ELEMENT]])","v":""},{"$f":"IF($A645=0,\"\",Table2[[#This Row],[LG&TSL]])","v":""},{"$f":"IF($A645=0,\"\",Table2[[#This Row],[DFV]])","v":""},{"$f":"IF($A645=0,\"\",Table2[[#This Row],[60%-OTS]])","v":""},{"$f":"IF($A645=0,\"\",Table2[[#This Row],[75%]])","v":""},{"$f":"IF($A645=0,\"\",Table2[[#This Row],[Pre-Final PS&E]])","v":""},{"$f":"IF($A645=0,\"\",Table2[[#This Row],[Final PS&E]])","v":""},{"$f":"IF($A645=0,\"\",'LOD Matrix (DO NOT PRINT)'!M645)","v":""},{"$f":"IF($A645=0,\"\",'LOD Matrix (DO NOT PRINT)'!N645)","v":""},{"$f":"IF($A645=0,\"\",IF('LOD Matrix (DO NOT PRINT)'!P645=TRUE,\"Yes\",\"No\"))","v":""}]
[{"$f":"IF(B646=\"Yes\",Table2[[#This Row],[Break Level]],0)","v":0},{"$f":"Table2[[#This Row],[Yes/No]]","v":"No"},null,null,{"$f":"IF($A646=0,\"\",Table2[[#This Row],[PTC DISCIPLINE]])","v":""},{"$f":"IF($A646=0,\"\",Table2[[#This Row],[ELEMENT]])","v":""},{"$f":"IF($A646=0,\"\",Table2[[#This Row],[LG&TSL]])","v":""},{"$f":"IF($A646=0,\"\",Table2[[#This Row],[DFV]])","v":""},{"$f":"IF($A646=0,\"\",Table2[[#This Row],[60%-OTS]])","v":""},{"$f":"IF($A646=0,\"\",Table2[[#This Row],[75%]])","v":""},{"$f":"IF($A646=0,\"\",Table2[[#This Row],[Pre-Final PS&E]])","v":""},{"$f":"IF($A646=0,\"\",Table2[[#This Row],[Final PS&E]])","v":""},{"$f":"IF($A646=0,\"\",'LOD Matrix (DO NOT PRINT)'!M646)","v":""},{"$f":"IF($A646=0,\"\",'LOD Matrix (DO NOT PRINT)'!N646)","v":""},{"$f":"IF($A646=0,\"\",IF('LOD Matrix (DO NOT PRINT)'!P646=TRUE,\"Yes\",\"No\"))","v":""}]
[{"$f":"IF(B647=\"Yes\",Table2[[#This Row],[Break Level]],0)","v":0},{"$f":"Table2[[#This Row],[Yes/No]]","v":"No"},null,null,{"$f":"IF($A647=0,\"\",Table2[[#This Row],[PTC DISCIPLINE]])","v":""},{"$f":"IF($A647=0,\"\",Table2[[#This Row],[ELEMENT]])","v":""},{"$f":"IF($A647=0,\"\",Table2[[#This Row],[LG&TSL]])","v":""},{"$f":"IF($A647=0,\"\",Table2[[#This Row],[DFV]])","v":""},{"$f":"IF($A647=0,\"\",Table2[[#This Row],[60%-OTS]])","v":""},{"$f":"IF($A647=0,\"\",Table2[[#This Row],[75%]])","v":""},{"$f":"IF($A647=0,\"\",Table2[[#This Row],[Pre-Final PS&E]])","v":""},{"$f":"IF($A647=0,\"\",Table2[[#This Row],[Final PS&E]])","v":""},{"$f":"IF($A647=0,\"\",'LOD Matrix (DO NOT PRINT)'!M647)","v":""},{"$f":"IF($A647=0,\"\",'LOD Matrix (DO NOT PRINT)'!N647)","v":""},{"$f":"IF($A647=0,\"\",IF('LOD Matrix (DO NOT PRINT)'!P647=TRUE,\"Yes\",\"No\"))","v":""}]
[{"$f":"IF(B648=\"Yes\",Table2[[#This Row],[Break Level]],0)","v":0},{"$f":"Table2[[#This Row],[Yes/No]]","v":"No"},null,null,{"$f":"IF($A648=0,\"\",Table2[[#This Row],[PTC DISCIPLINE]])","v":""},{"$f":"IF($A648=0,\"\",Table2[[#This Row],[ELEMENT]])","v":""},{"$f":"IF($A648=0,\"\",Table2[[#This Row],[LG&TSL]])","v":""},{"$f":"IF($A648=0,\"\",Table2[[#This Row],[DFV]])","v":""},{"$f":"IF($A648=0,\"\",Table2[[#This Row],[60%-OTS]])","v":""},{"$f":"IF($A648=0,\"\",Table2[[#This Row],[75%]])","v":""},{"$f":"IF($A648=0,\"\",Table2[[#This Row],[Pre-Final PS&E]])","v":""},{"$f":"IF($A648=0,\"\",Table2[[#This Row],[Final PS&E]])","v":""},{"$f":"IF($A648=0,\"\",'LOD Matrix (DO NOT PRINT)'!M648)","v":""},{"$f":"IF($A648=0,\"\",'LOD Matrix (DO NOT PRINT)'!N648)","v":""},{"$f":"IF($A648=0,\"\",IF('LOD Matrix (DO NOT PRINT)'!P648=TRUE,\"Yes\",\"No\"))","v":""}]
[{"$f":"IF(B649=\"Yes\",Table2[[#This Row],[Break Level]],0)","v":0},{"$f":"Table2[[#This Row],[Yes/No]]","v":"No"},null,null,{"$f":"IF($A649=0,\"\",Table2[[#This Row],[PTC DISCIPLINE]])","v":""},{"$f":"IF($A649=0,\"\",Table2[[#This Row],[ELEMENT]])","v":""},{"$f":"IF($A649=0,\"\",Table2[[#This Row],[LG&TSL]])","v":""},{"$f":"IF($A649=0,\"\",Table2[[#This Row],[DFV]])","v":""},{"$f":"IF($A649=0,\"\",Table2[[#This Row],[60%-OTS]])","v":""},{"$f":"IF($A649=0,\"\",Table2[[#This Row],[75%]])","v":""},{"$f":"IF($A649=0,\"\",Table2[[#This Row],[Pre-Final PS&E]])","v":""},{"$f":"IF($A649=0,\"\",Table2[[#This Row],[Final PS&E]])","v":""},{"$f":"IF($A649=0,\"\",'LOD Matrix (DO NOT PRINT)'!M649)","v":""},{"$f":"IF($A649=0,\"\",'LOD Matrix (DO NOT PRINT)'!N649)","v":""},{"$f":"IF($A649=0,\"\",IF('LOD Matrix (DO NOT PRINT)'!P649=TRUE,\"Yes\",\"No\"))","v":""}]
[{"$f":"IF(B650=\"Yes\",Table2[[#This Row],[Break Level]],0)","v":0},{"$f":"Table2[[#This Row],[Yes/No]]","v":"No"},null,null,{"$f":"IF($A650=0,\"\",Table2[[#This Row],[PTC DISCIPLINE]])","v":""},{"$f":"IF($A650=0,\"\",Table2[[#This Row],[ELEMENT]])","v":""},{"$f":"IF($A650=0,\"\",Table2[[#This Row],[LG&TSL]])","v":""},{"$f":"IF($A650=0,\"\",Table2[[#This Row],[DFV]])","v":""},{"$f":"IF($A650=0,\"\",Table2[[#This Row],[60%-OTS]])","v":""},{"$f":"IF($A650=0,\"\",Table2[[#This Row],[75%]])","v":""},{"$f":"IF($A650=0,\"\",Table2[[#This Row],[Pre-Final PS&E]])","v":""},{"$f":"IF($A650=0,\"\",Table2[[#This Row],[Final PS&E]])","v":""},{"$f":"IF($A650=0,\"\",'LOD Matrix (DO NOT PRINT)'!M650)","v":""},{"$f":"IF($A650=0,\"\",'LOD Matrix (DO NOT PRINT)'!N650)","v":""},{"$f":"IF($A650=0,\"\",IF('LOD Matrix (DO NOT PRINT)'!P650=TRUE,\"Yes\",\"No\"))","v":""}]
[{"$f":"IF(B651=\"Yes\",Table2[[#This Row],[Break Level]],0)","v":0},{"$f":"Table2[[#This Row],[Yes/No]]","v":"No"},null,null,{"$f":"IF($A651=0,\"\",Table2[[#This Row],[PTC DISCIPLINE]])","v":""},{"$f":"IF($A651=0,\"\",Table2[[#This Row],[ELEMENT]])","v":""},{"$f":"IF($A651=0,\"\",Table2[[#This Row],[LG&TSL]])","v":""},{"$f":"IF($A651=0,\"\",Table2[[#This Row],[DFV]])","v":""},{"$f":"IF($A651=0,\"\",Table2[[#This Row],[60%-OTS]])","v":""},{"$f":"IF($A651=0,\"\",Table2[[#This Row],[75%]])","v":""},{"$f":"IF($A651=0,\"\",Table2[[#This Row],[Pre-Final PS&E]])","v":""},{"$f":"IF($A651=0,\"\",Table2[[#This Row],[Final PS&E]])","v":""},{"$f":"IF($A651=0,\"\",'LOD Matrix (DO NOT PRINT)'!M651)","v":""},{"$f":"IF($A651=0,\"\",'LOD Matrix (DO NOT PRINT)'!N651)","v":""},{"$f":"IF($A651=0,\"\",IF('LOD Matrix (DO NOT PRINT)'!P651=TRUE,\"Yes\",\"No\"))","v":""}]
[{"$f":"IF(B652=\"Yes\",Table2[[#This Row],[Break Level]],0)","v":0},{"$f":"Table2[[#This Row],[Yes/No]]","v":"No"},null,null,{"$f":"IF($A652=0,\"\",Table2[[#This Row],[PTC DISCIPLINE]])","v":""},{"$f":"IF($A652=0,\"\",Table2[[#This Row],[ELEMENT]])","v":""},{"$f":"IF($A652=0,\"\",Table2[[#This Row],[LG&TSL]])","v":""},{"$f":"IF($A652=0,\"\",Table2[[#This Row],[DFV]])","v":""},{"$f":"IF($A652=0,\"\",Table2[[#This Row],[60%-OTS]])","v":""},{"$f":"IF($A652=0,\"\",Table2[[#This Row],[75%]])","v":""},{"$f":"IF($A652=0,\"\",Table2[[#This Row],[Pre-Final PS&E]])","v":""},{"$f":"IF($A652=0,\"\",Table2[[#This Row],[Final PS&E]])","v":""},{"$f":"IF($A652=0,\"\",'LOD Matrix (DO NOT PRINT)'!M652)","v":""},{"$f":"IF($A652=0,\"\",'LOD Matrix (DO NOT PRINT)'!N652)","v":""},{"$f":"IF($A652=0,\"\",IF('LOD Matrix (DO NOT PRINT)'!P652=TRUE,\"Yes\",\"No\"))","v":""}]
[{"$f":"IF(B653=\"Yes\",Table2[[#This Row],[Break Level]],0)","v":0},{"$f":"Table2[[#This Row],[Yes/No]]","v":"No"},null,null,{"$f":"IF($A653=0,\"\",Table2[[#This Row],[PTC DISCIPLINE]])","v":""},{"$f":"IF($A653=0,\"\",Table2[[#This Row],[ELEMENT]])","v":""},{"$f":"IF($A653=0,\"\",Table2[[#This Row],[LG&TSL]])","v":""},{"$f":"IF($A653=0,\"\",Table2[[#This Row],[DFV]])","v":""},{"$f":"IF($A653=0,\"\",Table2[[#This Row],[60%-OTS]])","v":""},{"$f":"IF($A653=0,\"\",Table2[[#This Row],[75%]])","v":""},{"$f":"IF($A653=0,\"\",Table2[[#This Row],[Pre-Final PS&E]])","v":""},{"$f":"IF($A653=0,\"\",Table2[[#This Row],[Final PS&E]])","v":""},{"$f":"IF($A653=0,\"\",'LOD Matrix (DO NOT PRINT)'!M653)","v":""},{"$f":"IF($A653=0,\"\",'LOD Matrix (DO NOT PRINT)'!N653)","v":""},{"$f":"IF($A653=0,\"\",IF('LOD Matrix (DO NOT PRINT)'!P653=TRUE,\"Yes\",\"No\"))","v":""}]
[{"$f":"IF(B654=\"Yes\",Table2[[#This Row],[Break Level]],0)","v":0},{"$f":"Table2[[#This Row],[Yes/No]]","v":"No"},null,null,{"$f":"IF($A654=0,\"\",Table2[[#This Row],[PTC DISCIPLINE]])","v":""},{"$f":"IF($A654=0,\"\",Table2[[#This Row],[ELEMENT]])","v":""},{"$f":"IF($A654=0,\"\",Table2[[#This Row],[LG&TSL]])","v":""},{"$f":"IF($A654=0,\"\",Table2[[#This Row],[DFV]])","v":""},{"$f":"IF($A654=0,\"\",Table2[[#This Row],[60%-OTS]])","v":""},{"$f":"IF($A654=0,\"\",Table2[[#This Row],[75%]])","v":""},{"$f":"IF($A654=0,\"\",Table2[[#This Row],[Pre-Final PS&E]])","v":""},{"$f":"IF($A654=0,\"\",Table2[[#This Row],[Final PS&E]])","v":""},{"$f":"IF($A654=0,\"\",'LOD Matrix (DO NOT PRINT)'!M654)","v":""},{"$f":"IF($A654=0,\"\",'LOD Matrix (DO NOT PRINT)'!N654)","v":""},{"$f":"IF($A654=0,\"\",IF('LOD Matrix (DO NOT PRINT)'!P654=TRUE,\"Yes\",\"No\"))","v":""}]
[{"$f":"IF(B655=\"Yes\",Table2[[#This Row],[Break Level]],0)","v":0},{"$f":"Table2[[#This Row],[Yes/No]]","v":"No"},null,null,{"$f":"IF($A655=0,\"\",Table2[[#This Row],[PTC DISCIPLINE]])","v":""},{"$f":"IF($A655=0,\"\",Table2[[#This Row],[ELEMENT]])","v":""},{"$f":"IF($A655=0,\"\",Table2[[#This Row],[LG&TSL]])","v":""},{"$f":"IF($A655=0,\"\",Table2[[#This Row],[DFV]])","v":""},{"$f":"IF($A655=0,\"\",Table2[[#This Row],[60%-OTS]])","v":""},{"$f":"IF($A655=0,\"\",Table2[[#This Row],[75%]])","v":""},{"$f":"IF($A655=0,\"\",Table2[[#This Row],[Pre-Final PS&E]])","v":""},{"$f":"IF($A655=0,\"\",Table2[[#This Row],[Final PS&E]])","v":""},{"$f":"IF($A655=0,\"\",'LOD Matrix (DO NOT PRINT)'!M655)","v":""},{"$f":"IF($A655=0,\"\",'LOD Matrix (DO NOT PRINT)'!N655)","v":""},{"$f":"IF($A655=0,\"\",IF('LOD Matrix (DO NOT PRINT)'!P655=TRUE,\"Yes\",\"No\"))","v":""}]
[{"$f":"IF(B656=\"Yes\",Table2[[#This Row],[Break Level]],0)","v":0},{"$f":"Table2[[#This Row],[Yes/No]]","v":"No"},null,null,{"$f":"IF($A656=0,\"\",Table2[[#This Row],[PTC DISCIPLINE]])","v":""},{"$f":"IF($A656=0,\"\",Table2[[#This Row],[ELEMENT]])","v":""},{"$f":"IF($A656=0,\"\",Table2[[#This Row],[LG&TSL]])","v":""},{"$f":"IF($A656=0,\"\",Table2[[#This Row],[DFV]])","v":""},{"$f":"IF($A656=0,\"\",Table2[[#This Row],[60%-OTS]])","v":""},{"$f":"IF($A656=0,\"\",Table2[[#This Row],[75%]])","v":""},{"$f":"IF($A656=0,\"\",Table2[[#This Row],[Pre-Final PS&E]])","v":""},{"$f":"IF($A656=0,\"\",Table2[[#This Row],[Final PS&E]])","v":""},{"$f":"IF($A656=0,\"\",'LOD Matrix (DO NOT PRINT)'!M656)","v":""},{"$f":"IF($A656=0,\"\",'LOD Matrix (DO NOT PRINT)'!N656)","v":""},{"$f":"IF($A656=0,\"\",IF('LOD Matrix (DO NOT PRINT)'!P656=TRUE,\"Yes\",\"No\"))","v":""}]
[{"$f":"IF(B657=\"Yes\",Table2[[#This Row],[Break Level]],0)","v":0},{"$f":"Table2[[#This Row],[Yes/No]]","v":"No"},null,null,{"$f":"IF($A657=0,\"\",Table2[[#This Row],[PTC DISCIPLINE]])","v":""},{"$f":"IF($A657=0,\"\",Table2[[#This Row],[ELEMENT]])","v":""},{"$f":"IF($A657=0,\"\",Table2[[#This Row],[LG&TSL]])","v":""},{"$f":"IF($A657=0,\"\",Table2[[#This Row],[DFV]])","v":""},{"$f":"IF($A657=0,\"\",Table2[[#This Row],[60%-OTS]])","v":""},{"$f":"IF($A657=0,\"\",Table2[[#This Row],[75%]])","v":""},{"$f":"IF($A657=0,\"\",Table2[[#This Row],[Pre-Final PS&E]])","v":""},{"$f":"IF($A657=0,\"\",Table2[[#This Row],[Final PS&E]])","v":""},{"$f":"IF($A657=0,\"\",'LOD Matrix (DO NOT PRINT)'!M657)","v":""},{"$f":"IF($A657=0,\"\",'LOD Matrix (DO NOT PRINT)'!N657)","v":""},{"$f":"IF($A657=0,\"\",IF('LOD Matrix (DO NOT PRINT)'!P657=TRUE,\"Yes\",\"No\"))","v":""}]
[{"$f":"IF(B658=\"Yes\",Table2[[#This Row],[Break Level]],0)","v":0},{"$f":"Table2[[#This Row],[Yes/No]]","v":"No"},null,null,{"$f":"IF($A658=0,\"\",Table2[[#This Row],[PTC DISCIPLINE]])","v":""},{"$f":"IF($A658=0,\"\",Table2[[#This Row],[ELEMENT]])","v":""},{"$f":"IF($A658=0,\"\",Table2[[#This Row],[LG&TSL]])","v":""},{"$f":"IF($A658=0,\"\",Table2[[#This Row],[DFV]])","v":""},{"$f":"IF($A658=0,\"\",Table2[[#This Row],[60%-OTS]])","v":""},{"$f":"IF($A658=0,\"\",Table2[[#This Row],[75%]])","v":""},{"$f":"IF($A658=0,\"\",Table2[[#This Row],[Pre-Final PS&E]])","v":""},{"$f":"IF($A658=0,\"\",Table2[[#This Row],[Final PS&E]])","v":""},{"$f":"IF($A658=0,\"\",'LOD Matrix (DO NOT PRINT)'!M658)","v":""},{"$f":"IF($A658=0,\"\",'LOD Matrix (DO NOT PRINT)'!N658)","v":""},{"$f":"IF($A658=0,\"\",IF('LOD Matrix (DO NOT PRINT)'!P658=TRUE,\"Yes\",\"No\"))","v":""}]
[{"$f":"IF(B659=\"Yes\",Table2[[#This Row],[Break Level]],0)","v":0},{"$f":"Table2[[#This Row],[Yes/No]]","v":"No"},null,null,{"$f":"IF($A659=0,\"\",Table2[[#This Row],[PTC DISCIPLINE]])","v":""},{"$f":"IF($A659=0,\"\",Table2[[#This Row],[ELEMENT]])","v":""},{"$f":"IF($A659=0,\"\",Table2[[#This Row],[LG&TSL]])","v":""},{"$f":"IF($A659=0,\"\",Table2[[#This Row],[DFV]])","v":""},{"$f":"IF($A659=0,\"\",Table2[[#This Row],[60%-OTS]])","v":""},{"$f":"IF($A659=0,\"\",Table2[[#This Row],[75%]])","v":""},{"$f":"IF($A659=0,\"\",Table2[[#This Row],[Pre-Final PS&E]])","v":""},{"$f":"IF($A659=0,\"\",Table2[[#This Row],[Final PS&E]])","v":""},{"$f":"IF($A659=0,\"\",'LOD Matrix (DO NOT PRINT)'!M659)","v":""},{"$f":"IF($A659=0,\"\",'LOD Matrix (DO NOT PRINT)'!N659)","v":""},{"$f":"IF($A659=0,\"\",IF('LOD Matrix (DO NOT PRINT)'!P659=TRUE,\"Yes\",\"No\"))","v":""}]
[{"$f":"IF(B660=\"Yes\",Table2[[#This Row],[Break Level]],0)","v":0},{"$f":"Table2[[#This Row],[Yes/No]]","v":"No"},null,null,{"$f":"IF($A660=0,\"\",Table2[[#This Row],[PTC DISCIPLINE]])","v":""},{"$f":"IF($A660=0,\"\",Table2[[#This Row],[ELEMENT]])","v":""},{"$f":"IF($A660=0,\"\",Table2[[#This Row],[LG&TSL]])","v":""},{"$f":"IF($A660=0,\"\",Table2[[#This Row],[DFV]])","v":""},{"$f":"IF($A660=0,\"\",Table2[[#This Row],[60%-OTS]])","v":""},{"$f":"IF($A660=0,\"\",Table2[[#This Row],[75%]])","v":""},{"$f":"IF($A660=0,\"\",Table2[[#This Row],[Pre-Final PS&E]])","v":""},{"$f":"IF($A660=0,\"\",Table2[[#This Row],[Final PS&E]])","v":""},{"$f":"IF($A660=0,\"\",'LOD Matrix (DO NOT PRINT)'!M660)","v":""},{"$f":"IF($A660=0,\"\",'LOD Matrix (DO NOT PRINT)'!N660)","v":""},{"$f":"IF($A660=0,\"\",IF('LOD Matrix (DO NOT PRINT)'!P660=TRUE,\"Yes\",\"No\"))","v":""}]
[{"$f":"IF(B661=\"Yes\",Table2[[#This Row],[Break Level]],0)","v":0},{"$f":"Table2[[#This Row],[Yes/No]]","v":"No"},null,null,{"$f":"IF($A661=0,\"\",Table2[[#This Row],[PTC DISCIPLINE]])","v":""},{"$f":"IF($A661=0,\"\",Table2[[#This Row],[ELEMENT]])","v":""},{"$f":"IF($A661=0,\"\",Table2[[#This Row],[LG&TSL]])","v":""},{"$f":"IF($A661=0,\"\",Table2[[#This Row],[DFV]])","v":""},{"$f":"IF($A661=0,\"\",Table2[[#This Row],[60%-OTS]])","v":""},{"$f":"IF($A661=0,\"\",Table2[[#This Row],[75%]])","v":""},{"$f":"IF($A661=0,\"\",Table2[[#This Row],[Pre-Final PS&E]])","v":""},{"$f":"IF($A661=0,\"\",Table2[[#This Row],[Final PS&E]])","v":""},{"$f":"IF($A661=0,\"\",'LOD Matrix (DO NOT PRINT)'!M661)","v":""},{"$f":"IF($A661=0,\"\",'LOD Matrix (DO NOT PRINT)'!N661)","v":""},{"$f":"IF($A661=0,\"\",IF('LOD Matrix (DO NOT PRINT)'!P661=TRUE,\"Yes\",\"No\"))","v":""}]
[{"$f":"IF(B662=\"Yes\",Table2[[#This Row],[Break Level]],0)","v":0},{"$f":"Table2[[#This Row],[Yes/No]]","v":"No"},null,null,{"$f":"IF($A662=0,\"\",Table2[[#This Row],[PTC DISCIPLINE]])","v":""},{"$f":"IF($A662=0,\"\",Table2[[#This Row],[ELEMENT]])","v":""},{"$f":"IF($A662=0,\"\",Table2[[#This Row],[LG&TSL]])","v":""},{"$f":"IF($A662=0,\"\",Table2[[#This Row],[DFV]])","v":""},{"$f":"IF($A662=0,\"\",Table2[[#This Row],[60%-OTS]])","v":""},{"$f":"IF($A662=0,\"\",Table2[[#This Row],[75%]])","v":""},{"$f":"IF($A662=0,\"\",Table2[[#This Row],[Pre-Final PS&E]])","v":""},{"$f":"IF($A662=0,\"\",Table2[[#This Row],[Final PS&E]])","v":""},{"$f":"IF($A662=0,\"\",'LOD Matrix (DO NOT PRINT)'!M662)","v":""},{"$f":"IF($A662=0,\"\",'LOD Matrix (DO NOT PRINT)'!N662)","v":""},{"$f":"IF($A662=0,\"\",IF('LOD Matrix (DO NOT PRINT)'!P662=TRUE,\"Yes\",\"No\"))","v":""}]
[{"$f":"IF(B663=\"Yes\",Table2[[#This Row],[Break Level]],0)","v":0},{"$f":"Table2[[#This Row],[Yes/No]]","v":"No"},null,null,{"$f":"IF($A663=0,\"\",Table2[[#This Row],[PTC DISCIPLINE]])","v":""},{"$f":"IF($A663=0,\"\",Table2[[#This Row],[ELEMENT]])","v":""},{"$f":"IF($A663=0,\"\",Table2[[#This Row],[LG&TSL]])","v":""},{"$f":"IF($A663=0,\"\",Table2[[#This Row],[DFV]])","v":""},{"$f":"IF($A663=0,\"\",Table2[[#This Row],[60%-OTS]])","v":""},{"$f":"IF($A663=0,\"\",Table2[[#This Row],[75%]])","v":""},{"$f":"IF($A663=0,\"\",Table2[[#This Row],[Pre-Final PS&E]])","v":""},{"$f":"IF($A663=0,\"\",Table2[[#This Row],[Final PS&E]])","v":""},{"$f":"IF($A663=0,\"\",'LOD Matrix (DO NOT PRINT)'!M663)","v":""},{"$f":"IF($A663=0,\"\",'LOD Matrix (DO NOT PRINT)'!N663)","v":""},{"$f":"IF($A663=0,\"\",IF('LOD Matrix (DO NOT PRINT)'!P663=TRUE,\"Yes\",\"No\"))","v":""}]
[{"$f":"IF(B664=\"Yes\",Table2[[#This Row],[Break Level]],0)","v":0},{"$f":"Table2[[#This Row],[Yes/No]]","v":"No"},null,null,{"$f":"IF($A664=0,\"\",Table2[[#This Row],[PTC DISCIPLINE]])","v":""},{"$f":"IF($A664=0,\"\",Table2[[#This Row],[ELEMENT]])","v":""},{"$f":"IF($A664=0,\"\",Table2[[#This Row],[LG&TSL]])","v":""},{"$f":"IF($A664=0,\"\",Table2[[#This Row],[DFV]])","v":""},{"$f":"IF($A664=0,\"\",Table2[[#This Row],[60%-OTS]])","v":""},{"$f":"IF($A664=0,\"\",Table2[[#This Row],[75%]])","v":""},{"$f":"IF($A664=0,\"\",Table2[[#This Row],[Pre-Final PS&E]])","v":""},{"$f":"IF($A664=0,\"\",Table2[[#This Row],[Final PS&E]])","v":""},{"$f":"IF($A664=0,\"\",'LOD Matrix (DO NOT PRINT)'!M664)","v":""},{"$f":"IF($A664=0,\"\",'LOD Matrix (DO NOT PRINT)'!N664)","v":""},{"$f":"IF($A664=0,\"\",IF('LOD Matrix (DO NOT PRINT)'!P664=TRUE,\"Yes\",\"No\"))","v":""}]
[null,{"$f":"Table2[[#This Row],[Yes/No]]","v":{"$error":"#VALUE!"}},null,null,null,null,{"$f":"IF($A665=0,\"\",Table2[[#This Row],[LG&TSL]])","v":""},{"$f":"IF($A665=0,\"\",Table2[[#This Row],[DFV]])","v":""},{"$f":"IF($A665=0,\"\",Table2[[#This Row],[60%-OTS]])","v":""},{"$f":"IF($A665=0,\"\",Table2[[#This Row],[75%]])","v":""},{"$f":"IF($A665=0,\"\",Table2[[#This Row],[Pre-Final PS&E]])","v":""},{"$f":"IF($A665=0,\"\",Table2[[#This Row],[Final PS&E]])","v":""},{"$f":"IF($A665=0,\"\",'LOD Matrix (DO NOT PRINT)'!M665)","v":""},{"$f":"IF($A665=0,\"\",'LOD Matrix (DO NOT PRINT)'!N665)","v":""},{"$f":"IF($A665=0,\"\",IF('LOD Matrix (DO NOT PRINT)'!P665=TRUE,\"Yes\",\"No\"))","v":""}]

{"sheet":"1 . Executive Statement","index":3,"n_rows":8,"n_cols":1,"rows_kept":8,"cut":false,"hidden":false,"merged":[[6,0,6,8],[7,0,7,8],[0,0,0,8],[1,0,1,8],[2,0,2,8],[3,0,3,8],[4,0,4,8],[5,0,5,8]]}
["1.      Executive Statement"]
["The Pennsylvania Turnpike Commission’s (PTC) Project Execution Plan’s (PxP) purpose is to document the efforts Consultant Project Teams must take to create and deliver discipline specific design models, including compliance with model development requirements and how this data will be exchanged throughout the project lifecycle for the intended model uses. This plan will be updated throughout the project lifecycle to reflect any changes in the required efforts."]
["1.1      Goals and Guidelines"]
["PTC’s high-level goals and objectives are documented in the PIM & CAD Standard. Any additional project goals will be listed below."]
["GOALS"]
["Ex.) Progress PTC’s Digital Delivery Program with implementation of the PIM & CAD Standards and providing recommendations to PTC."]
["Ex.) Improved accuracy and consistency of design information"]
["Ex.) Visual communication and optimization of construction phasing sequencing "]

{"sheet":"2. Project Information","index":4,"n_rows":43,"n_cols":9,"rows_kept":43,"cut":false,"hidden":false,"merged":[[41,2,41,3],[41,4,41,5],[44,0,44,1],[44,2,44,3],[44,4,44,5],[44,6,44,7],[42,0,42,1],[42,2,42,3],[42,4,42,5],[42,6,42,7],[43,0,43,1],[43,2,43,3],[43,4,43,5],[43,6,43,7],[41,6,41,7],[34,0,34,1],[34,2,34,3],[34,4,34,5],[34,6,34,7],[35,0,35,1],[35,2,35,3],[35,4,35,5],[35,6,35,7],[36,0,36,1],[36,2,36,3],[36,4,36,5],[36,6,36,7],[38,0,38,8],[39,0,39,8],[41,0,41,1],[21,0,21,2],[21,3,21,8],[33,0,33,1],[33,2,33,3],[33,4,33,5],[33,6,33,7],[30,0,30,8],[31,0,31,8],[18,0,18,2],[18,3,18,8],[19,0,19,2],[19,3,19,8],[20,0,20,2],[20,3,20,8],[15,0,15,2],[15,3,15,8],[16,0,16,2],[16,3,16,8],[17,0,17,2],[17,3,17,8],[0,0,0,8],[1,0,1,8],[14,0,14,2],[14,3,14,8],[3,0,3,2],[3,3,3,8],[4,0,4,2],[4,3,4,8],[5,0,7,2],[5,3,7,8],[8,0,8,2],[8,3,8,8],[9,0,9,2],[9,3,9,8],[12,0,12,8],[11,0,11,8]]}
["2.      Project Information"]
["2.1      Project Description"]
["Table 2.1 Project Description"]
["Project Title"]
["Construction Contract Number"]
["Project Address"]
[]
[]
["Owner Name",null,null,"Pennsylvania Turnpike Commission"]
["Project Description"]
[]
["2.2      Project Submissions"]
["The following table depicts the milestones and their expected schedule dates.  If applicable, rows may be added/removed per project submission requirements."]
["Table 2.2 Project Submissions"]
["Project Submission",null,null,"Estimated Completion Date"]
["DFV",null,null,"Preliminary Completion Date"]
["OTS",null,null,"Completion Date"]
["75% Design",null,null,"Completion Date"]
["Pre-Final PS&E",null,null,"Completion Date"]
["Final PS&E",null,null,"Completion Date"]
["Advertisement",null,null,"TBD"]
["As-Bid",null,null,"TBD"]
[]
[]
[]
[]
[]
[]
[]
[]
["2.3      Project Team and Directory"]
["2.3.1       PTC Project LEAD CONTACTS"]
["Table 2.3 PTC Project Lead Contacts"]
["Company",null,"Contact Name",null,"Role",null,"Email address",null,"Phone Number"]
["PTC",null,null,null,"PTC Project Manager"]
["PTC",null,null,null,"Design Services ",null,"Digitaldelivery@paturnpike.com"]
[null,null,null,null,"PTC Design Manager"]
[]
["2.3.2       Consultant Team Leads"]
["Personnel responsible and accountable for all Digital Delivery Requirements and Deliverables. This will include all Consultants who will be signing and sealing any plan."]
["Table 2.4 Consultant Team Contacts"]
["Company",null,"Contact Name",null,"Role",null,"Email address",null,"Phone Number"]
[null,null,null,null,"Consultant Project Manager"]

{"sheet":"3. Deliverables","index":5,"n_rows":65,"n_cols":10,"rows_kept":65,"cut":false,"hidden":false,"merged":[[64,0,67,3],[56,0,56,2],[56,3,57,6],[56,7,57,9],[57,0,57,2],[59,0,59,9],[60,0,60,9],[62,0,62,3],[63,0,63,3],[62,4,62,9],[63,4,63,9],[64,4,67,9],[51,0,51,2],[51,3,51,6],[51,7,51,9],[54,0,54,9],[55,0,55,2],[55,3,55,6],[55,7,55,9],[47,0,47,2],[47,3,47,6],[47,7,47,9],[48,0,50,2],[48,7,50,9],[48,3,50,6],[42,0,42,2],[42,3,42,6],[42,7,42,9],[45,0,45,9],[46,0,46,2],[46,3,46,6],[46,7,46,9],[39,0,39,9],[40,0,40,2],[40,3,40,6],[40,7,40,9],[41,0,41,2],[41,3,41,6],[41,7,41,9],[31,0,33,2],[31,7,33,9],[31,3,33,6],[34,0,36,2],[34,7,36,9],[34,3,36,6],[26,0,26,9],[27,0,27,2],[27,3,27,6],[27,7,27,9],[28,0,30,2],[28,7,30,9],[28,3,30,6],[22,0,22,1],[22,2,22,3],[18,0,18,9],[19,0,19,1],[19,2,19,3],[20,2,21,3],[22,4,22,9],[13,9,15,9],[20,0,21,1],[13,2,15,3],[13,0,15,1],[13,5,15,5],[13,6,15,6],[13,7,15,7],[13,8,15,8],[13,4,15,4],[19,4,19,9],[20,4,21,9],[7,0,7,9],[9,0,9,9],[10,0,12,1],[10,2,12,3],[11,5,12,5],[11,6,12,6],[11,7,12,7],[11,8,12,8],[11,9,12,9],[10,4,10,9],[11,4,12,4],[0,0,0,9],[1,0,1,9],[3,0,3,9],[4,0,4,7],[6,0,6,9]]}
["3.      Deliverables"]
["The design team’s deliverables and requirements with respect to Digital Delivery are listed below. "]
["Table 3.1 Model as the Legal Document"]
["Model as the Legal Document Requirements"]
["Does your project require model files as the legal document a part of the bid package?"]
["*If no, then skip table 3.2 below and note N/A."]
["If yes was answered above, then refer to \"Project Digital Assets\" tab. PTC will indicate what elements need to be provided within the model as the legal document. Please note when each model element will be required as part of the deliverable package for each project submission.  All remaining content for project submittals will be included within PDF files."]
["The following table dictates what elements/electronic files are required to be delivered as For Information Only (FIO).  PTC will indicate what elements/models need to be provided for information only. Upon request, the Design Consultant may also include additional files as FIO."]
["Table 3.2 Required Model Deliverables For Information Only (FIO)"]
["Required Model Deliverables (FIO)"]
["Element",null,"File Type",null,"Deliverable Frequency"]
[null,null,null,null,"LG&TSL","DFV","OTS","75% Design","Pre-Final PS&E","Final PS&E"]
[]
["Federated Model",null,"•\tNavisworks (.NWD)\n•\tiModel (.i.DGN)\n•\tIFC"]
[]
[]
[]
["Table 3.3 Digital Delivery Initiation Deliverables"]
["Digital Delivery Initiation Deliverables"]
["Deliverable",null,"File Type",null,"Frequency"]
["PxP",null,"•\tExcel\n•\tPDF",null,"First draft due 30 days after notice to proceed, and at a minimum every project submission (frequency may increase dependent on PTC and Design Consultant team’s deliverable requirements.) "]
[]
["Digital Delivery Kickoff Meeting",null,"•\tMeeting Minutes",null,"At completion of initial PxP (30 Days after notice to proceed)"]
[]
[]
["Table 3.4 Model Authoring/Design Intent Models"]
["Model Authoring/ Design Intent Models / Drawings"]
["Deliverable",null,null,"File Type",null,null,null,"Frequency"]
["Design Intent Models",null,null,"•\tOpenRoads (.DGN)\n•\tCivil 3D (.DWG)\n•\tRevit (.RVT)",null,null,null,"Each Project Submission"]
[]
[]
["Federated Model",null,null,"•\tNavisworks (.NWD)\n•\tiModel (.I.DGN)\n•\tIFC (.IFC)",null,null,null,"Each Project Submission"]
[]
[]
["Record Models",null,null,"•\t OpenRoads (.DGN)\n•\tCivil 3D (.DWG)\n•\tRevit (.RVT)",null,null,null,"Project Closeout"]
[]
[]
[]
["Table 3.5 2D Documentation / Contract Documents"]
["2D Documentation (Drawing sets) / Contract Documents"]
["Deliverable",null,null,"File Type",null,null,null,"Frequency"]
["Contract Documents",null,null,"•\tPDF",null,null,null,"Each Project Submission"]
["Specifications",null,null,"•\tPDF",null,null,null,"TBD"]
[]
["Table 3.6 3D Coordination"]
["3D Coordination"]
["Deliverable",null,null,"File Type",null,null,null,"Frequency"]
["Discipline Specific 3D Coordination Model",null,null,"•\tNWD",null,null,null,"TBD"]
["Federated 3D Coordination Model",null,null,"•\tNWD, iModel, IFC ",null,null,null,"TBD"]
[]
[]
["Coordination/Clash Reports",null,null,"•\tPDF",null,null,null,"TBD"]
[]
["Table 3.7 QAQC"]
["QAQC"]
["Deliverable",null,null,"File Type",null,null,null,"Frequency"]
["PIM & CAD Standards Review Report",null,null,"•\tPDF",null,null,null,"OTS & Pre-Final PS&E"]
["(Design Consultant must submit this Report with specified project submission)"]
[]
["3.1  Additional Engineering Technology Deliverables"]
["PTC’s high-level deliverables and requirements are documented in the PIM & CAD Standard. Any additional project deliverables will be listed below. "]
["Table 3.8 Additional Deliverables"]
["Deliverables",null,null,null,"Frequency"]
["IFC models",null,null,null,"Each Project Submission"]
["Ex.) LandXML for pavement grading (Existing Pavement Grading, Intermittent Pavement Grading, Final Pavement Grading, Final Grading Terrain)"]

{"sheet":"4. Collaboration","index":6,"n_rows":47,"n_cols":8,"rows_kept":47,"cut":false,"hidden":false,"merged":[[45,0,45,8],[46,0,46,1],[46,2,46,8],[43,0,43,8],[28,0,28,8],[31,0,31,8],[32,0,32,2],[32,3,32,8],[33,0,33,2],[33,3,33,8],[34,0,34,2],[34,3,34,8],[35,0,35,8],[37,0,37,8],[40,0,40,8],[39,0,39,8],[15,0,15,8],[16,0,16,8],[19,0,20,1],[19,6,20,8],[19,4,20,5],[19,2,20,3],[21,0,21,1],[21,2,21,3],[21,4,21,5],[21,6,21,8],[22,0,22,1],[22,2,22,3],[22,4,22,5],[22,6,22,8],[8,2,8,4],[8,5,8,6],[8,7,8,8],[9,0,9,1],[9,2,9,4],[9,5,9,6],[9,7,9,8],[42,0,42,8],[6,0,6,1],[6,2,6,4],[6,5,6,6],[6,7,6,8],[7,0,7,1],[7,2,7,4],[7,5,7,6],[7,7,7,8],[10,0,10,1],[10,2,10,4],[10,5,10,6],[10,7,10,8],[11,0,11,1],[11,2,11,4],[8,0,8,1],[0,0,0,8],[1,0,1,8],[14,0,14,8],[27,0,27,8],[36,0,36,8],[2,0,2,8],[4,0,4,1],[4,2,4,4],[4,5,4,6],[4,7,4,8],[5,0,5,1],[5,2,5,4],[5,5,5,6],[5,7,5,8],[11,5,11,6],[11,7,11,8]]}
["4.      Collaboration"]
["4.1      Proposed Technology Versions"]
["Below marks the software that will be utilized for project execution. Note in the table below if using a different software version than listed in the Standards."]
["Table 4.1 Proposed Technology Versions"]
["Software ",null,"Description of Use ",null,null,"Version ",null,"Phase/Scope "]
["Autodesk AutoCAD ",null,"Design Intent Models ",null,null,2024]
["Autodesk Civil 3D",null,"Design Intent Models ",null,null,2024]
["Bentley OpenRoads Designer ",null,"Design Intent Models ",null,null,"10.12.02.4"]
["Bentley OpenBridge Modeler*",null,"Design Intent Models",null,null,"10.12.02.4"]
["Autodesk Revit *",null,"Design Intent Models ",null,null,2024]
["Autodesk Infraworks ",null,"Design Intent Models ",null,null,2024]
["Autodesk Inventor ",null,"Design Intent Models ",null,null,2024]
["*If utilizing this software, you must fill out Appendix A"]
[]
["4.1.1       Data migration and software version updates"]
["It is the Consultant Project Manager’s responsibility, at the completion of a project phase, to review the PIM & CAD Standards for latest updates on supported versions by PTC. Data migration and software version updates will be determined on a case-by-case basis depending on the schedule and advances of the software."]
["If a version of software has been updated in the PIM & CAD Standards, then the Consultant Project Manager will discuss with PTC’s Design Services Unit whether to implement a change for that project. If an update is required for your project, please fill out the following table:"]
[]
["Table 4.2 Data Migration and Software Version Updates"]
["Process Type",null,"Current Software & Version",null,"Succeeding Software & Version",null,"Process"]
[]
["Data Migration"]
["Software Upgrade"]
[]
[]
[]
[]
["4.2      Common Data Environment"]
["The Pennsylvania Turnpike Commission will create a project on their Common Data Environment (CDE) in order to host project submissions.  PTC will invite the appropriate parties to their CDE for the purpose of project submissions and to share feedback/comments on model files. Common Data Environment is utilized for all submissions. The PTC admin will create the project and fill out the information below, after the initial submission of the PxP:"]
[]
["Table 4.3 Common Data Environment"]
["Common Data Environment"]
["CDE System",null,null,"Platform - TBD"]
["CDE Admin",null,null,"Butch Loncar"]
["Hyperlink",null,null,"TBD"]
["*Note: the table above is completed by PTC after the initial submission of the PxP by the Design Consultant."]
["4.2.1       Folder Structure"]
["Design Consultant must update this section to reflect their folder structure for their model files. Insert general description of the folder structure and graphic/diagram for ease of understanding. Folder structure must adhere to section 10.2 of the PTC PIM & CAD Standards. "]
[]
["4.2.2       File Management"]
["File Management should comply with the Collaboration standards laid out in section 10 of the PTC PIM & CAD Standards. Since PTC is the admin for the Common Data Environment, they will set appropriate permissions and security to various folders within the project. If for some reason, additional permissions are required please list below along with a request to the PTC Design Services Unit."]
[]
["4.2.2.1           Project Number for File Naming"]
["The project number for file naming is a shortened project number associating the route and milepost to the project (also known as the abbreviated contract number). This will be the predecessor for all model file names. Project naming should follow standard naming conventions laid out in section 8 of the PTC PIM & CAD Standards document."]
["Table 4.4 Project Number for File Naming"]
["Project Number for File Naming "]
["Project Number",null,"Abbreviated Project # for naming (i.e., A083.88S)"]

{"sheet":"5. Existing Conditions","index":7,"n_rows":34,"n_cols":8,"rows_kept":34,"cut":false,"hidden":false,"merged":[[2,0,2,8],[5,0,5,8],[6,0,6,2],[6,3,6,4],[6,5,6,6],[6,7,6,8],[7,3,7,4],[7,5,7,6],[7,7,7,8],[8,0,8,2],[8,3,8,4],[8,5,8,6],[8,7,8,8],[19,0,19,8],[20,0,20,2],[20,3,20,4],[20,5,20,6],[20,7,20,8],[21,0,21,2],[21,3,21,4],[21,5,21,6],[21,7,21,8],[22,0,22,2],[22,3,22,4],[22,5,22,6],[22,7,22,8],[24,0,24,8],[32,0,32,2],[32,3,32,5],[32,6,32,8],[33,0,33,2],[33,3,33,5],[33,6,33,8],[25,0,25,8],[29,0,29,8],[30,0,30,2],[30,3,30,5],[30,6,30,8],[31,0,31,2],[31,3,31,5],[31,6,31,8],[0,0,0,8],[1,0,1,8],[3,0,3,8],[10,0,10,8],[17,0,17,8],[15,0,15,2],[15,3,15,4],[15,5,15,6],[15,7,15,8],[11,0,11,8],[13,0,13,8],[14,0,14,2],[14,3,14,4],[14,5,14,6],[14,7,14,8],[7,0,7,2]]}
["5.      Existing Conditions"]
["5.1      Data Sources for Existing Conditions"]
["The following sections list survey data received from PTC, additional data acquired by GIS, in addition to other survey means in order to develop the existing condition model files."]
["5.1.1       Survey Data from PTC"]
["Table 5.1 Survey Data from PTC"]
["Survey Data From PTC"]
["File Name ",null,null,"Source",null,"Collection Date",null,"Date Received from PTC"]
["List original name of file",null,null,"(LiDAR, point file, etc)",null,"(i.e., Flight Date, field survey date)",null,"xx/xx/xx"]
[null,null,null,"(LiDAR, point file, etc)"]
[]
["5.1.2       Supplemental Survey Data"]
[" If additional survey data is necessary for this project, then list the data collected, date and source of survey type. All additional survey data must be sent to PTC in its native format for their records."]
["Table 5.2 Supplemental Survey Data"]
["Supplemental Survey Data"]
["File Name ",null,null,"Source",null,"Data Captured",null,"Date Collected"]
["List name of file",null,null,"(LiDAR, total station point file, etc)",null,"Pavement elevations",null,"xx/xx/xx"]
[]
["5.1.3   GIS Data"]
["Table 5.3 GIS Data"]
["GIS Data"]
["File Name",null,null,"Data Sourced",null,"Provider",null,"Date"]
["List original name of file",null,null,"Terrain, drainage network, etc.",null,"Provider name",null,"xx/xx/xx"]
[null,null,null,"Terrain, drainage network, etc.",null,"Provider name"]
[]
["5.1.4       Model Files for Existing Conditions"]
["List all existing conditions model files that will be utilized.  All model files must follow the naming convention described in section 8 of the PTC PIM & CAD Standards. "]
[]
[]
["Table 5.4 Model Files for Existing Conditions"]
["Model Files for Existing Conditions"]
["Model Name ",null,null,"Scope",null,null,"Source(s)"]
["####- V-XX-XXXX.dwg",null,null,"Master existing conditions 2D model ",null,null,"PTC Survey XX/XX/XX"]
["####- V-XX-XXXX.dwg",null,null,"Terrain/surface model for existing Topo",null,null,"Survey XX/XX/XX"]
["####- V-XX-XXXX.dwg",null,null,"Existing Utilities Model ",null,null,"Survey XX/XX/XX"]

{"sheet":"6. Model Setup","index":8,"n_rows":60,"n_cols":8,"rows_kept":60,"cut":false,"hidden":false,"merged":[[5,0,6,2],[58,0,58,2],[58,3,58,6],[58,7,58,8],[59,0,59,2],[59,3,59,6],[59,7,59,8],[51,0,51,1],[51,2,51,8],[52,0,52,1],[52,2,52,8],[55,0,55,8],[57,0,57,2],[57,3,57,8],[46,0,46,1],[46,2,46,8],[47,0,47,1],[47,2,47,8],[48,0,48,8],[50,0,50,8],[44,0,44,8],[45,0,45,1],[45,2,45,8],[37,0,37,2],[37,3,37,5],[37,6,37,8],[38,0,38,2],[38,3,38,5],[38,6,38,8],[35,0,35,2],[35,3,35,5],[35,6,35,8],[36,0,36,2],[36,3,36,5],[36,6,36,8],[23,0,23,1],[23,2,23,3],[23,4,23,5],[23,6,23,8],[26,0,26,8],[34,0,34,2],[34,3,34,5],[34,6,34,8],[21,0,21,1],[21,2,21,3],[21,4,21,5],[21,6,21,8],[22,0,22,1],[22,2,22,3],[22,4,22,5],[22,6,22,8],[19,0,19,1],[19,2,19,3],[19,4,19,5],[19,6,19,8],[20,0,20,1],[20,2,20,3],[20,4,20,5],[20,6,20,8],[16,0,16,8],[18,0,18,1],[18,2,18,3],[18,4,18,5],[18,6,18,8],[12,6,12,8],[13,0,13,2],[13,3,13,5],[13,6,13,8],[11,6,11,8],[8,0,8,2],[8,3,8,5],[8,6,8,8],[9,0,9,2],[9,3,9,5],[9,6,9,8],[11,0,11,2],[11,3,11,5],[14,0,14,2],[14,3,14,5],[14,6,14,8],[0,0,0,8],[1,0,1,8],[25,0,25,8],[40,0,40,8],[54,0,54,8],[6,3,6,5],[6,6,6,8],[7,0,7,2],[7,3,7,5],[7,6,7,8],[2,0,2,8],[4,0,4,2],[4,3,4,5],[4,6,4,8],[5,3,5,5],[5,6,5,8],[10,0,10,2],[10,3,10,5],[10,6,10,8],[12,0,12,2],[12,3,12,5]]}
["6.      Model Setup"]
["6.1      Model Breakdown Strategy"]
["Insert the full list of Project Information Models below following naming convention described in section 8 of the PTC PIM & CAD Standards."]
["Table 6.1 Model Breakdown Strategy"]
["Model Discipline",null,null,"Model Name",null,null,"Description"]
["Civil Model(s)*",null,null,"####- C-XX-XXXX.dwg"]
[null,null,null,"####- C-XX-XXXX.dwg"]
["Structural",null,null,"####- S-XX-XXXX.rvt"]
["Traffic",null,null,"####- T-XX-XXXX.dwg"]
["Architectural Model(s)",null,null,"####- A-XX-XXXX.rvt"]
["Electrical",null,null,"####- E-XX-XXXX.dwg"]
["Fire Protection",null,null,"####- F-XX-XXXX.dwg"]
["Mechanical",null,null,"####- M-XX-XXXX.rvt"]
["Plumbing",null,null,"####- P-XX-XXXX.dwg"]
["Landscape",null,null,"####- L-XX-XXXX.dwg"]
["*Civil includes Roadway, Drainage, etc."]
["Insert the full list of Model Views and Annotated Views for the Project Information Models.  Only list the model files that contain views."]
["Table 6.2 Model Views & Annotated Views"]
["Model Name",null,"Model View",null,"Annotated View",null,"Description"]
["####- C-XX-XXXX.dwg",null,"Drainage STA 3+00",null,"-",null,"Drainage structure, multiple pipe runs"]
["####- C-XX-XXXX.dwg",null,"-",null,"STA 1+00 Cross Section",null,"Annotated lane widths and depths"]
[null,null,"STA 250+00",null,null,null,"Cross section view"]
["####- C-XX-XXXX.dwg",null,"TBD"]
["####- C-XX-XXXX.dwg",null,"TBD"]
[]
["6.1.1       Federated Model"]
["Design Intent Federated Model: Insert flow chart, diagram, or strategy for model federation. The primary civil/architecture/structural model can suffice if all PIMs and references are linked in."]
[]
[]
[]
[]
[]
["Insert the full list of Model Views and Annotated Views for the Federated Models.  "]
["Table 6.3 Federated Model Views & Annotated Views"]
["Model View",null,null,"Annotated View",null,null,"Description"]
["TBD",null,null,"-"]
[]
[]
[]
[]
["6.2      Project Coordinates"]
[]
["The horizontal and vertical controls for the project are:"]
["Table 6.5 Horizontal Coordinates"]
["Horizontal Coordinates"]
["Project Location",null,"Coordinate System"]
[null,null,"NAD 83 State Plane Pennsylvania North FIPS 3701 (US Feet)"]
[null,null,"NAD 83 State Plane Pennsylvania South FIPS 3702 (US Feet)"]
["Refer to the Project Information Modeling & CAD Standards for datum references (see PIM & CAD Standards: Section 13.2 Coordinate System and Datums)."]
["Table 6.6 Vertical Coordinates"]
["Vertical Coordinates"]
["Project Location",null,"Coordinate System"]
[null,null,"NAVD 1988"]
[]
["6.3      Titleblocks and Sheets"]
["The standard sheet size for the project is ANSI D (22” x 34”). However, various full project length PDF sheet sizes are available from PTC’s Civil 3D template file, PTC Plan Sheet-C3D.dwt, and ORD template file, PTC Full Project Length PDF.dgn. It is up to the design lead to determine if various full project length PDF’s will be needed for the project and make the necessary recommendations to the project lead for PTC’s approval. Sheet sizes must follow the sizes listed within the PIM & CAD standards, see section 7.7."]
["Table 6.7 PDF Sheet Sizes"]
["Start Here",null,null,"Plan Sheet Size to Use"]
["Is your project required to deliver a full project length PDF?",null,null,"       NO / Not Applicable",null,null,null,"  YES"]
["Full Project Length PDF size",null,null,"Use standard ANSI D (34”x22”)",null,null,null,"Click to Select Size"]

{"sheet":"7. Coordination","index":9,"n_rows":25,"n_cols":9,"rows_kept":25,"cut":false,"hidden":false,"merged":[[23,0,23,1],[23,2,23,8],[24,0,24,1],[24,2,24,8],[20,0,20,1],[20,2,20,8],[21,0,21,1],[21,2,21,8],[22,0,22,1],[22,2,22,8],[13,4,13,5],[13,6,13,7],[16,0,16,8],[19,0,19,1],[19,2,19,8],[10,0,10,1],[10,2,10,3],[10,4,10,5],[10,6,10,7],[18,0,18,1],[18,2,18,8],[11,0,11,1],[11,2,11,3],[11,4,11,5],[11,6,11,7],[12,0,12,1],[12,2,12,3],[12,4,12,5],[12,6,12,7],[13,0,13,1],[13,2,13,3],[1,0,1,8],[0,0,0,8],[15,0,15,8],[2,0,2,8],[3,1,3,8],[4,1,4,8],[6,0,6,8],[8,0,8,1],[8,2,8,3],[8,4,8,5],[8,6,8,7],[5,0,5,8],[9,0,9,1],[9,2,9,3],[9,4,9,5],[9,6,9,7]]}
["7.      Coordination"]
["7.1      Design Intent Coordination Strategy"]
["Model coordination will be determined by the Design Consultant for 3D and 2D coordination. In this section outline the following:"]
[null,"•\tWhat models and elements are being coordinated?"]
[null,"•\tHow is coordination being conducted? (This can be a combination of tools, i.e., visual inspection, Navisworks, tools built within CAD Authoring software, etc.) "]
["7.2 QUALITY ASSURANCE AND QUALITY CONTROL STRATEGIES"]
["The Consultant Project Manager may appoint leaders of each organization/discipline to maintain the standards of the PxP and to preserve the model health throughout the process. The following checks must be performed in order to maintain the quality of the models between disciplines:"]
["Table 7.1 QAQC Strategies"]
["Check",null,"Description",null,"Responsibility",null,"Software Used",null,"Frequency"]
["Visual",null,"Ensure all model elements are intentionally modeled following the design, with no missing elements and removing all extra components. ",null,"All users",null,"Civil 3D",null,"Daily"]
["Clash",null,"Ensure all modeled elements in a single model are free of collisions between linked models, regardless of severity.",null,"Consultant Project Manager or appointee by Consultant PM",null,"Civil 3D, OpenRoads, Designer, Revit, Navisworks, Glue",null,"Agreed Upon"]
["Maintenance",null,"Ensuring models are set up appropriately, periodic audit & compacting the model, vetting links and references, and maintaining file size.",null,"All users",null,"Civil 3D",null,"Weekly"]
["Standards",null,"Ensure that the Project Information Modeling & CAD Standards are followed in all models.",null,"Consultant Project Team",null,"Civil 3D, OpenRoads, Designer, Revit",null,"Before Project Submissions"]
["Integrity",null,"Ensure that all Objects and Object Data has no undefined, incorrectly defined, or duplicated elements ",null,"Consultant Team",null,"Civil 3D",null,"Before Project Submissions"]
["       "]
["7.2.1       Model Maintenance"]
["The Consultant Team will be responsible to perform a series of quality control measures to check for compliance against the Protocol, PxP, and Project Information Modeling & CAD Standards. There are many causes for degradation of file performance, slowness in overall navigation and corruption. To best overcome this and other potential performance related issues, a good model maintenance plan is suggested below."]
["Table 7.2 Model Maintenance"]
["Function",null,"Recommended Frequency"]
["Audit",null,"•\tOnce a week at the beginning of the week"]
["Compact",null,"•\tOnce a week at the end of the week"]
["Purge elements",null,"•\tAt major milestones & when transmitting file to consultants"]
["Purge Views",null,"•\tAt major milestones & when transmitting file to consultants"]
["Review Links",null,"•\tWhen links are received, periodically there after"]
["Warnings Management",null,"•\tWeekly – bi-weekly"]

{"sheet":"8. Document Review","index":10,"n_rows":7,"n_cols":7,"rows_kept":7,"cut":false,"hidden":false,"merged":[[6,0,6,2],[6,3,6,5],[6,6,6,8],[4,0,4,2],[4,3,4,5],[4,6,4,8],[5,0,5,2],[5,3,5,5],[5,6,5,8],[0,0,0,8],[1,0,1,8],[3,0,3,2],[3,3,3,5],[3,6,3,8]]}
["8.      Document Review"]
["The following table will be completed after reviewing the PxP at the Initial Kickoff meeting with PTC Design Services Unit. By signing and acknowledging acceptance below, the Company agrees that it has read, will abide by the standards set forth and referenced within this document and consents to the delivery program established herein."]
["Table 8.1 Document Review"]
["Company Name ",null,null,"Date Reviewed ",null,null,"Signee "]
["PTC Project Manager ",null,null,"xx/xx/xxxx "]
["PTC Design Services",null,null,"xx/xx/xxxx "]
["Consultant (insert Company name) Project Manager",null,null,"xx/xx/xxxx "]

{"sheet":"9. Appendix A-Brdige","index":11,"n_rows":82,"n_cols":9,"rows_kept":82,"cut":false,"hidden":false,"merged":[[2,0,2,8],[4,0,4,1],[4,2,4,4],[4,5,4,7],[5,0,5,1],[5,2,5,4],[5,5,5,7],[56,0,56,8],[57,0,57,8],[6,0,6,1],[6,2,6,4],[6,5,6,7],[7,0,7,1],[7,2,7,4],[7,5,7,7],[61,0,61,8],[13,0,13,2],[13,5,13,6],[13,7,13,8],[14,0,14,2],[14,5,14,6],[14,7,14,8],[15,0,15,2],[15,5,15,6],[15,7,15,8],[70,0,70,2],[70,3,70,5],[70,6,70,8],[71,0,71,2],[71,3,71,5],[71,6,71,8],[72,0,72,2],[72,3,72,5],[72,6,72,8],[73,0,73,2],[73,3,73,5],[73,6,73,8],[11,0,11,8],[81,0,81,2],[81,3,81,8],[76,0,76,8],[78,0,78,2],[78,3,78,8],[79,0,79,2],[79,3,79,8],[80,0,80,2],[80,3,80,8]]}
["9.      Appendix A – Bridge Projects "]
["9.1      Shared Model Element Ownership"]
["The design team will eliminate redundant model elements across disciplines where possible, thereby increasing accuracy and reducing modeling time and model size. To the largest extent possible, elements in a model that host elements in another model (e.g. shear wall in Structural model hosting openings in Arch model) should be modified rather than deleted and replaced with new elements to avoid orphaning hosted elements. Should this occur, model authors will collaborate to minimize disruption of hosted element models."]
["Table A1. Shared Model Element Ownership"]
["Component",null,"Placement in the Model for Coordination Only",null,null,"Placement Responsibility and Ownership",null,null,"Content Source"]
["Retaining Walls",null,"Bridge",null,null,"Civil",null,null,"Civil"]
["Approach Slabs",null,"Bridge",null,null,"Civil",null,null,"Civil"]
["Guide Rail",null,"Bridge",null,null,"Civil",null,null,"Civil"]
[]
["9.2      Project Coordinates"]
["For facilities, insert the local project coordinates below:"]
["Project Grid Coordinate System, Vertical Datum: NAVD88"]
["Table A2. Project Coordinates"]
["Scope ",null,null,"N/S ","E/W ","Elevation ",null,"Angle to True North "]
["Survey Point ",null,null,"0’-0” ","0’-0” ","0’-0” ",null,"0˚  "]
["Project Basepoint ",null,null,"0’-0” ","0’-0” ","0’-0” ",null,"0˚"]
[]
[]
[]
[]
[]
[]
[]
[]
[]
[]
[]
[]
[]
[]
[]
[]
[]
[]
[]
[]
[]
[]
[]
[]
[]
[]
[]
[]
[]
[]
[]
[]
[]
[]
[]
[]
[]
[]
[]
[]
["[Sample diagram. Replace with Project Base and Survey Point locations once set. Erase if not applicable.]"]
["A project base point will be established and must be reflected in not only all the models, but it should also be reflected in the civil drawings. This will support the accuracy and precision of model placement and linking between models."]
[]
["9.2.1       Levels/Grids"]
["Only Applicable to Architecture/Structural software design."]
["To maintain the accuracy and placement of levels and grids, only one model shall host either element for which other disciplines will copy/monitor in to reflect the project’s levels and grids. The design architect will create the levels in their model and structural will add the grids to their own designated model. These models must be shared with all disciplines for each organization and each organization is responsible for copy monitoring either grids and levels into their project and placed in their appropriate work set for their reference."]
["See Section 4.2 Model Element Ownership for more information."]
["The project Levels and Grids are listed below."]
[]
[]
[]
[]
[]
["Table A3. Project Levels and Grids"]
["Height  ",null,null,"Name  ",null,null,"Description  "]
[]
[]
[]
[]
["9.3      Phasing"]
["If applicable, projects undergoing or participating in the use of the Revit phase feature must coordinate with all organizations to adhere to the same phase naming conventions and graphic standards. Upholding these features will allow all sheet views to read consistently between models and creates ease for linked model graphic management. "]
["Table A4. Phasing"]
["Phase ",null,null,"Description "]
["Existing Conditions ",null,null,"Periods of construction occurring before contract. "]
["Phase 1 – (ex. Site) - New Construction ",null,null,"All new construction and demolition to occur during construction Phase 1. "]
["Phase 2 – (ex. Arch) - New Construction ",null,null,"All new construction and demolition to occur during construction Phase 2. "]

{"sheet":"10. Appendix B-Facilities","index":12,"n_rows":82,"n_cols":9,"rows_kept":82,"cut":false,"hidden":false,"merged":[[81,0,81,2],[81,3,81,8],[76,0,76,8],[78,0,78,2],[78,3,78,8],[79,0,79,2],[79,3,79,8],[80,0,80,2],[80,3,80,8],[72,0,72,2],[72,3,72,5],[72,6,72,8],[73,0,73,2],[73,3,73,5],[73,6,73,8],[70,0,70,2],[70,3,70,5],[70,6,70,8],[71,0,71,2],[71,3,71,5],[71,6,71,8],[15,0,15,2],[15,5,15,6],[15,7,15,8],[56,0,56,8],[57,0,57,8],[61,0,61,8],[11,0,11,8],[13,0,13,2],[13,5,13,6],[13,7,13,8],[14,0,14,2],[14,5,14,6],[14,7,14,8],[6,0,6,1],[6,2,6,4],[6,5,6,7],[7,0,7,1],[7,2,7,4],[7,5,7,7],[2,0,2,8],[4,0,4,1],[4,2,4,4],[4,5,4,7],[5,0,5,1],[5,2,5,4],[5,5,5,7]]}
["10.      Appendix B – Facilities Projects "]
["10.1      Shared Model Element Ownership"]
["The design team will eliminate redundant model elements across disciplines where possible, thereby increasing accuracy and reducing modeling time and model size. To the largest extent possible, elements in a model that host elements in another model (e.g. shear wall in Structural model hosting openings in Arch model) should be modified rather than deleted and replaced with new elements to avoid orphaning hosted elements. Should this occur, model authors will collaborate to minimize disruption of hosted element models."]
["Table A1. Shared Model Element Ownership"]
["Component",null,"Placement in the Model for Coordination Only",null,null,"Placement Responsibility and Ownership",null,null,"Content Source"]
["Utilities",null,"Architecture",null,null,"Civil",null,null,"Civil"]
["Doors",null,"Structural",null,null,"Architecture",null,null,"Arch"]
["Foundation",null,"Civil",null,null,"Structural",null,null,"Structural"]
[]
["10.2      Project Coordinates"]
["For facilities, insert the local project coordinates below:"]
["Project Grid Coordinate System, Vertical Datum: NAVD88"]
["Table A2. Project Coordinates"]
["Scope ",null,null,"N/S ","E/W ","Elevation ",null,"Angle to True North "]
["Survey Point ",null,null,"0’-0” ","0’-0” ","0’-0” ",null,"0˚  "]
["Project Basepoint ",null,null,"0’-0” ","0’-0” ","0’-0” ",null,"0˚"]
[]
[]
[]
[]
[]
[]
[]
[]
[]
[]
[]
[]
[]
[]
[]
[]
[]
[]
[]
[]
[]
[]
[]
[]
[]
[]
[]
[]
[]
[]
[]
[]
[]
[]
[]
[]
[]
[]
[]
[]
["[Sample diagram. Replace with Project Base and Survey Point locations once set. Erase if not applicable.]"]
["A project base point will be established and must be reflected in not only all the models, but it should also be reflected in the civil drawings. This will support the accuracy and precision of model placement and linking between models."]
[]
["10.2.1       Levels/Grids"]
["Only Applicable to Architecture/Structural software design."]
["To maintain the accuracy and placement of levels and grids, only one model shall host either element for which other disciplines will copy/monitor in to reflect the project’s levels and grids. The design architect will create the levels in their model and structural will add the grids to their own designated model. These models must be shared with all disciplines for each organization and each organization is responsible for copy monitoring either grids and levels into their project and placed in their appropriate work set for their reference."]
["See Section 4.2 Model Element Ownership for more information."]
["The project Levels and Grids are listed below."]
[]
[]
[]
[]
[]
["Table A3. Project Levels and Grids"]
["Height  ",null,null,"Name  ",null,null,"Description  "]
[]
[]
[]
[]
["10.3      Phasing"]
["If applicable, projects undergoing or participating in the use of the Revit phase feature must coordinate with all organizations to adhere to the same phase naming conventions and graphic standards. Upholding these features will allow all sheet views to read consistently between models and creates ease for linked model graphic management. "]
["Table A4. Phasing"]
["Phase ",null,null,"Description "]
["Existing Conditions ",null,null,"Periods of construction occurring before contract. "]
["Phase 1 – (ex. Site) - New Construction ",null,null,"All new construction and demolition to occur during construction Phase 1. "]
["Phase 2 – (ex. Arch) - New Construction ",null,null,"All new construction and demolition to occur during construction Phase 2. "]

{"sheet":"11. Appendix C-Workspace Update","index":13,"n_rows":6,"n_cols":8,"rows_kept":6,"cut":false,"hidden":false,"merged":[[9,0,9,1],[9,2,9,4],[9,5,9,6],[9,7,9,8],[7,0,7,1],[7,2,7,4],[7,5,7,6],[7,7,7,8],[8,0,8,1],[8,2,8,4],[8,5,8,6],[8,7,8,8],[5,0,5,1],[5,2,5,4],[5,5,5,6],[5,7,5,8],[6,0,6,1],[6,2,6,4],[6,5,6,6],[6,7,6,8],[1,0,1,8],[2,0,2,8],[4,0,4,1],[4,2,4,4],[4,5,4,6],[4,7,4,8]]}
["11.      Appendix C – Workspace Updates"]
["11.1      Workspace Versions"]
["Below marks the Workspace Version that will be utilized for project execution. Any updates to the Workspace Version should be noted."]
["Table 4.1 Workspace Versions"]
["Software ",null,"Starting Workspace Version",null,null,"Updated Version",null,"Date"]
["Bentley OpenRoads Designer ",null,"XXXX",null,null,"XXXX",null,"XX/XX/XXXX"]

{"sheet":"LOD Matrix (DO NOT PRINT)","index":14,"n_rows":664,"n_cols":19,"rows_kept":664,"cut":false,"hidden":false,"merged":[[0,6,0,11],[1,14,6,14],[1,12,6,12],[1,13,6,13],[1,0,3,0],[1,1,3,1]]}
[null,"  PTC LOD Specification Template",null,null,null,null,"LOD STANDARD"]
["Breakdown Level","This project",null,null,null,null,"LG&TSL","DFV","60%-OTS",0.75,"Pre-Final PS&E","Final PS&E","MODEL: 2D, 3D, BOTH?","SOURCE MODEL FILE","LEGAL DOCUMENT?"]
[null,null,null,null,null,null,"Date","Date","Date","Date","Date","Date"]
[null,null,"UNIFORMAT","OMNICLASS","PTC DISCIPLINE","SYSTEM/COMPONENT","LOD","LOD","LOD","LOD","LOD","LOD"]
[null,null,null,null,null,"INFORMATION"]
[null,null,null,null,null,"ELEMENTS"]
["Break Level","Yes/No","A2","21-01 00 00","PTC DISCIPLINE","ELEMENT","LG&TSL","DFV","60%-OTS","75%","Pre-Final PS&E","Final PS&E"]
[1,"No",null,null,"Alignments & ROW"]
[2,"No",null,null,"Alignments & ROW","Controlling Alignments"]
[3,"No",null,null,"Alignments & ROW","Existing Baseline & Profile",300,300,300,300,300,300,"BOTH","V-AL",null,true]
[3,"No",null,null,"Alignments & ROW","Proposed Horizontal & Vertical Alignments",200,200,300,300,300,300,"BOTH","C-AL"]
[4,"No",null,null,"Alignments & ROW","Baselines & Profiles - Ramps",200,200,300,300,300,300,"BOTH","C-AL"]
[4,"No",null,null,"Alignments & ROW","Baselines & Profiles - Ditches",200,200,300,300,300,300,"BOTH","C-AL"]
[4,"No",null,null,"Alignments & ROW","Baselines & Profiles - L/R Bridges",200,200,300,300,300,300,"BOTH","C-AL"]
[4,"No",null,null,"Alignments & ROW","Baselines & Profiles - Walls",200,200,300,300,300,300,"BOTH","C-AL"]
[3,"No",null,null,"Alignments & ROW","Survey Control Points",100,100,200,200,200,200,"2D","V-AL"]
[2,"No",null,null,"Alignments & ROW","ROW Geometry"]
[3,"No",null,null,"Alignments & ROW","Existing ROW Lines",200,200,200,200,200,200,"2D","V-RW",null,null,null,null,"N/A"]
[3,"No",null,null,"Alignments & ROW","Property Lines",200,200,200,200,200,200,"2D","V-PL",null,null,null,null,100]
[4,"No",null,null,"Alignments & ROW","Proposed ROW Lines (Propoerty Acquisition)",200,200,200,200,200,200,"2D","C-RW",null,null,null,null,200]
[4,"No",null,null,"Alignments & ROW","Permanent Easement Lines",100,100,200,200,200,200,"2D","V-RW",null,null,null,null,300]
[4,"No",null,null,"Alignments & ROW","Temporary Easement Lines",100,100,200,200,200,200,"2D","V-RW",null,null,null,null,350]
[3,"No",null,null,"Alignments & ROW","Right-of-Way Fence",200,200,200,200,200,200,"2D","V-RW",null,null,null,null,400]
[4,"No",null,null,"Alignments & ROW","Right-of-Way Fence, Type 1",100,100,200,200,200,200,"2D","V-RW",null,null,null,null,450]
[4,"No",null,null,"Alignments & ROW","End Posts for Type 1 Righ-of-Way Fence",100,100,200,200,200,200,"2D","V-RW",null,null,null,null,500]
[4,"No",null,null,"Alignments & ROW","Right-of-Way Fence, Type 2",100,100,200,200,200,200,"2D","V-RW"]
[4,"No",null,null,"Alignments & ROW","End Posts for Type 2 Righ-of-Way Fence",100,100,200,200,200,200,"2D","V-RW",null,false]
[1,"No",null,null,"Roadway"]
[2,"No",null,null,"Roadway","Pavement"]
[3,"No",null,null,"Roadway","Pavement Material",100,100,200,300,350,350,"BOTH","C-RC"]
[4,"No","G2010.10",null,"Roadway","Wearing Course",100,100,200,300,350,350,"BOTH","C-RC"]
[4,"No",null,null,"Roadway","Binder Course",100,100,200,300,350,350,"BOTH","C-RC"]
[4,"No",null,null,"Roadway","Base Course",100,100,200,300,350,350,"BOTH","C-RC"]
[4,"No",null,null,"Roadway","Base Course 2",100,100,200,300,350,350,"BOTH","C-RC"]
[4,"No",null,null,"Roadway","Base Course 3",100,100,200,300,350,350,"BOTH","C-RC"]
[4,"No",null,null,"Roadway","Subbase (No. 2A)",100,100,200,300,350,350,"BOTH","C-RC"]
[3,"No",null,null,"Roadway","Pavement Milling",100,100,200,300,350,350,"BOTH","C-RC"]
[3,"No",null,null,"Roadway","Paement Overbuild",100,100,200,300,350,350,"BOTH","C-RC"]
[3,"No",null,null,"Roadway","Pavement Overlay",100,100,200,300,350,350,"BOTH","C-RC"]
[3,"No",null,null,"Roadway","Stabilization",100,100,200,200,200,200,"2D","C-GR"]
[2,"No",null,null,"Roadway","Concrete Pavement"]
[3,"No",null,null,"Roadway","Concrete Pavement",100,100,200,300,350,350,"BOTH","C-RC"]
[4,"No",null,null,"Roadway","Base Course",100,100,200,300,350,350,"BOTH","C-RC"]
[4,"No",null,null,"Roadway","Base Course 2",100,100,200,300,350,350,"BOTH","C-RC"]
[4,"No",null,null,"Roadway","Base Course 3",100,100,200,300,350,350,"BOTH","C-RC"]
[4,"No",null,null,"Roadway","Subbase (No. 2A)",100,100,200,300,350,350,"BOTH","C-RC",null,false]
[3,"No",null,null,"Roadway","Pavement Milling",100,100,200,300,350,350,"BOTH","C-RC"]
[3,"No",null,null,"Roadway","Paement Overbuild",100,100,200,300,350,350,"BOTH","C-RC"]
[3,"No",null,null,"Roadway","Pavement Overlay",100,100,200,300,350,350,"BOTH","C-RC"]
[3,"No",null,null,"Roadway","Stabilization",100,100,200,200,200,200,"2D","C-GR"]
[3,"No",null,null,"Roadway","Ditch Pavement",100,100,200,300,300,300,"BOTH","C-RC"]
[3,"No",null,null,"Roadway","Concrete Sidewalk",100,100,200,300,300,300,"BOTH","C-RC"]
[2,"No",null,null,"Roadway","Earthwork"]
[3,"No",null,null,"Roadway","Excavation",100,100,200,300,300,300,"3D","C-GR"]
[3,"No",null,null,"Roadway","Emankment",100,100,200,300,300,300,"3D","C-GR"]
[2,"No",null,null,"Roadway","Roadway Miscellaneous"]
[3,"No",null,null,"Roadway","Roadway Items",100,100,200,300,300,350,"BOTH","C-RC"]
[4,"No",null,null,"Roadway","Type 2-S Guiderail",100,100,200,300,350,350,"BOTH","C-RC"]
[4,"No",null,null,"Roadway","Type 2-SC Guiderail",100,100,200,300,350,350,"BOTH","C-RC"]
[4,"No",null,null,"Roadway","TYPE 2-S POST ANCHORAGE",100,100,200,300,300,300,"BOTH","C-RC"]
[4,"No",null,null,"Roadway","Rock Armor",100,100,200,300,350,350,"BOTH","C-RC"]
[4,"No",null,null,"Roadway","6\" Pavement Base Draign",100,100,200,300,300,300,"BOTH","C-RC"]
[4,"No",null,null,"Roadway","Sonic Nap Alert Pattern (S.N.A.P.)",100,100,200,300,300,300,"BOTH","C-RC"]
[4,"No",null,null,"Roadway","CONCRETE MEDIAN BARRIER, 34\"",100,100,200,300,350,350,"BOTH","C-RC"]
[4,"No",null,null,"Roadway","CONCRETE MEDIAN BARRIER, 52\"",100,100,200,300,350,350,"BOTH","C-RC"]
[4,"No",null,null,"Roadway","End Barrier",100,100,200,300,350,350,"BOTH","C-RC"]
[4,"No",null,null,"Roadway","Concrete Glarde Screen",100,100,200,300,300,300,"BOTH","C-RC"]
[4,"No",null,null,"Roadway","Vehicle Attenuating Terminal End Treatment",100,100,200,300,300,300,"BOTH","C-RC"]
[3,"No",null,null,"Roadway","Curbs & Gutters",100,100,200,300,300,300,"BOTH","C-RC"]
[4,"No",null,null,"Roadway","Plain Cement Concete Curb",100,100,200,300,300,300,"BOTH","C-RC"]
[3,"No",null,null,"Roadway","Median Cross Over",100,100,200,300,300,300,"BOTH","C-RC"]
[3,"No",null,null,"Roadway","Vehicle Fare Collection",100,100,200,200,200,200,"2D"]
[1,"No",null,null,"Drainage"]
[2,"No",null,null,"Drainage","Drainage Structures (Inlets, Manholes, etc.)"]
[3,"No",null,null,"Drainage","Inlets",100,100,200,300,350,350,"BOTH","C-DR"]
[4,"No",null,null,"Drainage","Type C Inlet",100,100,200,300,350,350,"BOTH","C-DR"]
[4,"No",null,null,"Drainage","Type M Inlet",100,100,200,300,350,350,"BOTH","C-DR"]
[4,"No",null,null,"Drainage","Type S Inlet",100,100,200,300,350,350,"BOTH","C-DR"]
[3,"No",null,null,"Drainage","Manholes",100,100,200,300,350,350,"BOTH","C-DR"]
[4,"No",null,null,"Drainage","Manhole",100,100,200,300,350,350,"BOTH","C-DR"]
[3,"No",null,null,"Drainage","End Treatments",100,100,200,300,350,350,"BOTH","C-DR"]
[4,"No",null,null,"Drainage","Type D Endwall",100,100,200,300,350,350,"BOTH","C-DR"]
[2,"No",null,null,"Drainage","Drainage Conduits"]
[3,"No",null,null,"Drainage","Reinforced Concrete Pipe",100,100,200,300,300,300,"BOTH","C-DR"]
[4,"No",null,null,"Drainage","18\" REINFORCED CONCRETE PIPE, TYPE A",100,100,200,300,300,300,"BOTH","C-DR"]
[4,"No",null,null,"Drainage","24\" REINFORCED CONCRETE PIPE, TYPE A",100,100,200,300,300,300,"BOTH","C-DR"]
[3,"No",null,null,"Drainage","Thermopastic Pipe",100,100,200,300,300,300,"BOTH","C-DR"]
[4,"No",null,null,"Drainage","24\" THERMOPLASTIC PIPE, GROUP V",100,100,200,300,300,300,"BOTH","C-DR"]
[4,"No",null,null,"Drainage","18\" THERMOPLASTIC PIPE, GROUP VI",100,100,200,300,300,300,"BOTH","C-DR"]
[3,"No",null,null,"Drainage","Corrugated Galvanized Steel Pipe",100,100,200,300,300,300,"BOTH","C-DR"]
[4,"No",null,null,"Drainage","18\" CORRUGATED GALVANIZED STEEL PIPE, TYPE I",100,100,200,300,300,300,"BOTH","C-DR"]
[4,"No",null,null,"Drainage","24\" CORRUGATED GALVANIZED STEEL PIPE, TYPE I",100,100,200,300,300,300,"BOTH","C-DR"]
[3,"No",null,null,"Drainage","Corrugated Aluminized Steel Pipe",100,100,200,300,300,300,"BOTH","C-DR"]
[4,"No",null,null,"Drainage","18\" CORRUGATED ALUMINIZED STEEL PIPE, TYPE I",100,100,200,300,300,300,"BOTH","C-DR"]
[4,"No",null,null,"Drainage","24\" CORRUGATED ALUMINIZED STEEL PIPE, TYPE I",100,100,200,300,300,300,"BOTH","C-DR"]
[2,"No",null,null,"Drainage","Stormwater Control Measures"]
[3,"No",null,null,"Drainage","Basins",100,100,200,300,350,350,"BOTH","C-TS"]
[3,"No",null,null,"Drainage","Swales",100,100,200,300,350,350,"BOTH","C-TS"]
[1,"No",null,null,"Utilities"]
[2,"No","G30","21-07 30","Utilities","Liquid & Gas Utilities "]
[3,"No","G3010","21-07 30 10","Utilities","Water Utilities",null,null,200,200,300,350,"BOTH","C-UT"]
[4,"No","G3010.10","21-07 30 10 10","Utilities","Site Domestic Water Distribution",null,null,200,200,300,350,"BOTH","C-UT"]
[4,"No","G3010.30","21-07 30 10 30","Utilities","Site Fire Protection Water Distribution",null,null,200,200,300,350,"BOTH","C-UT"]
[4,"No","G3010.50","21-07 30 10 50","Utilities","Site Irrigation Water Distribution",null,null,200,200,300,350,"BOTH","C-UT"]
[3,"No","G3020","21-07 30 20","Utilities","Sanitary Sewerage Utilities",null,null,200,200,300,350,"BOTH","C-UT"]
[4,"No","G3020.10","21-07 30 20 10","Utilities","Sanitary Sewerage Utility Connection",null,null,200,200,300,350,"BOTH","C-UT"]
[4,"No","G3020.20","21-07 30 20 20","Utilities","Sanitary Sewerage Piping",null,null,200,200,300,350,"BOTH","C-UT"]
[4,"No","G3020.40","21-07 30 20 40","Utilities","Utility Septic Tanks",null,null,200,200,300,350,"BOTH","C-UT"]
[4,"No","G3020.50","21-07 30 20 50","Utilities","Sanitary Sewerage Structures",null,null,200,200,300,350,"BOTH","C-UT"]
[4,"No","G3020.60","21-07 30 20 60","Utilities","Sanitary Sewerage Lagoons",null,null,200,200,300,350,"BOTH","C-UT"]
[3,"No","G3030","21-07 30 30","Utilities","Storm Drainage Utilities",null,null,200,200,300,350,"BOTH","C-UT"]
[4,"No","G3030.10","21-07 30 30 10","Utilities","Storm Drainage Utility Connection",null,null,200,200,300,350,"BOTH","C-UT"]
[4,"No","G3030.20","21-07 30 30 20","Utilities","Storm Drainage Piping",null,null,200,200,300,350,"BOTH","C-UT"]
[4,"No","G3030.30","21-07 30 30 30","Utilities","Culverts",null,null,200,200,300,350,"BOTH","C-UT"]
[4,"No","G3030.40","21-07 30 30 40","Utilities","Site Storm Water Drains",null,null,200,200,300,350,"BOTH","C-UT"]
[4,"No","G3030.50","21-07 30 30 50","Utilities","Storm Drainage Pumps",null,null,200,200,300,350,"BOTH","C-UT"]
[4,"No","G3030.60","21-07 30 30 60","Utilities","Site Subdrainage",null,null,200,200,300,350,"BOTH","C-UT"]
[4,"No","G3030.70","21-07 30 30 70","Utilities","Storm Drainage Ponds and Reservoirs",null,null,200,200,300,350,"BOTH","C-UT"]
[3,"No","G3050","21-07 30 50","Utilities","Site Energy Distribution",null,null,200,200,300,350,"BOTH","C-UT"]
[4,"No","G3050.10","21-07 30 50 10","Utilities","Site Hydronic Heating Distribution",null,null,200,200,300,350,"BOTH","C-UT"]
[4,"No","G3050.20","21-07 30 50 20","Utilities","Site Steam Energy Distribution",null,null,200,200,300,350,"BOTH","C-UT"]
[4,"No","G3050.40","21-07 30 50 40","Utilities","Site Hydronic Cooling Distribution",null,null,200,200,300,350,"BOTH","C-UT"]
[3,"No","G3060","21-07 30 60","Utilities","Site Fuel Distribution",null,null,200,200,300,300,"BOTH","C-UT"]
[4,"No","G3060.10","21-07 30 60 10","Utilities","Site Gas Distribution",null,null,200,200,300,300,"BOTH","C-UT"]
[4,"No","G3060.20","21-07 30 60 20","Utilities","Site Fuel-Oil Distribution",null,null,200,200,300,300,"BOTH","C-UT"]
[4,"No","G3060.30","21-07 30 60 30","Utilities","Site Gasoline Distribution",null,null,200,200,300,300,"BOTH","C-UT"]
[4,"No","G3060.40","21-07 30 60 40","Utilities","Site Diesel Fuel Distribution",null,null,200,200,300,300,"BOTH","C-UT"]
[4,"No","G3060.60","21-07 30 60 60","Utilities","Site Aviation Fuel Distribution",null,null,200,200,300,300,"BOTH","C-UT"]
[3,"No","G3090","21-07 30 90","Utilities","Liquid and Gas Site Utilities Supplementary Components",null,null,null,null,null,null,"BOTH","C-UT"]
[2,"No","G40","21-07 40","Utilities","Electrical Site Improvements"]
[3,"No","G4010","21-07 40 10","Utilities","Site Electric Distribution Systems",null,null,null,null,null,null,"BOTH","C-UT"]
[4,"No","G4010.10","21-07 40 10 10","Utilities","Electrical Utility Services",null,null,null,null,null,null,"BOTH","C-UT"]
[4,"No","G4010.20","21-07 40 10 20","Utilities","Electric Transmission and Distribution",null,null,null,null,null,null,"BOTH","C-UT"]
[4,"No","G4010.30","21-07 40 10 30","Utilities","Electrical Substations",null,null,null,null,null,null,"BOTH","C-UT"]
[4,"No","G4010.40","21-07 40 10 40","Utilities","Electrical Transformers",null,null,null,null,null,null,"BOTH","C-UT"]
[4,"No","G4010.50","21-07 40 10 50","Utilities","Electrical Switchgear and Protection Devices",null,null,null,null,null,null,"BOTH","C-UT"]
[4,"No","G4010.70","21-07 40 10 70","Utilities","Site Grounding",null,null,null,null,null,null,"BOTH","C-UT"]
[4,"No","G4010.90","21-07 40 10 90","Utilities","Electrical Distribution System Instrumentation and Controls",null,null,null,null,null,null,"BOTH","C-UT"]
[3,"No","G4050","21-07 40 50","Utilities","Site Lighting",null,null,null,null,null,null,"BOTH","C-UT"]
[4,"No","G4050.10","21-07 40 50 10","Utilities","Area Lighting",null,null,null,null,null,null,"BOTH","C-UT"]
[4,"No","G4050.20","21-07 40 50 20","Utilities","Flood Lighting",null,null,null,null,null,null,"BOTH","C-UT"]
[4,"No","G4050.50","21-07 40 50 50","Utilities","Building Illumination",null,null,null,null,null,null,"BOTH","C-UT"]
[4,"No","G4050.90","21-07 40 50 90","Utilities","Exterior Lighting Supplementary Components",null,null,null,null,null,null,"BOTH","C-UT"]
[2,"No","G50","21-07 50","Utilities","Site Communications"]
[3,"No","G5010","21-07 50 10","Utilities","Site Communications Systems",null,null,null,null,null,null,"BOTH","C-UT"]
[4,"No","G5010.10","21-07 50 10 10","Utilities","Site Communications Structures",null,null,null,null,null,null,"BOTH","C-UT"]
[4,"No","G5010.30","21-07 50 10 30","Utilities","Site Communications Distribution",null,null,null,null,null,null,"BOTH","C-UT"]
[4,"No","G5010.50","21-07 50 10 50","Utilities","Wireless Communications Distribution",null,null,null,null,null,null,"BOTH","C-UT"]
[1,"No",null,null,"Traffic"]
[2,"No",null,null,"Traffic","Pavement Markings"]
[3,"No",null,null,"Traffic"," Pavement Markings",null,null,100,200,200,200,"2D","T-SP"]
[4,"No",null,null,"Traffic","4\" Standard Pavement Marking, Paint & Beads, Yellow",null,null,100,200,200,200,"2D","T-SP"]
[4,"No",null,null,"Traffic","12\" Standard Pavement Marking, Paint & Beads, Yellow",null,null,100,200,200,200,"2D","T-SP"]
[4,"No",null,null,"Traffic","4\" Standard Pavement Marking, Paint & Beads, White",null,null,100,200,200,200,"2D","T-SP"]
[4,"No",null,null,"Traffic","12\" Standard Pavement Marking, Paint & Beads, White",null,null,100,200,200,200,"2D","T-SP"]
[4,"No",null,null,"Traffic","4\" White Waterborne Pavement Markings",null,null,100,200,200,200,"2D","T-SP"]
[4,"No",null,null,"Traffic","6\" White Waterborne Pavement Markings",null,null,100,200,200,200,"2D","T-SP"]
[4,"No",null,null,"Traffic","4\" Yellow Waterborne Pavement Markings",null,null,100,200,200,200,"2D","T-SP"]
[4,"No",null,null,"Traffic","6\" Yellow Waterborne Pavement Markings",null,null,100,200,200,200,"2D","T-SP"]
[2,"No",null,null,"Traffic","Traffic Control"]
[3,"No",null,null,"Traffic","Signage",null,null,100,200,200,200,"2D","T-SN"]
[4,"No",null,null,"Traffic","Post Mounted Signs, Tybe B",null,null,100,200,200,200,"2D","T-SN"]
[4,"No",null,null,"Traffic","Structure Mounted Flat Sheet Aluminum Signs",null,null,100,200,200,200,"2D","T-SN"]
[3,"No",null,null,"Traffic","Signal",null,null,100,200,200,200,"2D","T-SG"]
[1,"No",null,null,"Site"]
[2,"No","G10","21-07 10 00","Site","Site Preparation  "]
[3,"No","G1010","21-07 10 10","Site","Site Clearing",null,null,100,200,200,200,"2D","C-ES"]
[4,"No","G1010.10","21-07 10 10 10","Site","Clearing and Grubbing",null,null,100,200,200,200,"2D","C-ES"]
[4,"No","G1010.30","21-07 10 10 30","Site","Tree and Shrub Removal and Trimming",null,null,100,200,200,200,"2D","C-ES"]
[4,"No","G1010.50","21-07 10 10 50","Site","Earth Stripping and Stockpiling",null,null,100,200,200,200,"2D","C-ES"]
[2,"No","G10","21-07 10 00","Site","Site Work"]
[3,"No","G1020","21-07 10 20","Site","Site Elements Demolition",null,null,100,200,200,200,"2D","C-XD"]
[4,"No","G1020.10","21-07 10 20 10","Site","Utility Demolition",null,null,100,200,200,200,"2D","C-XD"]
[4,"No","G1020.30","21-07 10 20 30","Site","Infrastructure Demolition",null,null,100,200,200,200,"2D","C-XD"]
[4,"No","G1020.50","21-07 10 20 50","Site","Selective Site Demolition",null,null,100,200,200,200,"2D","C-XD"]
[3,"No","G1050","21-07 10 50","Site","Site Remediation",null,null,100,200,200,200,"2D","C-TS"]
[4,"No","G1050.10","21-07 10 50 10","Site","Physical Decontamination",null,null,100,200,200,200,"2D","C-TS"]
[4,"No","G1050.15","21-07 10 50 15","Site","Chemical Decontamination",null,null,100,200,200,200,"2D","C-TS"]
[4,"No","G1050.20","21-07 10 50 20","Site","Thermal Decontamination",null,null,100,200,200,200,"2D","C-TS"]
[4,"No","G1050.25","21-07 10 50 25","Site","Biological Decontamination",null,null,100,200,200,200,"2D","C-TS"]
[4,"No","G1050.30","21-07 10 50 30","Site","Remediation Soil Stabilization",null,null,100,200,200,200,"2D","C-TS"]
[4,"No","G1050.40","21-07 10 50 40","Site","Site Containment",null,null,100,200,200,200,"2D","C-TS"]
[4,"No","G1050.45","21-07 10 50 45","Site","Sinkhole Remediation",null,null,100,200,200,200,"2D","C-TS"]
[4,"No","G1050.50","21-07 10 50 50","Site","Hazardous Waste Drum Handling",null,null,100,200,200,200,"2D","C-TS"]
[4,"No","G1050.60","21-07 10 50 60","Site","Contaminated Site Material Removal",null,null,100,200,200,200,"2D","C-TS"]
[4,"No","G1050.80","21-07 10 50 80","Site","Water Remediation",null,null,100,200,200,200,"2D","C-TS"]
[3,"No","A9040","21-01 90 40","Site","Soil Treatment",null,null,100,200,200,200,"2D","C-TS"]
[3,"No","G1070","21-07 10 70","Site","Site Earthwork",100,100,200,300,350,350,"BOTH","C-GR"]
[4,"No","G1070.10","21-07 10 70 10","Site","Grading",100,100,200,300,350,350,"BOTH","C-GR"]
[4,"No","G1070.20","21-07 10 70 20","Site","Excavation and Fill",100,100,200,300,350,350,"BOTH","C-GR"]
[4,"No","G1070.30","21-07 10 70 30","Site","Embankments",100,100,200,300,350,350,"BOTH","C-GR"]
[4,"No","G1070.40","21-07 10 70 40","Site","Soil Stabilization"]
[4,"No","G1070.45","21-07 10 70 45","Site","Rock Stabilization"]
[4,"No","G1070.50","21-07 10 70 50","Site","Soil Reinforcement"]
[4,"No","G1070.55","21-07 10 70 55","Site","Slope Protection"]
[4,"No","G1070.60","21-07 10 70 60","Site","Gabions",null,null,100,200,300,350,"2D","C-GR"]
[4,"No","G1070.65","21-07 10 70 65","Site","Riprap",null,null,100,200,300,350,"2D","C-GR"]
[4,"No","G1070.70","21-07 10 70 70","Site","Wetlands"]
[4,"No","G1070.80","21-07 10 70 80","Site","Earth Dams",100,100,200,300,350,350,"BOTH","C-GR"]
[4,"No","G1070.90","21-07 10 70 90","Site","Site Soil Treatment"]
[2,"No","G20","21-07 10 00","Site","Site Features & Improvements"]
[3,"No","G2020","21-07 20 20","Site","Parking Lots",100,100,200,300,350,350,"BOTH","C-TS"]
[4,"No","G2020.10","21-07 20 20 10","Site","Parking Lot Pavement",100,100,200,300,350,350,"BOTH","C-TS"]
[4,"No","G2020.20","21-07 20 20 20","Site","Parking Lot Curbs and Gutters",100,100,200,300,350,350,"BOTH","C-TS"]
[4,"No","G2020.40","21-07 20 20 40","Site","Parking Lot Appurtenances",100,100,200,300,350,350,"BOTH","C-UT"]
[4,"No","G2020.70","21-07 20 20 70","Site","Parking Lot Lighting",100,100,200,300,350,350,"BOTH","C-UT"]
[4,"No","G2020.80","21-07 20 20 80","Site","Exterior Parking Control Equipment",100,100,200,300,350,350,"BOTH","C-EQ"]
[3,"No","G2030","21-07 20 30","Site","Pedestrian Plazas and Walkways",100,100,200,300,350,350,"BOTH","C-TS"]
[4,"No","G2030.10","21-07 20 30 10","Site","Pedestrian Pavement",100,100,200,300,350,350,"BOTH","C-TS"]
[4,"No","G2030.20","21-07 20 30 20","Site","Pedestrian Pavement Curbs and Gutters",100,100,200,300,350,350,"BOTH","C-TS"]
[4,"No","G2030.30","21-07 20 30 30","Site","Exterior Steps and Ramps",100,100,200,300,350,350,"BOTH","C-TS"]
[4,"No","G2030.40","21-07 20 30 40","Site","Pedestrian Pavement Appurtenances",100,100,200,300,350,350,"BOTH","C-UT"]
[4,"No","G2030.70","21-07 20 30 70","Site","Plaza and Walkway Lighting",100,100,200,300,350,350,"BOTH","C-UT"]
[4,"No","G2030.80","21-07 20 30 80","Site","Exterior Pedestrian Control Equipment",100,100,200,300,350,350,"BOTH","C-EQ"]
[3,"No","G2040","21-07 20 40","Site","Airfields",100,100,200,300,350,350,"BOTH","C-TS"]
[4,"No","G2040.10","21-07 20 40 10","Site","Aviation Pavement",100,100,200,300,350,350,"BOTH","C-TS"]
[4,"No","G2040.20","21-07 20 40 20","Site","Aviation Pavement Curbs and Gutters",100,100,200,300,350,350,"BOTH","C-TS"]
[4,"No","G2040.40","21-07 20 40 40","Site","Aviation Pavement Appurtenances",100,100,200,300,350,350,"BOTH","C-UT"]
[4,"No","G2040.70","21-07 20 40 70","Site","Airfield Lighting",100,100,200,300,350,350,"BOTH","C-UT"]
[4,"No","G2040.80","21-07 20 40 80","Site","Airfield Signaling and Control Equipment",100,100,200,300,350,350,"BOTH","C-EQ"]
[3,"No","G2060","21-07 20 60","Site","Site Development",100,100,200,200,200,200,"2D","C-TS"]
[4,"No","G2060.10","21-07 20 60 10","Site","Exterior Fountains",100,100,200,200,200,200,"2D","C-TS"]
[4,"No","G2060.20","21-07 20 60 20","Site","Fences and Gates",100,100,200,300,300,300,"2D","C-TS"]
[4,"No","G2060.25","21-07 20 60 25","Site","Site Furnishings",100,100,200,200,200,200,"2D","C-TS"]
[4,"No","G2060.30","21-07 20 60 30","Site","Exterior Signage",100,100,200,200,200,200,"2D","C-TS"]
[4,"No","G2060.35","21-07 20 60 35","Site","Flagpoles",100,100,200,200,200,200,"2D","C-TS"]
[4,"No","G2060.60","21-07 20 60 60","Site","Retaining Walls",100,100,200,300,350,350,"BOTH","C-TS"]
[4,"No","G2060.70","21-07 20 60 70","Site","Site Bridges",100,100,200,300,350,350,"BOTH","C-TS"]
[2,"No","A","21-01 00 00","Site","Site Miscellaneous"]
[3,"No","A9020","21-01 90 20","Site","Construction Dewatering",null,null,100,200,200,200,"2D","C-TS"]
[3,"No","A9030","21-01 90 30","Site","Excavation Support",null,null,100,200,200,200,"2D","C-TS"]
[4,"No","A9030.10","21-01 90 30 10","Site","Anchor Tiebacks",100,100,200,200,200,200,"2D","C-TS"]
[4,"No","A9030.20","21-01 90 30 20","Site","Cofferdams",100,100,200,200,200,200,"2D","C-TS"]
[4,"No","A9030.40","21-01 90 30 40","Site","Cribbing and Walers",null,null,100,200,200,200,"2D","C-TS"]
[4,"No","A9030.60","21-01 90 30 60","Site","Ground Freezing"]
[4,"No","A9030.70","21-01 90 30 70","Site","Slurry Walls",100,100,200,200,200,200,"2D","C-TS"]
[3,"No","B3080","21-02 30 80","Facilities","Overhead Exterior Enclosures",100,100,200,300,350,350,"BOTH","C-TS"]
[1,"No",null,null,"Landscaping"]
[2,"No",null,null,"Landscaping","Seeding & Mulching"]
[3,"No",null,null,"Landscaping","Seeding",null,null,null,100,200,200,"2D","C-LP"]
[4,"No",null,null,"Landscaping","Seeding - Formula E",null,null,null,100,200,200,"2D","C-LP"]
[4,"No",null,null,"Landscaping","Seeding and Soil supplements - Formula D",null,null,null,100,200,200,"2D","C-LP"]
[4,"No",null,null,"Landscaping","Seeding and Soil supplements - Formula BT-2",null,null,null,100,200,200,"2D","C-LP"]
[4,"No",null,null,"Landscaping","SEEDING AND SOIL SUPPLEMENTS - DETENTION BASIN FLOOR",null,null,null,100,200,200,"2D","C-LP"]
[3,"No",null,null,"Landscaping","Mulching",null,null,null,100,200,200,"2D","C-LP"]
[4,"No",null,null,"Landscaping","Mulching - Straw",null,null,null,100,200,200,"2D","C-LP"]
[3,"No",null,null,"Landscaping","Soil",null,null,null,100,200,200,"2D","C-LP"]
[4,"No",null,null,"Landscaping","Topsoil Furnished and placed, 6\" Depth",null,null,null,100,200,200,"2D","C-LP"]
[3,"No",null,null,"Landscaping","Plantings"]
[4,"No","G2080.10","21-07 20 80 10","Landscaping","Planting Irrigation",null,null,null,100,200,200,"2D","C-LP"]
[4,"No","G2080.20","21-07 20 80 20","Landscaping","Turf and Grasses",null,null,null,100,200,200,"2D","C-LP"]
[4,"No","G2080.30","21-07 20 80 30","Landscaping","Plants",null,null,null,100,200,200,"2D","C-LP"]
[4,"No","G2080.50","21-07 20 80 50","Landscaping","Planting Accessories",null,null,null,100,200,200,"2D","C-LP"]
[4,"No","G2080.70","21-07 20 80 70","Landscaping","Landscape Lighting",null,null,null,100,200,200,"2D","C-LP"]
[4,"No","G2080.80","21-07 20 80 80","Landscaping","Landscaping Activities",null,null,null,100,200,200,"2D","C-LP"]
[1,"No",null,null,"E&S"]
[2,"No",null,null,"E&S","Construction Items"]
[3,"No",null,null,"E&S","Rock Construction Entrance",null,null,100,200,200,200,"2D","C-ES"]
[3,"No",null,null,"E&S","Construction Lighting",null,null,100,200,200,200,"2D","C-ES"]
[2,"No",null,null,"E&S","E&S Protection"]
[3,"No",null,null,"E&S","Filter Socks, Bags, Fences, Logs, etc.",null,null,100,200,200,200,"2D","C-ES"]
[4,"No",null,null,"E&S","Sediment Filter Bag",null,null,100,200,200,200,"2D","C-ES"]
[4,"No",null,null,"E&S","Sediment Filter Log",null,null,100,200,200,200,"2D","C-ES"]
[4,"No",null,null,"E&S","Inlet Protection, Block and Gravel",null,null,100,200,200,200,"2D","C-ES"]
[4,"No",null,null,"E&S","Inlet Sediment Sack",null,null,100,200,200,200,"2D","C-ES"]
[4,"No",null,null,"E&S","COMPOST FILTER SOCK, 18\" DIAMETER",null,null,100,200,200,200,"2D","C-ES"]
[4,"No",null,null,"E&S","COMPOST FILTER SOCK, 32\" DIAMETER",null,null,100,200,200,200,"2D","C-ES"]
[4,"No",null,null,"E&S","Erosion Control Mulch Blanket",null,null,100,200,200,200,"2D","C-ES"]
[4,"No",null,null,"E&S","Rock Filter",null,null,100,200,200,200,"2D","C-ES"]
[4,"No",null,null,"E&S","Erosion Control Mat",null,null,100,200,200,200,"2D","C-ES"]
[4,"No",null,null,"E&S","TURF REINFORCEMENT MAT",null,null,100,200,200,200,"2D","C-ES"]
[4,"No",null,null,"E&S","TEMPORARY PROTECTIVE FENCE ",null,null,100,200,200,200,"2D","C-ES"]
[3,"No",null,null,"E&S","Sediment Traps/Detention Basins, etc.",null,null,100,200,200,200,"2D","C-ES"]
[4,"No",null,null,"E&S","Infiltration Swale with Check Dam",null,null,100,200,200,200,"2D","C-ES"]
[4,"No",null,null,"E&S","SEDIMENT TRAP/DETENTION BASIN, 55A-1",null,null,100,200,200,200,"2D","C-ES"]
[4,"No",null,null,"E&S","EMBANKMENT SEDIMENT TRAP, 55A-2",null,null,100,200,200,200,"2D","C-ES"]
[4,"No",null,null,"E&S","COMPOST FILTER SOCK TRAP, 55A-3",null,null,100,200,200,200,"2D","C-ES"]
[4,"No",null,null,"E&S","SEDIMENT TRAP SEDIMENT STORAGE DEWATERING FACILITY",null,null,100,200,200,200,"2D","C-ES"]
[4,"No",null,null,"E&S","COMPOST FILTER SOCK WASHOUT",null,null,100,200,200,200,"2D","C-ES"]
[1,"No",null,null,"Temporary"]
[2,"No",null,null,"Temporary","Temporary Roadway"]
[3,"No",null,null,"Temporary","Temporary Roadway Items",null,null,100,200,200,200,"2D"]
[4,"No",null,null,"Temporary","Temporary Concrete Glare Screen",null,null,100,200,200,200,"2D"]
[4,"No",null,null,"Temporary","TEMPORARY CONCRETE BARRIER",null,null,100,200,200,200,"2D"]
[3,"No",null,null,"Temporary","Temporary Attenuators",null,null,100,200,200,200,"2D"]
[4,"No",null,null,"Temporary","Temporary Impact Attenuating Device",null,null,100,200,200,200,"2D"]
[4,"No",null,null,"Temporary","Temporary Impact Attenuating Device, Type V (Standard)",null,null,100,200,200,200,"2D"]
[2,"No",null,null,"Temporary","Temporary Traffic"]
[3,"No",null,null,"Temporary","Temporary Pavement Markings",null,null,100,200,200,200,"2D","T-SP"]
[4,"No",null,null,"Temporary","Temporary Concrete Glare Screen",null,null,100,200,200,200,"2D","T-SP"]
[3,"No",null,null,"Temporary","Maintenance and Protection of Traffic",null,null,100,200,200,200,"2D","T-MPT"]
[4,"No",null,null,"Temporary","Arrow Panel",null,null,100,200,200,200,"2D","T-MPT"]
[4,"No",null,null,"Temporary","Portable Changeable Message Signs",null,null,100,200,200,200,"2D","T-MPT"]
[1,"No",null,null,"Structure"]
[2,"No",null,null,"Structure","Substructure"]
[3,"No","A1010",null,"Structure","Foundations   ",100,100,200,300,350,350,"BOTH","C-BR"]
[4,"No",null,null,"Structure","Spread Footing",100,100,200,300,350,350,"BOTH","C-BR"]
[4,"No","A1010.30","21-01 10 10 30","Structure","Column Foundations   ",100,100,200,300,350,350,"BOTH","C-BR"]
[4,"No","PTC_A1010.40","N/A","Structure","Spread Footing",100,100,200,300,350,350,"BOTH","C-BR"]
[4,"No","A1020.10","21-01 10 20 10","Structure","Driven Piles",100,100,200,300,350,350,"BOTH","C-BR"]
[4,"No","PTC_A1020.11","N/A","Structure","Micropiles",100,100,200,300,350,350,"BOTH","C-BR"]
[4,"No","PTC_A1020.12","N/A","Structure","Drilled Shafts",100,100,200,300,350,350,"BOTH","C-BR"]
[4,"No","A1020.15","21-01 10 20 15","Structure","Bored Piles",100,100,200,300,350,350,"BOTH","C-BR"]
[4,"No","A1020.20","21-01 10 20 20","Structure","Caissons",100,100,200,300,350,350,"BOTH","C-BR"]
[4,"No","A1020.30","21-01 10 20 30","Structure","Special Foundation Walls",100,100,200,300,350,350,"BOTH","C-BR"]
[4,"No","A1020.40","21-01 10 20 40","Structure","Foundation Anchors",100,100,200,300,350,350,"BOTH","C-BR"]
[4,"No","A1020.50","21-01 10 20 50","Structure","Underpinning",100,100,200,300,350,350,"BOTH","C-BR"]
[4,"No","A1020.60","21-01 10 20 60","Structure","Raft Foundations",100,100,200,300,350,350,"BOTH","C-BR"]
[4,"No","A1020.70","21-01 10 20 70","Structure","Pile Caps",100,100,200,300,350,350,"BOTH","C-BR"]
[4,"No","A1020.80","21-01 10 20 80","Structure","Grade Beams",100,100,200,300,350,350,"BOTH","C-BR"]
[3,"No","A1020",null,"Structure","Wall/Pier Wall",100,100,200,300,350,350,"BOTH","C-BR"]
[3,"No","A1030",null,"Structure","Columns",100,100,200,300,350,350,"BOTH","C-BR"]
[3,"No","A1030",null,"Structure","Cap Beams",100,100,200,300,350,350,"BOTH","C-BR"]
[3,"No","A30",null,"Structure","Abutments",100,100,200,300,350,350,"BOTH","C-BR"]
[4,"No","A3020",null,"Structure","Stems",100,100,200,300,350,350,"BOTH","C-BR"]
[4,"No","A3030",null,"Structure","Wing Walls",100,100,200,300,350,350,"BOTH","C-BR"]
[3,"No",null,null,"Structure","Reinforcement",null,null,100,200,200,200,"BOTH","C-BR"]
[4,"No",null,null,"Structure","Reinforcement Bars",null,null,100,200,200,200,"BOTH","C-BR"]
[4,"No",null,null,"Structure","Reinforcement Bars, Epoxy Coated",null,null,100,200,200,200,"BOTH","C-BR"]
[4,"No",null,null,"Structure","Underdeck Protection Shields",null,null,100,200,200,200,"BOTH","C-BR"]
[3,"No",null,null,"Structure","Other Support",null,null,100,200,200,200,"BOTH","C-BR"]
[4,"No",null,null,"Structure","Thrust Blocks",null,null,100,200,200,200,"BOTH","C-BR"]
[4,"No",null,null,"Structure","Anchorage",null,null,100,200,200,200,"BOTH","C-BR"]
[2,"No",null,null,"Structure","Superstructure"]
[4,"No",null,null,"Structure","Steel Bridge Structure",100,100,200,300,350,350,"BOTH","C-BR"]
[4,"No",null,null,"Structure","Jacking Bridge Superstructure",100,100,200,300,350,350,"BOTH","C-BR"]
[4,"No",null,null,"Structure","Bridge Structure, As Designed",100,100,200,300,350,350,"BOTH","C-BR"]
[3,"No",null,null,"Structure","Short Span Assemblies",100,100,200,300,350,350,"BOTH","C-BR"]
[4,"No",null,null,"Structure","Diaphragms",100,100,200,300,350,350,"BOTH","C-BR"]
[4,"No",null,null,"Structure","Bracings",100,100,200,300,350,350,"BOTH","C-BR"]
[4,"No",null,null,"Structure","Bearings",100,100,200,300,350,350,"BOTH","C-BR"]
[3,"No",null,null,"Structure","Long Span Assemblies",100,100,200,300,350,350,"BOTH","C-BR"]
[4,"No",null,null,"Structure","Ribs",100,100,200,300,350,350,"BOTH","C-BR"]
[4,"No",null,null,"Structure","Cables",100,100,200,300,350,350,"BOTH","C-BR"]
[4,"No",null,null,"Structure","Hangers",100,100,200,300,350,350,"BOTH","C-BR"]
[4,"No",null,null,"Structure","Spandrels",100,100,200,300,350,350,"BOTH","C-BR"]
[4,"No",null,null,"Structure","Ties",100,100,200,300,350,350,"BOTH","C-BR"]
[4,"No",null,null,"Structure","Truss Members",100,100,200,300,350,350,"BOTH","C-BR"]
[4,"No",null,null,"Structure","Segmental Box Girders",100,100,200,300,350,350,"BOTH","C-BR"]
[3,"No",null,null,"Structure","Deck",100,100,200,300,350,350,"BOTH","C-BR"]
[4,"No",null,null,"Structure","Structural Surface",100,100,200,300,350,350,"BOTH","C-BR"]
[4,"No",null,null,"Structure","Wearing Surface",100,100,200,300,350,350,"BOTH","C-BR"]
[4,"No",null,null,"Structure","Expansion Joints",100,100,200,300,350,350,"BOTH","C-BR"]
[4,"No",null,null,"Structure","Approach Slabs",100,100,200,300,350,350,"BOTH","C-BR"]
[3,"No",null,null,"Structure","Reinforcement",null,null,100,200,200,200,"BOTH","C-BR"]
[4,"No",null,null,"Structure","Reinforcement Bars",null,null,100,200,200,200,"BOTH","C-BR"]
[4,"No",null,null,"Structure","Reinforcement Bars, Epoxy Coated",null,null,100,200,200,200,"BOTH","C-BR"]
[2,"No",null,null,"Structure","Tunnels"]
[4,"No","G9010.10","21-07 90 10 10","Structure","Vehicular Tunnels",100,100,200,300,350,350,"BOTH"]
[4,"No","G9010.20","21-07 90 10 20","Structure","Pedestrian Tunnels",100,100,200,300,350,350,"BOTH"]
[4,"No","G9010.40","21-07 90 10 40","Structure","Service Tunnels",100,100,200,300,350,350,"BOTH"]
[4,"No","G9010.90","21-07 90 10 90","Structure","Tunnel Construction Related Activities",100,100,200,300,350,350,"BOTH"]
[2,"No","F30","21-06 30 00","Structure","Demolition"]
[3,"No","F3010","21-06 30 10 ","Structure","Structure Demolition",100,100,200,200,200,200,"2D","C-XD"]
[4,"No",null,null,"Structure","Tunnel Demolition",100,100,200,200,200,200,"2D","C-XD"]
[4,"No","F3010.50","21-06 30 10 50","Structure","Bridge Demolition",100,100,200,200,200,200,"2D","C-XD"]
[1,"No",null,null,"Facilities"]
[2,"No","A","21-01 00 00","Facilities","Substructure"]
[3,"No","A10","21-01 10","Facilities","Foundations   ",100,100,200,300,350,350,"BOTH","C-FC"]
[4,"No","A1010.10","21-01 10 10 10","Facilities","Wall Foundations   ",100,100,200,300,350,350,"BOTH","C-FC"]
[4,"No","A1010.30","21-01 10 10 30","Facilities","Column Foundations   ",100,100,200,300,350,350,"BOTH","C-FC"]
[4,"No","PTC_A1010.40","N/A","Facilities","Spread Footing",100,100,200,300,350,350,"BOTH","C-FC"]
[4,"No","A1020.10","21-01 10 20 10","Facilities","Driven Piles",100,100,200,300,350,350,"BOTH","C-FC"]
[4,"No","PTC_A1020.11","N/A","Facilities","Micropiles",100,100,200,300,350,350,"BOTH","C-FC"]
[4,"No","PTC_A1020.12","N/A","Facilities","Drilled Shafts",100,100,200,300,350,350,"BOTH","C-FC"]
[4,"No","A1020.15","21-01 10 20 15","Facilities","Bored Piles",100,100,200,300,350,350,"BOTH","C-FC"]
[4,"No","A1020.20","21-01 10 20 20","Facilities","Caissons",100,100,200,300,350,350,"BOTH","C-FC"]
[4,"No","A1020.30","21-01 10 20 30","Facilities","Special Foundation Walls",100,100,200,300,350,350,"BOTH","C-FC"]
[4,"No","A1020.40","21-01 10 20 40","Facilities","Foundation Anchors",100,100,200,300,350,350,"BOTH","C-FC"]
[4,"No","A1020.50","21-01 10 20 50","Facilities","Underpinning",100,100,200,300,350,350,"BOTH","C-FC"]
[4,"No","A1020.60","21-01 10 20 60","Facilities","Raft Foundations",100,100,200,300,350,350,"BOTH","C-FC"]
[4,"No","A1020.70","21-01 10 20 70","Facilities","Pile Caps",100,100,200,300,350,350,"BOTH","C-FC"]
[4,"No","A1020.80","21-01 10 20 80","Facilities","Grade Beams",100,100,200,300,350,350,"BOTH","C-FC"]
[3,"No","A20","21-01 20","Facilities","Subgrade Enclosures",100,100,200,300,350,350,"BOTH","C-FC"]
[4,"No","A2010","21-01 20 10","Facilities","Walls for Subgrade Enclosures",100,100,200,300,350,350,"BOTH","C-FC"]
[4,"No","A2010.10","21-01 20 10 10","Facilities","Subgrade Enclosure Wall Construction",100,100,200,300,350,350,"BOTH","C-FC"]
[4,"No","A2010.20","21-01 20 10 20","Facilities","Subgrade Enclosure Wall Interior Skin",100,100,200,300,350,350,"BOTH","C-FC"]
[3,"No","A40","21-01 40","Facilities","Slabs-on-Grade",100,100,200,300,350,350,"BOTH","C-FC"]
[2,"No","B","21-02 00 00","Facilities","Superstructure"]
[3,"No","B1010","21-02 10 10","Facilities","Floor Construction  ",100,100,200,300,350,350,"BOTH","C-FC"]
[4,"No","B1010.10","21-02 10 10 10","Facilities","Floor Structural Frame",100,100,200,300,350,350,"BOTH","C-FC"]
[4,"No","B1010.20","21-02 10 10 20","Facilities","Floor Decks, Slabs, and Toppings",100,100,200,300,350,350,"BOTH","C-FC"]
[4,"No","B1010.30","21-02 10 10 30","Facilities","Balcony Floor Construction",100,100,200,300,350,350,"BOTH","C-FC"]
[4,"No","B1010.40","21-02 10 10 40","Facilities","Mezzanine Floor Construction",100,100,200,300,350,350,"BOTH","C-FC"]
[4,"No","B1010.50","21-02 10 10 50","Facilities","Ramps",100,100,200,300,350,350,"BOTH","C-FC"]
[4,"No","B1010.90","21-02 10 10 90","Facilities","Floor Construction Supplementary Components",100,100,200,300,350,350,"BOTH","C-FC"]
[3,"No","B1020","21-02 10 20","Facilities","Roof Construction  ",100,100,200,300,350,350,"BOTH","C-FC"]
[4,"No","B1020.10","21-02 10 20 10","Facilities","Roof Structural Frame",100,100,200,300,350,350,"BOTH","C-FC"]
[4,"No","B1020.20","21-02 10 20 20","Facilities","Roof Decks, Slabs, and Sheathing",100,100,200,300,350,350,"BOTH","C-FC"]
[4,"No","B1020.30","21-02 10 20 30","Facilities","Canopy Construction",100,100,200,300,350,350,"BOTH","C-FC"]
[4,"No","B1020.90","21-02 10 20 90","Facilities","Roof Construction Supplementary Components",100,100,200,300,350,350,"BOTH","C-FC"]
[3,"No","B1080","21-02 10 80","Facilities","Stairs",100,100,200,300,350,350,"BOTH","C-FC"]
[4,"No","B1080.10","21-02 10 80 10","Facilities","Stair Construction",100,100,200,300,350,350,"BOTH","C-FC"]
[4,"No","B1080.30","21-02 10 80 30","Facilities","Stair Soffits",100,100,200,300,350,350,"BOTH","C-FC"]
[4,"No","B1080.50","21-02 10 80 50","Facilities","Stair Railings",100,100,200,300,350,350,"BOTH","C-FC"]
[4,"No","B1080.60","21-02 10 80 60","Facilities","Fire Escapes",100,100,200,300,350,350,"BOTH","C-FC"]
[4,"No","B1080.70","21-02 10 80 70","Facilities","Metal Walkways",100,100,200,300,350,350,"BOTH","C-FC"]
[4,"No","B1080.80","21-02 10 80 80","Facilities","Ladders",100,100,200,300,350,350,"BOTH","C-FC"]
[2,"No","B20","21-02 20","Facilities","Exterior Vertical Enclosures",100,100,200,300,350,350,"BOTH","C-FC"]
[3,"No","B2010","21-02 20 10","Facilities","Exterior Walls",100,100,200,300,350,350,"BOTH","C-FC"]
[4,"No","B2010.10","21-02 20 10 10","Facilities","Exterior Wall Veneer",100,100,200,300,350,350,"BOTH","C-FC"]
[4,"No","B2010.20","21-02 20 10 20","Facilities","Exterior Wall Construction",100,100,200,300,350,350,"BOTH","C-FC"]
[4,"No","B2010.30","21-02 20 10 30","Facilities","Exterior Wall Interior Skin",100,100,200,300,350,350,"BOTH","C-FC"]
[4,"No","B2010.40","21-02 20 10 40","Facilities","Fabricated Exterior Wall Assemblies",100,100,200,300,350,350,"BOTH","C-FC"]
[4,"No","B2010.50","21-02 20 10 50","Facilities","Parapets",100,100,200,300,350,350,"BOTH","C-FC"]
[4,"No","B2010.60","21-02 20 10 60","Facilities","Equipment Screens",100,100,200,300,350,350,"BOTH","C-FC"]
[4,"No","B2010.80","21-02 20 10 80","Facilities","Exterior Wall Supplementary Compomnents",100,100,200,300,350,350,"BOTH","C-FC"]
[3,"No","B2020","21-02 20 20","Facilities","Exterior Windows",100,100,200,300,350,350,"BOTH","C-FC"]
[4,"No","B2020.10","21-02 20 20 10","Facilities","Exterior Operating Windows",100,100,200,300,350,350,"BOTH","C-FC"]
[4,"No","B2020.20","21-02 20 20 20","Facilities","Exterior Fixed Windows",100,100,200,300,350,350,"BOTH","C-FC"]
[4,"No","B2020.30","21-02 20 20 30","Facilities","Exterior Window Wall",100,100,200,300,350,350,"BOTH","C-FC"]
[4,"No","B2020.50","21-02 20 20 50","Facilities","Exterior Special Function Windows",100,100,200,300,350,350,"BOTH","C-FC"]
[3,"No","B2050","21-02 20 50","Facilities","Exterior Doors and Grilles",100,100,200,300,350,350,"BOTH","C-FC"]
[4,"No","B2050.10","21-02 20 50 10","Facilities","Exterior Entrance Doors",100,100,200,300,350,350,"BOTH","C-FC"]
[4,"No","B2050.20","21-02 20 50 20","Facilities","Exterior Utility Doors",100,100,200,300,350,350,"BOTH","C-FC"]
[4,"No","B2050.30","21-02 20 50 30","Facilities","Exterior Oversize Doors",100,100,200,300,350,350,"BOTH","C-FC"]
[4,"No","B2050.40","21-02 20 50 40","Facilities","Exterior Special Function Doors",100,100,200,300,350,350,"BOTH","C-FC"]
[4,"No","B2050.60","21-02 20 50 60","Facilities","Exterior Grilles",100,100,200,300,350,350,"BOTH","C-FC"]
[4,"No","B2050.70","21-02 20 50 70","Facilities","Exterior Gates",100,100,200,300,350,350,"BOTH","C-FC"]
[4,"No","B2050.90","21-02 20 50 90","Facilities","Exterior Door Supplementary Components",100,100,200,300,350,350,"BOTH","C-FC"]
[3,"No","B2080","21-02 20 80","Facilities","Exterior Wall Appurtenances",100,100,200,300,350,350,"BOTH","C-FC"]
[4,"No","B2080.10","21-02 20 80 10","Facilities","Exterior Fixed Grilles and Screens",100,100,200,300,350,350,"BOTH","C-FC"]
[4,"No","B2080.30","21-02 20 80 30","Facilities","Exterior Opening Protection Devices",100,100,200,300,350,350,"BOTH","C-FC"]
[4,"No","B2080.50","21-02 20 80 50","Facilities","Exterior Balcony Walls and Railings",100,100,200,300,350,350,"BOTH","C-FC"]
[4,"No","B2080.70","21-02 20 80 70","Facilities","Exterior Fabrications",100,100,200,300,350,350,"BOTH","C-FC"]
[4,"No","B2080.80","21-02 20 80 80","Facilities","Bird Control Devices",100,100,200,300,350,350,"BOTH","C-FC"]
[2,"No","C","21-03 00 00","Facilities","Interiors"]
[3,"No","C1010","21-03 10 10","Facilities","Partitions   ",100,100,200,300,350,350,"BOTH","C-FC"]
[4,"No","C1010.10","21-03 10 10 10","Facilities","Interior Fixed Partitions",100,100,200,300,350,350,"BOTH","C-FC"]
[4,"No","C1010.20","21-03 10 10 20","Facilities","Interior Glazed Partitions",100,100,200,300,350,350,"BOTH","C-FC"]
[4,"No","C1010.40","21-03 10 10 40","Facilities","Interior Demountable Partitions",100,100,200,300,350,350,"BOTH","C-FC"]
[4,"No","C1010.50","21-03 10 10 50","Facilities","Interior Operable Partitions",100,100,200,300,350,350,"BOTH","C-FC"]
[3,"No","C1020","21-03 10 20","Facilities","Interior Windows",100,100,200,300,350,350,"BOTH","C-FC"]
[4,"No","C1020.10","21-03 10 20 10","Facilities","Interior Operating Windows",100,100,200,300,350,350,"BOTH","C-FC"]
[4,"No","C1020.20","21-03 10 20 20","Facilities","Interior Fixed Windows",100,100,200,300,350,350,"BOTH","C-FC"]
[4,"No","C1020.50","21-03 10 20 50","Facilities","Interior Special Function Windows",100,100,200,300,350,350,"BOTH","C-FC"]
[3,"No","C1030","21-03 10 30","Facilities","Interior Doors  ",100,100,200,300,350,350,"BOTH","C-FC"]
[4,"No","C1030.10","21-03 10 30 10","Facilities","Interior Swinging Doors",100,100,200,300,350,350,"BOTH","C-FC"]
[4,"No","C1030.20","21-03 10 30 20","Facilities","Interior Entrance Doors",100,100,200,300,350,350,"BOTH","C-FC"]
[4,"No","C1030.25","21-03 10 30 25","Facilities","Interior Sliding Doors",100,100,200,300,350,350,"BOTH","C-FC"]
[4,"No","C1030.30","21-03 10 30 30","Facilities","Interior Folding Doors",100,100,200,300,350,350,"BOTH","C-FC"]
[4,"No","C1030.40","21-03 10 30 40","Facilities","Interior Coiling Doors",100,100,200,300,350,350,"BOTH","C-FC"]
[4,"No","C1030.50","21-03 10 30 50","Facilities","Interior Panel Doors",100,100,200,300,350,350,"BOTH","C-FC"]
[4,"No","C1030.70","21-03 10 30 70","Facilities","Interior Special Function Doors",100,100,200,300,350,350,"BOTH","C-FC"]
[4,"No","C1030.80","21-03 10 30 80","Facilities","Interior Access Doors and Panels",100,100,200,300,350,350,"BOTH","C-FC"]
[3,"No","C1040","21-03 10 40","Facilities","Interior Grilles and Gates",100,100,200,300,350,350,"BOTH","C-FC"]
[3,"No","C1060","21-03 10 60","Facilities","Raised Floor Construction",100,100,200,300,350,350,"BOTH","C-FC"]
[4,"No","C1060.10","21-03 10 60 10","Facilities","Access Flooring",100,100,200,300,350,350,"BOTH","C-FC"]
[4,"No","C1060.30","21-03 10 60 30","Facilities","Platform/Stage Floors",100,100,200,300,350,350,"BOTH","C-FC"]
[3,"No","C1090","21-03 10 90","Facilities","Interior Specialties",100,100,200,300,350,350,"BOTH","C-FC"]
[4,"No","C1090.10","21-03 10 90 10","Facilities","Interior Railings and Handrails",100,100,200,300,350,350,"BOTH","C-FC"]
[4,"No","C1090.15","21-03 10 90 15","Facilities","Interior Louvers",100,100,200,300,350,350,"BOTH","C-FC"]
[4,"No","C1090.20","21-03 10 90 20","Facilities","Information Specialties",100,100,200,300,350,350,"BOTH","C-FC"]
[4,"No","C1090.25","21-03 10 90 25","Facilities","Compartments and Cubicles",100,100,200,300,350,350,"BOTH","C-FC"]
[4,"No","C1090.30","21-03 10 90 30","Facilities","Service Walls",100,100,200,300,350,350,"BOTH","C-FC"]
[4,"No","C1090.35","21-03 10 90 35","Facilities","Wall and Door Protection",100,100,200,300,350,350,"BOTH","C-FC"]
[4,"No","C1090.40","21-03 10 90 40","Facilities","Toilet, Bath and Laundry Accessories",100,100,200,300,350,350,"BOTH","C-FC"]
[4,"No","C1090.45","21-03 10 90 45","Facilities","Interior Gas Lighting",100,100,200,300,350,350,"BOTH","C-FC"]
[4,"No","C1090.60","21-03 10 90 60","Facilities","Safety Specialties",100,100,200,300,350,350,"BOTH","C-FC"]
[4,"No","C1090.70","21-03 10 90 70","Facilities","Storage Specialties",100,100,200,300,350,350,"BOTH","C-FC"]
[4,"No","C1090.90","21-03 10 90 90","Facilities","Other Interior Specialties",100,100,200,300,350,350,"BOTH","C-FC"]
[3,"No","C2010","21-03 20 10","Facilities","Wall Finishes  "]
[4,"No","C2010.10","21-03 20 10 10","Facilities","Tile Wall Finish",100,100,100,100,200,300,"BOTH","C-FC"]
[4,"No","C2010.20","21-03 20 10 20","Facilities","Wall Paneling",null,null,null,null,null,null,"BOTH","C-FC"]
[4,"No","C2010.30","21-03 20 10 30","Facilities","Wall Coverings",null,null,null,null,null,null,"BOTH","C-FC"]
[4,"No","C2010.35","21-03 20 10 35","Facilities","Wall Carpeting",null,null,null,null,null,null,"BOTH","C-FC"]
[4,"No","C2010.50","21-03 20 10 50","Facilities","Stone Facing",100,100,100,100,200,300,"BOTH","C-FC"]
[4,"No","C2010.60","21-03 20 10 60","Facilities","Special Wall Surfacing",100,100,100,100,200,300,"2D","C-FC"]
[4,"No","C2010.70","21-03 20 10 70","Facilities","Wall Painting and Coating",null,null,null,null,100,200,"2D","C-FC"]
[4,"No","C2010.80","21-03 20 10 80","Facilities","Acoustical Wall Treatment",null,null,null,null,null,null,"2D","C-FC"]
[4,"No","C2010.90","21-03 20 10 90","Facilities","Wall Finish Supplementary Components",null,null,null,null,null,null,"BOTH","C-FC"]
[3,"No","C2030","21-03 20 30","Facilities","Flooring",100,100,100,100,200,300,"BOTH","C-FC"]
[4,"No","C2030.10","21-03 20 30 10","Facilities","Flooring Treatment",100,100,100,100,200,300,"BOTH","C-FC"]
[4,"No","C2030.20","21-03 20 30 20","Facilities","Tile Flooring",100,100,100,100,200,300,"BOTH","C-FC"]
[4,"No","C2030.30","21-03 20 30 30","Facilities","Specialty Flooring",100,100,100,100,200,300,"BOTH","C-FC"]
[4,"No","C2030.40","21-03 20 30 40","Facilities","Masonry Flooring",100,100,100,100,200,300,"BOTH","C-FC"]
[4,"No","C2030.45","21-03 20 30 45","Facilities","Wood Flooring",100,100,100,100,200,300,"BOTH","C-FC"]
[4,"No","C2030.50","21-03 20 30 50","Facilities","Resilient Flooring",100,100,100,100,200,300,"BOTH","C-FC"]
[4,"No","C2030.70","21-03 20 30 70","Facilities","Fluid-Applied Flooring",100,100,100,100,200,300,"BOTH","C-FC"]
[4,"No","C2030.75","21-03 20 30 75","Facilities","Carpeting",100,100,100,100,200,300,"BOTH","C-FC"]
[3,"No","C2040","21-03 20 40","Facilities","Stair Finishes  ",100,100,200,200,200,300,"BOTH","C-FC"]
[3,"No","C2050","21-03 20 50","Facilities","Ceiling Finishes  ",100,100,200,200,200,300,"BOTH","C-FC"]
[2,"No","D","21-04 00 00","Facilities","SERVICES   "]
[3,"No","D1010","21-04 10 10","Facilities","Vertical Conveying Systems",null,null,100,200,300,350,"BOTH","C-FC"]
[4,"No","D1010.10","21-04 10 10 10","Facilities","Elevators",null,null,100,200,300,350,"BOTH","C-FC"]
[4,"No","D1010.20","21-04 10 10 20","Facilities","Lifts",null,null,100,200,300,350,"BOTH","C-FC"]
[4,"No","D1010.30","21-04 10 10 30","Facilities","Escalators",null,null,100,200,300,350,"BOTH","C-FC"]
[4,"No","D1010.50","21-04 10 10 50","Facilities","Dumbwaiters",null,null,100,200,300,350,"BOTH","C-FC"]
[4,"No","D1010.60","21-04 10 10 60","Facilities","Moving Ramps",null,null,100,200,300,350,"BOTH","C-FC"]
[3,"No","D1030","21-04 10 30","Facilities","Horizontal Conveying",null,null,100,200,300,350,"BOTH","C-FC"]
[4,"No","D1030.10","21-04 10 30 10","Facilities","Moving Walks",null,null,100,200,300,350,"BOTH","C-FC"]
[4,"No","D1030.30","21-04 10 30 30","Facilities","Turntables",null,null,100,200,300,350,"BOTH","C-FC"]
[3,"No","D1050","21-04 10 50","Facilities","Material Handling",null,null,100,200,300,350,"BOTH","C-FC"]
[4,"No","D1050.10","21-04 10 50 10","Facilities","Cranes",null,null,100,200,300,350,"BOTH","C-FC"]
[4,"No","D1050.20","21-04 10 50 20","Facilities","Hoists",null,null,100,200,300,350,"BOTH","C-FC"]
[4,"No","D1050.30","21-04 10 50 30","Facilities","Derrecks",null,null,100,200,300,350,"BOTH","C-FC"]
[4,"No","D1050.50","21-04 10 50 50","Facilities","Baggage Handling Equipment",null,null,100,200,300,350,"BOTH","C-FC"]
[4,"No","D1050.60","21-04 10 50 60","Facilities","Chutes",null,null,100,200,300,350,"BOTH","C-FC"]
[3,"No","D1080","21-04 10 80","Facilities","Operable Access Systems",null,null,100,100,200,300,"BOTH","C-FC"]
[4,"No","D1080.10","21-04 10 80 10","Facilities","Suspended Scaffolding",null,null,100,100,200,300,"BOTH","C-FC"]
[4,"No","D1080.30","21-04 10 80 30","Facilities","Elevating Platforms",null,null,100,100,200,300,"BOTH","C-FC"]
[4,"No","D1080.40","21-04 10 80 40","Facilities","Powered Scaffolding",null,null,100,100,200,300,"BOTH","C-FC"]
[2,"No","D20","21-04 20","Facilities","Plumbing"]
[3,"No","D2010","21-04 20 10","Facilities","Domestic Water Distribution",null,null,100,200,300,350,"BOTH","C-FC"]
[4,"No","D2010.10","21-04 20 10 10","Facilities","Facility Potable-Water Storage Tanks   ",null,null,100,200,300,350,"BOTH","C-FC"]
[4,"No","D2010.20","21-04 20 10 20","Facilities","Domestic Water Equipment    ",null,null,100,200,300,350,"BOTH","C-FC"]
[4,"No","D2010.40","21-04 20 10 40","Facilities","Domestic Water Piping",null,null,100,200,300,350,"BOTH","C-FC"]
[4,"No","D2010.60","21-04 20 10 60","Facilities","Plumbing Fixtures   ",null,null,100,200,300,350,"BOTH","C-FC"]
[4,"No","D2010.90","21-04 20 10 90","Facilities","Domestic Water Distribution Supplementary Components   ",null,null,100,200,300,350,"BOTH","C-FC"]
[3,"No","D2020","21-04 20 20","Facilities","Sanitary Drainage",null,null,100,200,300,350,"BOTH","C-FC"]
[4,"No","D2020.10","21-04 20 20 10","Facilities","Sanitary Sewerage Equipment   ",null,null,100,200,300,350,"BOTH","C-FC"]
[4,"No","D2020.30","21-04 20 20 30","Facilities","Sanitary Sewerage Piping",null,null,100,200,300,350,"BOTH","C-FC"]
[4,"No","D2020.90","21-04 20 20 90","Facilities","Sanitary Drainage Supplementary Components   ",null,null,null,null,null,null,"BOTH","C-FC"]
[3,"No","D2030","21-04 20 30","Facilities","Building Support Plumbing Systems",null,null,100,200,300,350,"BOTH","C-FC"]
[4,"No","D2030.10","21-04 20 30 10","Facilities","Stormwater Drainage Equipment   ",null,null,100,200,300,350,"BOTH","C-FC"]
[4,"No","D2030.20","21-04 20 30 20","Facilities","Stormwater Drainage Piping",null,null,100,200,300,350,"BOTH","C-FC"]
[4,"No","D2030.30","21-04 20 30 30","Facilities","Facility Stormwater Drains   ",null,null,100,200,300,350,"BOTH","C-FC"]
[4,"No","D2030.60","21-04 20 30 60","Facilities","Gray Water Systems   ",null,null,100,200,300,350,"BOTH","C-FC"]
[4,"No","D2030.90","21-04 20 30 90","Facilities","Building Support Plumbing System Supplementary Components   ",null,null,100,200,300,350,"BOTH","C-FC"]
[3,"No","D2050","21-04 20 50","Facilities","General Service Compressed-Air",null,null,100,200,300,350,"BOTH","C-FC"]
[2,"No","D30","21-04 30","Facilities","HVAC"]
[3,"No","D3010","21-04 30 10","Facilities","Facility Fuel Systems",null,null,100,200,300,350,"BOTH","C-FC"]
[4,"No","D3010.10","21-04 30 10 10","Facilities","Fuel Piping   ",null,null,100,200,300,350,"BOTH","C-FC"]
[4,"No","D3010.30","21-04 30 10 30","Facilities","Fuel Pumps",null,null,100,200,300,350,"BOTH","C-FC"]
[4,"No","D3010.50","21-04 30 10 50","Facilities","Fuel Storage Tanks   ",null,null,100,200,300,350,"BOTH","C-FC"]
[3,"No","D3020","21-04 30 20","Facilities","Heating Systems",null,null,100,200,300,350,"BOTH","C-FC"]
[4,"No","D3020.10","21-04 30 20 10","Facilities","Heat Generation   ",null,null,100,200,300,350,"BOTH","C-FC"]
[4,"No","D3020.30","21-04 30 20 30","Facilities","Thermal Heat Storage   ",null,null,100,200,300,350,"BOTH","C-FC"]
[4,"No","D3020.70","21-04 30 20 70","Facilities","Decentralized Heating Equipment   ",null,null,100,200,300,350,"BOTH","C-FC"]
[4,"No","D3020.90","21-04 30 20 90","Facilities","Heating System Supplementary Components   ",null,null,100,200,300,350,"BOTH","C-FC"]
[3,"No","D3030","21-04 30 30","Facilities","Cooling Systems",null,null,100,200,300,350,"BOTH","C-FC"]
[4,"No","D3030.10","21-04 30 30 10","Facilities","Central Cooling   ",null,null,100,200,300,350,"BOTH","C-FC"]
[4,"No","D3030.30","21-04 30 30 30","Facilities","Evaporative Air-Cooling   ",null,null,100,200,300,350,"BOTH","C-FC"]
[4,"No","D3030.50","21-04 30 30 50","Facilities","Thermal Cooling Storage   ",null,null,100,200,300,350,"BOTH","C-FC"]
[4,"No","D3030.70","21-04 30 30 70","Facilities","Decentralized Cooling   ",null,null,100,200,300,350,"BOTH","C-FC"]
[4,"No","D3030.90","21-04 30 30 90","Facilities","Cooling System Supplementary Components   ",null,null,100,200,300,350,"BOTH","C-FC"]
[3,"No","D3050","21-04 30 50","Facilities","Facility HVAC Distribution Systems",null,null,100,200,300,350,"BOTH","C-FC"]
[4,"No","D3050.10","21-04 30 50 10","Facilities","Facility Hydronic Distribution   ",null,null,100,200,300,350,"BOTH","C-FC"]
[4,"No","D3050.30","21-04 30 50 30","Facilities","Facility Steam Distribution   ",null,null,100,200,300,350,"BOTH","C-FC"]
[4,"No","D3050.50","21-04 30 50 50","Facilities","HVAC Air Distribution   ",null,null,100,200,300,350,"BOTH","C-FC"]
[4,"No","D3050.90","21-04 30 50 90","Facilities","Facility Distribution Systems Supplementary Components   ",null,null,100,200,300,350,"BOTH","C-FC"]
[3,"No","D3060","21-04 30 60","Facilities","Ventilation",null,null,100,200,300,350,"BOTH","C-FC"]
[4,"No","D3060.10","21-04 30 60 10","Facilities","Supply Air   ",null,null,100,200,300,350,"BOTH","C-FC"]
[4,"No","D3060.20","21-04 30 60 20","Facilities","Return Air   ",null,null,100,200,300,350,"BOTH","C-FC"]
[4,"No","D3060.30","21-04 30 60 30","Facilities","Exhaust Air   ",null,null,100,200,300,350,"BOTH","C-FC"]
[4,"No","D3060.40","21-04 30 60 40","Facilities","Outside Air   ",null,null,100,200,300,350,"BOTH","C-FC"]
[4,"No","D3060.60","21-04 30 60 60","Facilities","Air-to-Air Energy Recovery   ",null,null,100,200,300,350,"BOTH","C-FC"]
[4,"No","D3060.70","21-04 30 60 70","Facilities","HVAC Air Cleaning   ",null,null,100,200,300,350,"BOTH","C-FC"]
[4,"No","D3060.90","21-04 30 60 90","Facilities","Ventilation Supplementary Components   ",null,null,100,200,300,350,"BOTH","C-FC"]
[3,"No","D3070","21-04 30 70","Facilities","Special Purpose HVAC Systems",null,null,100,200,300,350,"BOTH","C-FC"]
[4,"No","D3070.10","21-04 30 70 10","Facilities","Snow Melting",null,null,100,200,300,350,"BOTH","C-FC"]
[2,"No","D40","21-04 40","Facilities","Fire Protection"]
[3,"No","D4010","21-04 40 10","Facilities","Fire Suppression",null,null,100,200,300,350,"BOTH","C-FC"]
[4,"No","D4010.10","21-04 40 10 10","Facilities","Water-Based Fire-Suppression   ",null,null,100,200,300,350,"BOTH","C-FC"]
[4,"No","D4010.50","21-04 40 10 50","Facilities","Fire-Extinguishing   ",null,null,100,200,300,350,"BOTH","C-FC"]
[4,"No","D4010.90","21-04 40 10 90","Facilities","Fire Suppression Supplementary Components   ",null,null,100,200,300,350,"BOTH","C-FC"]
[3,"No","D4030","21-04 40 30","Facilities","Fire Protection Specialties",null,null,100,200,300,350,"BOTH","C-FC"]
[4,"No","D4030.10","21-04 40 30 10","Facilities","Fire Protection Cabinets   ",null,null,100,200,300,350,"BOTH","C-FC"]
[4,"No","D4030.30","21-04 40 30 30","Facilities","Fire Extinguishers   ",null,null,100,200,300,350,"BOTH","C-FC"]
[4,"No","D4030.50","21-04 40 30 50","Facilities","Breathing Air Replenishment Systems   ",null,null,100,200,300,350,"BOTH","C-FC"]
[4,"No","D4030.70","21-04 40 30 70","Facilities","Fire Extinguisher Accessories   ",null,null,100,200,300,350,"BOTH","C-FC"]
[2,"No","D50","21-04 50","Facilities","Electrical"]
[3,"No","D5020","21-04 50 20","Facilities","Electrical Service and Distribution",null,null,100,200,300,350,"BOTH","C-FC"]
[4,"No","D5020.10","21-04 50 20 10","Facilities","Electrical Service ",null,null,100,200,300,350,"BOTH","C-FC"]
[4,"No","D5020.30","21-04 50 20 30","Facilities","Power Distribution   ",null,null,100,200,300,350,"BOTH","C-FC"]
[4,"No","D5020.70","21-04 50 20 70","Facilities","Facility Grounding   ",null,null,100,200,300,350,"BOTH","C-FC"]
[4,"No","D5020.90","21-04 50 20 90","Facilities","Electrical Service and Distribution Supplementary Components",null,null,100,null,null,null,"BOTH","C-FC"]
[3,"No","D5030","21-04 50 30","Facilities","General Purpose Electrical Power",null,null,100,200,300,350,"BOTH","C-FC"]
[4,"No","D5030.10","21-04 50 30 10","Facilities","Branch Wiring System   ",null,null,100,200,300,350,"BOTH","C-FC"]
[4,"No","D5030.50","21-04 50 30 50","Facilities","Wiring Devices   ",null,null,100,200,300,350,"BOTH","C-FC"]
[4,"No","D5030.90","21-04 50 30 90","Facilities","General Purpose Electrical Power Supplementary Components",null,null,100,200,300,350,"BOTH","C-FC"]
[3,"No","D5040","21-04 50 40","Facilities","Lighting",null,null,100,200,300,350,"BOTH","C-FC"]
[4,"No","D5040.10","21-04 50 40 10","Facilities","Lighting Control   ",null,null,100,200,300,350,"BOTH","C-FC"]
[4,"No","D5040.20","21-04 50 40 20","Facilities","Branch Wiring for Lighting   ",null,null,100,200,300,350,"BOTH","C-FC"]
[4,"No","D5040.50","21-04 50 40 50","Facilities","Lighting Fixtures   ",null,null,100,200,300,350,"BOTH","C-FC"]
[4,"No","D5040.90","21-04 50 40 90","Facilities","Lighting Supplementary Components",null,null,100,200,350,350,"BOTH","C-FC"]
[2,"No","D60","21-04 60","Facilities","Communications"]
[3,"No","D6010","21-04 60 10","Facilities","Data Communications",null,null,100,100,200,300,"2D","C-FC"]
[4,"No","D6010.10","21-04 60 10 10","Facilities","Data Communications Network and Equipment",null,null,100,100,200,300,"2D","C-EQ"]
[4,"No","D6010.20","21-04 60 10 20","Facilities","Data Communications Hardware",null,null,100,100,200,300,"2D","C-EQ"]
[4,"No","D6010.30","21-04 60 10 30","Facilities","Data Communications Peripheral Data Equipment",null,null,100,100,200,300,"2D","C-EQ"]
[3,"No","D6020","21-04 60 20","Facilities","Voice Communications",null,null,100,100,200,300,"2D","C-EQ"]
[4,"No","D6020.10","21-04 60 20 10","Facilities","Voice Communications Switching and Routing Equipment",null,null,100,100,200,300,"2D","C-EQ"]
[4,"No","D6020.20","21-04 60 20 20","Facilities","Voice Communications Terminal Equipment",null,null,100,100,200,300,"2D","C-EQ"]
[3,"No","D6030","21-04 60 30","Facilities","Audio-Video Communication",null,null,100,100,100,100,"2D","C-EQ"]
[4,"No","D6030.10","21-04 60 30 10","Facilities","Audio-Video Systems",null,null,100,100,100,100,"2D","C-EQ"]
[4,"No","D6030.50","21-04 60 30 50","Facilities","Electronic Digital Systems",null,null,100,100,100,100,"2D","C-EQ"]
[3,"No","D6060","21-04 60 60","Facilities","Distributed Communications and Monitoring",null,null,100,100,100,100,"2D","C-FC"]
[4,"No","D6060.10","21-04 60 60 10","Facilities","Distributed Audio-Video",null,null,100,100,100,100,"2D","C-FC"]
[4,"No","D6060.30","21-04 60 60 30","Facilities","Healthcare Communications and Monitoring",null,null,100,100,100,100,"2D","C-FC"]
[4,"No","D6060.50","21-04 60 60 50","Facilities","Distributed Systems",null,null,100,100,100,100,"2D","C-FC"]
[3,"No","D6090","21-04 60 90","Facilities","Communications Supplementary Components",null,null,100,100,100,100,"2D","C-FC"]
[2,"No","D70","21-04 70  ","Facilities","Electronic Safety and Security"]
[3,"No","D7010","21-04 70 10","Facilities","Access Control and Intrusion Detection",null,null,200,200,350,350,"BOTH","C-FC"]
[4,"No","D7010.10","21-04 70 10 10","Facilities","Access Control",null,null,200,200,350,350,"BOTH","C-FC"]
[4,"No","D7010.50","21-04 70 10 50","Facilities","Intrusion Detection",null,null,200,200,350,350,"BOTH","C-FC"]
[3,"No","D7030","21-04 70 30","Facilities","Electronic Surveillance",null,null,null,null,null,null,"BOTH","C-FC"]
[4,"No","D7030.10","21-04 70 30 10","Facilities","Video Surveillance",null,null,200,200,350,350,"BOTH","C-FC"]
[4,"No","D7030.50","21-04 70 30 50","Facilities","Electronic Personal Protection",null,null,200,200,350,350,"BOTH","C-FC"]
[3,"No","D7050","21-04 70 50","Facilities","Detection and Alarm",null,null,null,null,null,null,"BOTH","C-FC"]
[4,"No","D7050.10","21-04 70 50 10","Facilities","Fire Detection and Alarm",null,null,200,200,350,350,"BOTH","C-FC"]
[4,"No","D7050.20","21-04 70 50 20","Facilities","Radiation Detection and Alarm",null,null,200,200,350,350,"BOTH","C-FC"]
[4,"No","D7050.30","21-04 70 50 30","Facilities","Fuel-Gas Detection and Alarm",null,null,200,200,350,350,"BOTH","C-FC"]
[4,"No","D7050.40","21-04 70 50 40","Facilities","Fuel-Oil Detection and Alarm",null,null,200,200,350,350,"BOTH","C-FC"]
[4,"No","D7050.50","21-04 70 50 50","Facilities","Refrigeration Detection and Alarm",null,null,200,200,350,350,"BOTH","C-FC"]
[4,"No","D7050.60","21-04 70 50 60","Facilities","Water Intrusion Detection and Alarm",null,null,200,200,350,350,"BOTH","C-FC"]
[3,"No","D7070","21-04 70 70","Facilities","Electronic Monitoring and Control",null,null,100,100,200,300,"BOTH","C-FC"]
[4,"No","D7070.10","21-04 70 70 10","Facilities","Electronic Detection Monitoring and Control",null,null,100,100,200,300,"BOTH","C-FC"]
[3,"No","D7090","21-04 70 90","Facilities","Electronic Safety and Security Supplementary Components",null,null,100,100,200,300,"BOTH","C-FC"]
[2,"No","E10","21-05 10 00","Facilities","Equipment"]
[3,"No","E1010","21-05 10 10","Facilities","Vehicle and Pedestrian Equipment",null,null,null,100,200,300,"BOTH","C-EQ"]
[4,"No","E1010.10","21-05 10 10 10","Facilities","Vehicle Servicing Equipment",null,null,null,100,200,300,"BOTH","C-EQ"]
[4,"No","E1010.30","21-05 10 10 30","Facilities","Interior Parking Control Equipment",null,null,null,100,200,300,"BOTH","C-EQ"]
[4,"No","E1010.50","21-05 10 10 50","Facilities","Loading Dock Equipment",null,null,null,100,200,300,"BOTH","C-EQ"]
[3,"No","E1030","21-05 10 30","Facilities","Commercial Equipment",null,null,null,100,200,300,"BOTH","C-EQ"]
[4,"No","E1030.20","21-05 10 30 20","Facilities","Vault Equipment",null,null,null,100,200,300,"BOTH","C-EQ"]
[4,"No","E1030.30","21-05 10 30 30","Facilities","Refrigerated Display Equipment",null,null,null,100,200,300,"BOTH","C-EQ"]
[4,"No","E1030.35","21-05 10 30 35","Facilities","Commercial Laundry and Dry Cleaning Equipment",null,null,null,100,200,300,"BOTH","C-EQ"]
[4,"No","E1030.40","21-05 10 30 40","Facilities","Maintenance Equipment",null,null,null,100,200,300,"BOTH","C-EQ"]
[4,"No","E1030.50","21-05 10 30 50","Facilities","Hospitality Equipment",null,null,null,100,200,300,"BOTH","C-EQ"]
[4,"No","E1030.55","21-05 10 30 55","Facilities","Unit Kitchens",null,null,null,100,200,300,"BOTH","C-EQ"]
[4,"No","E1030.60","21-05 10 30 60","Facilities","Photographic Processing Equipment",null,null,null,100,200,300,"BOTH","C-EQ"]
[4,"No","E1030.70","21-05 10 30 70","Facilities","Postal, Packaging and Shipping Equipment",null,null,null,100,200,300,"BOTH","C-EQ"]
[4,"No","E1030.75","21-05 10 30 75","Facilities","Office Equipment",null,null,null,100,200,300,"BOTH","C-EQ"]
[4,"No","E1030.80","21-05 10 30 80","Facilities","Foodservice Equipment",null,null,null,100,200,300,"BOTH","C-EQ"]
[3,"No","E1040","21-05 10 40","Facilities","Institutional Equipment",null,null,null,100,200,300,"BOTH","C-EQ"]
[4,"No","E1040.10","21-05 10 40 10","Facilities","Educational and Scientific Equipment",null,null,null,100,200,300,"BOTH","C-EQ"]
[4,"No","E1040.20","21-05 10 40 20","Facilities","Healthcare Equipment",null,null,null,100,200,300,"BOTH","C-EQ"]
[4,"No","E1040.60","21-05 10 40 60","Facilities","Security Equipment",null,null,null,100,200,300,"BOTH","C-EQ"]
[3,"No","E1090","21-05 10 90","Facilities","Other Equipment",null,null,null,100,200,300,"BOTH","C-EQ"]
[4,"No","E1090.10","21-05 10 90 10","Facilities","Solid Waste Handling Equipment",null,null,null,100,200,300,"BOTH","C-EQ"]
[4,"No","E1090.30","21-05 10 90 30","Facilities","Agricultural Equipment",null,null,null,100,200,300,"BOTH","C-EQ"]
[4,"No","E1090.40","21-05 10 90 40","Facilities","Horticultural Equipment",null,null,null,100,200,300,"BOTH","C-EQ"]
[4,"No","E1090.60","21-05 10 90 60","Facilities","Decontamination Equipment",null,null,null,100,200,300,"BOTH","C-EQ"]
[2,"No","E20","21-05 20","Facilities","Furnishings   "]
[3,"No","E2010","21-05 20 10","Facilities","Fixed Furnishings  ",null,null,200,200,300,300,"BOTH","C-FC"]
[4,"No","E2010.10","21-05 20 10 10","Facilities","Fixed Art",null,null,200,200,300,300,"BOTH","C-FC"]
[4,"No","E2010.20","21-05 20 10 20","Facilities","Window Treatments",null,null,200,200,300,300,"BOTH","C-FC"]
[4,"No","E2010.30","21-05 20 10 30","Facilities","Casework",null,null,200,200,300,300,"BOTH","C-FC"]
[4,"No","E2010.70","21-05 20 10 70","Facilities","Fixed Multiple Seating",null,null,200,200,300,300,"BOTH","C-FC"]
[4,"No","E2010.90","21-05 20 10 90","Facilities","Other Fixed Furnishings",null,null,null,null,300,300,"BOTH","C-FC"]
[3,"No","E2050","21-05 20 50","Facilities","Movable Furnishings  ",null,null,null,null,200,300,"BOTH","C-FC"]
[4,"No","E2050.10","21-05 20 50 10","Facilities","Movable Art",null,null,null,null,200,300,"BOTH","C-FC"]
[4,"No","E2050.30","21-05 20 50 30","Facilities","Furniture",null,null,null,null,200,300,"BOTH","C-FC"]
[4,"No","E2050.40","21-05 20 50 40","Facilities","Accessories",null,null,null,null,200,300,"BOTH","C-FC"]
[4,"No","E2050.60","21-05 20 50 60","Facilities","Movable Multiple Seating",null,null,null,null,200,300,"BOTH","C-FC"]
[4,"No","E2050.90","21-05 20 50 90","Facilities","Other Movable Furnishings",null,null,null,null,200,300,"BOTH","C-FC"]
[3,"No","F1080","21-06 10 80 ","Facilities","Special Instrumentation",null,null,null,100,200,200,"2D","C-EQ"]
[4,"No","F1080.10","21-06 10 80 10","Facilities","Stress Instrumentation",null,null,null,100,200,200,"2D","C-EQ"]
[4,"No","F1080.40","21-06 10 80 40","Facilities","Meteorological Instrumentation",null,null,null,100,200,200,"2D","C-EQ"]
[4,"No","F1080.60","21-06 10 80 60","Facilities","Earth Movement Monitoring",null,null,null,100,200,200,"2D","C-EQ"]
[2,"No","F20","21-06 20 00","Facilities","Facility Remediation"]
[3,"No","F2010","21-06 20 10 ","Facilities","Hazardous Materials Remediation",null,null,null,100,200,200,"2D","C-FC"]
[4,"No","F2010.10","21-06 20 10 10","Facilities","Transportation and Disposal of Hazardous Materials",null,null,null,100,200,200,"2D","C-TS"]
[4,"No","F2010.20","21-06 20 10 20","Facilities","Asbestos Remediation",null,null,null,100,200,200,"2D","C-FC"]
[4,"No","F2010.30","21-06 20 10 30","Facilities","Lead Remediation",null,null,null,100,200,200,"2D","C-FC"]
[4,"No","F2010.40","21-06 20 10 40","Facilities","Polychlorinate Biphenyl Remediation",null,null,null,100,200,200,"2D","C-FC"]
[4,"No","F2010.50","21-06 20 10 50","Facilities","Mold Remediation",null,null,null,100,200,200,"2D","C-FC"]
[2,"No","F30","21-06 30 00","Facilities","Demolition"]
[3,"No","F3010","21-06 30 10 ","Facilities","Structure Demolition",100,100,200,200,200,200,"2D","C-XD"]
[4,"No","F3010.10","21-06 30 10 10","Facilities","Building Elements Demolition",100,100,200,200,200,200,"2D","C-XD"]
[4,"No","F3010.30","21-06 30 10 30","Facilities","Tower Demolition",100,100,200,200,200,200,"2D","C-XD"]
[4,"No","F3010.50","21-06 30 10 50","Facilities","Bridge Demolition",100,100,200,200,200,200,"2D","C-XD"]
[4,"No","F3010.70","21-06 30 10 70","Facilities","Dam Demolition",100,100,200,200,200,200,"2D","C-XD"]